{"text_format":"1","workbook":"xlsx","n_sheets":7,"sheets":["Feuille de match","Listing joueurs","calcules","resultats a exporter","Listedesmatchs","Calendrier","ReserveReclamation"],"not_rendered":{"charts":0,"images":17,"macros":1,"external_links":0,"defined_names":30,"comments":0,"pivot_tables":0},"unopened":[],"bounds":{"document_bytes":16777216,"sheet_cells":100000,"rows_first":2000,"rows_last":500,"rows_between":2000,"halvings":0,"cell_chars":16384,"cell_head_chars":4096},"cells_cut":0,"cells_raw":0,"read":"whole","date_system":"1900"}

{"sheet":"Feuille de match","index":0,"n_rows":43,"n_cols":23,"rows_kept":43,"cut":false,"hidden":false,"merged":[[20,21,20,22],[23,3,23,5],[26,3,26,5],[25,3,25,5],[24,3,24,5],[21,21,21,22],[22,21,22,22],[21,3,21,5],[22,3,22,5],[20,3,20,5],[20,9,20,11],[23,9,23,11],[22,9,22,11],[24,9,24,11],[25,9,25,11],[26,9,26,11],[21,9,21,11],[23,21,23,22],[25,21,25,22],[24,21,24,22],[26,21,26,22],[39,4,39,9],[38,11,38,15],[30,21,30,22],[34,0,35,3],[38,0,38,3],[31,3,31,5],[28,3,28,5],[27,21,27,22],[28,21,28,22],[27,9,27,11],[27,3,27,5],[36,4,37,9],[34,4,35,9],[31,9,31,11],[28,9,28,11],[34,21,35,22],[29,9,29,11],[30,9,30,11],[36,11,37,15],[42,0,42,22],[41,0,41,3],[39,17,39,22],[32,3,32,5],[33,3,33,5],[29,3,29,5],[30,3,30,5],[31,21,31,22],[32,21,32,22],[32,9,32,11],[34,10,35,10],[38,17,38,22],[33,9,33,11],[39,0,39,3],[41,4,41,7],[41,9,41,10],[40,11,41,15],[33,21,33,22],[39,11,39,15],[29,21,29,22],[34,20,35,20],[34,11,35,15],[34,16,35,19],[38,4,38,9],[0,5,0,22],[1,5,1,22],[2,5,2,22],[4,14,4,15],[9,3,9,8],[17,9,17,11],[18,9,18,11],[14,12,15,12],[16,3,16,5],[14,6,14,8],[14,9,15,11],[14,13,15,13],[18,3,18,5],[14,15,15,15],[14,16,15,16],[14,18,15,18],[6,20,6,22],[11,14,11,19],[12,14,12,19],[14,14,15,14],[4,21,4,22],[4,18,4,20],[4,0,4,1],[8,0,8,2],[16,9,16,11],[4,2,4,3],[9,0,9,2],[4,10,4,13],[4,5,4,8],[9,14,9,19],[7,0,7,10],[14,17,15,17],[10,3,10,8],[11,3,11,8],[12,3,12,8],[12,0,12,2],[11,0,11,2],[10,0,10,2],[14,3,15,5],[14,0,14,2],[8,4,8,8],[6,9,6,10],[6,0,6,8],[6,13,6,19],[19,3,19,5],[19,9,19,11],[17,3,17,5],[16,21,16,22],[17,21,17,22],[15,21,15,22],[10,14,10,19],[7,13,7,22],[14,20,14,22],[18,21,18,22],[8,20,8,21],[19,21,19,22]]}
[null,null,null,null,null,"Fédération Sportive et Gymnique du Travail"]
[null,null,null,null,null,"Commission départementale de tennis de table du Bas-Rhin"]
[null,null,null,null,null,"FEUILLE DE RENCONTRE"]
[]
["Saison",null,null,null,"Secteur",null,null,null,null,"Division",null,null,null,null,"Journée / Tour",null,null,"Date"]
[]
["Equipe recevante",null,null,null,null,null,null,null,null,null,null,null,null,"Equipe visiteuse"]
[]
["Do: Po1    Po2",null,null,null,"Nom, prénom des joueurs",null,null,null,null,"Numéro de licence","Clas.",null,null,"Do:Po1  Po2",null,null,"Nom, prénom des joueurs",null,null,null,"Numéro de licence",null,"Clas."]
["A",null,null,{"$f":"IFERROR(VLOOKUP($J$10,'Listing joueurs'!$A$1:$I$8410, 3, FALSE)&\" \"&VLOOKUP($J$10,'Listing joueurs'!$A$1:$I$8410,4,FALSE),\"\")","v":""},null,null,null,null,null,null,{"$f":"IFERROR(VLOOKUP($J$10,'Listing joueurs'!$A$1:$I$8410, 5, FALSE),\"\")","v":""},null,null,"W",{"$f":"IFERROR(VLOOKUP($U$10,'Listing joueurs'!$A$1:$I$8410, 3, FALSE)&\" \"&VLOOKUP($U$10,'Listing joueurs'!$A$1:$I$8410,4,FALSE),\"\")","v":""},null,null,null,null,null,null,null,{"$f":"IFERROR(VLOOKUP($U$10,'Listing joueurs'!$A$1:$I$8410, 5, FALSE),\"\")","v":""}]
["B",null,null,{"$f":"IFERROR(VLOOKUP($J$11,'Listing joueurs'!$A$1:$I$8410, 3, FALSE)&\" \"&VLOOKUP($J$11,'Listing joueurs'!$A$1:$I$8410,4,FALSE),\"\")","v":""},null,null,null,null,null,null,{"$f":"IFERROR(VLOOKUP($J$11,'Listing joueurs'!$A$1:$I$8410, 5, FALSE),\"\")","v":""},null,null,"X",{"$f":"IFERROR(VLOOKUP($U$11,'Listing joueurs'!$A$1:$I$8410, 3, FALSE)&\" \"&VLOOKUP($U$11,'Listing joueurs'!$A$1:$I$8410,4,FALSE),\"\")","v":""},null,null,null,null,null,null,null,{"$f":"IFERROR(VLOOKUP($U$11,'Listing joueurs'!$A$1:$I$8410, 5, FALSE),\"\")","v":""}]
["C",null,null,{"$f":"IFERROR(VLOOKUP($J$12,'Listing joueurs'!$A$1:$I$8410, 3, FALSE)&\" \"&VLOOKUP($J$12,'Listing joueurs'!$A$1:$I$8410,4,FALSE),\"\")","v":""},null,null,null,null,null,null,{"$f":"IFERROR(VLOOKUP($J$12,'Listing joueurs'!$A$1:$I$8410, 5, FALSE),\"\")","v":""},null,null,"Y",{"$f":"IFERROR(VLOOKUP($U$12,'Listing joueurs'!$A$1:$I$8410, 3, FALSE)&\" \"&VLOOKUP($U$12,'Listing joueurs'!$A$1:$I$8410,4,FALSE),\"\")","v":""},null,null,null,null,null,null,null,{"$f":"IFERROR(VLOOKUP($U$12,'Listing joueurs'!$A$1:$I$8410, 5, FALSE),\"\")","v":""}]
["D",null,null,{"$f":"IFERROR(VLOOKUP($J$13,'Listing joueurs'!$A$1:$I$8410, 3, FALSE)&\" \"&VLOOKUP($J$13,'Listing joueurs'!$A$1:$I$8410,4,FALSE),\"\")","v":""},null,null,null,null,null,null,{"$f":"IFERROR(VLOOKUP($J$13,'Listing joueurs'!$A$1:$I$8410, 5, FALSE),\"\")","v":""},null,null,"Z",{"$f":"IFERROR(VLOOKUP($U$13,'Listing joueurs'!$A$1:$I$8410, 3, FALSE)&\" \"&VLOOKUP($U$13,'Listing joueurs'!$A$1:$I$8410,4,FALSE),\"\")","v":""},null,null,null,null,null,null,null,{"$f":"IFERROR(VLOOKUP($U$13,'Listing joueurs'!$A$1:$I$8410, 5, FALSE),\"\")","v":""}]
[]
["Nombre de joueurs",null,null,"Nom des joueurs",null,null,"Nombre de joueurs",null,null,"Nom des joueurs",null,null,"Manche 1","Manche 2","Manche 3","Manche 4","Manche 5","Manche 6","Manche 7",null,"Vainqueurs"]
[2,3,4,null,null,null,2,3,4,null,null,null,null,null,null,null,null,null,null,null,"ABCD","WXYZ"]
["A","A","A",{"$f":"$D$10","v":""},null,null,"W","W","W",{"$f":"$O$10","v":""},null,null,null,null,null,null,null,null,null,{"$f":"IF($K$5=\"\",\"\",IF(AND(COUNTIF($D$17,\"*JOUEUR ABSENT*\"),COUNTIF($J$17,\"*JOUEUR ABSENT*\")),\"NON JOUE\",IF(OR($U$17=\"A\",$V$17=\"W\"),\"FINI\",\"EN COURS\")))","v":""},{"$f":"IF($K$5=\"\",\"\",IF(AND(COUNTIF($D$17,\"*JOUEUR ABSENT*\"),COUNTIF($J$17,\"*JOUEUR ABSENT*\")),\"\",IF(AND($K$5=\"VETERANSD1NORD\",calcules!$CQ$4<4,calcules!$CR$4<4),\"\",IF(AND($K$5=\"VETERANSD2NORD\",calcules!$CQ$4<4,calcules!$CR$4<4),\"\",IF(AND($K$5=\"EXCELLENCE\",calcules!$CQ$4<3,calcules!$CR$4<3),\"\",IF(AND($K$5=\"HONNEUR\",calcules!$CQ$4<3,calcules!$CR$4<3),\"\",IF(AND($K$5=\"PROMOTIONNORD\",calcules!$CQ$4<3,calcules!$CR$4<3),\"\",IF(AND($K$5=\"ADULTESDIVISION1NORD\",calcules!$CQ$4<3,calcules!$CR$4<3),\"\",IF(AND($K$5=\"PROMOTIONSTRASBOURG\",calcules!$CQ$4<3,calcules!$CR$4<3),\"\",IF(AND($K$5=\"MIXTESD1NORD\",calcules!$CQ$4<3,calcules!$CR$4<3),\"\",IF(AND($K$5=\"MIXTESD1STRASBOURG\",calcules!$CQ$4<3,calcules!$CR$4<3),\"\",IF(AND($K$5=\"VETERANSD1STRASBOURG\",calcules!$CQ$4<3,calcules!$CR$4<3),\"\",IF(AND($K$5=\"VETERANSD2STRASBOURG\",calcules!$CQ$4<3,calcules!$CR$4<3),\"\",IF(AND($K$5=\"JUNIORS\",calcules!$CQ$4<3,calcules!$CR$4<3),\"\",IF(AND($K$5=\"CADETS\",calcules!$CQ$4<3,calcules!$CR$4<3),\"\",IF(AND($K$5=\"MINIMESBENJAMINSPOUSSINS\",calcules!$CQ$4<3,calcules!$CR$4<3),\"\",IF(AND($K$5=\"PROMOTIONFINALE\",calcules!$CQ$4<3,calcules!$CR$4<3),\"\",IF(AND($K$5=\"MIXTESD1FINALE\",calcules!$CQ$4<3,calcules!$CR$4<3),\"\",IF(AND($K$5=\"VETERANSD1FINALE\",calcules!$CQ$4<3,calcules!$CR$4<3),\"\",IF(AND($K$5=\"VETERANSD2FINALE\",calcules!$CQ$4<3,calcules!$CR$4<3),\"\",IF(AND($K$5=\"JUNIORSFINALE\",calcules!$CQ$4<3,calcules!$CR$4<3),\"\",IF(AND($K$5=\"CADETSFINALE\",calcules!$CQ$4<3,calcules!$CR$4<3),\"\",IF(AND($K$5=\"MINIMESBENJAMINSPOUSSINSFINALE\",calcules!$CQ$4<3,calcules!$CR$4<3),\"\",IF(calcules!$CS$4=1,\"A\",\"\"))))))))))))))))))))))))","v":""},{"$f":"IF($K$5=\"\",\"\",IF(AND(COUNTIF($D$17,\"*JOUEUR ABSENT*\"),COUNTIF($J$17,\"*JOUEUR ABSENT*\")),\"\",IF(AND($K$5=\"VETERANSD1NORD\",calcules!$CQ$4<4,calcules!$CR$4<4),\"\",IF(AND($K$5=\"VETERANSD2NORD\",calcules!$CQ$4<4,calcules!$CR$4<4),\"\",IF(AND($K$5=\"EXCELLENCE\",calcules!$CQ$4<3,calcules!$CR$4<3),\"\",IF(AND($K$5=\"HONNEUR\",calcules!$CQ$4<3,calcules!$CR$4<3),\"\",IF(AND($K$5=\"PROMOTIONNORD\",calcules!$CQ$4<3,calcules!$CR$4<3),\"\",IF(AND($K$5=\"ADULTESDIVISION1NORD\",calcules!$CQ$4<3,calcules!$CR$4<3),\"\",IF(AND($K$5=\"PROMOTIONSTRASBOURG\",calcules!$CQ$4<3,calcules!$CR$4<3),\"\",IF(AND($K$5=\"MIXTESD1NORD\",calcules!$CQ$4<3,calcules!$CR$4<3),\"\",IF(AND($K$5=\"MIXTESD1STRASBOURG\",calcules!$CQ$4<3,calcules!$CR$4<3),\"\",IF(AND($K$5=\"VETERANSD1STRASBOURG\",calcules!$CQ$4<3,calcules!$CR$4<3),\"\",IF(AND($K$5=\"VETERANSD2STRASBOURG\",calcules!$CQ$4<3,calcules!$CR$4<3),\"\",IF(AND($K$5=\"JUNIORS\",calcules!$CQ$4<3,calcules!$CR$4<3),\"\",IF(AND($K$5=\"CADETS\",calcules!$CQ$4<3,calcules!$CR$4<3),\"\",IF(AND($K$5=\"MINIMESBENJAMINSPOUSSINS\",calcules!$CQ$4<3,calcules!$CR$4<3),\"\",IF(AND($K$5=\"PROMOTIONFINALE\",calcules!$CQ$4<3,calcules!$CR$4<3),\"\",IF(AND($K$5=\"MIXTESD1FINALE\",calcules!$CQ$4<3,calcules!$CR$4<3),\"\",IF(AND($K$5=\"VETERANSD1FINALE\",calcules!$CQ$4<3,calcules!$CR$4<3),\"\",IF(AND($K$5=\"VETERANSD2FINALE\",calcules!$CQ$4<3,calcules!$CR$4<3),\"\",IF(AND($K$5=\"JUNIORSFINALE\",calcules!$CQ$4<3,calcules!$CR$4<3),\"\",IF(AND($K$5=\"CADETSFINALE\",calcules!$CQ$4<3,calcules!$CR$4<3),\"\",IF(AND($K$5=\"MINIMESBENJAMINSPOUSSINSFINALE\",calcules!$CQ$4<3,calcules!$CR$4<3),\"\",IF(calcules!$CT$4=1,\"W\",\"\"))))))))))))))))))))))))","v":""}]
["B","B","B",{"$f":"$D$11","v":""},null,null,"X","X","X",{"$f":"$O$11","v":""},null,null,null,null,null,null,null,null,null,{"$f":"IF($K$5=\"\",\"\",IF(AND(COUNTIF($D$18,\"*JOUEUR ABSENT*\"), COUNTIF($J$18,\"*JOUEUR ABSENT*\")),\"NON JOUE\",IF(OR($U$18=\"B\",$V$18=\"X\"),\"FINI\",\"EN COURS\")))","v":""},{"$f":"IF($K$5=\"\",\"\",IF(AND(COUNTIF($D$18,\"*JOUEUR ABSENT*\"),COUNTIF($J$18,\"*JOUEUR ABSENT*\")),\"\",IF(AND($K$5=\"VETERANSD1NORD\",calcules!$CQ$5<4,calcules!$CR$5<4),\"\",IF(AND($K$5=\"VETERANSD2NORD\",calcules!$CQ$5<4,calcules!$CR$5<4),\"\",IF(AND($K$5=\"EXCELLENCE\",calcules!$CQ$5<3,calcules!$CR$5<3),\"\",IF(AND($K$5=\"HONNEUR\",calcules!$CQ$5<3,calcules!$CR$5<3),\"\",IF(AND($K$5=\"PROMOTIONNORD\",calcules!$CQ$5<3,calcules!$CR$5<3),\"\",IF(AND($K$5=\"ADULTESDIVISION1NORD\",calcules!$CQ$5<3,calcules!$CR$5<3),\"\",IF(AND($K$5=\"PROMOTIONSTRASBOURG\",calcules!$CQ$5<3,calcules!$CR$5<3),\"\",IF(AND($K$5=\"MIXTESD1NORD\",calcules!$CQ$5<3,calcules!$CR$5<3),\"\",IF(AND($K$5=\"MIXTESD1STRASBOURG\",calcules!$CQ$5<3,calcules!$CR$5<3),\"\",IF(AND($K$5=\"VETERANSD1STRASBOURG\",calcules!$CQ$5<3,calcules!$CR$5<3),\"\",IF(AND($K$5=\"VETERANSD2STRASBOURG\",calcules!$CQ$5<3,calcules!$CR$5<3),\"\",IF(AND($K$5=\"JUNIORS\",calcules!$CQ$5<3,calcules!$CR$5<3),\"\",IF(AND($K$5=\"CADETS\",calcules!$CQ$5<3,calcules!$CR$5<3),\"\",IF(AND($K$5=\"MINIMESBENJAMINSPOUSSINS\",calcules!$CQ$5<3,calcules!$CR$5<3),\"\",IF(AND($K$5=\"PROMOTIONFINALE\",calcules!$CQ$5<3,calcules!$CR$5<3),\"\",IF(AND($K$5=\"MIXTESD1FINALE\",calcules!$CQ$5<3,calcules!$CR$5<3),\"\",IF(AND($K$5=\"VETERANSD1FINALE\",calcules!$CQ$5<3,calcules!$CR$5<3),\"\",IF(AND($K$5=\"VETERANSD2FINALE\",calcules!$CQ$5<3,calcules!$CR$5<3),\"\",IF(AND($K$5=\"JUNIORSFINALE\",calcules!$CQ$5<3,calcules!$CR$5<3),\"\",IF(AND($K$5=\"CADETSFINALE\",calcules!$CQ$5<3,calcules!$CR$5<3),\"\",IF(AND($K$5=\"MINIMESBENJAMINSPOUSSINSFINALE\",calcules!$CQ$5<3,calcules!$CR$5<3),\"\",IF(calcules!$CS$5=1,\"B\",\"\"))))))))))))))))))))))))","v":""},{"$f":"IF($K$5=\"\",\"\",IF(AND(COUNTIF($D$18,\"*JOUEUR ABSENT*\"),COUNTIF($J$18,\"*JOUEUR ABSENT*\")),\"\",IF(AND($K$5=\"VETERANSD1NORD\",calcules!$CQ$5<4,calcules!$CR$5<4),\"\",IF(AND($K$5=\"VETERANSD2NORD\",calcules!$CQ$5<4,calcules!$CR$5<4),\"\",IF(AND($K$5=\"EXCELLENCE\",calcules!$CQ$5<3,calcules!$CR$5<3),\"\",IF(AND($K$5=\"HONNEUR\",calcules!$CQ$5<3,calcules!$CR$5<3),\"\",IF(AND($K$5=\"PROMOTIONNORD\",calcules!$CQ$5<3,calcules!$CR$5<3),\"\",IF(AND($K$5=\"ADULTESDIVISION1NORD\",calcules!$CQ$5<3,calcules!$CR$5<3),\"\",IF(AND($K$5=\"PROMOTIONSTRASBOURG\",calcules!$CQ$5<3,calcules!$CR$5<3),\"\",IF(AND($K$5=\"MIXTESD1NORD\",calcules!$CQ$5<3,calcules!$CR$5<3),\"\",IF(AND($K$5=\"MIXTESD1STRASBOURG\",calcules!$CQ$5<3,calcules!$CR$5<3),\"\",IF(AND($K$5=\"VETERANSD1STRASBOURG\",calcules!$CQ$5<3,calcules!$CR$5<3),\"\",IF(AND($K$5=\"VETERANSD2STRASBOURG\",calcules!$CQ$5<3,calcules!$CR$5<3),\"\",IF(AND($K$5=\"JUNIORS\",calcules!$CQ$5<3,calcules!$CR$5<3),\"\",IF(AND($K$5=\"CADETS\",calcules!$CQ$5<3,calcules!$CR$5<3),\"\",IF(AND($K$5=\"MINIMESBENJAMINSPOUSSINS\",calcules!$CQ$5<3,calcules!$CR$5<3),\"\",IF(AND($K$5=\"PROMOTIONFINALE\",calcules!$CQ$5<3,calcules!$CR$5<3),\"\",IF(AND($K$5=\"MIXTESD1FINALE\",calcules!$CQ$5<3,calcules!$CR$5<3),\"\",IF(AND($K$5=\"VETERANSD1FINALE\",calcules!$CQ$5<3,calcules!$CR$5<3),\"\",IF(AND($K$5=\"VETERANSD2FINALE\",calcules!$CQ$5<3,calcules!$CR$5<3),\"\",IF(AND($K$5=\"JUNIORSFINALE\",calcules!$CQ$5<3,calcules!$CR$5<3),\"\",IF(AND($K$5=\"CADETSFINALE\",calcules!$CQ$5<3,calcules!$CR$5<3),\"\",IF(AND($K$5=\"MINIMESBENJAMINSPOUSSINSFINALE\",calcules!$CQ$5<3,calcules!$CR$5<3),\"\",IF(calcules!$CT$5=1,\"X\",\"\"))))))))))))))))))))))))","v":""}]
["Do","C","C",{"$f":"IF(OR($K$5=\"EXCELLENCE\",$K$5=\"HONNEUR\",$K$5=\"PROMOTIONNORD\",$K$5=\"ADULTESDIVISION1NORD\",$K$5=\"PROMOTIONSTRASBOURG\",$K$5=\"PROMOTIONFINALE\"),$D$12,IF(OR($K$5=\"MIXTESD1NORD\",$K$5=\"MIXTESD1STRASBOURG\",$K$5=\"VETERANSD1STRASBOURG\",$K$5=\"VETERANSD2STRASBOURG\",$K$5=\"VETERANSD1NORD\",$K$5=\"VETERANSD2NORD\",$K$5=\"JUNIORS\",$K$5=\"CADETS\",$K$5=\"MINIMESBENJAMINSPOUSSINS\",$K$5=\"MIXTESD1FINALE\",$K$5=\"VETERANSD1FINALE\",$K$5=\"VETERANSD2FINALE\",$K$5=\"JUNIORSFINALE\",$K$5=\"CADETSFINALE\",$K$5=\"MINIMESBENJAMINSPOUSSINSFINALE\"),$D$10&\" + \"&$D$11,\"\"))","v":""},null,null,"Do","Y","Y",{"$f":"IF(OR($K$5=\"EXCELLENCE\",$K$5=\"HONNEUR\",$K$5=\"PROMOTIONNORD\",$K$5=\"ADULTESDIVISION1NORD\",$K$5=\"PROMOTIONSTRASBOURG\",$K$5=\"PROMOTIONFINALE\"),$O$12,IF(OR($K$5=\"MIXTESD1NORD\",$K$5=\"MIXTESD1STRASBOURG\",$K$5=\"VETERANSD1STRASBOURG\",$K$5=\"VETERANSD2STRASBOURG\",$K$5=\"VETERANSD1NORD\",$K$5=\"VETERANSD2NORD\",$K$5=\"JUNIORS\",$K$5=\"CADETS\",$K$5=\"MINIMESBENJAMINSPOUSSINS\",$K$5=\"MIXTESD1FINALE\",$K$5=\"VETERANSD1FINALE\",$K$5=\"VETERANSD2FINALE\",$K$5=\"JUNIORSFINALE\",$K$5=\"CADETSFINALE\",$K$5=\"MINIMESBENJAMINSPOUSSINSFINALE\"),$O$10&\" + \"&$O$11,\"\"))","v":""},null,null,null,null,null,null,null,null,null,{"$f":"IF($K$5=\"\",\"\", IF(AND(COUNTIF($D$19,\"*JOUEUR ABSENT*\"), COUNTIF($J$19,\"*JOUEUR ABSENT*\")),\"NON JOUE\",IF(OR($U$19=\"Do\",$V$19=\"Do\",$U$19=\"C\",$V$19=\"Y\"),\"FINI\",\"EN COURS\")))","v":""},{"$f":"IF($K$5=\"\",\"\",IF(AND(COUNTIF($D$19,\"*JOUEUR ABSENT*\"),COUNTIF($J$19,\"*JOUEUR ABSENT*\")),\"\",IF(AND($K$5=\"VETERANSD1NORD\",calcules!$CQ$6<4,calcules!$CR$6<4),\"\",IF(AND($K$5=\"VETERANSD2NORD\",calcules!$CQ$6<4,calcules!$CR$6<4),\"\",IF(AND($K$5=\"EXCELLENCE\",calcules!$CQ$6<3,calcules!$CR$6<3),\"\",IF(AND($K$5=\"HONNEUR\",calcules!$CQ$6<3,calcules!$CR$6<3),\"\",IF(AND($K$5=\"PROMOTIONNORD\",calcules!$CQ$6<3,calcules!$CR$6<3),\"\",IF(AND($K$5=\"ADULTESDIVISION1NORD\",calcules!$CQ$6<3,calcules!$CR$6<3),\"\",IF(AND($K$5=\"PROMOTIONSTRASBOURG\",calcules!$CQ$6<3,calcules!$CR$6<3),\"\",IF(AND($K$5=\"MIXTESD1NORD\",calcules!$CQ$6<3,calcules!$CR$6<3),\"\",IF(AND($K$5=\"MIXTESD1STRASBOURG\",calcules!$CQ$6<3,calcules!$CR$6<3),\"\",IF(AND($K$5=\"VETERANSD1STRASBOURG\",calcules!$CQ$6<3,calcules!$CR$6<3),\"\",IF(AND($K$5=\"VETERANSD2STRASBOURG\",calcules!$CQ$6<3,calcules!$CR$6<3),\"\",IF(AND($K$5=\"JUNIORS\",calcules!$CQ$6<3,calcules!$CR$6<3),\"\",IF(AND($K$5=\"CADETS\",calcules!$CQ$6<3,calcules!$CR$6<3),\"\",IF(AND($K$5=\"MINIMESBENJAMINSPOUSSINS\",calcules!$CQ$6<3,calcules!$CR$6<3),\"\",IF(AND($K$5=\"PROMOTIONFINALE\",calcules!$CQ$6<3,calcules!$CR$6<3),\"\",IF(AND($K$5=\"MIXTESD1FINALE\",calcules!$CQ$6<3,calcules!$CR$6<3),\"\",IF(AND($K$5=\"VETERANSD1FINALE\",calcules!$CQ$6<3,calcules!$CR$6<3),\"\",IF(AND($K$5=\"VETERANSD2FINALE\",calcules!$CQ$6<3,calcules!$CR$6<3),\"\",IF(AND($K$5=\"JUNIORSFINALE\",calcules!$CQ$6<3,calcules!$CR$6<3),\"\",IF(AND($K$5=\"CADETSFINALE\",calcules!$CQ$6<3,calcules!$CR$6<3),\"\",IF(AND($K$5=\"MINIMESBENJAMINSPOUSSINSFINALE\",calcules!$CQ$6<3,calcules!$CR$6<3),\"\",IF(AND($K$5=\"EXCELLENCE\",calcules!$CS$6=1),\"C\",IF(AND($K$5=\"HONNEUR\",calcules!$CS$6=1),\"C\",IF(AND($K$5=\"PROMOTIONNORD\",calcules!$CS$6=1),\"C\",IF(AND($K$5=\"ADULTESDIVISION1NORD\",calcules!$CS$6=1),\"C\",IF(AND($K$5=\"PROMOTIONSTRASBOURG\",calcules!$CS$6=1),\"C\",IF(AND($K$5=\"MIXTESD1NORD\",calcules!$CS$6=1),\"Do\",IF(AND($K$5=\"MIXTESD1STRASBOURG\",calcules!$CS$6=1),\"Do\",IF(AND($K$5=\"VETERANSD1STRASBOURG\",calcules!$CS$6=1),\"Do\",IF(AND($K$5=\"VETERANSD2STRASBOURG\",calcules!$CS$6=1),\"Do\",IF(AND($K$5=\"VETERANSD1NORD\",calcules!$CS$6=1),\"Do\",IF(AND($K$5=\"VETERANSD2NORD\",calcules!$CS$6=1),\"Do\",IF(AND($K$5=\"JUNIORS\",calcules!$CS$6=1),\"Do\",IF(AND($K$5=\"CADETS\",calcules!$CS$6=1),\"Do\",IF(AND($K$5=\"MINIMESBENJAMINSPOUSSINS\",calcules!$CS$6=1),\"Do\",IF(AND($K$5=\"PROMOTIONFINALE\",calcules!$CS$6=1),\"C\",IF(AND($K$5=\"MIXTESD1FINALE\",calcules!$CS$6=1),\"Do\",IF(AND($K$5=\"VETERANSD1FINALE\",calcules!$CS$6=1),\"Do\",IF(AND($K$5=\"VETERANSD2FINALE\",calcules!$CS$6=1),\"Do\",IF(AND($K$5=\"JUNIORSFINALE\",calcules!$CS$6=1),\"Do\",IF(AND($K$5=\"CADETSFINALE\",calcules!$CS$6=1),\"Do\",IF(AND($K$5=\"MINIMESBENJAMINSPOUSSINSFINALE\",calcules!$CS$6=1),\"Do\",\"\"))))))))))))))))))))))))))))))))))))))))))))","v":""},{"$f":"IF($K$5=\"\",\"\",IF(AND(COUNTIF($D$19,\"*JOUEUR ABSENT*\"),COUNTIF($J$19,\"*JOUEUR ABSENT*\")),\"\",IF(AND($K$5=\"VETERANSD1NORD\",calcules!$CQ$6<4,calcules!$CR$6<4),\"\",IF(AND($K$5=\"VETERANSD2NORD\",calcules!$CQ$6<4,calcules!$CR$6<4),\"\",IF(AND($K$5=\"EXCELLENCE\",calcules!$CQ$6<3,calcules!$CR$6<3),\"\",IF(AND($K$5=\"HONNEUR\",calcules!$CQ$6<3,calcules!$CR$6<3),\"\",IF(AND($K$5=\"PROMOTIONNORD\",calcules!$CQ$6<3,calcules!$CR$6<3),\"\",IF(AND($K$5=\"ADULTESDIVISION1NORD\",calcules!$CQ$6<3,calcules!$CR$6<3),\"\",IF(AND($K$5=\"PROMOTIONSTRASBOURG\",calcules!$CQ$6<3,calcules!$CR$6<3),\"\",IF(AND($K$5=\"MIXTESD1NORD\",calcules!$CQ$6<3,calcules!$CR$6<3),\"\",IF(AND($K$5=\"MIXTESD1STRASBOURG\",calcules!$CQ$6<3,calcules!$CR$6<3),\"\",IF(AND($K$5=\"VETERANSD1STRASBOURG\",calcules!$CQ$6<3,calcules!$CR$6<3),\"\",IF(AND($K$5=\"VETERANSD2STRASBOURG\",calcules!$CQ$6<3,calcules!$CR$6<3),\"\",IF(AND($K$5=\"JUNIORS\",calcules!$CQ$6<3,calcules!$CR$6<3),\"\",IF(AND($K$5=\"CADETS\",calcules!$CQ$6<3,calcules!$CR$6<3),\"\",IF(AND($K$5=\"MINIMESBENJAMINSPOUSSINS\",calcules!$CQ$6<3,calcules!$CR$6<3),\"\",IF(AND($K$5=\"PROMOTIONFINALE\",calcules!$CQ$6<3,calcules!$CR$6<3),\"\",IF(AND($K$5=\"MIXTESD1FINALE\",calcules!$CQ$6<3,calcules!$CR$6<3),\"\",IF(AND($K$5=\"VETERANSD1FINALE\",calcules!$CQ$6<3,calcules!$CR$6<3),\"\",IF(AND($K$5=\"VETERANSD2FINALE\",calcules!$CQ$6<3,calcules!$CR$6<3),\"\",IF(AND($K$5=\"JUNIORSFINALE\",calcules!$CQ$6<3,calcules!$CR$6<3),\"\",IF(AND($K$5=\"CADETSFINALE\",calcules!$CQ$6<3,calcules!$CR$6<3),\"\",IF(AND($K$5=\"MINIMESBENJAMINSPOUSSINSFINALE\",calcules!$CQ$6<3,calcules!$CR$6<3),\"\",IF(AND($K$5=\"EXCELLENCE\",calcules!$CT$6=1),\"Y\",IF(AND($K$5=\"HONNEUR\",calcules!$CT$6=1),\"Y\",IF(AND($K$5=\"PROMOTIONNORD\",calcules!$CT$6=1),\"Y\",IF(AND($K$5=\"ADULTESDIVISION1NORD\",calcules!$CT$6=1),\"Y\",IF(AND($K$5=\"PROMOTIONSTRASBOURG\",calcules!$CT$6=1),\"Y\",IF(AND($K$5=\"MIXTESD1NORD\",calcules!$CT$6=1),\"Do\",IF(AND($K$5=\"MIXTESD1STRASBOURG\",calcules!$CT$6=1),\"Do\",IF(AND($K$5=\"VETERANSD1STRASBOURG\",calcules!$CT$6=1),\"Do\",IF(AND($K$5=\"VETERANSD2STRASBOURG\",calcules!$CT$6=1),\"Do\",IF(AND($K$5=\"VETERANSD1NORD\",calcules!$CT$6=1),\"Do\",IF(AND($K$5=\"VETERANSD2NORD\",calcules!$CT$6=1),\"Do\",IF(AND($K$5=\"JUNIORS\",calcules!$CT$6=1),\"Do\",IF(AND($K$5=\"CADETS\",calcules!$CT$6=1),\"Do\",IF(AND($K$5=\"MINIMESBENJAMINSPOUSSINS\",calcules!$CT$6=1),\"Do\",IF(AND($K$5=\"PROMOTIONFINALE\",calcules!$CT$6=1),\"Y\",IF(AND($K$5=\"MIXTESD1FINALE\",calcules!$CT$6=1),\"Do\",IF(AND($K$5=\"VETERANSD1FINALE\",calcules!$CT$6=1),\"Do\",IF(AND($K$5=\"VETERANSD2FINALE\",calcules!$CT$6=1),\"Do\",IF(AND($K$5=\"JUNIORSFINALE\",calcules!$CT$6=1),\"Do\",IF(AND($K$5=\"CADETSFINALE\",calcules!$CT$6=1),\"Do\",IF(AND($K$5=\"MINIMESBENJAMINSPOUSSINSFINALE\",calcules!$CT$6=1),\"Do\",\"\"))))))))))))))))))))))))))))))))))))))))))))","v":""}]
["A","B","D",{"$f":"IF(OR($K$5=\"EXCELLENCE\",$K$5=\"HONNEUR\",$K$5=\"PROMOTIONNORD\",$K$5=\"ADULTESDIVISION1NORD\",$K$5=\"PROMOTIONSTRASBOURG\",$K$5=\"PROMOTIONFINALE\"),$D$11,IF(OR($K$5=\"MIXTESD1NORD\",$K$5=\"MIXTESD1STRASBOURG\",$K$5=\"VETERANSD1STRASBOURG\",$K$5=\"VETERANSD2STRASBOURG\",$K$5=\"VETERANSD1NORD\",$K$5=\"VETERANSD2NORD\",$K$5=\"JUNIORS\",$K$5=\"CADETS\",$K$5=\"MINIMESBENJAMINSPOUSSINS\",$K$5=\"MIXTESD1FINALE\",$K$5=\"VETERANSD1FINALE\",$K$5=\"VETERANSD2FINALE\",$K$5=\"JUNIORSFINALE\",$K$5=\"CADETSFINALE\",$K$5=\"MINIMESBENJAMINSPOUSSINSFINALE\"),$D$10,\"\"))","v":""},null,null,"X","W","Z",{"$f":"IF(OR($K$5=\"EXCELLENCE\",$K$5=\"HONNEUR\",$K$5=\"PROMOTIONNORD\",$K$5=\"ADULTESDIVISION1NORD\",$K$5=\"PROMOTIONSTRASBOURG\",$K$5=\"PROMOTIONFINALE\"),$O$10,IF(OR($K$5=\"MIXTESD1NORD\",$K$5=\"MIXTESD1STRASBOURG\",$K$5=\"VETERANSD1STRASBOURG\",$K$5=\"VETERANSD2STRASBOURG\",$K$5=\"VETERANSD1NORD\",$K$5=\"VETERANSD2NORD\",$K$5=\"JUNIORS\",$K$5=\"CADETS\",$K$5=\"MINIMESBENJAMINSPOUSSINS\",$K$5=\"MIXTESD1FINALE\",$K$5=\"VETERANSD1FINALE\",$K$5=\"VETERANSD2FINALE\",$K$5=\"JUNIORSFINALE\",$K$5=\"CADETSFINALE\",$K$5=\"MINIMESBENJAMINSPOUSSINSFINALE\"),$O$11,\"\"))","v":""},null,null,null,null,null,null,null,null,null,{"$f":"IF($K$5=\"\",\"\",IF(AND(COUNTIF($D$20,\"*JOUEUR ABSENT*\"), COUNTIF($J$20,\"*JOUEUR ABSENT*\")),\"NON JOUE\",IF(OR($U$20=\"A\",$V$20=\"X\",$U$20=\"B\",$V$20=\"W\"),\"FINI\",\"EN COURS\")))","v":""},{"$f":"IF($K$5=\"\",\"\",IF(AND(COUNTIF($D$20,\"*JOUEUR ABSENT*\"),COUNTIF($J$20,\"*JOUEUR ABSENT*\")),\"\",IF(AND($K$5=\"VETERANSD1NORD\",calcules!$CQ$7<4,calcules!$CR$7<4),\"\",IF(AND($K$5=\"VETERANSD2NORD\",calcules!$CQ$7<4,calcules!$CR$7<4),\"\",IF(AND($K$5=\"EXCELLENCE\",calcules!$CQ$7<3,calcules!$CR$7<3),\"\",IF(AND($K$5=\"HONNEUR\",calcules!$CQ$7<3,calcules!$CR$7<3),\"\",IF(AND($K$5=\"PROMOTIONNORD\",calcules!$CQ$7<3,calcules!$CR$7<3),\"\",IF(AND($K$5=\"ADULTESDIVISION1NORD\",calcules!$CQ$7<3,calcules!$CR$7<3),\"\",IF(AND($K$5=\"PROMOTIONSTRASBOURG\",calcules!$CQ$7<3,calcules!$CR$7<3),\"\",IF(AND($K$5=\"MIXTESD1NORD\",calcules!$CQ$7<3,calcules!$CR$7<3),\"\",IF(AND($K$5=\"MIXTESD1STRASBOURG\",calcules!$CQ$7<3,calcules!$CR$7<3),\"\",IF(AND($K$5=\"VETERANSD1STRASBOURG\",calcules!$CQ$7<3,calcules!$CR$7<3),\"\",IF(AND($K$5=\"VETERANSD2STRASBOURG\",calcules!$CQ$7<3,calcules!$CR$7<3),\"\",IF(AND($K$5=\"JUNIORS\",calcules!$CQ$7<3,calcules!$CR$7<3),\"\",IF(AND($K$5=\"CADETS\",calcules!$CQ$7<3,calcules!$CR$7<3),\"\",IF(AND($K$5=\"MINIMESBENJAMINSPOUSSINS\",calcules!$CQ$7<3,calcules!$CR$7<3),\"\",IF(AND($K$5=\"PROMOTIONFINALE\",calcules!$CQ$7<3,calcules!$CR$7<3),\"\",IF(AND($K$5=\"MIXTESD1FINALE\",calcules!$CQ$7<3,calcules!$CR$7<3),\"\",IF(AND($K$5=\"VETERANSD1FINALE\",calcules!$CQ$7<3,calcules!$CR$7<3),\"\",IF(AND($K$5=\"VETERANSD2FINALE\",calcules!$CQ$7<3,calcules!$CR$7<3),\"\",IF(AND($K$5=\"JUNIORSFINALE\",calcules!$CQ$7<3,calcules!$CR$7<3),\"\",IF(AND($K$5=\"CADETSFINALE\",calcules!$CQ$7<3,calcules!$CR$7<3),\"\",IF(AND($K$5=\"MINIMESBENJAMINSPOUSSINSFINALE\",calcules!$CQ$7<3,calcules!$CR$7<3),\"\",IF(AND($K$5=\"EXCELLENCE\",calcules!$CS$7=1),\"B\",IF(AND($K$5=\"HONNEUR\",calcules!$CS$7=1),\"B\",IF(AND($K$5=\"PROMOTIONNORD\",calcules!$CS$7=1),\"B\",IF(AND($K$5=\"ADULTESDIVISION1NORD\",calcules!$CS$7=1),\"B\",IF(AND($K$5=\"PROMOTIONSTRASBOURG\",calcules!$CS$7=1),\"B\",IF(AND($K$5=\"MIXTESD1NORD\",calcules!$CS$7=1),\"A\",IF(AND($K$5=\"MIXTESD1STRASBOURG\",calcules!$CS$7=1),\"A\",IF(AND($K$5=\"VETERANSD1STRASBOURG\",calcules!$CS$7=1),\"A\",IF(AND($K$5=\"VETERANSD2STRASBOURG\",calcules!$CS$7=1),\"A\",IF(AND($K$5=\"VETERANSD1NORD\",calcules!$CS$7=1),\"A\",IF(AND($K$5=\"VETERANSD2NORD\",calcules!$CS$7=1),\"A\",IF(AND($K$5=\"JUNIORS\",calcules!$CS$7=1),\"A\",IF(AND($K$5=\"CADETS\",calcules!$CS$7=1),\"A\",IF(AND($K$5=\"MINIMESBENJAMINSPOUSSINS\",calcules!$CS$7=1),\"A\",IF(AND($K$5=\"PROMOTIONFINALE\",calcules!$CS$7=1),\"B\",IF(AND($K$5=\"MIXTESD1FINALE\",calcules!$CS$7=1),\"A\",IF(AND($K$5=\"VETERANSD1FINALE\",calcules!$CS$7=1),\"A\",IF(AND($K$5=\"VETERANSD2FINALE\",calcules!$CS$7=1),\"A\",IF(AND($K$5=\"JUNIORSFINALE\",calcules!$CS$7=1),\"A\",IF(AND($K$5=\"CADETSFINALE\",calcules!$CS$7=1),\"A\",IF(AND($K$5=\"MINIMESBENJAMINSPOUSSINSFINALE\",calcules!$CS$7=1),\"A\",\"\"))))))))))))))))))))))))))))))))))))))))))))","v":""},{"$f":"IF($K$5=\"\",\"\",IF(AND(COUNTIF($D$20,\"*JOUEUR ABSENT*\"),COUNTIF($J$20,\"*JOUEUR ABSENT*\")),\"\",IF(AND($K$5=\"VETERANSD1NORD\",calcules!$CQ$7<4,calcules!$CR$7<4),\"\",IF(AND($K$5=\"VETERANSD2NORD\",calcules!$CQ$7<4,calcules!$CR$7<4),\"\",IF(AND($K$5=\"EXCELLENCE\",calcules!$CQ$7<3,calcules!$CR$7<3),\"\",IF(AND($K$5=\"HONNEUR\",calcules!$CQ$7<3,calcules!$CR$7<3),\"\",IF(AND($K$5=\"PROMOTIONNORD\",calcules!$CQ$7<3,calcules!$CR$7<3),\"\",IF(AND($K$5=\"ADULTESDIVISION1NORD\",calcules!$CQ$7<3,calcules!$CR$7<3),\"\",IF(AND($K$5=\"PROMOTIONSTRASBOURG\",calcules!$CQ$7<3,calcules!$CR$7<3),\"\",IF(AND($K$5=\"MIXTESD1NORD\",calcules!$CQ$7<3,calcules!$CR$7<3),\"\",IF(AND($K$5=\"MIXTESD1STRASBOURG\",calcules!$CQ$7<3,calcules!$CR$7<3),\"\",IF(AND($K$5=\"VETERANSD1STRASBOURG\",calcules!$CQ$7<3,calcules!$CR$7<3),\"\",IF(AND($K$5=\"VETERANSD2STRASBOURG\",calcules!$CQ$7<3,calcules!$CR$7<3),\"\",IF(AND($K$5=\"JUNIORS\",calcules!$CQ$7<3,calcules!$CR$7<3),\"\",IF(AND($K$5=\"CADETS\",calcules!$CQ$7<3,calcules!$CR$7<3),\"\",IF(AND($K$5=\"MINIMESBENJAMINSPOUSSINS\",calcules!$CQ$7<3,calcules!$CR$7<3),\"\",IF(AND($K$5=\"PROMOTIONFINALE\",calcules!$CQ$7<3,calcules!$CR$7<3),\"\",IF(AND($K$5=\"MIXTESD1FINALE\",calcules!$CQ$7<3,calcules!$CR$7<3),\"\",IF(AND($K$5=\"VETERANSD1FINALE\",calcules!$CQ$7<3,calcules!$CR$7<3),\"\",IF(AND($K$5=\"VETERANSD2FINALE\",calcules!$CQ$7<3,calcules!$CR$7<3),\"\",IF(AND($K$5=\"JUNIORSFINALE\",calcules!$CQ$7<3,calcules!$CR$7<3),\"\",IF(AND($K$5=\"CADETSFINALE\",calcules!$CQ$7<3,calcules!$CR$7<3),\"\",IF(AND($K$5=\"MINIMESBENJAMINSPOUSSINSFINALE\",calcules!$CQ$7<3,calcules!$CR$7<3),\"\",IF(AND($K$5=\"EXCELLENCE\",calcules!$CT$7=1),\"W\",IF(AND($K$5=\"HONNEUR\",calcules!$CT$7=1),\"W\",IF(AND($K$5=\"PROMOTIONNORD\",calcules!$CT$7=1),\"W\",IF(AND($K$5=\"ADULTESDIVISION1NORD\",calcules!$CT$7=1),\"W\",IF(AND($K$5=\"PROMOTIONSTRASBOURG\",calcules!$CT$7=1),\"W\",IF(AND($K$5=\"MIXTESD1NORD\",calcules!$CT$7=1),\"X\",IF(AND($K$5=\"MIXTESD1STRASBOURG\",calcules!$CT$7=1),\"X\",IF(AND($K$5=\"VETERANSD1STRASBOURG\",calcules!$CT$7=1),\"X\",IF(AND($K$5=\"VETERANSD2STRASBOURG\",calcules!$CT$7=1),\"X\",IF(AND($K$5=\"VETERANSD1NORD\",calcules!$CT$7=1),\"X\",IF(AND($K$5=\"VETERANSD2NORD\",calcules!$CT$7=1),\"X\",IF(AND($K$5=\"JUNIORS\",calcules!$CT$7=1),\"X\",IF(AND($K$5=\"CADETS\",calcules!$CT$7=1),\"X\",IF(AND($K$5=\"MINIMESBENJAMINSPOUSSINS\",calcules!$CT$7=1),\"X\",IF(AND($K$5=\"PROMOTIONFINALE\",calcules!$CT$7=1),\"W\",IF(AND($K$5=\"MIXTESD1FINALE\",calcules!$CT$7=1),\"X\",IF(AND($K$5=\"VETERANSD1FINALE\",calcules!$CT$7=1),\"X\",IF(AND($K$5=\"VETERANSD2FINALE\",calcules!$CT$7=1),\"X\",IF(AND($K$5=\"JUNIORSFINALE\",calcules!$CT$7=1),\"X\",IF(AND($K$5=\"CADETSFINALE\",calcules!$CT$7=1),\"X\",IF(AND($K$5=\"MINIMESBENJAMINSPOUSSINSFINALE\",calcules!$CT$7=1),\"X\",\"\"))))))))))))))))))))))))))))))))))))))))))))","v":""}]
["B","A","A",{"$f":"IF(OR($K$5=\"EXCELLENCE\",$K$5=\"HONNEUR\",$K$5=\"PROMOTIONNORD\",$K$5=\"ADULTESDIVISION1NORD\",$K$5=\"PROMOTIONSTRASBOURG\",$K$5=\"PROMOTIONFINALE\"),$D$10,IF(OR($K$5=\"MIXTESD1NORD\",$K$5=\"MIXTESD1STRASBOURG\",$K$5=\"VETERANSD1STRASBOURG\",$K$5=\"VETERANSD2STRASBOURG\",$K$5=\"VETERANSD1NORD\",$K$5=\"VETERANSD2NORD\",$K$5=\"JUNIORS\",$K$5=\"CADETS\",$K$5=\"MINIMESBENJAMINSPOUSSINS\",$K$5=\"MIXTESD1FINALE\",$K$5=\"VETERANSD1FINALE\",$K$5=\"VETERANSD2FINALE\",$K$5=\"JUNIORSFINALE\",$K$5=\"CADETSFINALE\",$K$5=\"MINIMESBENJAMINSPOUSSINSFINALE\"),$D$11,\"\"))","v":""},null,null,"W","Y","X",{"$f":"IF(OR($K$5=\"EXCELLENCE\",$K$5=\"HONNEUR\",$K$5=\"PROMOTIONNORD\",$K$5=\"ADULTESDIVISION1NORD\",$K$5=\"PROMOTIONSTRASBOURG\",$K$5=\"PROMOTIONFINALE\"),$O$12,IF(OR($K$5=\"MIXTESD1NORD\",$K$5=\"MIXTESD1STRASBOURG\",$K$5=\"VETERANSD1STRASBOURG\",$K$5=\"VETERANSD2STRASBOURG\",$K$5=\"VETERANSD1NORD\",$K$5=\"VETERANSD2NORD\",$K$5=\"JUNIORS\",$K$5=\"CADETS\",$K$5=\"MINIMESBENJAMINSPOUSSINS\",$K$5=\"MIXTESD1FINALE\",$K$5=\"VETERANSD1FINALE\",$K$5=\"VETERANSD2FINALE\",$K$5=\"JUNIORSFINALE\",$K$5=\"CADETSFINALE\",$K$5=\"MINIMESBENJAMINSPOUSSINSFINALE\"),$O$10,\"\"))","v":""},null,null,null,null,null,null,null,null,null,{"$f":"IF($K$5=\"\",\"\", IF(AND(COUNTIF($D$21,\"*JOUEUR ABSENT*\"), COUNTIF($J$21,\"*JOUEUR ABSENT*\")),\"NON JOUE\",IF(OR($U$21=\"A\",$U$21=\"B\",$V$21=\"Y\",$V$21=\"W\"),\"FINI\",\"EN COURS\")))","v":""},{"$f":"IF($K$5=\"\",\"\",IF(AND(COUNTIF($D$21,\"*JOUEUR ABSENT*\"),COUNTIF($J$21,\"*JOUEUR ABSENT*\")),\"\",IF(AND($K$5=\"VETERANSD1NORD\",calcules!$CQ$8<4,calcules!$CR$8<4),\"\",IF(AND($K$5=\"VETERANSD2NORD\",calcules!$CQ$8<4,calcules!$CR$8<4),\"\",IF(AND($K$5=\"EXCELLENCE\",calcules!$CQ$8<3,calcules!$CR$8<3),\"\",IF(AND($K$5=\"HONNEUR\",calcules!$CQ$8<3,calcules!$CR$8<3),\"\",IF(AND($K$5=\"PROMOTIONNORD\",calcules!$CQ$8<3,calcules!$CR$8<3),\"\",IF(AND($K$5=\"ADULTESDIVISION1NORD\",calcules!$CQ$8<3,calcules!$CR$8<3),\"\",IF(AND($K$5=\"PROMOTIONSTRASBOURG\",calcules!$CQ$8<3,calcules!$CR$8<3),\"\",IF(AND($K$5=\"MIXTESD1NORD\",calcules!$CQ$8<3,calcules!$CR$8<3),\"\",IF(AND($K$5=\"MIXTESD1STRASBOURG\",calcules!$CQ$8<3,calcules!$CR$8<3),\"\",IF(AND($K$5=\"VETERANSD1STRASBOURG\",calcules!$CQ$8<3,calcules!$CR$8<3),\"\",IF(AND($K$5=\"VETERANSD2STRASBOURG\",calcules!$CQ$8<3,calcules!$CR$8<3),\"\",IF(AND($K$5=\"JUNIORS\",calcules!$CQ$8<3,calcules!$CR$8<3),\"\",IF(AND($K$5=\"CADETS\",calcules!$CQ$8<3,calcules!$CR$8<3),\"\",IF(AND($K$5=\"MINIMESBENJAMINSPOUSSINS\",calcules!$CQ$8<3,calcules!$CR$8<3),\"\",IF(AND($K$5=\"PROMOTIONFINALE\",calcules!$CQ$8<3,calcules!$CR$8<3),\"\",IF(AND($K$5=\"MIXTESD1FINALE\",calcules!$CQ$8<3,calcules!$CR$8<3),\"\",IF(AND($K$5=\"VETERANSD1FINALE\",calcules!$CQ$8<3,calcules!$CR$8<3),\"\",IF(AND($K$5=\"VETERANSD2FINALE\",calcules!$CQ$8<3,calcules!$CR$8<3),\"\",IF(AND($K$5=\"JUNIORSFINALE\",calcules!$CQ$8<3,calcules!$CR$8<3),\"\",IF(AND($K$5=\"CADETSFINALE\",calcules!$CQ$8<3,calcules!$CR$8<3),\"\",IF(AND($K$5=\"MINIMESBENJAMINSPOUSSINSFINALE\",calcules!$CQ$8<3,calcules!$CR$8<3),\"\",IF(AND($K$5=\"EXCELLENCE\",calcules!$CS$8=1),\"A\",IF(AND($K$5=\"HONNEUR\",calcules!$CS$8=1),\"A\",IF(AND($K$5=\"PROMOTIONNORD\",calcules!$CS$8=1),\"A\",IF(AND($K$5=\"ADULTESDIVISION1NORD\",calcules!$CS$8=1),\"A\",IF(AND($K$5=\"PROMOTIONSTRASBOURG\",calcules!$CS$8=1),\"A\",IF(AND($K$5=\"MIXTESD1NORD\",calcules!$CS$8=1),\"B\",IF(AND($K$5=\"MIXTESD1STRASBOURG\",calcules!$CS$8=1),\"B\",IF(AND($K$5=\"VETERANSD1STRASBOURG\",calcules!$CS$8=1),\"B\",IF(AND($K$5=\"VETERANSD2STRASBOURG\",calcules!$CS$8=1),\"B\",IF(AND($K$5=\"VETERANSD1NORD\",calcules!$CS$8=1),\"B\",IF(AND($K$5=\"VETERANSD2NORD\",calcules!$CS$8=1),\"B\",IF(AND($K$5=\"JUNIORS\",calcules!$CS$8=1),\"B\",IF(AND($K$5=\"CADETS\",calcules!$CS$8=1),\"B\",IF(AND($K$5=\"MINIMESBENJAMINSPOUSSINS\",calcules!$CS$8=1),\"B\",IF(AND($K$5=\"PROMOTIONFINALE\",calcules!$CS$8=1),\"A\",IF(AND($K$5=\"MIXTESD1FINALE\",calcules!$CS$8=1),\"B\",IF(AND($K$5=\"VETERANSD1FINALE\",calcules!$CS$8=1),\"B\",IF(AND($K$5=\"VETERANSD2FINALE\",calcules!$CS$8=1),\"B\",IF(AND($K$5=\"JUNIORSFINALE\",calcules!$CS$8=1),\"B\",IF(AND($K$5=\"CADETSFINALE\",calcules!$CS$8=1),\"B\",IF(AND($K$5=\"MINIMESBENJAMINSPOUSSINSFINALE\",calcules!$CS$8=1),\"B\",\"\"))))))))))))))))))))))))))))))))))))))))))))","v":""},{"$f":"IF($K$5=\"\",\"\",IF(AND(COUNTIF($D$21,\"*JOUEUR ABSENT*\"),COUNTIF($J$21,\"*JOUEUR ABSENT*\")),\"\",IF(AND($K$5=\"VETERANSD1NORD\",calcules!$CQ$8<4,calcules!$CR$8<4),\"\",IF(AND($K$5=\"VETERANSD2NORD\",calcules!$CQ$8<4,calcules!$CR$8<4),\"\",IF(AND($K$5=\"EXCELLENCE\",calcules!$CQ$8<3,calcules!$CR$8<3),\"\",IF(AND($K$5=\"HONNEUR\",calcules!$CQ$8<3,calcules!$CR$8<3),\"\",IF(AND($K$5=\"PROMOTIONNORD\",calcules!$CQ$8<3,calcules!$CR$8<3),\"\",IF(AND($K$5=\"ADULTESDIVISION1NORD\",calcules!$CQ$8<3,calcules!$CR$8<3),\"\",IF(AND($K$5=\"PROMOTIONSTRASBOURG\",calcules!$CQ$8<3,calcules!$CR$8<3),\"\",IF(AND($K$5=\"MIXTESD1NORD\",calcules!$CQ$8<3,calcules!$CR$8<3),\"\",IF(AND($K$5=\"MIXTESD1STRASBOURG\",calcules!$CQ$8<3,calcules!$CR$8<3),\"\",IF(AND($K$5=\"VETERANSD1STRASBOURG\",calcules!$CQ$8<3,calcules!$CR$8<3),\"\",IF(AND($K$5=\"VETERANSD2STRASBOURG\",calcules!$CQ$8<3,calcules!$CR$8<3),\"\",IF(AND($K$5=\"JUNIORS\",calcules!$CQ$8<3,calcules!$CR$8<3),\"\",IF(AND($K$5=\"CADETS\",calcules!$CQ$8<3,calcules!$CR$8<3),\"\",IF(AND($K$5=\"MINIMESBENJAMINSPOUSSINS\",calcules!$CQ$8<3,calcules!$CR$8<3),\"\",IF(AND($K$5=\"PROMOTIONFINALE\",calcules!$CQ$8<3,calcules!$CR$8<3),\"\",IF(AND($K$5=\"MIXTESD1FINALE\",calcules!$CQ$8<3,calcules!$CR$8<3),\"\",IF(AND($K$5=\"VETERANSD1FINALE\",calcules!$CQ$8<3,calcules!$CR$8<3),\"\",IF(AND($K$5=\"VETERANSD2FINALE\",calcules!$CQ$8<3,calcules!$CR$8<3),\"\",IF(AND($K$5=\"JUNIORSFINALE\",calcules!$CQ$8<3,calcules!$CR$8<3),\"\",IF(AND($K$5=\"CADETSFINALE\",calcules!$CQ$8<3,calcules!$CR$8<3),\"\",IF(AND($K$5=\"MINIMESBENJAMINSPOUSSINSFINALE\",calcules!$CQ$8<3,calcules!$CR$8<3),\"\",IF(AND($K$5=\"EXCELLENCE\",calcules!$CT$8=1),\"Y\",IF(AND($K$5=\"HONNEUR\",calcules!$CT$8=1),\"Y\",IF(AND($K$5=\"PROMOTIONNORD\",calcules!$CT$8=1),\"Y\",IF(AND($K$5=\"ADULTESDIVISION1NORD\",calcules!$CT$8=1),\"Y\",IF(AND($K$5=\"PROMOTIONSTRASBOURG\",calcules!$CT$8=1),\"Y\",IF(AND($K$5=\"PROMOTIONFINALE\",calcules!$CT$8=1),\"Y\",IF(AND($K$5=\"MIXTESD1NORD\",calcules!$CT$8=1),\"W\",IF(AND($K$5=\"MIXTESD1STRASBOURG\",calcules!$CT$8=1),\"W\",IF(AND($K$5=\"MIXTESD1FINALE\",calcules!$CT$8=1),\"W\",IF(AND($K$5=\"VETERANSD1STRASBOURG\",calcules!$CT$8=1),\"W\",IF(AND($K$5=\"VETERANSD1FINALE\",calcules!$CT$8=1),\"W\",IF(AND($K$5=\"VETERANSD2STRASBOURG\",calcules!$CT$8=1),\"W\",IF(AND($K$5=\"VETERANSD2FINALE\",calcules!$CT$8=1),\"W\",IF(AND($K$5=\"VETERANSD1NORD\",calcules!$CT$8=1),\"W\",IF(AND($K$5=\"VETERANSD2NORD\",calcules!$CT$8=1),\"W\",IF(AND($K$5=\"JUNIORS\",calcules!$CT$8=1),\"W\",IF(AND($K$5=\"JUNIORSFINALE\",calcules!$CT$8=1),\"W\",IF(AND($K$5=\"CADETS\",calcules!$CT$8=1),\"W\",IF(AND($K$5=\"CADETSFINALE\",calcules!$CT$8=1),\"W\",IF(AND($K$5=\"MINIMESBENJAMINSPOUSSINS\",calcules!$CT$8=1),\"W\",IF(AND($K$5=\"MINIMESBENJAMINSPOUSSINSFINALE\",calcules!$CT$8=1),\"W\",\"\"))))))))))))))))))))))))))))))))))))))))))))","v":""}]
[null,"C","B",{"$f":"IF(OR($K$5=\"EXCELLENCE\",$K$5=\"HONNEUR\",$K$5=\"PROMOTIONNORD\",$K$5=\"ADULTESDIVISION1NORD\",$K$5=\"PROMOTIONSTRASBOURG\",$K$5=\"PROMOTIONFINALE\"),$D$12,\"\")","v":""},null,null,null,"X","W",{"$f":"IF(OR($K$5=\"EXCELLENCE\",$K$5=\"HONNEUR\",$K$5=\"PROMOTIONNORD\",$K$5=\"ADULTESDIVISION1NORD\",$K$5=\"PROMOTIONSTRASBOURG\",$K$5=\"PROMOTIONFINALE\"),$O$11,\"\")","v":""},null,null,null,null,null,null,null,null,null,{"$f":"IF($K$5=\"\",\"\",IF(OR($K$5=\"MIXTESD1NORD\",$K$5=\"MIXTESD1STRASBOURG\",$K$5=\"VETERANSD1STRASBOURG\",$K$5=\"VETERANSD2STRASBOURG\",$K$5=\"VETERANSD1NORD\",$K$5=\"VETERANSD2NORD\",$K$5=\"JUNIORS\",$K$5=\"CADETS\",$K$5=\"MINIMESBENJAMINSPOUSSINS\",$K$5=\"MIXTESD1FINALE\",$K$5=\"VETERANSD1FINALE\",$K$5=\"VETERANSD2FINALE\",$K$5=\"JUNIORSFINALE\",$K$5=\"CADETSFINALE\",$K$5=\"MINIMESBENJAMINSPOUSSINSFINALE\"),\"\",IF(AND(COUNTIF($D$22,\"*JOUEUR ABSENT*\"),COUNTIF($J$22,\"*JOUEUR ABSENT*\")),\"NON JOUE\",IF(OR($U$22=\"C\",$V$22=\"X\"),\"FINI\",\"EN COURS\"))))","v":""},{"$f":"IF($K$5=\"\",\"\",IF(AND(COUNTIF($D$22,\"*JOUEUR ABSENT*\"),COUNTIF($J$22,\"*JOUEUR ABSENT*\")),\"\",IF(OR($K$5=\"MIXTESD1NORD\",$K$5=\"MIXTESD1STRASBOURG\",$K$5=\"VETERANSD1STRASBOURG\",$K$5=\"VETERANSD2STRASBOURG\",$K$5=\"VETERANSD1NORD\",$K$5=\"VETERANSD2NORD\",$K$5=\"JUNIORS\",$K$5=\"CADETS\",$K$5=\"MINIMESBENJAMINSPOUSSINS\",$K$5=\"MIXTESD1FINALE\",$K$5=\"VETERANSD1FINALE\",$K$5=\"VETERANSD2FINALE\",$K$5=\"JUNIORSFINALE\",$K$5=\"CADETSFINALE\",$K$5=\"MINIMESBENJAMINSPOUSSINSFINALE\"),\"\",IF(AND($K$5=\"EXCELLENCE\",calcules!$CQ$9<3,calcules!$CR$9<3),\"\",IF(AND($K$5=\"HONNEUR\",calcules!$CQ$9<3,calcules!$CR$9<3),\"\",IF(AND($K$5=\"PROMOTIONNORD\",calcules!$CQ$9<3,calcules!$CR$9<3),\"\",IF(AND($K$5=\"ADULTESDIVISION1NORD\",calcules!$CQ$9<3,calcules!$CR$9<3),\"\",IF(AND($K$5=\"PROMOTIONSTRASBOURG\",calcules!$CQ$9<3,calcules!$CR$9<3),\"\",IF(AND($K$5=\"PROMOTIONFINALE\",calcules!$CQ$9<3,calcules!$CR$9<3),\"\",IF(AND($K$5=\"EXCELLENCE\",calcules!$CS$9=1),\"C\",IF(AND($K$5=\"HONNEUR\",calcules!$CS$9=1),\"C\",IF(AND($K$5=\"PROMOTIONNORD\",calcules!$CS$9=1),\"C\",IF(AND($K$5=\"ADULTESDIVISION1NORD\",calcules!$CS$9=1),\"C\",IF(AND($K$5=\"PROMOTIONSTRASBOURG\",calcules!$CS$9=1),\"C\",IF(AND($K$5=\"PROMOTIONFINALE\",calcules!$CS$9=1),\"C\",\"\")))))))))))))))","v":""},{"$f":"IF($K$5=\"\",\"\",IF(AND(COUNTIF($D$22,\"*JOUEUR ABSENT*\"),COUNTIF($J$22,\"*JOUEUR ABSENT*\")),\"\",IF(OR($K$5=\"MIXTESD1NORD\",$K$5=\"MIXTESD1STRASBOURG\",$K$5=\"VETERANSD1STRASBOURG\",$K$5=\"VETERANSD2STRASBOURG\",$K$5=\"VETERANSD1NORD\",$K$5=\"VETERANSD2NORD\",$K$5=\"JUNIORS\",$K$5=\"CADETS\",$K$5=\"MINIMESBENJAMINSPOUSSINS\",$K$5=\"MIXTESD1FINALE\",$K$5=\"VETERANSD1FINALE\",$K$5=\"VETERANSD2FINALE\",$K$5=\"JUNIORSFINALE\",$K$5=\"CADETSFINALE\",$K$5=\"MINIMESBENJAMINSPOUSSINSFINALE\"),\"\",IF(AND($K$5=\"EXCELLENCE\",calcules!$CQ$9<3,calcules!$CR$9<3),\"\",IF(AND($K$5=\"HONNEUR\",calcules!$CQ$9<3,calcules!$CR$9<3),\"\",IF(AND($K$5=\"PROMOTIONNORD\",calcules!$CQ$9<3,calcules!$CR$9<3),\"\",IF(AND($K$5=\"ADULTESDIVISION1NORD\",calcules!$CQ$9<3,calcules!$CR$9<3),\"\",IF(AND($K$5=\"PROMOTIONSTRASBOURG\",calcules!$CQ$9<3,calcules!$CR$9<3),\"\",IF(AND($K$5=\"PROMOTIONFINALE\",calcules!$CQ$9<3,calcules!$CR$9<3),\"\",IF(AND($K$5=\"EXCELLENCE\",calcules!$CT$9=1),\"X\",IF(AND($K$5=\"HONNEUR\",calcules!$CT$9=1),\"X\",IF(AND($K$5=\"PROMOTIONNORD\",calcules!$CT$9=1),\"X\",IF(AND($K$5=\"ADULTESDIVISION1NORD\",calcules!$CT$9=1),\"X\",IF(AND($K$5=\"PROMOTIONSTRASBOURG\",calcules!$CT$9=1),\"X\",IF(AND($K$5=\"PROMOTIONFINALE\",calcules!$CT$9=1),\"X\",\"\")))))))))))))))","v":""}]
[null,"Do","D",{"$f":"IF(OR($K$5=\"EXCELLENCE\",$K$5=\"HONNEUR\",$K$5=\"PROMOTIONNORD\",$K$5=\"ADULTESDIVISION1NORD\",$K$5=\"PROMOTIONSTRASBOURG\",$K$5=\"PROMOTIONFINALE\"),calcules!$DL$4,\"\")","v":""},null,null,null,"Do","Y",{"$f":"IF(OR($K$5=\"EXCELLENCE\",$K$5=\"HONNEUR\",$K$5=\"PROMOTIONNORD\",$K$5=\"ADULTESDIVISION1NORD\",$K$5=\"PROMOTIONSTRASBOURG\",$K$5=\"PROMOTIONFINALE\"),calcules!$DL$8,\"\")","v":""},null,null,null,null,null,null,null,null,null,{"$f":"IF($K$5=\"\",\"\",IF(OR($K$5=\"MIXTESD1NORD\",$K$5=\"MIXTESD1STRASBOURG\",$K$5=\"VETERANSD1STRASBOURG\",$K$5=\"VETERANSD2STRASBOURG\",$K$5=\"VETERANSD1NORD\",$K$5=\"VETERANSD2NORD\",$K$5=\"JUNIORS\",$K$5=\"CADETS\",$K$5=\"MINIMESBENJAMINSPOUSSINS\",$K$5=\"MIXTESD1FINALE\",$K$5=\"VETERANSD1FINALE\",$K$5=\"VETERANSD2FINALE\",$K$5=\"JUNIORSFINALE\",$K$5=\"CADETSFINALE\",$K$5=\"MINIMESBENJAMINSPOUSSINSFINALE\"),\"\",IF(AND(COUNTIF($D$23,\"*JOUEUR ABSENT*\"),COUNTIF($J$23,\"*JOUEUR ABSENT*\")),\"NON JOUE\",IF(OR($U$23=\"Do\",$V$23=\"Do\"),\"FINI\",\"EN COURS\"))))","v":""},{"$f":"IF($K$5=\"\",\"\",IF(AND(COUNTIF($D$23,\"*JOUEUR ABSENT*\"),COUNTIF($J$23,\"*JOUEUR ABSENT*\")),\"\",IF(OR($K$5=\"MIXTESD1NORD\",$K$5=\"MIXTESD1STRASBOURG\",$K$5=\"VETERANSD1STRASBOURG\",$K$5=\"VETERANSD2STRASBOURG\",$K$5=\"VETERANSD1NORD\",$K$5=\"VETERANSD2NORD\",$K$5=\"JUNIORS\",$K$5=\"CADETS\",$K$5=\"MINIMESBENJAMINSPOUSSINS\",$K$5=\"MIXTESD1FINALE\",$K$5=\"VETERANSD1FINALE\",$K$5=\"VETERANSD2FINALE\",$K$5=\"JUNIORSFINALE\",$K$5=\"CADETSFINALE\",$K$5=\"MINIMESBENJAMINSPOUSSINSFINALE\"),\"\",IF(AND($K$5=\"EXCELLENCE\",calcules!$CQ$10<3,calcules!$CR$10<3),\"\",IF(AND($K$5=\"HONNEUR\",calcules!$CQ$10<3,calcules!$CR$10<3),\"\",IF(AND($K$5=\"PROMOTIONNORD\",calcules!$CQ$10<3,calcules!$CR$10<3),\"\",IF(AND($K$5=\"ADULTESDIVISION1NORD\",calcules!$CQ$10<3,calcules!$CR$10<3),\"\",IF(AND($K$5=\"PROMOTIONSTRASBOURG\",calcules!$CQ$10<3,calcules!$CR$10<3),\"\",IF(AND($K$5=\"PROMOTIONFINALE\",calcules!$CQ$10<3,calcules!$CR$10<3),\"\",IF(AND($K$5=\"EXCELLENCE\",calcules!$CS$10=1),\"Do\",IF(AND($K$5=\"HONNEUR\",calcules!$CS$10=1),\"Do\",IF(AND($K$5=\"PROMOTIONNORD\",calcules!$CS$10=1),\"Do\",IF(AND($K$5=\"ADULTESDIVISION1NORD\",calcules!$CS$10=1),\"Do\",IF(AND($K$5=\"PROMOTIONSTRASBOURG\",calcules!$CS$10=1),\"Do\",IF(AND($K$5=\"PROMOTIONFINALE\",calcules!$CS$10=1),\"Do\",\"\")))))))))))))))","v":""},{"$f":"IF($K$5=\"\",\"\",IF(AND(COUNTIF($D$23,\"*JOUEUR ABSENT*\"),COUNTIF($J$23,\"*JOUEUR ABSENT*\")),\"\",IF(OR($K$5=\"MIXTESD1NORD\",$K$5=\"MIXTESD1STRASBOURG\",$K$5=\"VETERANSD1STRASBOURG\",$K$5=\"VETERANSD2STRASBOURG\",$K$5=\"VETERANSD1NORD\",$K$5=\"VETERANSD2NORD\",$K$5=\"JUNIORS\",$K$5=\"CADETS\",$K$5=\"MINIMESBENJAMINSPOUSSINS\",$K$5=\"MIXTESD1FINALE\",$K$5=\"VETERANSD1FINALE\",$K$5=\"VETERANSD2FINALE\",$K$5=\"JUNIORSFINALE\",$K$5=\"CADETSFINALE\",$K$5=\"MINIMESBENJAMINSPOUSSINSFINALE\"),\"\",IF(AND($K$5=\"EXCELLENCE\",calcules!$CQ$10<3,calcules!$CR$10<3),\"\",IF(AND($K$5=\"HONNEUR\",calcules!$CQ$10<3,calcules!$CR$10<3),\"\",IF(AND($K$5=\"PROMOTIONNORD\",calcules!$CQ$10<3,calcules!$CR$10<3),\"\",IF(AND($K$5=\"ADULTESDIVISION1NORD\",calcules!$CQ$10<3,calcules!$CR$10<3),\"\",IF(AND($K$5=\"PROMOTIONSTRASBOURG\",calcules!$CQ$10<3,calcules!$CR$10<3),\"\",IF(AND($K$5=\"PROMOTIONFINALE\",calcules!$CQ$10<3,calcules!$CR$10<3),\"\",IF(AND($K$5=\"EXCELLENCE\",calcules!$CT$10=1),\"Do\",IF(AND($K$5=\"HONNEUR\",calcules!$CT$10=1),\"Do\",IF(AND($K$5=\"PROMOTIONNORD\",calcules!$CT$10=1),\"Do\",IF(AND($K$5=\"ADULTESDIVISION1NORD\",calcules!$CT$10=1),\"Do\",IF(AND($K$5=\"PROMOTIONSTRASBOURG\",calcules!$CT$10=1),\"Do\",IF(AND($K$5=\"PROMOTIONFINALE\",calcules!$CT$10=1),\"Do\",\"\")))))))))))))))","v":""}]
[null,"B","C",{"$f":"IF(OR($K$5=\"EXCELLENCE\",$K$5=\"HONNEUR\",$K$5=\"PROMOTIONNORD\",$K$5=\"ADULTESDIVISION1NORD\",$K$5=\"PROMOTIONSTRASBOURG\",$K$5=\"PROMOTIONFINALE\"),$D$11,\"\")","v":""},null,null,null,"Y","Z",{"$f":"IF(OR($K$5=\"EXCELLENCE\",$K$5=\"HONNEUR\",$K$5=\"PROMOTIONNORD\",$K$5=\"ADULTESDIVISION1NORD\",$K$5=\"PROMOTIONSTRASBOURG\",$K$5=\"PROMOTIONFINALE\"),$O$12,\"\")","v":""},null,null,null,null,null,null,null,null,null,{"$f":"IF($K$5=\"\",\"\",IF(OR($K$5=\"MIXTESD1NORD\",$K$5=\"MIXTESD1STRASBOURG\",$K$5=\"VETERANSD1STRASBOURG\",$K$5=\"VETERANSD2STRASBOURG\",$K$5=\"VETERANSD1NORD\",$K$5=\"VETERANSD2NORD\",$K$5=\"JUNIORS\",$K$5=\"CADETS\",$K$5=\"MINIMESBENJAMINSPOUSSINS\",$K$5=\"MIXTESD1FINALE\",$K$5=\"VETERANSD1FINALE\",$K$5=\"VETERANSD2FINALE\",$K$5=\"JUNIORSFINALE\",$K$5=\"CADETSFINALE\",$K$5=\"MINIMESBENJAMINSPOUSSINSFINALE\"),\"\",IF(AND(COUNTIF($D$24,\"*JOUEUR ABSENT*\"),COUNTIF($J$24,\"*JOUEUR ABSENT*\")),\"NON JOUE\",IF(OR($V$24=\"Y\",$U$24=\"B\"),\"FINI\",\"EN COURS\"))))","v":""},{"$f":"IF($K$5=\"\",\"\",IF(AND(COUNTIF($D$24,\"*JOUEUR ABSENT*\"),COUNTIF($J$24,\"*JOUEUR ABSENT*\")),\"\",IF(OR($K$5=\"MIXTESD1NORD\",$K$5=\"MIXTESD1STRASBOURG\",$K$5=\"VETERANSD1STRASBOURG\",$K$5=\"VETERANSD2STRASBOURG\",$K$5=\"VETERANSD1NORD\",$K$5=\"VETERANSD2NORD\",$K$5=\"JUNIORS\",$K$5=\"CADETS\",$K$5=\"MINIMESBENJAMINSPOUSSINS\",$K$5=\"MIXTESD1FINALE\",$K$5=\"VETERANSD1FINALE\",$K$5=\"VETERANSD2FINALE\",$K$5=\"JUNIORSFINALE\",$K$5=\"CADETSFINALE\",$K$5=\"MINIMESBENJAMINSPOUSSINSFINALE\"),\"\",IF(AND($K$5=\"EXCELLENCE\",calcules!$CQ$11<3,calcules!$CR$11<3),\"\",IF(AND($K$5=\"HONNEUR\",calcules!$CQ$11<3,calcules!$CR$11<3),\"\",IF(AND($K$5=\"PROMOTIONNORD\",calcules!$CQ$11<3,calcules!$CR$11<3),\"\",IF(AND($K$5=\"ADULTESDIVISION1NORD\",calcules!$CQ$11<3,calcules!$CR$11<3),\"\",IF(AND($K$5=\"PROMOTIONSTRASBOURG\",calcules!$CQ$11<3,calcules!$CR$11<3),\"\",IF(AND($K$5=\"PROMOTIONFINALE\",calcules!$CQ$11<3,calcules!$CR$11<3),\"\",IF(AND($K$5=\"EXCELLENCE\",calcules!$CS$11=1),\"B\",IF(AND($K$5=\"HONNEUR\",calcules!$CS$11=1),\"B\",IF(AND($K$5=\"PROMOTIONNORD\",calcules!$CS$11=1),\"B\",IF(AND($K$5=\"ADULTESDIVISION1NORD\",calcules!$CS$11=1),\"B\",IF(AND($K$5=\"PROMOTIONSTRASBOURG\",calcules!$CS$11=1),\"B\",IF(AND($K$5=\"PROMOTIONFINALE\",calcules!$CS$11=1),\"B\",\"\")))))))))))))))","v":""},{"$f":"IF($K$5=\"\",\"\",IF(AND(COUNTIF($D$24,\"*JOUEUR ABSENT*\"),COUNTIF($J$24,\"*JOUEUR ABSENT*\")),\"\",IF(OR($K$5=\"MIXTESD1NORD\",$K$5=\"MIXTESD1STRASBOURG\",$K$5=\"VETERANSD1STRASBOURG\",$K$5=\"VETERANSD2STRASBOURG\",$K$5=\"VETERANSD1NORD\",$K$5=\"VETERANSD2NORD\",$K$5=\"JUNIORS\",$K$5=\"CADETS\",$K$5=\"MINIMESBENJAMINSPOUSSINS\",$K$5=\"MIXTESD1FINALE\",$K$5=\"VETERANSD1FINALE\",$K$5=\"VETERANSD2FINALE\",$K$5=\"JUNIORSFINALE\",$K$5=\"CADETSFINALE\",$K$5=\"MINIMESBENJAMINSPOUSSINSFINALE\"),\"\",IF(AND($K$5=\"EXCELLENCE\",calcules!$CQ$11<3,calcules!$CR$11<3),\"\",IF(AND($K$5=\"HONNEUR\",calcules!$CQ$11<3,calcules!$CR$11<3),\"\",IF(AND($K$5=\"PROMOTIONNORD\",calcules!$CQ$11<3,calcules!$CR$11<3),\"\",IF(AND($K$5=\"ADULTESDIVISION1NORD\",calcules!$CQ$11<3,calcules!$CR$11<3),\"\",IF(AND($K$5=\"PROMOTIONSTRASBOURG\",calcules!$CQ$11<3,calcules!$CR$11<3),\"\",IF(AND($K$5=\"PROMOTIONFINALE\",calcules!$CQ$11<3,calcules!$CR$11<3),\"\",IF(AND($K$5=\"EXCELLENCE\",calcules!$CT$11=1),\"Y\",IF(AND($K$5=\"HONNEUR\",calcules!$CT$11=1),\"Y\",IF(AND($K$5=\"PROMOTIONNORD\",calcules!$CT$11=1),\"Y\",IF(AND($K$5=\"ADULTESDIVISION1NORD\",calcules!$CT$11=1),\"Y\",IF(AND($K$5=\"PROMOTIONSTRASBOURG\",calcules!$CT$11=1),\"Y\",IF(AND($K$5=\"PROMOTIONFINALE\",calcules!$CT$11=1),\"Y\",\"\")))))))))))))))","v":""}]
[null,"C","Do1",{"$f":"IF(OR($K$5=\"EXCELLENCE\",$K$5=\"HONNEUR\",$K$5=\"PROMOTIONNORD\",$K$5=\"ADULTESDIVISION1NORD\",$K$5=\"PROMOTIONSTRASBOURG\",$K$5=\"PROMOTIONFINALE\"),$D$12,\"\")","v":""},null,null,null,"W","Do1",{"$f":"IF(OR($K$5=\"EXCELLENCE\",$K$5=\"HONNEUR\",$K$5=\"PROMOTIONNORD\",$K$5=\"ADULTESDIVISION1NORD\",$K$5=\"PROMOTIONSTRASBOURG\",$K$5=\"PROMOTIONFINALE\"),$O$10,\"\")","v":""},null,null,null,null,null,null,null,null,null,{"$f":"IF($K$5=\"\",\"\",IF(OR($K$5=\"MIXTESD1NORD\",$K$5=\"MIXTESD1STRASBOURG\",$K$5=\"VETERANSD1STRASBOURG\",$K$5=\"VETERANSD2STRASBOURG\",$K$5=\"VETERANSD1NORD\",$K$5=\"VETERANSD2NORD\",$K$5=\"JUNIORS\",$K$5=\"CADETS\",$K$5=\"MINIMESBENJAMINSPOUSSINS\",$K$5=\"MIXTESD1FINALE\",$K$5=\"VETERANSD1FINALE\",$K$5=\"VETERANSD2FINALE\",$K$5=\"JUNIORSFINALE\",$K$5=\"CADETSFINALE\",$K$5=\"MINIMESBENJAMINSPOUSSINSFINALE\"),\"\",IF(AND(COUNTIF($D$25,\"*JOUEUR ABSENT*\"),COUNTIF($J$25,\"*JOUEUR ABSENT*\")),\"NON JOUE\",IF(OR($U$25=\"C\",$V$25=\"W\"),\"FINI\",\"EN COURS\"))))","v":""},{"$f":"IF($K$5=\"\",\"\",IF(AND(COUNTIF($D$25,\"*JOUEUR ABSENT*\"),COUNTIF($J$25,\"*JOUEUR ABSENT*\")),\"\",IF(OR($K$5=\"MIXTESD1NORD\",$K$5=\"MIXTESD1STRASBOURG\",$K$5=\"VETERANSD1STRASBOURG\",$K$5=\"VETERANSD2STRASBOURG\",$K$5=\"VETERANSD1NORD\",$K$5=\"VETERANSD2NORD\",$K$5=\"JUNIORS\",$K$5=\"CADETS\",$K$5=\"MINIMESBENJAMINSPOUSSINS\",$K$5=\"MIXTESD1FINALE\",$K$5=\"VETERANSD1FINALE\",$K$5=\"VETERANSD2FINALE\",$K$5=\"JUNIORSFINALE\",$K$5=\"CADETSFINALE\",$K$5=\"MINIMESBENJAMINSPOUSSINSFINALE\"),\"\",IF(AND($K$5=\"EXCELLENCE\",calcules!$CQ$12<3,calcules!$CR$12<3),\"\",IF(AND($K$5=\"HONNEUR\",calcules!$CQ$12<3,calcules!$CR$12<3),\"\",IF(AND($K$5=\"PROMOTIONNORD\",calcules!$CQ$12<3,calcules!$CR$12<3),\"\",IF(AND($K$5=\"ADULTESDIVISION1NORD\",calcules!$CQ$12<3,calcules!$CR$12<3),\"\",IF(AND($K$5=\"PROMOTIONSTRASBOURG\",calcules!$CQ$12<3,calcules!$CR$12<3),\"\",IF(AND($K$5=\"PROMOTIONFINALE\",calcules!$CQ$12<3,calcules!$CR$12<3),\"\",IF(AND($K$5=\"EXCELLENCE\",calcules!$CS$12=1),\"C\",IF(AND($K$5=\"HONNEUR\",calcules!$CS$12=1),\"C\",IF(AND($K$5=\"PROMOTIONNORD\",calcules!$CS$12=1),\"C\",IF(AND($K$5=\"ADULTESDIVISION1NORD\",calcules!$CS$12=1),\"C\",IF(AND($K$5=\"PROMOTIONSTRASBOURG\",calcules!$CS$12=1),\"C\",IF(AND($K$5=\"PROMOTIONFINALE\",calcules!$CS$12=1),\"C\",\"\")))))))))))))))","v":""},{"$f":"IF($K$5=\"\",\"\",IF(AND(COUNTIF($D$25,\"*JOUEUR ABSENT*\"),COUNTIF($J$25,\"*JOUEUR ABSENT*\")),\"\",IF(OR($K$5=\"MIXTESD1NORD\",$K$5=\"MIXTESD1STRASBOURG\",$K$5=\"VETERANSD1STRASBOURG\",$K$5=\"VETERANSD2STRASBOURG\",$K$5=\"VETERANSD1NORD\",$K$5=\"VETERANSD2NORD\",$K$5=\"JUNIORS\",$K$5=\"CADETS\",$K$5=\"MINIMESBENJAMINSPOUSSINS\",$K$5=\"MIXTESD1FINALE\",$K$5=\"VETERANSD1FINALE\",$K$5=\"VETERANSD2FINALE\",$K$5=\"JUNIORSFINALE\",$K$5=\"CADETSFINALE\",$K$5=\"MINIMESBENJAMINSPOUSSINSFINALE\"),\"\",IF(AND($K$5=\"EXCELLENCE\",calcules!$CQ$12<3,calcules!$CR$12<3),\"\",IF(AND($K$5=\"HONNEUR\",calcules!$CQ$12<3,calcules!$CR$12<3),\"\",IF(AND($K$5=\"PROMOTIONNORD\",calcules!$CQ$12<3,calcules!$CR$12<3),\"\",IF(AND($K$5=\"ADULTESDIVISION1NORD\",calcules!$CQ$12<3,calcules!$CR$12<3),\"\",IF(AND($K$5=\"PROMOTIONSTRASBOURG\",calcules!$CQ$12<3,calcules!$CR$12<3),\"\",IF(AND($K$5=\"PROMOTIONFINALE\",calcules!$CQ$12<3,calcules!$CR$12<3),\"\",IF(AND($K$5=\"EXCELLENCE\",calcules!$CT$12=1),\"W\",IF(AND($K$5=\"HONNEUR\",calcules!$CT$12=1),\"W\",IF(AND($K$5=\"PROMOTIONNORD\",calcules!$CT$12=1),\"W\",IF(AND($K$5=\"ADULTESDIVISION1NORD\",calcules!$CT$12=1),\"W\",IF(AND($K$5=\"PROMOTIONSTRASBOURG\",calcules!$CT$12=1),\"W\",IF(AND($K$5=\"PROMOTIONFINALE\",calcules!$CT$12=1),\"W\",\"\")))))))))))))))","v":""}]
[null,"A","Do2",{"$f":"IF(OR($K$5=\"EXCELLENCE\",$K$5=\"HONNEUR\",$K$5=\"PROMOTIONNORD\",$K$5=\"ADULTESDIVISION1NORD\",$K$5=\"PROMOTIONSTRASBOURG\",$K$5=\"PROMOTIONFINALE\"),$D$10,\"\")","v":""},null,null,null,"X","Do2",{"$f":"IF(OR($K$5=\"EXCELLENCE\",$K$5=\"HONNEUR\",$K$5=\"PROMOTIONNORD\",$K$5=\"ADULTESDIVISION1NORD\",$K$5=\"PROMOTIONSTRASBOURG\",$K$5=\"PROMOTIONFINALE\"),$O$11,\"\")","v":""},null,null,null,null,null,null,null,null,null,{"$f":"IF($K$5=\"\",\"\",IF(OR($K$5=\"MIXTESD1NORD\",$K$5=\"MIXTESD1STRASBOURG\",$K$5=\"VETERANSD1STRASBOURG\",$K$5=\"VETERANSD2STRASBOURG\",$K$5=\"VETERANSD1NORD\",$K$5=\"VETERANSD2NORD\",$K$5=\"JUNIORS\",$K$5=\"CADETS\",$K$5=\"MINIMESBENJAMINSPOUSSINS\",$K$5=\"MIXTESD1FINALE\",$K$5=\"VETERANSD1FINALE\",$K$5=\"VETERANSD2FINALE\",$K$5=\"JUNIORSFINALE\",$K$5=\"CADETSFINALE\",$K$5=\"MINIMESBENJAMINSPOUSSINSFINALE\"),\"\",IF(AND(COUNTIF($D$26,\"*JOUEUR ABSENT*\"),COUNTIF($J$26,\"*JOUEUR ABSENT*\")),\"NON JOUE\",IF(OR($U$26=\"A\",$V$26=\"X\"),\"FINI\",\"EN COURS\"))))","v":""},{"$f":"IF($K$5=\"\",\"\",IF(AND(COUNTIF($D$26,\"*JOUEUR ABSENT*\"),COUNTIF($J$26,\"*JOUEUR ABSENT*\")),\"\",IF(OR($K$5=\"MIXTESD1NORD\",$K$5=\"MIXTESD1STRASBOURG\",$K$5=\"VETERANSD1STRASBOURG\",$K$5=\"VETERANSD2STRASBOURG\",$K$5=\"VETERANSD1NORD\",$K$5=\"VETERANSD2NORD\",$K$5=\"JUNIORS\",$K$5=\"CADETS\",$K$5=\"MINIMESBENJAMINSPOUSSINS\",$K$5=\"MIXTESD1FINALE\",$K$5=\"VETERANSD1FINALE\",$K$5=\"VETERANSD2FINALE\",$K$5=\"JUNIORSFINALE\",$K$5=\"CADETSFINALE\",$K$5=\"MINIMESBENJAMINSPOUSSINSFINALE\"),\"\",IF(AND($K$5=\"EXCELLENCE\",calcules!$CQ$13<3,calcules!$CR$13<3),\"\",IF(AND($K$5=\"HONNEUR\",calcules!$CQ$13<3,calcules!$CR$13<3),\"\",IF(AND($K$5=\"PROMOTIONNORD\",calcules!$CQ$13<3,calcules!$CR$13<3),\"\",IF(AND($K$5=\"ADULTESDIVISION1NORD\",calcules!$CQ$13<3,calcules!$CR$13<3),\"\",IF(AND($K$5=\"PROMOTIONSTRASBOURG\",calcules!$CQ$13<3,calcules!$CR$13<3),\"\",IF(AND($K$5=\"PROMOTIONFINALE\",calcules!$CQ$13<3,calcules!$CR$13<3),\"\",IF(AND($K$5=\"EXCELLENCE\",calcules!$CS$13=1),\"A\",IF(AND($K$5=\"HONNEUR\",calcules!$CS$13=1),\"A\",IF(AND($K$5=\"PROMOTIONNORD\",calcules!$CS$13=1),\"A\",IF(AND($K$5=\"ADULTESDIVISION1NORD\",calcules!$CS$13=1),\"A\",IF(AND($K$5=\"PROMOTIONSTRASBOURG\",calcules!$CS$13=1),\"A\",IF(AND($K$5=\"PROMOTIONFINALE\",calcules!$CS$13=1),\"A\",\"\")))))))))))))))","v":""},{"$f":"IF($K$5=\"\",\"\",IF(AND(COUNTIF($D$26,\"*JOUEUR ABSENT*\"),COUNTIF($J$26,\"*JOUEUR ABSENT*\")),\"\",IF(OR($K$5=\"MIXTESD1NORD\",$K$5=\"MIXTESD1STRASBOURG\",$K$5=\"VETERANSD1STRASBOURG\",$K$5=\"VETERANSD2STRASBOURG\",$K$5=\"VETERANSD1NORD\",$K$5=\"VETERANSD2NORD\",$K$5=\"JUNIORS\",$K$5=\"CADETS\",$K$5=\"MINIMESBENJAMINSPOUSSINS\",$K$5=\"MIXTESD1FINALE\",$K$5=\"VETERANSD1FINALE\",$K$5=\"VETERANSD2FINALE\",$K$5=\"JUNIORSFINALE\",$K$5=\"CADETSFINALE\",$K$5=\"MINIMESBENJAMINSPOUSSINSFINALE\"),\"\",IF(AND($K$5=\"EXCELLENCE\",calcules!$CQ$13<3,calcules!$CR$13<3),\"\",IF(AND($K$5=\"HONNEUR\",calcules!$CQ$13<3,calcules!$CR$13<3),\"\",IF(AND($K$5=\"PROMOTIONNORD\",calcules!$CQ$13<3,calcules!$CR$13<3),\"\",IF(AND($K$5=\"ADULTESDIVISION1NORD\",calcules!$CQ$13<3,calcules!$CR$13<3),\"\",IF(AND($K$5=\"PROMOTIONSTRASBOURG\",calcules!$CQ$13<3,calcules!$CR$13<3),\"\",IF(AND($K$5=\"PROMOTIONFINALE\",calcules!$CQ$13<3,calcules!$CR$13<3),\"\",IF(AND($K$5=\"EXCELLENCE\",calcules!$CT$13=1),\"X\",IF(AND($K$5=\"HONNEUR\",calcules!$CT$13=1),\"X\",IF(AND($K$5=\"PROMOTIONNORD\",calcules!$CT$13=1),\"X\",IF(AND($K$5=\"ADULTESDIVISION1NORD\",calcules!$CT$13=1),\"X\",IF(AND($K$5=\"PROMOTIONSTRASBOURG\",calcules!$CT$13=1),\"X\",IF(AND($K$5=\"PROMOTIONFINALE\",calcules!$CT$13=1),\"X\",\"\")))))))))))))))","v":""}]
[null,null,"D",null,null,null,null,null,"W"]
[null,null,"C",null,null,null,null,null,"X"]
[null,null,"A",null,null,null,null,null,"Z"]
[null,null,"B",null,null,null,null,null,"Y"]
[null,null,"C",null,null,null,null,null,"W"]
[null,null,"D",null,null,null,null,null,"X"]
[null,null,"A",null,null,null,null,null,"Y"]
[null,null,"B",null,null,null,null,null,"Z"]
["RESULTAT RENCONTRE",null,null,null,{"$f":"$A$8","v":0},null,null,null,null,null,"contre",{"$f":"$N$8","v":0},null,null,null,null,"Score de la rencontre",null,null,null,{"$f":"IF($T$17=\"EN COURS\",\"EN COURS\",IF($T$18=\"EN COURS\",\"EN COURS\",IF($T$19=\"EN COURS\",\"EN COURS\",IF($T$20=\"EN COURS\",\"EN COURS\",IF($T$21=\"EN COURS\",\"EN COURS\",IF($T$21=\"EN COURS\",\"EN COURS\",IF($T$22=\"EN COURS\",\"EN COURS\",IF($T$23=\"EN COURS\",\"EN COURS\",IF($T$24=\"EN COURS\",\"EN COURS\",IF($T$25=\"EN COURS\",\"EN COURS\",IF($T$26=\"EN COURS\",\"EN COURS\",calcules!$CS$22)))))))))))","v":0},{"$f":"IF($T$17=\"EN COURS\",\"EN COURS\",IF($T$18=\"EN COURS\",\"EN COURS\",IF($T$19=\"EN COURS\",\"EN COURS\",IF($T$20=\"EN COURS\",\"EN COURS\",IF($T$21=\"EN COURS\",\"EN COURS\",IF($T$21=\"EN COURS\",\"EN COURS\",IF($T$22=\"EN COURS\",\"EN COURS\",IF($T$23=\"EN COURS\",\"EN COURS\",IF($T$24=\"EN COURS\",\"EN COURS\",IF($T$25=\"EN COURS\",\"EN COURS\",IF($T$26=\"EN COURS\",\"EN COURS\",calcules!$CT$22)))))))))))","v":0}]
[]
[null,null,null,null,"Equipe recevante",null,null,null,null,null,null,"Equipe visiteuse",null,null,null,null,null,{"$f":"IF(AND(C5=\"\",F5=\"\",K5=\"\",S5=\"\",Q5=\"\",A8=\"\",N8=\"\"),\"\",IF(J10=\"\",\"\",IF(C5=(IFERROR(VLOOKUP($J$10,'Listing joueurs'!$A$1:$M$400, 13, FALSE),\"\")),\"LICENCE A VALIDE\",\"LICENCE A INVALIDE !\")))","v":""},{"$f":"IF(AND(C5=\"\",F5=\"\",K5=\"\",S5=\"\",Q5=\"\",A8=\"\",N8=\"\"),\"\",IF(J11=\"\",\"\",IF(C5=(IFERROR(VLOOKUP($J$11,'Listing joueurs'!$A$1:$M$400, 13, FALSE),\"\")),\"LICENCE B VALIDE\",\"LICENCE B INVALIDE !\")))","v":""},{"$f":"IF(AND(C5=\"\",F5=\"\",K5=\"\",S5=\"\",Q5=\"\",A8=\"\",N8=\"\"),\"\",IF(J12=\"\",\"\",IF(C5=(IFERROR(VLOOKUP($J$12,'Listing joueurs'!$A$1:$M$400, 13, FALSE),\"\")),\"LICENCE C VALIDE\",\"LICENCE C INVALIDE !\")))","v":""},{"$f":"IF(AND(C5=\"\",F5=\"\",K5=\"\",S5=\"\",Q5=\"\",A8=\"\",N8=\"\"),\"\",IF(J13=\"\",\"\",IF(C5=(IFERROR(VLOOKUP($J$13,'Listing joueurs'!$A$1:$M$400, 13, FALSE),\"\")),\"LICENCE D VALIDE\",\"LICENCE D INVALIDE !\")))","v":""}]
[null,null,null,null,null,null,null,null,null,null,null,null,null,null,null,null,null,{"$f":"IF(AND(C5=\"\",F5=\"\",K5=\"\",S5=\"\",Q5=\"\",A8=\"\",N8=\"\"),\"\",IF(U10=\"\",\"\",IF(C5=(IFERROR(VLOOKUP($U$10,'Listing joueurs'!$A$1:$M$400, 13, FALSE),\"\")),\"LICENCE W VALIDE\",\"LICENCE W INVALIDE !\")))","v":""},{"$f":"IF(AND(C5=\"\",F5=\"\",K5=\"\",S5=\"\",Q5=\"\",A8=\"\",N8=\"\"),\"\",IF(U11=\"\",\"\",IF(C5=(IFERROR(VLOOKUP($U$11,'Listing joueurs'!$A$1:$M$400, 13, FALSE),\"\")),\"LICENCE X VALIDE\",\"LICENCE X INVALIDE !\")))","v":""},{"$f":"IF(AND(C5=\"\",F5=\"\",K5=\"\",S5=\"\",Q5=\"\",A8=\"\",N8=\"\"),\"\",IF(U12=\"\",\"\",IF(C5=(IFERROR(VLOOKUP($U$12,'Listing joueurs'!$A$1:$M$400, 13, FALSE),\"\")),\"LICENCE Y VALIDE\",\"LICENCE Y INVALIDE !\")))","v":""},{"$f":"IF(AND(C5=\"\",F5=\"\",K5=\"\",S5=\"\",Q5=\"\",A8=\"\",N8=\"\"),\"\",IF(U13=\"\",\"\",IF(C5=(IFERROR(VLOOKUP($U$13,'Listing joueurs'!$A$1:$M$400, 13, FALSE),\"\")),\"LICENCE Z VALIDE\",\"LICENCE Z INVALIDE !\")))","v":""}]
["Noms des capitaines",null,null,null,null,null,null,null,null,null,null,null,null,null,null,null,null,"Arbitre de la rencontre"]
["Signatures"]
[null,null,null,null,null,null,null,null,null,null,null,null,null,null,null,null,null,{"$f":"IF(AND(C5=\"\",F5=\"\",K5=\"\",S5=\"\",Q5=\"\",A8=\"\",N8=\"\"),\"\",IF(SUMPRODUCT(--(Listedesmatchs!W2:W1100<>\"\"))=0,\"ERREUR REMPLISSAGE JOURNEE, EQUIPES, SECTEUR OU DIVISION !\",\"\"))","v":""}]
["V 13/10/2024",null,null,null,null,null,null,null,null,"Courriel équipe visiteuse  ",null,null,null,null,null,null,null,{"$f":"IF(AND(SUMPRODUCT(--(ReserveReclamation!C10:D41<>\"\"))=0,SUMPRODUCT(--(ReserveReclamation!G10:H41<>\"\"))=0,SUMPRODUCT(--(ReserveReclamation!C53:D84<>\"\"))=0,SUMPRODUCT(--(ReserveReclamation!G53:H84<>\"\"))=0),\"Pas de réserve ou réclamation\",\"Réserve ou réclamation !\")","v":"Pas de réserve ou réclamation"},null,null,{"$f":"IF(AND(C5=\"\",F5=\"\",K5=\"\",S5=\"\",Q5=\"\",A8=\"\",N8=\"\",U35=0,V35=0),\"\",IF(OR(C5=\"\",F5=\"\",K5=\"\",S5=\"\",Q5=\"\",A8=\"\",N8=\"\",U35=\"EN COURS\",V35=\"EN COURS\"),\"FDM INCOMPLETE !\",\"\"))","v":""},{"$f":"IF(AND($K$5=\"EXCELLENCE\",LEN(D23)=3),\"manque le double\",IF(AND($K$5=\"EXCELLENCE\",LEN(J23)=3),\"manque le double\",IF(AND(K$5=\"HONNEUR\",LEN(D23)=3),\"manque le double\",IF(AND(K$5=\"HONNEUR\",LEN(J23)=3),\"manque le double\",IF(AND(K$5=\"PROMOTIONNORD\",LEN(D23)=3),\"manque le double\",IF(AND(K$5=\"PROMOTIONNORD\",LEN(J23)=3),\"manque le double\",IF(AND(K$5=\"ADULTESDIVISION1NORD\",LEN(D23)=3),\"manque le double\",IF(AND(K$5=\"ADULTESDIVISION1NORD\",LEN(J23)=3),\"manque le double\",IF(AND(K$5=\"PROMOTIONSTRASBOURG\",LEN(D23)=3),\"manque le double\",IF(AND(K$5=\"PROMOTIONSTRASBOURG\",LEN(J23)=3),\"manque le double\",IF(AND(K$5=\"MIXTESD1NORD\",LEN(D19)=3),\"manque le double\",IF(AND(K$5=\"MIXTESD1NORD\",LEN(J19)=3),\"manque le double\",IF(AND(K$5=\"MIXTESD1STRASBOURG\",LEN(D19)=3),\"manque le double\",IF(AND(K$5=\"MIXTESD1STRASBOURG\",LEN(J19)=3),\"manque le double\",IF(AND(K$5=\"VETERANSD1STRASBOURG\",LEN(D19)=3),\"manque le double\",IF(AND(K$5=\"VETERANSD1STRASBOURG\",LEN(J19)=3),\"manque le double\",IF(AND(K$5=\"VETERANSD2STRASBOURG\",LEN(D19)=3),\"manque le double\",IF(AND(K$5=\"VETERANSD2STRASBOURG\",LEN(J19)=3),\"manque le double\",IF(AND(K$5=\"VETERANSD1NORD\",LEN(D19)=3),\"manque le double\",IF(AND(K$5=\"VETERANSD1NORD\",LEN(J19)=3),\"manque le double\",IF(AND(K$5=\"VETERANSD2NORD\",LEN(D19)=3),\"manque le double\",IF(AND(K$5=\"VETERANSD2NORD\",LEN(J19)=3),\"manque le double\",IF(AND(K$5=\"JUNIORS\",LEN(D19)=3),\"manque le double\",IF(AND(K$5=\"JUNIORS\",LEN(J19)=3),\"manque le double\",IF(AND(K$5=\"CADETS\",LEN(D19)=3),\"manque le double\",IF(AND(K$5=\"CADETS\",LEN(J19)=3),\"manque le double\",IF(AND(K$5=\"MINIMESBENJAMINSPOUSSINS\",LEN(D19)=3),\"manque le double\",IF(AND(K$5=\"MINIMESBENJAMINSPOUSSINS\",LEN(J19)=3),\"manque le double\",IF(AND(K$5=\"PROMOTIONFINALE\",LEN(D23)=3),\"manque le double\",IF(AND(K$5=\"PROMOTIONFINALE\",LEN(J23)=3),\"manque le double\",IF(AND(K$5=\"VETERANSD1FINALE\",LEN(D19)=3),\"manque le double\",IF(AND(K$5=\"VETERANSD1FINALE\",LEN(J19)=3),\"manque le double\",IF(AND(K$5=\"VETERANSD2FINALE\",LEN(D19)=3),\"manque le double\",IF(AND(K$5=\"VETERANSD2FINALE\",LEN(J19)=3),\"manque le double\",IF(AND(K$5=\"JUNIORSFINALE\",LEN(D19)=3),\"manque le double\",IF(AND(K$5=\"JUNIORSFINALE\",LEN(J19)=3),\"manque le double\",IF(AND(K$5=\"CADETSFINALE\",LEN(D19)=3),\"manque le double\",IF(AND(K$5=\"CADETSFINALE\",LEN(J19)=3),\"manque le double\",IF(AND(K$5=\"MINIMESBENJAMINSPOUSSINSFINALE\",LEN(D19)=3),\"manque le double\",IF(AND(K$5=\"MINIMESBENJAMINSPOUSSINSFINALE\",LEN(J19)=3),\"manque le double\",IF(AND(K$5=\"MIXTESD1FINALE\",LEN(D19)=3),\"manque le double\",IF(AND(K$5=\"MIXTESD1FINALE\",LEN(J19)=3),\"manque le double\",\"\"))))))))))))))))))))))))))))))))))))))))))","v":""}]
["La  feuille de rencontre/fichier xlsm est à envoyer au responsable technique concerné dans les 24h. Les réserves (avant la rencontre) et les réclamations (après la rencontre) sont à remplir dans ce fichier."]

{"sheet":"Listing joueurs","index":1,"n_rows":400,"n_cols":13,"rows_kept":400,"cut":false,"hidden":false,"merged":[]}
["Numéro","Nom du club","Nom","Prénom","Cls","Date de naissance","Sexe","Date validation","Saison","Position joueur équipe recevante","Position joueur équipe visiteuse","categorie","année licence valide"]
["OOOOO","FSGT67TT","JOUEUR","ABSENT",95,"2023-01-01","I","2024-09-01","24/25",null,null,{"$f":"IF($F$1:$F$403=\"\",\"\",IF($F$1:$F$403>=DATE(2015,7,1),\"Poussines et Poussins\",IF(AND($F$1:$F$403>=DATE(2013,7,1),$F$1:$F$403<=DATE(2015,6,30)),\"Benjamines et Benjamins\",IF(AND($F$1:$F$403>=DATE(2011,7,1),$F$1:$F$403<=DATE(2013,6,30)),\"Minimes filles et garcons\",IF(AND($F$1:$F$403>=DATE(2009,7,1),$F$1:$F$403<=DATE(2011,6,30)),\"Cadettes et Cadets\",IF(AND($F$1:$F$403>=DATE(2007,7,1),$F$1:$F$403<=DATE(2009,6,30)),\"Juniors filles et garcons\",IF(AND($F$1:$F$403>=DATE(1984,7,1),$F$1:$F$403<=DATE(2007,6,30)),\"Seniors\",IF(AND($F$1:$F$403>=DATE(1974,7,1),$F$1:$F$403<=DATE(1984,6,30)),\"Vétérans 1 Dames et Messieurs\",IF(AND($F$1:$F$403>=DATE(1964,7,1),$F$1:$F$403<=DATE(1974,6,30)),\"Vétérans 2 Dames et Messieurs\",IF(AND($F$1:$F$403>=DATE(1954,7,1),$F$1:$F$403<=DATE(1964,6,30)),\"Vétérans 3 Dames et Messieurs\",IF($F$1:$F$403<=DATE(1954,6,30),\"Vétérans 4 Dames et Messieurs\",\"\")))))))))))","v":"Poussines et Poussins"},{"$f":"IF(I2=\"23/24\",\"2023-2024\",IF(I2=\"24/25\",\"2024-2025\",IF(I2=\"25/26\",\"2025-2026\",IF(I2=\"26/27\",\"2026-2027\",IF(I2=\"27/28\",\"2027-2028\",IF(I2=\"28/29\",\"2028-2029\",IF(I2=\"29/30\",\"2029-2030\",\"\")))))))","v":"2024-2025"}]
[487468,"AMITIE Lingolsheim","ADRIAN","THEO",95,"2015-05-07","H","2024-10-10","24/25",null,null,"Benjamines et Benjamins",{"$f":"IF(I3=\"23/24\",\"2023-2024\",IF(I3=\"24/25\",\"2024-2025\",IF(I3=\"25/26\",\"2025-2026\",IF(I3=\"26/27\",\"2026-2027\",IF(I3=\"27/28\",\"2027-2028\",IF(I3=\"28/29\",\"2028-2029\",IF(I3=\"29/30\",\"2029-2030\",\"\")))))))","v":"2024-2025"}]
[361001,"AMITIE Lingolsheim","AUDINET","LUCIEN",90,"2013-05-02","H","2024-10-10","24/25",null,null,"Minimes filles et garcons","2024-2025"]
[30565,"AMITIE Lingolsheim","BACHMANN","ALAIN",65,"1960-05-08","H","2024-10-10","24/25",null,null,"Vétérans 3 Dames et Messieurs","2024-2025"]
[372280,"AMITIE Lingolsheim","BARRE","THIEBAULT",95,"2013-10-05","H","2024-10-10","24/25",null,null,"Benjamines et Benjamins","2024-2025"]
[31108,"AMITIE Lingolsheim","BECHT","PATRICK",55,"1978-04-26","H","2024-10-10","24/25",null,null,"Vétérans 1 Dames et Messieurs","2024-2025"]
[487471,"AMITIE Lingolsheim","BEGEY","ARTHUR",95,"2011-02-15","H","2024-10-10","24/25",null,null,"Cadettes et Cadets","2024-2025"]
[101212,"AMITIE Lingolsheim","BENSAIDANE","ABDELKERIM",75,"1965-04-03","H","2024-10-10","24/25",null,null,"Vétérans 2 Dames et Messieurs","2024-2025"]
[30734,"AMITIE Lingolsheim","BILLEREY","CHRISTOPHE",75,"1979-11-16","H","2024-10-10","24/25",null,null,"Vétérans 1 Dames et Messieurs","2024-2025"]
[422786,"AMITIE Lingolsheim","BILLEREY","VINCENT",80,"1991-12-01","H","2024-10-10","24/25",null,null,"Seniors","2024-2025"]
[487473,"AMITIE Lingolsheim","BLOND","NATHAN",95,"2012-04-11","H","2024-10-10","24/25",null,null,"Minimes filles et garcons","2024-2025"]
[30636,"AMITIE Lingolsheim","BOUBAZINE","RAMZI",85,"1969-08-19","H","2024-10-10","24/25",null,null,"Vétérans 2 Dames et Messieurs","2024-2025"]
[427056,"AMITIE Lingolsheim","BOURGEOIS","LOUIS",95,"2012-09-28","H","2024-10-10","24/25",null,null,"Minimes filles et garcons","2024-2025"]
[495745,"AMITIE Lingolsheim","BRATUN","CAESAR",95,"2015-09-11","H","2024-10-10","24/25",null,null,"Poussines et Poussins","2024-2025"]
[363618,"AMITIE Lingolsheim","BUCH","FRANCK-OLIVIER",95,"1972-04-10","H","2024-10-10","24/25",null,null,"Vétérans 2 Dames et Messieurs","2024-2025"]
[230923,"AMITIE Lingolsheim","BUCH","NATHAN",90,"2008-04-21","H","2024-10-10","24/25",null,null,"Juniors filles et garcons","2024-2025"]
[487475,"AMITIE Lingolsheim","CAILLAT","MATHIAS",95,"2013-03-01","H","2024-10-10","24/25",null,null,"Minimes filles et garcons","2024-2025"]
[92307,"AMITIE Lingolsheim","DARRIBAU","FRANCK",85,"1966-02-02","H","2024-10-10","24/25",null,null,"Vétérans 2 Dames et Messieurs","2024-2025"]
[316784,"AMITIE Lingolsheim","EBERHART","FREDERIC",85,"1972-12-08","H","2024-10-10","24/25",null,null,"Vétérans 2 Dames et Messieurs","2024-2025"]
[30699,"AMITIE Lingolsheim","EDMOND","ALAIN",95,"1958-06-30","H","2024-10-10","24/25",null,null,"Vétérans 3 Dames et Messieurs","2024-2025"]
[81208,"AMITIE Lingolsheim","EDY","CHRISTINE",80,"1962-12-27","F","2024-10-10","24/25",null,null,"Vétérans 3 Dames et Messieurs","2024-2025"]
[431638,"AMITIE Lingolsheim","ESPOSITO","JEAN",75,"1989-09-18","H","2024-10-10","24/25",null,null,"Seniors","2024-2025"]
[487476,"AMITIE Lingolsheim","GEORGE","GERALD",95,"1977-04-22","H","2024-10-10","24/25",null,null,"Vétérans 1 Dames et Messieurs","2024-2025"]
[427069,"AMITIE Lingolsheim","GIRAUDON","BAPTISTE",95,"2015-03-06","H","2024-10-10","24/25",null,null,"Benjamines et Benjamins","2024-2025"]
[427071,"AMITIE Lingolsheim","GIRAUDON","CAMILLE",95,"2012-05-08","F","2024-10-10","24/25",null,null,"Minimes filles et garcons","2024-2025"]
[495749,"AMITIE Lingolsheim","GOEURY","MORGAN",95,"2010-07-11","H","2024-10-10","24/25",null,null,"Cadettes et Cadets","2024-2025"]
[30593,"AMITIE Lingolsheim","GUERIN","THIERRY",85,"1965-04-09","H","2024-10-10","24/25",null,null,"Vétérans 2 Dames et Messieurs","2024-2025"]
[85112,"AMITIE Lingolsheim","HAMM","ELIANE",95,"1953-08-14","F","2024-10-10","24/25",null,null,"Vétérans 4 Dames et Messieurs","2024-2025"]
[30566,"AMITIE Lingolsheim","HAMM","JOSE",85,"1950-05-26","H","2024-10-10","24/25",null,null,"Vétérans 4 Dames et Messieurs","2024-2025"]
[85113,"AMITIE Lingolsheim","HAMM","NADIA",65,"1977-03-04","F","2024-10-10","24/25",null,null,"Vétérans 1 Dames et Messieurs","2024-2025"]
[431635,"AMITIE Lingolsheim","JACQUEL","ANNELYSE",95,"1983-07-21","F","2024-10-10","24/25",null,null,"Vétérans 1 Dames et Messieurs","2024-2025"]
[352720,"AMITIE Lingolsheim","JUNG","STEPHANIE",95,"1979-01-25","F","2024-10-10","24/25",null,null,"Vétérans 1 Dames et Messieurs","2024-2025"]
[30790,"AMITIE Lingolsheim","KIEFFER","BRUNO",55,"1964-07-10","H","2024-10-10","24/25",null,null,"Vétérans 2 Dames et Messieurs","2024-2025"]
[443886,"AMITIE Lingolsheim","KUNTZ BORDY","MARIUS",95,"2016-08-19","H","2024-10-10","24/25",null,null,"Poussines et Poussins","2024-2025"]
[372276,"AMITIE Lingolsheim","LACOUR","BENOIT",90,"1980-02-27","H","2024-10-10","24/25",null,null,"Vétérans 1 Dames et Messieurs","2024-2025"]
[372278,"AMITIE Lingolsheim","LACOUR","MATHIAS",95,"2015-01-02","H","2024-10-10","24/25",null,null,"Benjamines et Benjamins","2024-2025"]
[495751,"AMITIE Lingolsheim","LENTSCHAT","BENJAMIN",95,"2011-08-04","H","2024-10-10","24/25",null,null,"Minimes filles et garcons","2024-2025"]
[30568,"AMITIE Lingolsheim","MAECHLING","PASCAL",70,"1963-03-01","H","2024-10-10","24/25",null,null,"Vétérans 3 Dames et Messieurs","2024-2025"]
[389157,"AMITIE Lingolsheim","MANTE","MAHE",95,"2014-07-28","H","2024-10-10","24/25",null,null,"Benjamines et Benjamins","2024-2025"]
[443882,"AMITIE Lingolsheim","MARCOVANU","GABRIEL",95,"2000-10-09","H","2024-10-10","24/25",null,null,"Seniors","2024-2025"]
[495753,"AMITIE Lingolsheim","MAURICE","STEPHANE",95,"1970-09-21","H","2024-10-10","24/25",null,null,"Vétérans 2 Dames et Messieurs","2024-2025"]
[30705,"AMITIE Lingolsheim","MERCIEN-FEROL","DIDIER",70,"1975-02-04","H","2024-10-10","24/25",null,null,"Vétérans 1 Dames et Messieurs","2024-2025"]
[30559,"AMITIE Lingolsheim","METZINGER","BERNARD",95,"1952-04-04","H","2024-10-10","24/25",null,null,"Vétérans 4 Dames et Messieurs","2024-2025"]
[30577,"AMITIE Lingolsheim","MORITZ","CHRISTINE",90,"1963-07-31","F","2024-10-10","24/25",null,null,"Vétérans 3 Dames et Messieurs","2024-2025"]
[30707,"AMITIE Lingolsheim","NUSS","OLIVIER",85,"1971-12-02","H","2024-10-10","24/25",null,null,"Vétérans 2 Dames et Messieurs","2024-2025"]
[495754,"AMITIE Lingolsheim","ORY","STEPHANE",95,"1971-05-16","H","2024-10-10","24/25",null,null,"Vétérans 2 Dames et Messieurs","2024-2025"]
[30569,"AMITIE Lingolsheim","PERESSON","VICTOR",80,"1945-08-30","H","2024-10-10","24/25",null,null,"Vétérans 4 Dames et Messieurs","2024-2025"]
[30578,"AMITIE Lingolsheim","PHILIPPI","ALAIN",90,"1951-07-23","H","2024-10-10","24/25",null,null,"Vétérans 4 Dames et Messieurs","2024-2025"]
[30570,"AMITIE Lingolsheim","RAMBAUT","MARTINE",90,"1966-02-25","F","2024-10-10","24/25",null,null,"Vétérans 2 Dames et Messieurs","2024-2025"]
[30571,"AMITIE Lingolsheim","RAMBAUT","THIERRY",70,"1965-05-15","H","2024-10-10","24/25",null,null,"Vétérans 2 Dames et Messieurs","2024-2025"]
[30711,"AMITIE Lingolsheim","RICHARD","SAMUEL",55,"1981-06-16","H","2024-10-10","24/25",null,null,"Vétérans 1 Dames et Messieurs","2024-2025"]
[366409,"AMITIE Lingolsheim","RIEBER","STEPHANIE",95,"1973-01-19","F","2024-10-10","24/25",null,null,"Vétérans 2 Dames et Messieurs","2024-2025"]
[30609,"AMITIE Lingolsheim","RITTER","ERIC",60,"1965-05-10","H","2024-10-10","24/25",null,null,"Vétérans 2 Dames et Messieurs","2024-2025"]
[30574,"AMITIE Lingolsheim","RUL","PATRICK",85,"1951-07-13","H","2024-10-10","24/25",null,null,"Vétérans 4 Dames et Messieurs","2024-2025"]
[30575,"AMITIE Lingolsheim","SCHMIDT","JEAN-LUC",80,"1960-08-12","H","2024-10-10","24/25",null,null,"Vétérans 3 Dames et Messieurs","2024-2025"]
[427074,"AMITIE Lingolsheim","SCHMITLIN","TOM",95,"2011-12-16","H","2024-10-10","24/25",null,null,"Minimes filles et garcons","2024-2025"]
[31076,"AMITIE Lingolsheim","SCHMITT","VINCENT",40,"1978-01-29","H","2024-10-10","24/25",null,null,"Vétérans 1 Dames et Messieurs","2024-2025"]
[495762,"AMITIE Lingolsheim","SIAALITI","ANISSA",95,"2017-04-02","F","2024-10-10","24/25",null,null,"Poussines et Poussins","2024-2025"]
[495767,"AMITIE Lingolsheim","SIAALITI","YANIS",95,"2014-06-06","H","2024-10-10","24/25",null,null,"Benjamines et Benjamins","2024-2025"]
[422790,"AMITIE Lingolsheim","SITZ","ANNE-SOPHIE",95,"1991-07-09","F","2024-10-10","24/25",null,null,"Seniors","2024-2025"]
[405673,"AMITIE Lingolsheim","TABATABAI","ARMAND",95,"1955-09-30","H","2024-10-10","24/25",null,null,"Vétérans 3 Dames et Messieurs","2024-2025"]
[30576,"AMITIE Lingolsheim","TARDIVON","ALAIN",80,"1958-03-18","H","2024-10-10","24/25",null,null,"Vétérans 3 Dames et Messieurs","2024-2025"]
[443884,"AMITIE Lingolsheim","THOMAS","NATHAN",95,"2015-12-23","H","2024-10-10","24/25",null,null,"Poussines et Poussins","2024-2025"]
[31698,"AMITIE Lingolsheim","TUBIANA","ERICK",85,"1956-10-26","H","2024-10-10","24/25",null,null,"Vétérans 3 Dames et Messieurs","2024-2025"]
[372279,"AMITIE Lingolsheim","ULRICH","CHLOE",95,"2010-07-01","F","2024-10-10","24/25",null,null,{"$f":"IF($F$1:$F$403=\"\",\"\",IF($F$1:$F$403>=DATE(2015,7,1),\"Poussines et Poussins\",IF(AND($F$1:$F$403>=DATE(2013,7,1),$F$1:$F$403<=DATE(2015,6,30)),\"Benjamines et Benjamins\",IF(AND($F$1:$F$403>=DATE(2011,7,1),$F$1:$F$403<=DATE(2013,6,30)),\"Minimes filles et garcons\",IF(AND($F$1:$F$403>=DATE(2009,7,1),$F$1:$F$403<=DATE(2011,6,30)),\"Cadettes et Cadets\",IF(AND($F$1:$F$403>=DATE(2007,7,1),$F$1:$F$403<=DATE(2009,6,30)),\"Juniors filles et garcons\",IF(AND($F$1:$F$403>=DATE(1984,7,1),$F$1:$F$403<=DATE(2007,6,30)),\"Seniors\",IF(AND($F$1:$F$403>=DATE(1974,7,1),$F$1:$F$403<=DATE(1984,6,30)),\"Vétérans 1 Dames et Messieurs\",IF(AND($F$1:$F$403>=DATE(1964,7,1),$F$1:$F$403<=DATE(1974,6,30)),\"Vétérans 2 Dames et Messieurs\",IF(AND($F$1:$F$403>=DATE(1954,7,1),$F$1:$F$403<=DATE(1964,6,30)),\"Vétérans 3 Dames et Messieurs\",IF($F$1:$F$403<=DATE(1954,6,30),\"Vétérans 4 Dames et Messieurs\",\"\")))))))))))","v":"Cadettes et Cadets"},"2024-2025"]
[385693,"AMITIE Lingolsheim","ULRICH","SEBASTIEN",70,"1975-01-27","H","2024-10-10","24/25",null,null,"Vétérans 1 Dames et Messieurs",{"$f":"IF(I67=\"23/24\",\"2023-2024\",IF(I67=\"24/25\",\"2024-2025\",IF(I67=\"25/26\",\"2025-2026\",IF(I67=\"26/27\",\"2026-2027\",IF(I67=\"27/28\",\"2027-2028\",IF(I67=\"28/29\",\"2028-2029\",IF(I67=\"29/30\",\"2029-2030\",\"\")))))))","v":"2024-2025"}]
[90356,"AMITIE Lingolsheim","VAUVILLIER","PASCAL",95,"1961-03-14","H","2024-10-10","24/25",null,null,"Vétérans 3 Dames et Messieurs","2024-2025"]
[30610,"AMITIE Lingolsheim","WANDRES","MICHAEL",55,"1972-08-03","H","2024-10-10","24/25",null,null,"Vétérans 2 Dames et Messieurs","2024-2025"]
[30697,"AMITIE Lingolsheim","WANDRES","VERONIQUE",95,"1973-07-04","F","2024-10-10","24/25",null,null,"Vétérans 2 Dames et Messieurs","2024-2025"]
[30611,"AMITIE Lingolsheim","WANDRES","XAVIER",80,"2004-12-10","H","2024-10-10","24/25",null,null,"Seniors","2024-2025"]
[85023,"AMITIE Lingolsheim","WEISS","RENE",95,"1954-11-30","H","2024-10-10","24/25",null,null,"Vétérans 3 Dames et Messieurs","2024-2025"]
[99796,"AMITIE Lingolsheim","WEISS","THEO",95,"2010-08-28","H","2024-10-10","24/25",null,null,"Cadettes et Cadets","2024-2025"]
[422785,"AMITIE Lingolsheim","YAAKOUBI","YOUNESS",75,"1977-04-03","H","2024-10-10","24/25",null,null,"Vétérans 1 Dames et Messieurs","2024-2025"]
[495770,"AMITIE Lingolsheim","ZETER","JULES",95,"2012-12-05","H","2024-10-10","24/25",null,null,"Minimes filles et garcons","2024-2025"]
[489644,"AS Electricite de Strasbourg","ABBES","INÈS",95,"1999-04-20","F","2024-10-10","24/25",null,null,"Seniors","2024-2025"]
[405027,"AS Electricite de Strasbourg","ANTONI","SEGOLENE",90,"1977-06-07","F","2024-10-10","24/25",null,null,"Vétérans 1 Dames et Messieurs","2024-2025"]
[489651,"AS Electricite de Strasbourg","DEFOND","ROBIN",95,"1998-07-29","H","2024-10-10","24/25",null,null,"Seniors","2024-2025"]
[85128,"AS Electricite de Strasbourg","FEHRNBACH","PIERRE",75,"1989-09-22","H","2024-10-10","24/25",null,null,"Seniors","2024-2025"]
[85130,"AS Electricite de Strasbourg","HALFTERMEYER","PASCAL",70,"1964-10-15","H","2024-10-10","24/25",null,null,"Vétérans 2 Dames et Messieurs","2024-2025"]
[85125,"AS Electricite de Strasbourg","LOEFFLER","VINCENT",85,"1970-02-24","H","2024-10-10","24/25",null,null,"Vétérans 2 Dames et Messieurs","2024-2025"]
[394591,"AS Electricite de Strasbourg","PFISTER","OSCAR",85,"2009-05-01","H","2024-10-10","24/25",null,null,"Juniors filles et garcons","2024-2025"]
[85131,"AS Electricite de Strasbourg","REUTHER","REMY",95,"1961-11-06","H","2024-10-10","24/25",null,null,"Vétérans 3 Dames et Messieurs","2024-2025"]
[85129,"AS Electricite de Strasbourg","RIEGEL","MICHEL",80,"1957-02-08","H","2024-10-10","24/25",null,null,"Vétérans 3 Dames et Messieurs","2024-2025"]
[224895,"AS Electricite de Strasbourg","ROTH","STEPHANE",65,"1972-10-02","H","2024-10-10","24/25",null,null,"Vétérans 2 Dames et Messieurs","2024-2025"]
[225170,"AS Electricite de Strasbourg","SAHM","DIETRICH",85,"1954-07-14","H","2024-10-10","24/25",null,null,"Vétérans 3 Dames et Messieurs","2024-2025"]
[425229,"AS Electricite de Strasbourg","SIGWALD","JULES",90,"1997-12-17","H","2024-10-10","24/25",null,null,"Seniors","2024-2025"]
[425233,"AS Electricite de Strasbourg","TOUAHIR","MOUSSA",65,"1987-05-28","H","2024-10-10","24/25",null,null,"Seniors","2024-2025"]
[323956,"AS Electricite de Strasbourg","YAZBECK","SAADALLAH",85,"1997-11-08","H","2024-10-10","24/25",null,null,"Seniors","2024-2025"]
[30403,"ASP Gottenhouse","BECKERICH","PASCAL",60,"1968-12-11","H","2024-10-10","24/25",null,null,"Vétérans 2 Dames et Messieurs","2024-2025"]
[496513,"ASP Gottenhouse","CENKI","FRANÇOIS",90,"1947-03-14","H","2024-10-10","24/25",null,null,"Vétérans 4 Dames et Messieurs","2024-2025"]
[491882,"ASP Gottenhouse","HARTER","JEAN-NOËL",55,"1961-12-16","H","2024-10-10","24/25",null,null,"Vétérans 3 Dames et Messieurs","2024-2025"]
[426274,"ASP Gottenhouse","HEITZ","FRANCIS",65,"1956-05-19","H","2024-10-10","24/25",null,null,"Vétérans 3 Dames et Messieurs","2024-2025"]
[426254,"ASP Gottenhouse","PFISTER","LUC",75,"1958-02-25","H","2024-10-10","24/25",null,null,"Vétérans 3 Dames et Messieurs","2024-2025"]
[30397,"ASP Gottenhouse","SIMON","JEAN-LUC",80,"1957-02-27","H","2024-10-10","24/25",null,null,"Vétérans 3 Dames et Messieurs","2024-2025"]
[426267,"ASP Gottenhouse","STREBLER","CHRISTIAN",80,"1956-11-09","H","2024-10-10","24/25",null,null,"Vétérans 3 Dames et Messieurs","2024-2025"]
[274558,"CLTT Menchhoffen","ACKERMANN","JULES",90,"2008-10-12","H","2024-10-10","24/25",null,null,"Juniors filles et garcons","2024-2025"]
[490383,"CLTT Menchhoffen","BAUER","JOËL",95,"1967-07-08","H","2024-10-10","24/25",null,null,"Vétérans 2 Dames et Messieurs","2024-2025"]
[267057,"CLTT Menchhoffen","BOEHM","MICKAEL",75,"1992-07-17","H","2024-10-10","24/25",null,null,"Seniors","2024-2025"]
[32355,"CLTT Menchhoffen","CHRISTMANN","NATHAN",55,"2001-01-10","H","2024-10-10","24/25",null,null,"Seniors","2024-2025"]
[32346,"CLTT Menchhoffen","DENNI","FLORIAN",95,"2002-12-16","H","2024-10-10","24/25",null,null,"Seniors","2024-2025"]
[32354,"CLTT Menchhoffen","DUPUY","NORBERT",85,"1975-05-17","H","2024-10-10","24/25",null,null,"Vétérans 1 Dames et Messieurs","2024-2025"]
[469918,"CLTT Menchhoffen","GOMMENGINGER","JACQUI",95,"1958-10-31","H","2024-10-10","24/25",null,null,"Vétérans 3 Dames et Messieurs","2024-2025"]
[32337,"CLTT Menchhoffen","GSTALTER","ROBERT",80,"1964-01-24","H","2024-10-10","24/25",null,null,"Vétérans 3 Dames et Messieurs","2024-2025"]
[274557,"CLTT Menchhoffen","HOERTH","CLARA",95,"2008-01-11","F","2024-10-10","24/25",null,null,"Juniors filles et garcons","2024-2025"]
[32331,"CLTT Menchhoffen","JACKY","DANIEL",70,"1962-04-28","H","2024-10-10","24/25",null,null,"Vétérans 3 Dames et Messieurs","2024-2025"]
[32357,"CLTT Menchhoffen","KREMER","NICOLAS",60,"2003-08-17","H","2024-10-10","24/25",null,null,"Seniors","2024-2025"]
[62143,"CLTT Menchhoffen","LEONHART","NOAH",95,"2009-09-26","H","2024-10-10","24/25",null,null,"Cadettes et Cadets","2024-2025"]
[32360,"CLTT Menchhoffen","MUCKENSTURM","JEAN PAUL",95,"1957-01-03","H","2024-10-10","24/25",null,null,"Vétérans 3 Dames et Messieurs","2024-2025"]
[32351,"CLTT Menchhoffen","MULLER","JEAN-CLAUDE",95,"1970-04-25","H","2024-10-10","24/25",null,null,"Vétérans 2 Dames et Messieurs","2024-2025"]
[32342,"CLTT Menchhoffen","OSTER","ALAIN",60,"1971-05-19","H","2024-10-10","24/25",null,null,"Vétérans 2 Dames et Messieurs","2024-2025"]
[32343,"CLTT Menchhoffen","OSTER","MARCO",85,"2002-04-27","H","2024-10-10","24/25",null,null,"Seniors","2024-2025"]
[32350,"CLTT Menchhoffen","OSTER","TONY",90,"2005-05-17","H","2024-10-10","24/25",null,null,"Seniors","2024-2025"]
[94332,"CLTT Menchhoffen","PALMAY","MATHYS",95,"2005-07-16","H","2024-10-10","24/25",null,null,"Seniors","2024-2025"]
[32266,"CLTT Menchhoffen","PEREIRA","MAURICETTE",95,"1972-05-14","F","2024-10-10","24/25",null,null,"Vétérans 2 Dames et Messieurs","2024-2025"]
[32340,"CLTT Menchhoffen","SAEMANN","LUC",90,"1968-09-21","H","2024-10-10","24/25",null,null,"Vétérans 2 Dames et Messieurs","2024-2025"]
[31446,"CLTT Menchhoffen","SCHNEIDER","MARCEL",90,"1952-04-02","H","2024-10-10","24/25",null,null,"Vétérans 4 Dames et Messieurs","2024-2025"]
[31126,"CP Zutzendorf","BECK","CEDRIC",40,"1985-11-19","H","2024-10-10","24/25",null,null,"Seniors","2024-2025"]
[31373,"CP Zutzendorf","BOESINGER","CHRIS",40,"1995-06-12","H","2024-10-10","24/25",null,null,"Seniors","2024-2025"]
[31382,"CP Zutzendorf","BOESINGER","JESSIE",70,"1999-12-22","F","2024-10-10","24/25",null,null,"Seniors","2024-2025"]
[31383,"CP Zutzendorf","BOESINGER","MARION",45,"2002-01-17","F","2024-10-10","24/25",null,null,"Seniors","2024-2025"]
[31386,"CP Zutzendorf","BURGY","JONATHAN",80,"1997-07-09","H","2024-10-10","24/25",null,null,"Seniors","2024-2025"]
[31384,"CP Zutzendorf","DERSE","KELLY",70,"2000-11-05","F","2024-10-10","24/25",null,null,"Seniors","2024-2025"]
[31405,"CP Zutzendorf","DORN","ELENA",60,"2008-01-30","F","2024-10-10","24/25",null,null,"Juniors filles et garcons","2024-2025"]
[31375,"CP Zutzendorf","DORN","ERIC",60,"1978-05-26","H","2024-10-10","24/25",null,null,"Vétérans 1 Dames et Messieurs","2024-2025"]
[31395,"CP Zutzendorf","DORN","MELISSA",50,"2005-08-20","F","2024-10-10","24/25",null,null,"Seniors","2024-2025"]
[31391,"CP Zutzendorf","FOELS","CHRISTOPHE",35,"1972-03-25","H","2024-10-10","24/25",null,null,"Vétérans 2 Dames et Messieurs","2024-2025"]
[31406,"CP Zutzendorf","GONZALEZ","YAEL",70,"2004-05-13","H","2024-10-10","24/25",null,null,"Seniors","2024-2025"]
[335028,"CP Zutzendorf","LABLANCHE","OCEANE",95,"2009-07-10","F","2024-10-10","24/25",null,null,"Cadettes et Cadets","2024-2025"]
[31380,"CP Zutzendorf","LANGOWSKI","ROMAIN",85,"1979-12-23","H","2024-10-10","24/25",null,null,{"$f":"IF($F$1:$F$403=\"\",\"\",IF($F$1:$F$403>=DATE(2015,7,1),\"Poussines et Poussins\",IF(AND($F$1:$F$403>=DATE(2013,7,1),$F$1:$F$403<=DATE(2015,6,30)),\"Benjamines et Benjamins\",IF(AND($F$1:$F$403>=DATE(2011,7,1),$F$1:$F$403<=DATE(2013,6,30)),\"Minimes filles et garcons\",IF(AND($F$1:$F$403>=DATE(2009,7,1),$F$1:$F$403<=DATE(2011,6,30)),\"Cadettes et Cadets\",IF(AND($F$1:$F$403>=DATE(2007,7,1),$F$1:$F$403<=DATE(2009,6,30)),\"Juniors filles et garcons\",IF(AND($F$1:$F$403>=DATE(1984,7,1),$F$1:$F$403<=DATE(2007,6,30)),\"Seniors\",IF(AND($F$1:$F$403>=DATE(1974,7,1),$F$1:$F$403<=DATE(1984,6,30)),\"Vétérans 1 Dames et Messieurs\",IF(AND($F$1:$F$403>=DATE(1964,7,1),$F$1:$F$403<=DATE(1974,6,30)),\"Vétérans 2 Dames et Messieurs\",IF(AND($F$1:$F$403>=DATE(1954,7,1),$F$1:$F$403<=DATE(1964,6,30)),\"Vétérans 3 Dames et Messieurs\",IF($F$1:$F$403<=DATE(1954,6,30),\"Vétérans 4 Dames et Messieurs\",\"\")))))))))))","v":"Vétérans 1 Dames et Messieurs"},"2024-2025"]
[31400,"CP Zutzendorf","MONNIER","AGNES",90,"1974-07-29","F","2024-10-10","24/25",null,null,"Vétérans 1 Dames et Messieurs",{"$f":"IF(I131=\"23/24\",\"2023-2024\",IF(I131=\"24/25\",\"2024-2025\",IF(I131=\"25/26\",\"2025-2026\",IF(I131=\"26/27\",\"2026-2027\",IF(I131=\"27/28\",\"2027-2028\",IF(I131=\"28/29\",\"2028-2029\",IF(I131=\"29/30\",\"2029-2030\",\"\")))))))","v":"2024-2025"}]
[31399,"CP Zutzendorf","MONNIER","BRUNO",85,"2005-10-31","H","2024-10-10","24/25",null,null,"Seniors","2024-2025"]
[31376,"CP Zutzendorf","MONNIER","JEAN-PAUL",65,"1968-10-13","H","2024-10-10","24/25",null,null,"Vétérans 2 Dames et Messieurs","2024-2025"]
[31385,"CP Zutzendorf","MONNIER","LUDOVIC",40,"2001-04-18","H","2024-10-10","24/25",null,null,"Seniors","2024-2025"]
[249352,"CP Zutzendorf","REINHARDT","STEPHANE",70,"1992-04-11","H","2024-10-10","24/25",null,null,"Seniors","2024-2025"]
[31378,"CP Zutzendorf","ZIEGLER","JEAN-MARIE",70,"1964-08-25","H","2024-10-10","24/25",null,null,"Vétérans 2 Dames et Messieurs","2024-2025"]
[31422,"CS Tricolore Saverne","ANDRES","GUY",95,"1958-12-13","H","2024-10-10","24/25",null,null,"Vétérans 3 Dames et Messieurs","2024-2025"]
[395559,"CS Tricolore Saverne","BERNHARDT","LISON",95,"2011-10-21","F","2024-10-10","24/25",null,null,"Minimes filles et garcons","2024-2025"]
[497398,"CS Tricolore Saverne","BESPARMAK","SALIH",95,"2015-05-08","H","2024-10-10","24/25",null,null,"Benjamines et Benjamins","2024-2025"]
[366735,"CS Tricolore Saverne","BOITEUX","LAURENCE",95,"1965-01-24","F","2024-10-10","24/25",null,null,"Vétérans 2 Dames et Messieurs","2024-2025"]
[87595,"CS Tricolore Saverne","FANATAN","NICOLAE",50,"1968-10-27","H","2024-10-10","24/25",null,null,"Vétérans 2 Dames et Messieurs","2024-2025"]
[497412,"CS Tricolore Saverne","FRETY","HUGO",95,"2011-05-27","H","2024-10-10","24/25",null,null,"Cadettes et Cadets","2024-2025"]
[433514,"CS Tricolore Saverne","GROSS","REMY",80,"1958-08-29","H","2024-10-10","24/25",null,null,"Vétérans 3 Dames et Messieurs","2024-2025"]
[388157,"CS Tricolore Saverne","JACQUILLARD","LENY",95,"2011-02-14","H","2024-10-10","24/25",null,null,"Cadettes et Cadets","2024-2025"]
[438064,"CS Tricolore Saverne","KIEFFER","JULYAN",95,"2014-02-20","H","2024-10-10","24/25",null,null,"Benjamines et Benjamins","2024-2025"]
[341423,"CS Tricolore Saverne","KRESS","THOMAS",95,"1964-03-18","H","2024-10-10","24/25",null,null,"Vétérans 3 Dames et Messieurs","2024-2025"]
[85933,"CS Tricolore Saverne","KRESS","VINCENT",95,"2001-10-03","H","2024-10-10","24/25",null,null,"Seniors","2024-2025"]
[359954,"CS Tricolore Saverne","MATHIS","JEAN-MICHEL",95,"1960-12-22","H","2024-10-10","24/25",null,null,"Vétérans 3 Dames et Messieurs","2024-2025"]
[31044,"CS Tricolore Saverne","MULLER","ANDRE",60,"1963-07-06","H","2024-10-10","24/25",null,null,"Vétérans 3 Dames et Messieurs","2024-2025"]
[63886,"CS Tricolore Saverne","REHM","CYRIL",85,"1966-09-14","H","2024-10-10","24/25",null,null,"Vétérans 2 Dames et Messieurs","2024-2025"]
[497394,"CS Tricolore Saverne","ROATTA","OLIVIER",50,"1997-08-20","H","2024-10-10","24/25",null,null,"Seniors","2024-2025"]
[288738,"CS Tricolore Saverne","SCHMITT","MARC",95,"1965-10-23","H","2024-10-10","24/25",null,null,"Vétérans 2 Dames et Messieurs","2024-2025"]
[383063,"CS Tricolore Saverne","WEBER","ANTOINE",95,"2008-07-01","H","2024-10-10","24/25",null,null,"Juniors filles et garcons","2024-2025"]
[416005,"CS Tricolore Saverne","WEBER","ERIC",95,"1973-05-29","H","2024-10-10","24/25",null,null,"Vétérans 2 Dames et Messieurs","2024-2025"]
[31052,"CS Tricolore Saverne","WILD","CHRISTOPHE",85,"1996-09-13","H","2024-10-10","24/25",null,null,"Seniors","2024-2025"]
[31042,"CS Tricolore Saverne","WILT","ERIC",80,"1964-06-29","H","2024-10-10","24/25",null,null,"Vétérans 3 Dames et Messieurs","2024-2025"]
[484533,"CS Tricolore Saverne","WILT","JOSEPH",95,"2010-11-17","H","2024-10-10","24/25",null,null,"Cadettes et Cadets","2024-2025"]
[484537,"CS Tricolore Saverne","WILT","ROSE-HANNAH",95,"2009-08-03","F","2024-10-10","24/25",null,null,"Cadettes et Cadets","2024-2025"]
[30806,"CTT 77 Val de Moder","ARBOGAST","CLAUDE",80,"1972-05-24","H","2024-10-10","24/25",null,null,"Vétérans 2 Dames et Messieurs","2024-2025"]
[30812,"CTT 77 Val de Moder","BADER","DOMINIQUE",60,"1973-12-24","H","2024-10-10","24/25",null,null,"Vétérans 2 Dames et Messieurs","2024-2025"]
[225739,"CTT 77 Val de Moder","BRILLAUX","OLIVIER",95,"1961-05-09","H","2024-10-10","24/25",null,null,"Vétérans 3 Dames et Messieurs","2024-2025"]
[85407,"CTT 77 Val de Moder","ERNENWEIN","PIERRE",80,"1975-01-22","H","2024-10-10","24/25",null,null,"Vétérans 1 Dames et Messieurs","2024-2025"]
[428527,"CTT 77 Val de Moder","GARDENQ","JULIEN",95,"1985-09-19","H","2024-10-10","24/25",null,null,"Seniors","2024-2025"]
[369314,"CTT 77 Val de Moder","GIRARD","JULES",95,"2010-10-03","H","2024-10-10","24/25",null,null,"Cadettes et Cadets","2024-2025"]
[85784,"CTT 77 Val de Moder","MOREAU","ERIC",60,"1968-07-31","H","2024-10-10","24/25",null,null,"Vétérans 2 Dames et Messieurs","2024-2025"]
[30811,"CTT 77 Val de Moder","NEYNER","SEBASTIEN",75,"1976-02-29","H","2024-10-10","24/25",null,null,"Vétérans 1 Dames et Messieurs","2024-2025"]
[30797,"CTT 77 Val de Moder","ROESS","OLIVIER",60,"1971-08-26","H","2024-10-10","24/25",null,null,"Vétérans 2 Dames et Messieurs","2024-2025"]
[30804,"CTT 77 Val de Moder","SAVE","ALEXANDRE",60,"1997-10-10","H","2024-10-10","24/25",null,null,"Seniors","2024-2025"]
[30805,"CTT 77 Val de Moder","SAVE","GUILLAUME",55,"1999-04-13","H","2024-10-10","24/25",null,null,"Seniors","2024-2025"]
[431364,"CTT 77 Val de Moder","TRANCHAND","CHRISTOPHE",90,"1971-11-02","H","2024-10-10","24/25",null,null,"Vétérans 2 Dames et Messieurs","2024-2025"]
[30808,"CTT 77 Val de Moder","WATHLE","MATTHIAS",70,"1999-05-08","H","2024-10-10","24/25",null,null,"Seniors","2024-2025"]
[369313,"CTT 77 Val de Moder","YASAR","GARIP",95,"1985-08-24","H","2024-10-10","24/25",null,null,"Seniors","2024-2025"]
[428341,"HANAU Tennis de table","BARBARAS","MAELIG",95,"2013-07-26","H","2024-10-10","24/25",null,null,"Benjamines et Benjamins","2024-2025"]
[368536,"HANAU Tennis de table","BENJAMOILE","JEAN-PIERRE",55,"1984-07-27","H","2024-10-10","24/25",null,null,"Seniors","2024-2025"]
[89949,"HANAU Tennis de table","BURCKEL","YANN",90,"2006-02-28","H","2024-10-10","24/25",null,null,"Seniors","2024-2025"]
[237955,"HANAU Tennis de table","DILLINGER","CYRIELLE",90,"2009-01-29","F","2024-10-10","24/25",null,null,"Juniors filles et garcons","2024-2025"]
[32269,"HANAU Tennis de table","GERBER","FABIEN",60,"1971-06-30","H","2024-10-10","24/25",null,null,"Vétérans 2 Dames et Messieurs","2024-2025"]
[32261,"HANAU Tennis de table","GING","THIBAUT",60,"1991-05-23","H","2024-10-10","24/25",null,null,"Seniors","2024-2025"]
[437578,"HANAU Tennis de table","GOLTZENE","CLAUDE",95,"1961-04-01","H","2024-10-10","24/25",null,null,"Vétérans 3 Dames et Messieurs","2024-2025"]
[230949,"HANAU Tennis de table","GROHMANN","NICOLAS",55,"1995-10-16","H","2024-10-10","24/25",null,null,"Seniors","2024-2025"]
[32264,"HANAU Tennis de table","GUGUMUS","JOEL",70,"1969-08-01","H","2024-10-10","24/25",null,null,"Vétérans 2 Dames et Messieurs","2024-2025"]
[64984,"HANAU Tennis de table","HUSSON","LUCIE",75,"2007-03-24","F","2024-10-10","24/25",null,null,"Seniors","2024-2025"]
[368537,"HANAU Tennis de table","JAMBERT","CEDRIC",50,"1994-07-23","H","2024-10-10","24/25",null,null,"Seniors","2024-2025"]
[428344,"HANAU Tennis de table","KLEINKLAUS","ROBIN",90,"2013-10-14","H","2024-10-10","24/25",null,null,"Benjamines et Benjamins","2024-2025"]
[32262,"HANAU Tennis de table","KLOPFENSTEIN","MARC",85,"1985-06-28","H","2024-10-10","24/25",null,null,"Seniors","2024-2025"]
[86118,"HANAU Tennis de table","LANG","ERIC",45,"1970-12-23","H","2024-10-10","24/25",null,null,"Vétérans 2 Dames et Messieurs","2024-2025"]
[476717,"HANAU Tennis de table","MORITZ","CORINNE",95,"1965-04-09","F","2024-10-10","24/25",null,null,"Vétérans 2 Dames et Messieurs","2024-2025"]
[428296,"HANAU Tennis de table","PHAM","HOANG NHAN PHILIPPE",60,"1972-02-27","H","2024-10-10","24/25",null,null,"Vétérans 2 Dames et Messieurs","2024-2025"]
[428337,"HANAU Tennis de table","PHAM","NHÂT LÂM LOUIS",90,"2012-05-21","H","2024-10-10","24/25",null,null,"Minimes filles et garcons","2024-2025"]
[93571,"HANAU Tennis de table","PHILIPPS","ROMAIN",90,"2006-07-17","H","2024-10-10","24/25",null,null,"Seniors","2024-2025"]
[487564,"HANAU Tennis de table","ROESCH","SACHA",95,"2012-09-09","H","2024-10-10","24/25",null,null,"Minimes filles et garcons","2024-2025"]
[428304,"HANAU Tennis de table","ROESCH","SÉBASTIEN",80,"1978-07-03","H","2024-10-10","24/25",null,null,"Vétérans 1 Dames et Messieurs","2024-2025"]
[93570,"HANAU Tennis de table","WEBER","NOE",90,"2006-01-25","H","2024-10-10","24/25",null,null,"Seniors","2024-2025"]
[250436,"LIBERTE Dettwiller","BRUCKNER","MELANIE",75,"1983-06-07","F","2024-10-10","24/25",null,null,{"$f":"IF($F$1:$F$403=\"\",\"\",IF($F$1:$F$403>=DATE(2015,7,1),\"Poussines et Poussins\",IF(AND($F$1:$F$403>=DATE(2013,7,1),$F$1:$F$403<=DATE(2015,6,30)),\"Benjamines et Benjamins\",IF(AND($F$1:$F$403>=DATE(2011,7,1),$F$1:$F$403<=DATE(2013,6,30)),\"Minimes filles et garcons\",IF(AND($F$1:$F$403>=DATE(2009,7,1),$F$1:$F$403<=DATE(2011,6,30)),\"Cadettes et Cadets\",IF(AND($F$1:$F$403>=DATE(2007,7,1),$F$1:$F$403<=DATE(2009,6,30)),\"Juniors filles et garcons\",IF(AND($F$1:$F$403>=DATE(1984,7,1),$F$1:$F$403<=DATE(2007,6,30)),\"Seniors\",IF(AND($F$1:$F$403>=DATE(1974,7,1),$F$1:$F$403<=DATE(1984,6,30)),\"Vétérans 1 Dames et Messieurs\",IF(AND($F$1:$F$403>=DATE(1964,7,1),$F$1:$F$403<=DATE(1974,6,30)),\"Vétérans 2 Dames et Messieurs\",IF(AND($F$1:$F$403>=DATE(1954,7,1),$F$1:$F$403<=DATE(1964,6,30)),\"Vétérans 3 Dames et Messieurs\",IF($F$1:$F$403<=DATE(1954,6,30),\"Vétérans 4 Dames et Messieurs\",\"\")))))))))))","v":"Vétérans 1 Dames et Messieurs"},"2024-2025"]
[30923,"LIBERTE Dettwiller","FEGER","CHRISTOPHE",75,"1962-11-13","H","2024-10-10","24/25",null,null,"Vétérans 3 Dames et Messieurs",{"$f":"IF(I195=\"23/24\",\"2023-2024\",IF(I195=\"24/25\",\"2024-2025\",IF(I195=\"25/26\",\"2025-2026\",IF(I195=\"26/27\",\"2026-2027\",IF(I195=\"27/28\",\"2027-2028\",IF(I195=\"28/29\",\"2028-2029\",IF(I195=\"29/30\",\"2029-2030\",\"\")))))))","v":"2024-2025"}]
[30886,"LIBERTE Dettwiller","FEGER","LAETITIA",80,"1981-10-15","F","2024-10-10","24/25",null,null,"Vétérans 1 Dames et Messieurs","2024-2025"]
[380855,"LIBERTE Dettwiller","HUBER","EDEN",95,"2015-01-02","H","2024-10-10","24/25",null,null,"Benjamines et Benjamins","2024-2025"]
[230867,"LIBERTE Dettwiller","JUSZCZAK","REGIS",90,"1982-02-25","H","2024-10-10","24/25",null,null,"Vétérans 1 Dames et Messieurs","2024-2025"]
[399686,"LIBERTE Dettwiller","KERN","TOMI",95,"2014-08-05","H","2024-10-10","24/25",null,null,"Benjamines et Benjamins","2024-2025"]
[30893,"LIBERTE Dettwiller","LORENTZ","JEAN-MICHEL",85,"1959-10-21","H","2024-10-10","24/25",null,null,"Vétérans 3 Dames et Messieurs","2024-2025"]
[230866,"LIBERTE Dettwiller","MONAQUE","RICHARD",80,"1973-01-06","H","2024-10-10","24/25",null,null,"Vétérans 2 Dames et Messieurs","2024-2025"]
[380853,"LIBERTE Dettwiller","REICHHART","GAUTHIER",95,"2007-07-25","H","2024-10-10","24/25",null,null,"Juniors filles et garcons","2024-2025"]
[30941,"LIBERTE Dettwiller","RICHERT","THOMAS",60,"1985-09-19","H","2024-10-10","24/25",null,null,"Seniors","2024-2025"]
[30994,"LIBERTE Dettwiller","SCHAEFFER","DANIEL",95,"1962-05-24","H","2024-10-10","24/25",null,null,"Vétérans 3 Dames et Messieurs","2024-2025"]
[30957,"LIBERTE Dettwiller","SCHOTT","KILYAN",95,"2009-11-24","H","2024-10-10","24/25",null,null,"Cadettes et Cadets","2024-2025"]
[380850,"LIBERTE Dettwiller","SCHUHLER","NAEL",95,"2012-04-12","H","2024-10-10","24/25",null,null,"Minimes filles et garcons","2024-2025"]
[30936,"LIBERTE Dettwiller","STOFFEL","CORINNE",75,"1972-05-26","F","2024-10-10","24/25",null,null,"Vétérans 2 Dames et Messieurs","2024-2025"]
[450891,"LIBERTE Dettwiller","VAUTRIN","TYLER",95,"2014-03-27","H","2024-10-10","24/25",null,null,"Benjamines et Benjamins","2024-2025"]
[449518,"MJC Kirrwiller","ABELY","LÉO",95,"2016-03-03","H","2024-10-10","24/25",null,null,"Poussines et Poussins","2024-2025"]
[85020,"MJC Kirrwiller","DESCROIX","VERONIQUE",95,"1963-09-15","F","2024-10-10","24/25",null,null,"Vétérans 3 Dames et Messieurs","2024-2025"]
[232051,"MJC Kirrwiller","FISCHBACH","LAURENT",85,"1965-02-25","H","2024-10-10","24/25",null,null,"Vétérans 2 Dames et Messieurs","2024-2025"]
[32311,"MJC Kirrwiller","HAGER","EMMA",95,"2009-03-25","F","2024-10-10","24/25",null,null,"Juniors filles et garcons","2024-2025"]
[449523,"MJC Kirrwiller","KRIEGER","ETHAN",95,"2016-05-26","H","2024-10-10","24/25",null,null,"Poussines et Poussins","2024-2025"]
[496741,"MJC Kirrwiller","KRIEGER","RAPHAEL",75,"1986-03-07","H","2024-10-10","24/25",null,null,"Seniors","2024-2025"]
[32306,"MJC Kirrwiller","LECHNER","KEO",90,"2009-08-23","H","2024-10-10","24/25",null,null,"Cadettes et Cadets","2024-2025"]
[32303,"MJC Kirrwiller","LECHNER","LAURENT",85,"1973-09-01","H","2024-10-10","24/25",null,null,"Vétérans 2 Dames et Messieurs","2024-2025"]
[496743,"MJC Kirrwiller","LINDENMAYER","CARMEN",90,"2016-03-08","F","2024-10-10","24/25",null,null,"Poussines et Poussins","2024-2025"]
[32282,"MJC Kirrwiller","LIOUST","PASCAL",75,"1961-12-21","H","2024-10-10","24/25",null,null,"Vétérans 3 Dames et Messieurs","2024-2025"]
[32289,"MJC Kirrwiller","MEHL","FLORIAN",70,"1995-09-04","H","2024-10-10","24/25",null,null,"Seniors","2024-2025"]
[32295,"MJC Kirrwiller","MEHL","JEAN CLAUDE",90,"1963-07-27","H","2024-10-10","24/25",null,null,"Vétérans 3 Dames et Messieurs","2024-2025"]
[30903,"MJC Kirrwiller","OHLMANN","PASCAL",90,"1967-11-08","H","2024-10-10","24/25",null,null,"Vétérans 2 Dames et Messieurs","2024-2025"]
[449528,"MJC Kirrwiller","REMOND LOMBINO","LOU-ELISE",95,"2014-08-02","F","2024-10-10","24/25",null,null,"Benjamines et Benjamins","2024-2025"]
[32279,"MJC Kirrwiller","ROTH","ALFRED",75,"1950-02-21","H","2024-10-10","24/25",null,null,"Vétérans 4 Dames et Messieurs","2024-2025"]
[501141,"MJC Kirrwiller","SCHWOERER","GWENDOLINE",95,"1992-08-21","F","2024-10-10","24/25",null,null,"Seniors","2024-2025"]
[32284,"MJC Kirrwiller","WALTER","JEREMY",60,"1987-03-24","H","2024-10-10","24/25",null,null,"Seniors","2024-2025"]
[32297,"MJC Kirrwiller","WICK","EMILIE",85,"1995-08-28","F","2024-10-10","24/25",null,null,"Seniors","2024-2025"]
[32285,"MJC Kirrwiller","WICK","MARION",75,"1992-10-15","F","2024-10-10","24/25",null,null,"Seniors","2024-2025"]
[32286,"MJC Kirrwiller","WICK","THIERRY",45,"1988-05-17","H","2024-10-10","24/25",null,null,"Seniors","2024-2025"]
[263204,"TT Dossenheim s/Zinsel","APPEL","MANFRED",95,"1962-08-31","H","2024-10-10","24/25",null,null,"Vétérans 3 Dames et Messieurs","2024-2025"]
[30488,"TT Dossenheim s/Zinsel","BALVA","BERNARD",90,"1964-05-02","H","2024-10-10","24/25",null,null,"Vétérans 3 Dames et Messieurs","2024-2025"]
[30502,"TT Dossenheim s/Zinsel","HUBER","HERVE",90,"1969-05-11","H","2024-10-10","24/25",null,null,"Vétérans 2 Dames et Messieurs","2024-2025"]
[326750,"TT Dossenheim s/Zinsel","KAUFFMANN","THIEBAUT",80,"1958-11-09","H","2024-10-10","24/25",null,null,"Vétérans 3 Dames et Messieurs","2024-2025"]
[30489,"TT Dossenheim s/Zinsel","PARTOUCHE","BRUNO",90,"1986-06-02","H","2024-10-10","24/25",null,null,"Seniors","2024-2025"]
[30487,"TT Dossenheim s/Zinsel","SCHNELL","RENE",90,"1951-01-09","H","2024-10-10","24/25",null,null,"Vétérans 4 Dames et Messieurs","2024-2025"]
[445091,"US Egalitaire Neudorf","BADYNA","PIOTR",80,"1979-10-19","H","2024-10-10","24/25",null,null,"Vétérans 1 Dames et Messieurs","2024-2025"]
[31436,"US Egalitaire Neudorf","BAUTZ","CHRISTIAN",90,"1960-09-10","H","2024-10-10","24/25",null,null,"Vétérans 3 Dames et Messieurs","2024-2025"]
[31676,"US Egalitaire Neudorf","BELLOUT","AZIZ",75,"1968-10-13","H","2024-10-10","24/25",null,null,"Vétérans 2 Dames et Messieurs","2024-2025"]
[68122,"US Egalitaire Neudorf","BURTIN","OLIVIER",85,"1981-05-09","H","2024-10-10","24/25",null,null,"Vétérans 1 Dames et Messieurs","2024-2025"]
[30866,"US Egalitaire Neudorf","CHRISTMANN","ANTHONY",80,"1990-08-05","H","2024-10-10","24/25",null,null,"Seniors","2024-2025"]
[31611,"US Egalitaire Neudorf","CHRISTMANN","MAURICE",80,"1951-06-11","H","2024-10-10","24/25",null,null,"Vétérans 4 Dames et Messieurs","2024-2025"]
[290264,"US Egalitaire Neudorf","COLSON","STEVE",80,"1970-09-18","H","2024-10-10","24/25",null,null,"Vétérans 2 Dames et Messieurs","2024-2025"]
[239029,"US Egalitaire Neudorf","DAVID","LUC",95,"1962-06-07","H","2024-10-10","24/25",null,null,"Vétérans 3 Dames et Messieurs","2024-2025"]
[447473,"US Egalitaire Neudorf","DE SERRE DE SAINT ROMAN","GAUTIER",95,"2010-04-12","H","2024-10-10","24/25",null,null,"Cadettes et Cadets","2024-2025"]
[401314,"US Egalitaire Neudorf","EROE","MATHIS",95,"2011-12-03","H","2024-10-10","24/25",null,null,"Minimes filles et garcons","2024-2025"]
[434984,"US Egalitaire Neudorf","EROE","NOAM",95,"2015-08-31","H","2024-10-10","24/25",null,null,"Poussines et Poussins","2024-2025"]
[64147,"US Egalitaire Neudorf","FISCHER","PATRICIA",90,"1981-02-28","F","2024-10-10","24/25",null,null,"Vétérans 1 Dames et Messieurs","2024-2025"]
[295403,"US Egalitaire Neudorf","HADJ SASSI","ILIAN",95,"2014-04-26","H","2024-10-10","24/25",null,null,"Benjamines et Benjamins","2024-2025"]
[381174,"US Egalitaire Neudorf","ISENMANN","SEBASTIEN",95,"2012-05-25","H","2024-10-10","24/25",null,null,"Minimes filles et garcons","2024-2025"]
[31434,"US Egalitaire Neudorf","KUNTZ","JONATHAN",90,"1988-09-22","H","2024-10-10","24/25",null,null,"Seniors","2024-2025"]
[32323,"US Egalitaire Neudorf","LUDMANN","CHRISTIAN",95,"1956-02-19","H","2024-10-10","24/25",null,null,"Vétérans 3 Dames et Messieurs","2024-2025"]
[381170,"US Egalitaire Neudorf","MERZ","CAROLIN",90,"1990-10-31","F","2024-10-10","24/25",null,null,"Seniors","2024-2025"]
[99784,"US Egalitaire Neudorf","MURRO","LINO",85,"2009-09-26","H","2024-10-10","24/25",null,null,"Cadettes et Cadets","2024-2025"]
[466282,"US Egalitaire Neudorf","NGUYEN","NGOC KHANH",80,"1995-08-28","H","2024-10-10","24/25",null,null,"Seniors","2024-2025"]
[63571,"US Egalitaire Neudorf","OUALI-ALAMI","DRISS",65,"1969-09-18","H","2024-10-10","24/25",null,null,"Vétérans 2 Dames et Messieurs","2024-2025"]
[31614,"US Egalitaire Neudorf","RICHARD","JEAN-LUC",75,"1956-01-19","H","2024-10-10","24/25",null,null,"Vétérans 3 Dames et Messieurs","2024-2025"]
[425309,"US Egalitaire Neudorf","SABATIER","JEAN-BAPTISTE",75,"1990-04-29","H","2024-10-10","24/25",null,null,"Seniors","2024-2025"]
[435292,"US Egalitaire Neudorf","SAVIN","PATRICK",95,"1960-12-09","H","2024-10-10","24/25",null,null,"Vétérans 3 Dames et Messieurs","2024-2025"]
[425288,"US Egalitaire Neudorf","SOUFFLARD","ALAIN",95,"1963-08-12","H","2024-10-10","24/25",null,null,{"$f":"IF($F$1:$F$403=\"\",\"\",IF($F$1:$F$403>=DATE(2015,7,1),\"Poussines et Poussins\",IF(AND($F$1:$F$403>=DATE(2013,7,1),$F$1:$F$403<=DATE(2015,6,30)),\"Benjamines et Benjamins\",IF(AND($F$1:$F$403>=DATE(2011,7,1),$F$1:$F$403<=DATE(2013,6,30)),\"Minimes filles et garcons\",IF(AND($F$1:$F$403>=DATE(2009,7,1),$F$1:$F$403<=DATE(2011,6,30)),\"Cadettes et Cadets\",IF(AND($F$1:$F$403>=DATE(2007,7,1),$F$1:$F$403<=DATE(2009,6,30)),\"Juniors filles et garcons\",IF(AND($F$1:$F$403>=DATE(1984,7,1),$F$1:$F$403<=DATE(2007,6,30)),\"Seniors\",IF(AND($F$1:$F$403>=DATE(1974,7,1),$F$1:$F$403<=DATE(1984,6,30)),\"Vétérans 1 Dames et Messieurs\",IF(AND($F$1:$F$403>=DATE(1964,7,1),$F$1:$F$403<=DATE(1974,6,30)),\"Vétérans 2 Dames et Messieurs\",IF(AND($F$1:$F$403>=DATE(1954,7,1),$F$1:$F$403<=DATE(1964,6,30)),\"Vétérans 3 Dames et Messieurs\",IF($F$1:$F$403<=DATE(1954,6,30),\"Vétérans 4 Dames et Messieurs\",\"\")))))))))))","v":"Vétérans 3 Dames et Messieurs"},"2024-2025"]
[425385,"US Egalitaire Neudorf","ZAKARIA","AMBDOURAHMANE",75,"2003-08-10","H","2024-10-10","24/25",null,null,"Seniors",{"$f":"IF(I259=\"23/24\",\"2023-2024\",IF(I259=\"24/25\",\"2024-2025\",IF(I259=\"25/26\",\"2025-2026\",IF(I259=\"26/27\",\"2026-2027\",IF(I259=\"27/28\",\"2027-2028\",IF(I259=\"28/29\",\"2028-2029\",IF(I259=\"29/30\",\"2029-2030\",\"\")))))))","v":"2024-2025"}]
[30597,"UT Aurora Schilt.- Bisch.","ACKER","PATRICK",75,"1965-12-31","H","2024-10-10","24/25",null,null,"Vétérans 2 Dames et Messieurs","2024-2025"]
[31094,"UT Aurora Schilt.- Bisch.","BELZON","PATRICK",45,"1960-02-02","H","2024-10-10","24/25",null,null,"Vétérans 3 Dames et Messieurs","2024-2025"]
[487820,"UT Aurora Schilt.- Bisch.","D'AURIA","LOUIS",95,"1954-07-21","H","2024-10-10","24/25",null,null,"Vétérans 3 Dames et Messieurs","2024-2025"]
[296777,"UT Aurora Schilt.- Bisch.","HAHN","JEAN-PIERRE",95,"1946-11-14","H","2024-10-10","24/25",null,null,"Vétérans 4 Dames et Messieurs","2024-2025"]
[31070,"UT Aurora Schilt.- Bisch.","HOERNEL","ETIENNE",75,"1958-06-24","H","2024-10-10","24/25",null,null,"Vétérans 3 Dames et Messieurs","2024-2025"]
[491060,"UT Aurora Schilt.- Bisch.","KLEIN","LIONEL",75,"1969-06-05","H","2024-10-10","24/25",null,null,"Vétérans 2 Dames et Messieurs","2024-2025"]
[436875,"UT Aurora Schilt.- Bisch.","KOLB","PHILIPPE",95,"1968-01-17","H","2024-10-10","24/25",null,null,"Vétérans 2 Dames et Messieurs","2024-2025"]
[367832,"UT Aurora Schilt.- Bisch.","KOSTMANN","MICHEL",85,"1962-10-02","H","2024-10-10","24/25",null,null,"Vétérans 3 Dames et Messieurs","2024-2025"]
[91671,"UT Aurora Schilt.- Bisch.","LORTZ","CHRISTIAN",85,"1966-04-24","H","2024-10-10","24/25",null,null,"Vétérans 2 Dames et Messieurs","2024-2025"]
[296784,"UT Aurora Schilt.- Bisch.","MORAUD","YANA",95,"1956-08-20","F","2024-10-10","24/25",null,null,"Vétérans 3 Dames et Messieurs","2024-2025"]
[31074,"UT Aurora Schilt.- Bisch.","PONTIDA","CHRISTINE",80,"1959-07-07","F","2024-10-10","24/25",null,null,"Vétérans 3 Dames et Messieurs","2024-2025"]
[31442,"UT Aurora Schilt.- Bisch.","SABERI","SOUSAN",95,"1952-01-09","F","2024-10-10","24/25",null,null,"Vétérans 4 Dames et Messieurs","2024-2025"]
[31443,"UT Aurora Schilt.- Bisch.","SCHEIDHAUER","CLAUDE",85,"1964-12-23","H","2024-10-10","24/25",null,null,"Vétérans 2 Dames et Messieurs","2024-2025"]
[31418,"UT Aurora Schilt.- Bisch.","SCHOTT","MARIE-ANGELE",95,"1958-06-04","F","2024-10-10","24/25",null,null,"Vétérans 3 Dames et Messieurs","2024-2025"]
[31423,"UT Aurora Schilt.- Bisch.","SCHOTT","MICHEL",85,"1957-05-13","H","2024-10-10","24/25",null,null,"Vétérans 3 Dames et Messieurs","2024-2025"]
[250780,"UT Aurora Schilt.- Bisch.","TRAPP","FRANCOIS",95,"1958-10-19","H","2024-10-10","24/25",null,null,"Vétérans 3 Dames et Messieurs","2024-2025"]
[31078,"UT Aurora Schilt.- Bisch.","WERNERT","RICHARD",70,"1953-11-04","H","2024-10-01","24/25",null,null,"Vétérans 4 Dames et Messieurs","2024-2025"]
[null,null,null,null,null,null,null,null,null,null,null,"",""]
[null,null,null,null,null,null,null,null,null,null,null,"",""]
[null,null,null,null,null,null,null,null,null,null,null,"",""]
[null,null,null,null,null,null,null,null,null,null,null,"",""]
[null,null,null,null,null,null,null,null,null,null,null,"",""]
[null,null,null,null,null,null,null,null,null,null,null,"",""]
[null,null,null,null,null,null,null,null,null,null,null,"",""]
[null,null,null,null,null,null,null,null,null,null,null,"",""]
[null,null,null,null,null,null,null,null,null,null,null,"",""]
[null,null,null,null,null,null,null,null,null,null,null,"",""]
[null,null,null,null,null,null,null,null,null,null,null,"",""]
[null,null,null,null,null,null,null,null,null,null,null,"",""]
[null,null,null,null,null,null,null,null,null,null,null,"",""]
[null,null,null,null,null,null,null,null,null,null,null,"",""]
[null,null,null,null,null,null,null,null,null,null,null,"",""]
[null,null,null,null,null,null,null,null,null,null,null,"",""]
[null,null,null,null,null,null,null,null,null,null,null,"",""]
[null,null,null,null,null,null,null,null,null,null,null,"",""]
[null,null,null,null,null,null,null,null,null,null,null,"",""]
[null,null,null,null,null,null,null,null,null,null,null,"",""]
[null,null,null,null,null,null,null,null,null,null,null,"",""]
[null,null,null,null,null,null,null,null,null,null,null,"",""]
[null,null,null,null,null,null,null,null,null,null,null,"",""]
[null,null,null,null,null,null,null,null,null,null,null,"",""]
[null,null,null,null,null,null,null,null,null,null,null,"",""]
[null,null,null,null,null,null,null,null,null,null,null,"",""]
[null,null,null,null,null,null,null,null,null,null,null,"",""]
[null,null,null,null,null,null,null,null,null,null,null,"",""]
[null,null,null,null,null,null,null,null,null,null,null,"",""]
[null,null,null,null,null,null,null,null,null,null,null,"",""]
[null,null,null,null,null,null,null,null,null,null,null,"",""]
[null,null,null,null,null,null,null,null,null,null,null,"",""]
[null,null,null,null,null,null,null,null,null,null,null,"",""]
[null,null,null,null,null,null,null,null,null,null,null,"",""]
[null,null,null,null,null,null,null,null,null,null,null,"",""]
[null,null,null,null,null,null,null,null,null,null,null,"",""]
[null,null,null,null,null,null,null,null,null,null,null,"",""]
[null,null,null,null,null,null,null,null,null,null,null,"",""]
[null,null,null,null,null,null,null,null,null,null,null,"",""]
[null,null,null,null,null,null,null,null,null,null,null,"",""]
[null,null,null,null,null,null,null,null,null,null,null,"",""]
[null,null,null,null,null,null,null,null,null,null,null,"",""]
[null,null,null,null,null,null,null,null,null,null,null,"",""]
[null,null,null,null,null,null,null,null,null,null,null,"",""]
[null,null,null,null,null,null,null,null,null,null,null,"",""]
[null,null,null,null,null,null,null,null,null,null,null,{"$f":"IF($F$1:$F$403=\"\",\"\",IF($F$1:$F$403>=DATE(2015,7,1),\"Poussines et Poussins\",IF(AND($F$1:$F$403>=DATE(2013,7,1),$F$1:$F$403<=DATE(2015,6,30)),\"Benjamines et Benjamins\",IF(AND($F$1:$F$403>=DATE(2011,7,1),$F$1:$F$403<=DATE(2013,6,30)),\"Minimes filles et garcons\",IF(AND($F$1:$F$403>=DATE(2009,7,1),$F$1:$F$403<=DATE(2011,6,30)),\"Cadettes et Cadets\",IF(AND($F$1:$F$403>=DATE(2007,7,1),$F$1:$F$403<=DATE(2009,6,30)),\"Juniors filles et garcons\",IF(AND($F$1:$F$403>=DATE(1984,7,1),$F$1:$F$403<=DATE(2007,6,30)),\"Seniors\",IF(AND($F$1:$F$403>=DATE(1974,7,1),$F$1:$F$403<=DATE(1984,6,30)),\"Vétérans 1 Dames et Messieurs\",IF(AND($F$1:$F$403>=DATE(1964,7,1),$F$1:$F$403<=DATE(1974,6,30)),\"Vétérans 2 Dames et Messieurs\",IF(AND($F$1:$F$403>=DATE(1954,7,1),$F$1:$F$403<=DATE(1964,6,30)),\"Vétérans 3 Dames et Messieurs\",IF($F$1:$F$403<=DATE(1954,6,30),\"Vétérans 4 Dames et Messieurs\",\"\")))))))))))","v":""},""]
[null,null,null,null,null,null,null,null,null,null,null,"",{"$f":"IF(I323=\"23/24\",\"2023-2024\",IF(I323=\"24/25\",\"2024-2025\",IF(I323=\"25/26\",\"2025-2026\",IF(I323=\"26/27\",\"2026-2027\",IF(I323=\"27/28\",\"2027-2028\",IF(I323=\"28/29\",\"2028-2029\",IF(I323=\"29/30\",\"2029-2030\",\"\")))))))","v":""}]
[null,null,null,null,null,null,null,null,null,null,null,"",""]
[null,null,null,null,null,null,null,null,null,null,null,"",""]
[null,null,null,null,null,null,null,null,null,null,null,"",""]
[null,null,null,null,null,null,null,null,null,null,null,"",""]
[null,null,null,null,null,null,null,null,null,null,null,"",""]
[null,null,null,null,null,null,null,null,null,null,null,"",""]
[null,null,null,null,null,null,null,null,null,null,null,"",""]
[null,null,null,null,null,null,null,null,null,null,null,"",""]
[null,null,null,null,null,null,null,null,null,null,null,"",""]
[null,null,null,null,null,null,null,null,null,null,null,"",""]
[null,null,null,null,null,null,null,null,null,null,null,"",""]
[null,null,null,null,null,null,null,null,null,null,null,"",""]
[null,null,null,null,null,null,null,null,null,null,null,"",""]
[null,null,null,null,null,null,null,null,null,null,null,"",""]
[null,null,null,null,null,null,null,null,null,null,null,"",""]
[null,null,null,null,null,null,null,null,null,null,null,"",""]
[null,null,null,null,null,null,null,null,null,null,null,"",""]
[null,null,null,null,null,null,null,null,null,null,null,"",""]
[null,null,null,null,null,null,null,null,null,null,null,"",""]
[null,null,null,null,null,null,null,null,null,null,null,"",""]
[null,null,null,null,null,null,null,null,null,null,null,"",""]
[null,null,null,null,null,null,null,null,null,null,null,"",""]
[null,null,null,null,null,null,null,null,null,null,null,"",""]
[null,null,null,null,null,null,null,null,null,null,null,"",""]
[null,null,null,null,null,null,null,null,null,null,null,"",""]
[null,null,null,null,null,null,null,null,null,null,null,"",""]
[null,null,null,null,null,null,null,null,null,null,null,"",""]
[null,null,null,null,null,null,null,null,null,null,null,"",""]
[null,null,null,null,null,null,null,null,null,null,null,"",""]
[null,null,null,null,null,null,null,null,null,null,null,"",""]
[null,null,null,null,null,null,null,null,null,null,null,"",""]
[null,null,null,null,null,null,null,null,null,null,null,"",""]
[null,null,null,null,null,null,null,null,null,null,null,"",""]
[null,null,null,null,null,null,null,null,null,null,null,"",""]
[null,null,null,null,null,null,null,null,null,null,null,"",""]
[null,null,null,null,null,null,null,null,null,null,null,"",""]
[null,null,null,null,null,null,null,null,null,null,null,"",""]
[null,null,null,null,null,null,null,null,null,null,null,"",""]
[null,null,null,null,null,null,null,null,null,null,null,"",""]
[null,null,null,null,null,null,null,null,null,null,null,"",""]
[null,null,null,null,null,null,null,null,null,null,null,"",""]
[null,null,null,null,null,null,null,null,null,null,null,"",""]
[null,null,null,null,null,null,null,null,null,null,null,"",""]
[null,null,null,null,null,null,null,null,null,null,null,"",""]
[null,null,null,null,null,null,null,null,null,null,null,"",""]
[null,null,null,null,null,null,null,null,null,null,null,"",""]
[null,null,null,null,null,null,null,null,null,null,null,"",""]
[null,null,null,null,null,null,null,null,null,null,null,"",""]
[null,null,null,null,null,null,null,null,null,null,null,"",""]
[null,null,null,null,null,null,null,null,null,null,null,"",""]
[null,null,null,null,null,null,null,null,null,null,null,"",""]
[null,null,null,null,null,null,null,null,null,null,null,"",""]
[null,null,null,null,null,null,null,null,null,null,null,"",""]
[null,null,null,null,null,null,null,null,null,null,null,"",""]
[null,null,null,null,null,null,null,null,null,null,null,"",""]
[null,null,null,null,null,null,null,null,null,null,null,"",""]
[null,null,null,null,null,null,null,null,null,null,null,"",""]
[null,null,null,null,null,null,null,null,null,null,null,"",""]
[null,null,null,null,null,null,null,null,null,null,null,"",""]
[null,null,null,null,null,null,null,null,null,null,null,"",""]
[null,null,null,null,null,null,null,null,null,null,null,"",""]
[null,null,null,null,null,null,null,null,null,null,null,"",""]
[null,null,null,null,null,null,null,null,null,null,null,{"$f":"IF($F$1:$F$403=\"\",\"\",IF($F$1:$F$403>=DATE(2015,7,1),\"Poussines et Poussins\",IF(AND($F$1:$F$403>=DATE(2013,7,1),$F$1:$F$403<=DATE(2015,6,30)),\"Benjamines et Benjamins\",IF(AND($F$1:$F$403>=DATE(2011,7,1),$F$1:$F$403<=DATE(2013,6,30)),\"Minimes filles et garcons\",IF(AND($F$1:$F$403>=DATE(2009,7,1),$F$1:$F$403<=DATE(2011,6,30)),\"Cadettes et Cadets\",IF(AND($F$1:$F$403>=DATE(2007,7,1),$F$1:$F$403<=DATE(2009,6,30)),\"Juniors filles et garcons\",IF(AND($F$1:$F$403>=DATE(1984,7,1),$F$1:$F$403<=DATE(2007,6,30)),\"Seniors\",IF(AND($F$1:$F$403>=DATE(1974,7,1),$F$1:$F$403<=DATE(1984,6,30)),\"Vétérans 1 Dames et Messieurs\",IF(AND($F$1:$F$403>=DATE(1964,7,1),$F$1:$F$403<=DATE(1974,6,30)),\"Vétérans 2 Dames et Messieurs\",IF(AND($F$1:$F$403>=DATE(1954,7,1),$F$1:$F$403<=DATE(1964,6,30)),\"Vétérans 3 Dames et Messieurs\",IF($F$1:$F$403<=DATE(1954,6,30),\"Vétérans 4 Dames et Messieurs\",\"\")))))))))))","v":""},""]
[null,null,null,null,null,null,null,null,null,null,null,"",{"$f":"IF(I387=\"23/24\",\"2023-2024\",IF(I387=\"24/25\",\"2024-2025\",IF(I387=\"25/26\",\"2025-2026\",IF(I387=\"26/27\",\"2026-2027\",IF(I387=\"27/28\",\"2027-2028\",IF(I387=\"28/29\",\"2028-2029\",IF(I387=\"29/30\",\"2029-2030\",\"\")))))))","v":""}]
[null,null,null,null,null,null,null,null,null,null,null,"",""]
[null,null,null,null,null,null,null,null,null,null,null,"",""]
[null,null,null,null,null,null,null,null,null,null,null,"",""]
[null,null,null,null,null,null,null,null,null,null,null,"",""]
[null,null,null,null,null,null,null,null,null,null,null,"",""]
[null,null,null,null,null,null,null,null,null,null,null,"",""]
[null,null,null,null,null,null,null,null,null,null,null,"",""]
[null,null,null,null,null,null,null,null,null,null,null,"",""]
[null,null,null,null,null,null,null,null,null,null,null,"",""]
[null,null,null,null,null,null,null,null,null,null,null,"",""]
[null,null,null,null,null,null,null,null,null,null,null,"",""]
[null,null,null,null,null,null,null,null,null,null,null,"",""]
[null,null,null,null,null,null,null,null,null,null,null,"",""]

{"sheet":"calcules","index":2,"n_rows":94,"n_cols":146,"rows_kept":94,"cut":false,"hidden":true,"merged":[[0,129,0,134],[0,135,0,145],[0,121,0,127],[1,125,1,127],[1,123,1,124],[0,30,0,33],[0,38,0,41],[1,89,1,93],[1,110,1,120],[0,102,0,107],[1,104,1,107],[1,102,2,102],[1,109,2,109],[0,108,0,120],[1,108,2,108],[1,103,2,103],[0,98,0,101],[1,94,1,95],[0,2,0,4],[0,7,0,17],[0,26,0,29],[32,26,32,29],[48,26,48,29],[0,18,0,21],[0,22,0,25],[16,30,16,33],[32,30,32,33],[48,30,48,33],[16,26,16,29],[32,34,32,37],[48,34,48,37],[16,38,16,41],[32,38,32,41],[48,38,48,41],[0,34,0,37],[16,34,16,37],[32,42,32,45],[48,42,48,45],[0,46,0,49],[16,46,16,49],[32,46,32,49],[48,46,48,49],[0,42,0,45],[16,42,16,45],[32,50,32,53],[48,50,48,53],[0,54,0,57],[16,54,16,57],[32,54,32,57],[48,54,48,57],[21,94,21,95],[0,50,0,53],[16,50,16,53],[21,92,21,93],[0,94,0,97],[0,58,0,93],[1,59,1,63],[1,64,1,68],[1,69,1,73],[1,74,1,78],[1,79,1,83],[1,84,1,88]]}
["saison","Journée","date",null,null,"Secteur","Division","EQUIPES",null,null,null,null,null,null,null,null,null,null,"DECONCATENER SCORES DOUBLE EQUIPE 1",null,null,null,null,null,null,null,"DECONCATENER SCORES JOUEUR A",null,null,null,"DECONCATENER SCORES JOUEUR B",null,null,null,"DECONCATENER SCORES JOUEUR C",null,null,null,null,null,null,null,"DECONCATENER SCORES JOUEUR W",null,null,null,"DECONCATENER SCORES JOUEUR X",null,null,null,"DECONCATENER SCORES JOUEUR Y",null,null,null,null,null,null,null,"DECONCATENER LIGNES DU TABLEAU DE SCORE",null,null,null,null,null,null,null,null,null,null,null,null,null,null,null,null,null,null,null,null,null,null,null,null,null,null,null,null,null,null,null,null,null,null,null,"resultats des matchs",null,null,null,"calendrier",null,null,null,"JOUEUR ABSENT",null,null,null,null,null,"DOUBLES",null,null,null,null,null,null,null,null,null,null,null,null,"concatener rencontre pour calendrier par VBA avec insert PDF",null,null,null,null,null,null,null,"calendrier",null,null,null,null,null,"jj/mm/aaaa"]
["2023-2024",1,"JOUR","MOIS","ANNEE","NORDETSTRASBOURG","EXCELLENCE","EXCELLENCE","HONNEUR","PROMOTIONNORD","PROMOTIONSTRASBOURG","ADULTESDIVISION1NORD","VETERANSD1NORD","VETERANSD2NORD","VETERANSD1STRASBOURG","VETERANSD2STRASBOURG","MIXTESD1NORD","MIXTESD1STRASBOURG","MATCH 1","0&","points gagnés","points perdus",null,null,null,null,"MATCH 1","0&","points gagnés","points perdus","MATCH 1","0&","points gagnés","points perdus","MATCH 1","0&","points gagnés","points perdus",null,null,null,null,"MATCH 1","0&","points gagnés","points perdus","MATCH 1","0&","points gagnés","points perdus","MATCH 1","0&","points gagnés","points perdus",null,null,null,null,"LIGNE","Manche 1",null,null,null,null,"Manche 2",null,null,null,null,"Manche 3",null,null,null,null,"Manche 4",null,null,null,null,"Manche 5",null,null,null,null,"Manche 6",null,null,null,null,"Manche 7",null,null,null,null,"score de matchs",null,"vainqueur","vainqueur","division","equipe","jour de match","heure de match","bouton","division",null,null,null,null,"DIVISIONS","N°","equipe recevante",null,null,null,null,null,null,null,null,null,null,"Equipe recevante","Equipe visiteuse","SCORE",null,"date théorique du match joué",null,null,null,"div&equipe","division","equipe","jour de match","heure de match","No semaine a planifier","jours a eviter 1 (jj/mm/aaaa)","jours a eviter 2","jours a eviter 3","jours a eviter 4","jours a eviter 5","jours a eviter 6","jours a eviter 7","jours a eviter 8","jours a eviter 9","jours a eviter 10","jours a eviter 11"]
["2024-2025",2,1,1,2023,"NORD","HONNEUR","Amitié Lingolsheim 1","MJC Kirrwiller 1","MJC Kirrwiller 2","US Egalitaire Neudorf 2","MJC Kirrwiller 3","Liberté Dettwiller 1","MJC Kirrwiller 1","US Egalitaire Neudorf 1",null,"CLTT Menchhoffen 1","UT AURORA Schilt.-B. 1","Manche 1",null,null,null,null,null,null,null,"Manche 1",null,null,null,"Manche 1",null,null,null,"Manche 1",null,null,null,null,null,null,null,"Manche 1",null,null,null,"Manche 1",null,null,null,"Manche 1",null,null,null,null,null,null,null,null,"score","points gagnés","points perdus","manches gagnés","manches perdus","score","points gagnés","points perdus","manches gagnés","manches perdus","score","points gagnés","points perdus","manches gagnés","manches perdus","score","points gagnés","points perdus","manches gagnés","manches perdus","score","points gagnés","points perdus","manches gagnés","manches perdus","score","points gagnés","points perdus","manches gagnés","manches perdus","score","points gagnés","points perdus","manches gagnés","manches perdus","ABCD","WXYZ","ABCD","WXYZ",{"$f":"$G$2","v":"EXCELLENCE"},{"$f":"$H$3","v":"Amitié Lingolsheim 1"},"Mercredi","20H00",null,null,null,null,null,null,null,null,null,"joueur1 Do,Do1","nom joueur1 Do,Do1","joueur2 Do,Do1","nom joueur2 Do,Do1","nom joueur1+2 Do,Do1","joueur3 Do2","nom joueur3 Do2","joueur4 Do2","nom joueur4","joueur3+4",{"$f":" 'Feuille de match'!$A$8","v":0},{"$f":" 'Feuille de match'!$N$8","v":0},null,null,"Listedesmatchs ligne 2 à 300","Listedesmatchs ligne 301 à 600","lignes totaux 2 à 600",null,{"$f":"EA3&EB3","v":"EXCELLENCEAmitié Lingolsheim 1"},{"$f":"$G$2","v":"EXCELLENCE"},{"$f":"$H$3","v":"Amitié Lingolsheim 1"},"Mercredi","20H00"]
["2025-2026",3,2,2,2024,"STRASBOURG","PROMOTIONSTRASBOURG","CP Zutzendorf 1","ASP Gottenhouse 1","Liberté Dettwiller 1","US Egalitaire Neudorf 3","Liberté Dettwiller 2","CP Zutzendorf 1","MJC Kirrwiller 2","US Egalitaire Neudorf 2","Amitié Lingolsheim 3","CLTT Menchhoffen 2","Amitié Lingolsheim 1",{"$f":"IF(OR('Feuille de match'!$K$5=\"EXCELLENCE\",'Feuille de match'!$K$5=\"HONNEUR\",'Feuille de match'!$K$5=\"PROMOTIONNORD\",'Feuille de match'!$K$5=\"ADULTESDIVISION1NORD\",'Feuille de match'!$K$5=\"PROMOTIONSTRASBOURG\",'Feuille de match'!$K$5=\"PROMOTIONFINALE\"),'Feuille de match'!$M$23,IF(OR('Feuille de match'!$K$5=\"MIXTESD1NORD\",'Feuille de match'!$K$5=\"MIXTESD1STRASBOURG\",'Feuille de match'!$K$5=\"VETERANSD1STRASBOURG\",'Feuille de match'!$K$5=\"VETERANSD2STRASBOURG\",'Feuille de match'!$K$5=\"VETERANSD1NORD\",'Feuille de match'!$K$5=\"VETERANSD2NORD\",'Feuille de match'!$K$5=\"JUNIORS\",'Feuille de match'!$K$5=\"CADETS\",'Feuille de match'!$K$5=\"MINIMESBENJAMINSPOUSSINS\",'Feuille de match'!$K$5=\"MIXTESD1FINALE\",'Feuille de match'!$K$5=\"VETERANSD1FINALE\",'Feuille de match'!$K$5=\"VETERANSD2FINALE\",'Feuille de match'!$K$5=\"JUNIORSFINALE\",'Feuille de match'!$K$5=\"CADETSFINALE\",'Feuille de match'!$K$5=\"MINIMESBENJAMINSPOUSSINSFINALE\"),'Feuille de match'!$M$19,0))","v":0},{"$f":"IF(LEN($S$4)=2,\"00\"&$S$4,IF(LEN($S$4)=3,\"0\"&$S$4,$S$4))","v":0},{"$f":"IFERROR(LEFT($T$4,2),0)","v":"0"},{"$f":"IFERROR(RIGHT($T$4,2),0)","v":"0"},null,null,null,null,{"$f":"IF(OR('Feuille de match'!$K$5=\"EXCELLENCE\",'Feuille de match'!$K$5=\"HONNEUR\",'Feuille de match'!$K$5=\"PROMOTIONNORD\",'Feuille de match'!$K$5=\"ADULTESDIVISION1NORD\",'Feuille de match'!$K$5=\"PROMOTIONSTRASBOURG\",'Feuille de match'!$K$5=\"PROMOTIONFINALE\"),'Feuille de match'!$M$17,IF(OR('Feuille de match'!$K$5=\"MIXTESD1NORD\",'Feuille de match'!$K$5=\"MIXTESD1STRASBOURG\",'Feuille de match'!$K$5=\"VETERANSD1STRASBOURG\",'Feuille de match'!$K$5=\"VETERANSD2STRASBOURG\",'Feuille de match'!$K$5=\"VETERANSD1NORD\",'Feuille de match'!$K$5=\"VETERANSD2NORD\",'Feuille de match'!$K$5=\"JUNIORS\",'Feuille de match'!$K$5=\"CADETS\",'Feuille de match'!$K$5=\"MINIMESBENJAMINSPOUSSINS\",'Feuille de match'!$K$5=\"MIXTESD1FINALE\",'Feuille de match'!$K$5=\"VETERANSD1FINALE\",'Feuille de match'!$K$5=\"VETERANSD2FINALE\",'Feuille de match'!$K$5=\"JUNIORSFINALE\",'Feuille de match'!$K$5=\"CADETSFINALE\",'Feuille de match'!$K$5=\"MINIMESBENJAMINSPOUSSINSFINALE\"),'Feuille de match'!$M$17,0))","v":0},{"$f":"IF(LEN($AA$4)=2,\"00\"&$AA$4,IF(LEN($AA$4)=3,\"0\"&$AA$4,$AA$4))","v":0},{"$f":"IFERROR(LEFT($AB$4,2),0)","v":"0"},{"$f":"IFERROR(RIGHT($AB$4,2),0)","v":"0"},{"$f":"IF('Feuille de match'!$K$5=\"EXCELLENCE\",'Feuille de match'!$M$18,IF(OR('Feuille de match'!$K$5=\"EXCELLENCE\",'Feuille de match'!$K$5=\"HONNEUR\",'Feuille de match'!$K$5=\"PROMOTIONNORD\",'Feuille de match'!$K$5=\"ADULTESDIVISION1NORD\",'Feuille de match'!$K$5=\"PROMOTIONSTRASBOURG\",'Feuille de match'!$K$5=\"PROMOTIONFINALE\"),'Feuille de match'!$M$18,IF(OR('Feuille de match'!$K$5=\"MIXTESD1NORD\",'Feuille de match'!$K$5=\"MIXTESD1STRASBOURG\",'Feuille de match'!$K$5=\"VETERANSD1STRASBOURG\",'Feuille de match'!$K$5=\"VETERANSD2STRASBOURG\",'Feuille de match'!$K$5=\"VETERANSD1NORD\",'Feuille de match'!$K$5=\"VETERANSD2NORD\",'Feuille de match'!$K$5=\"JUNIORS\",'Feuille de match'!$K$5=\"CADETS\",'Feuille de match'!$K$5=\"MINIMESBENJAMINSPOUSSINS\",'Feuille de match'!$K$5=\"MIXTESD1FINALE\",'Feuille de match'!$K$5=\"VETERANSD1FINALE\",'Feuille de match'!$K$5=\"VETERANSD2FINALE\",'Feuille de match'!$K$5=\"JUNIORSFINALE\",'Feuille de match'!$K$5=\"CADETSFINALE\",'Feuille de match'!$K$5=\"MINIMESBENJAMINSPOUSSINSFINALE\"),'Feuille de match'!$M$18,0)))","v":0},{"$f":"IF(LEN($AE$4)=2,\"00\"&$AE$4,IF(LEN($AE$4)=3,\"0\"&$AE$4,$AE$4))","v":0},{"$f":"IFERROR(LEFT($AF$4,2),0)","v":"0"},{"$f":"IFERROR(RIGHT($AF$4,2),0)","v":"0"},{"$f":"IF(OR('Feuille de match'!$K$5=\"EXCELLENCE\",'Feuille de match'!$K$5=\"HONNEUR\",'Feuille de match'!$K$5=\"PROMOTIONNORD\",'Feuille de match'!$K$5=\"ADULTESDIVISION1NORD\",'Feuille de match'!$K$5=\"PROMOTIONSTRASBOURG\",'Feuille de match'!$K$5=\"PROMOTIONFINALE\"),'Feuille de match'!$M$19,IF(OR('Feuille de match'!$K$5=\"MIXTESD1NORD\",'Feuille de match'!$K$5=\"MIXTESD1STRASBOURG\",'Feuille de match'!$K$5=\"VETERANSD1STRASBOURG\",'Feuille de match'!$K$5=\"VETERANSD2STRASBOURG\",'Feuille de match'!$K$5=\"VETERANSD1NORD\",'Feuille de match'!$K$5=\"VETERANSD2NORD\",'Feuille de match'!$K$5=\"JUNIORS\",'Feuille de match'!$K$5=\"CADETS\",'Feuille de match'!$K$5=\"MINIMESBENJAMINSPOUSSINS\",'Feuille de match'!$K$5=\"MIXTESD1FINALE\",'Feuille de match'!$K$5=\"VETERANSD1FINALE\",'Feuille de match'!$K$5=\"VETERANSD2FINALE\",'Feuille de match'!$K$5=\"JUNIORSFINALE\",'Feuille de match'!$K$5=\"CADETSFINALE\",'Feuille de match'!$K$5=\"MINIMESBENJAMINSPOUSSINSFINALE\"),\"0\",0))","v":0},{"$f":"IF(LEN($AI$4)=2,\"00\"&$AI$4,IF(LEN($AI$4)=3,\"0\"&$AI$4,$AI$4))","v":0},{"$f":"IFERROR(LEFT($AJ$4,2),0)","v":"0"},{"$f":"IFERROR(RIGHT($AJ$4,2),0)","v":"0"},null,null,null,null,{"$f":"IF(OR('Feuille de match'!$K$5=\"EXCELLENCE\",'Feuille de match'!$K$5=\"HONNEUR\",'Feuille de match'!$K$5=\"PROMOTIONNORD\",'Feuille de match'!$K$5=\"ADULTESDIVISION1NORD\",'Feuille de match'!$K$5=\"PROMOTIONSTRASBOURG\",'Feuille de match'!$K$5=\"PROMOTIONFINALE\"),'Feuille de match'!$M$17,IF(OR('Feuille de match'!$K$5=\"MIXTESD1NORD\",'Feuille de match'!$K$5=\"MIXTESD1STRASBOURG\",'Feuille de match'!$K$5=\"VETERANSD1STRASBOURG\",'Feuille de match'!$K$5=\"VETERANSD2STRASBOURG\",'Feuille de match'!$K$5=\"VETERANSD1NORD\",'Feuille de match'!$K$5=\"VETERANSD2NORD\",'Feuille de match'!$K$5=\"JUNIORS\",'Feuille de match'!$K$5=\"CADETS\",'Feuille de match'!$K$5=\"MINIMESBENJAMINSPOUSSINS\",'Feuille de match'!$K$5=\"MIXTESD1FINALE\",'Feuille de match'!$K$5=\"VETERANSD1FINALE\",'Feuille de match'!$K$5=\"VETERANSD2FINALE\",'Feuille de match'!$K$5=\"JUNIORSFINALE\",'Feuille de match'!$K$5=\"CADETSFINALE\",'Feuille de match'!$K$5=\"MINIMESBENJAMINSPOUSSINSFINALE\"),'Feuille de match'!$M$17,0))","v":0},{"$f":"IF(LEN($AQ$4)=2,\"00\"&$AQ$4,IF(LEN($AQ$4)=3,\"0\"&$AQ$4,$AQ$4))","v":0},{"$f":"IFERROR(RIGHT($AR$4,2),0)","v":"0"},{"$f":"IFERROR(LEFT($AR$4,2),0)","v":"0"},{"$f":"IF(OR('Feuille de match'!$K$5=\"EXCELLENCE\",'Feuille de match'!$K$5=\"HONNEUR\",'Feuille de match'!$K$5=\"PROMOTIONNORD\",'Feuille de match'!$K$5=\"ADULTESDIVISION1NORD\",'Feuille de match'!$K$5=\"PROMOTIONSTRASBOURG\",'Feuille de match'!$K$5=\"PROMOTIONFINALE\"),'Feuille de match'!$M$18,IF(OR('Feuille de match'!$K$5=\"MIXTESD1NORD\",'Feuille de match'!$K$5=\"MIXTESD1STRASBOURG\",'Feuille de match'!$K$5=\"VETERANSD1STRASBOURG\",'Feuille de match'!$K$5=\"VETERANSD2STRASBOURG\",'Feuille de match'!$K$5=\"VETERANSD1NORD\",'Feuille de match'!$K$5=\"VETERANSD2NORD\",'Feuille de match'!$K$5=\"JUNIORS\",'Feuille de match'!$K$5=\"CADETS\",'Feuille de match'!$K$5=\"MINIMESBENJAMINSPOUSSINS\",'Feuille de match'!$K$5=\"MIXTESD1FINALE\",'Feuille de match'!$K$5=\"VETERANSD1FINALE\",'Feuille de match'!$K$5=\"VETERANSD2FINALE\",'Feuille de match'!$K$5=\"JUNIORSFINALE\",'Feuille de match'!$K$5=\"CADETSFINALE\",'Feuille de match'!$K$5=\"MINIMESBENJAMINSPOUSSINSFINALE\"),'Feuille de match'!$M$18,0))","v":0},{"$f":"IF(LEN($AU$4)=2,\"00\"&$AU$4,IF(LEN($AU$4)=3,\"0\"&$AU$4,$AU$4))","v":0},{"$f":"IFERROR(RIGHT($AV$4,2),0)","v":"0"},{"$f":"IFERROR(LEFT($AV$4,2),0)","v":"0"},{"$f":"IF(OR('Feuille de match'!$K$5=\"EXCELLENCE\",'Feuille de match'!$K$5=\"HONNEUR\",'Feuille de match'!$K$5=\"PROMOTIONNORD\",'Feuille de match'!$K$5=\"ADULTESDIVISION1NORD\",'Feuille de match'!$K$5=\"PROMOTIONSTRASBOURG\",'Feuille de match'!$K$5=\"PROMOTIONFINALE\"),'Feuille de match'!$M$19,IF(OR('Feuille de match'!$K$5=\"MIXTESD1NORD\",'Feuille de match'!$K$5=\"MIXTESD1STRASBOURG\",'Feuille de match'!$K$5=\"VETERANSD1STRASBOURG\",'Feuille de match'!$K$5=\"VETERANSD2STRASBOURG\",'Feuille de match'!$K$5=\"VETERANSD1NORD\",'Feuille de match'!$K$5=\"VETERANSD2NORD\",'Feuille de match'!$K$5=\"JUNIORS\",'Feuille de match'!$K$5=\"CADETS\",'Feuille de match'!$K$5=\"MINIMESBENJAMINSPOUSSINS\",'Feuille de match'!$K$5=\"MIXTESD1FINALE\",'Feuille de match'!$K$5=\"VETERANSD1FINALE\",'Feuille de match'!$K$5=\"VETERANSD2FINALE\",'Feuille de match'!$K$5=\"JUNIORSFINALE\",'Feuille de match'!$K$5=\"CADETSFINALE\",'Feuille de match'!$K$5=\"MINIMESBENJAMINSPOUSSINSFINALE\"),\"0\",0))","v":0},{"$f":"IF(LEN($AY$4)=2,\"00\"&$AY$4,IF(LEN($AY$4)=3,\"0\"&$AY$4,$AY$4))","v":0},{"$f":"IFERROR(RIGHT($AZ$4,2),0)","v":"0"},{"$f":"IFERROR(LEFT($AZ$4,2),0)","v":"0"},null,null,null,null,"Ligne 1",{"$f":"IF(LEN('Feuille de match'!$M$17)=2,\"00\"&'Feuille de match'!$M$17,IF(LEN('Feuille de match'!$M$17)=3,\"0\"&'Feuille de match'!$M$17,'Feuille de match'!$M$17))","v":0},{"$f":"IFERROR(LEFT($BH$4,2),0)","v":"0"},{"$f":"IFERROR(RIGHT($BH$4,2),0)","v":"0"},{"$f":"IF($BI$4>$BJ$4,1,0)","v":0},{"$f":"IF($BI$4<$BJ$4,1,0)","v":0},{"$f":"IF(LEN('Feuille de match'!$N$17)=2,\"00\"&'Feuille de match'!$N$17,IF(LEN('Feuille de match'!$N$17)=3,\"0\"&'Feuille de match'!$N$17,'Feuille de match'!$N$17))","v":0},{"$f":"IFERROR(LEFT($BM$4,2),0)","v":"0"},{"$f":"IFERROR(RIGHT($BM$4,2),0)","v":"0"},{"$f":"IF($BN$4>$BO$4,1,0)","v":0},{"$f":"IF($BN$4<$BO$4,1,0)","v":0},{"$f":"IF(LEN('Feuille de match'!$O$17)=2,\"00\"&'Feuille de match'!$O$17,IF(LEN('Feuille de match'!$O$17)=3,\"0\"&'Feuille de match'!$O$17,'Feuille de match'!$O$17))","v":0},{"$f":"IFERROR(LEFT($BR$4,2),0)","v":"0"},{"$f":"IFERROR(RIGHT($BR$4,2),0)","v":"0"},{"$f":"IF($BS$4>$BT$4,1,0)","v":0},{"$f":"IF($BS$4<$BT$4,1,0)","v":0},{"$f":"IF(LEN('Feuille de match'!$P$17)=2,\"00\"&'Feuille de match'!$P$17,IF(LEN('Feuille de match'!$P$17)=3,\"0\"&'Feuille de match'!$P$17,'Feuille de match'!$P$17))","v":0},{"$f":"IFERROR(LEFT($BW$4,2),0)","v":"0"},{"$f":"IFERROR(RIGHT($BW$4,2),0)","v":"0"},{"$f":"IF($BX$4>$BY$4,1,0)","v":0},{"$f":"IF($BX$4<$BY$4,1,0)","v":0},{"$f":"IF(LEN('Feuille de match'!$Q$17)=2,\"00\"&'Feuille de match'!$Q$17,IF(LEN('Feuille de match'!$Q$17)=3,\"0\"&'Feuille de match'!$Q$17,'Feuille de match'!$Q$17))","v":0},{"$f":"IFERROR(LEFT($CB$4,2),0)","v":"0"},{"$f":"IFERROR(RIGHT($CB$4,2),0)","v":"0"},{"$f":"IF($CC$4>$CD$4,1,0)","v":0},{"$f":"IF($CC$4<$CD$4,1,0)","v":0},{"$f":"IF(LEN('Feuille de match'!$R$17)=2,\"00\"&'Feuille de match'!$R$17,IF(LEN('Feuille de match'!$R$17)=3,\"0\"&'Feuille de match'!$R$17,'Feuille de match'!$R$17))","v":0},{"$f":"IFERROR(LEFT($CG$4,2),0)","v":"0"},{"$f":"IFERROR(RIGHT($CG$4,2),0)","v":"0"},{"$f":"IF($CH$4>$CI$4,1,0)","v":0},{"$f":"IF($CH$4<$CI$4,1,0)","v":0},{"$f":"IF(LEN('Feuille de match'!$S$17)=2,\"00\"&'Feuille de match'!$S$17,IF(LEN('Feuille de match'!$S$17)=3,\"0\"&'Feuille de match'!$S$17,'Feuille de match'!$S$17))","v":0},{"$f":"IFERROR(LEFT($CL$4,2),0)","v":"0"},{"$f":"IFERROR(RIGHT($CL$4,2),0)","v":"0"},{"$f":"IF($CM$4>$CN$4,1,0)","v":0},{"$f":"IF($CM$4<$CN$4,1,0)","v":0},{"$f":"$BK$4+$BP$4+$BU$4+$BZ$4+$CE$4+$CJ$4+$CO$4","v":0},{"$f":"$BL$4+$BQ$4+$BV$4+$CA$4+$CF$4+$CK$4+$CP$4","v":0},{"$f":"IF(AND(COUNTIF('Feuille de match'!$D17,\"*JOUEUR ABSENT*\"),COUNTIF('Feuille de match'!$J17,\"*JOUEUR ABSENT*\")),0,IF($CQ4>$CR4,1,0))","v":0},{"$f":"IF(AND(COUNTIF('Feuille de match'!$D17,\"*JOUEUR ABSENT*\"),COUNTIF('Feuille de match'!$J17,\"*JOUEUR ABSENT*\")),0,IF($CQ4<$CR4,1,0))","v":0},"EXCELLENCE",{"$f":"$H$4","v":"CP Zutzendorf 1"},"Vendredi","20H00","A,B,",{"$f":"$G$9","v":"VETERANSD1NORD"},11,11,11,11,{"$f":"$G$9","v":"VETERANSD1NORD"},"Do","A",true,{"$f":"IF($DH$4=\"\",\"\",IF($DH$4=TRUE,\"\",IF($DH$4=FALSE,'Feuille de match'!$D$10)))","v":""},null,{"$f":"IF($DJ$4=\"\",\"\",IF($DJ$4=TRUE,\"\",IF($DJ$4=FALSE,'Feuille de match'!$D$10)))","v":""},{"$f":"$DI$4&$DI$5&$DI$6&$DI$7&\" + \"&$DK$4&$DK$5&$DK$6&$DK$7","v":" + "},null,{"$f":"IF($DM$4=\"\",\"\",IF($DM$4=TRUE,\"\",IF($DM$4=FALSE,'Feuille de match'!$D$10)))","v":""},null,{"$f":"IF($DO$4=\"\",\"\",IF($DO$4=TRUE,\"\",IF($DO$4=FALSE,'Feuille de match'!$D$10)))","v":""},{"$f":"$DN$4&$DN$5&$DN$6&$DN$7&\" + \"&$DP$4&$DP$5&$DP$6&$DP$7","v":" + "},"ALLER",{"$f":"$DR$3&\" - \"&$DS$3","v":"0 - 0"},{"$f":" 'Feuille de match'!$U$35","v":0},{"$f":" 'Feuille de match'!$V$35","v":0},{"$f":"Listedesmatchs!$W$2&Listedesmatchs!$W$3&Listedesmatchs!$W$4&Listedesmatchs!$W$5&Listedesmatchs!$W$6&Listedesmatchs!$W$7&Listedesmatchs!$W$8&Listedesmatchs!$W$9&Listedesmatchs!$W$10&Listedesmatchs!$W$11&Listedesmatchs!$W$12&Listedesmatchs!$W$13&Listedesmatchs!$W$14&Listedesmatchs!$W$15&Listedesmatchs!$W$16&Listedesmatchs!$W$17&Listedesmatchs!$W$18&Listedesmatchs!$W$19&Listedesmatchs!$W$20&Listedesmatchs!$W$21&Listedesmatchs!$W$22&Listedesmatchs!$W$23&Listedesmatchs!$W$24&Listedesmatchs!$W$25&Listedesmatchs!$W$26&Listedesmatchs!$W$27&Listedesmatchs!$W$28&Listedesmatchs!$W$29&Listedesmatchs!$W$30&Listedesmatchs!$W$31&Listedesmatchs!$W$32&Listedesmatchs!$W$33&Listedesmatchs!$W$34&Listedesmatchs!$W$35&Listedesmatchs!$W$36&Listedesmatchs!$W$37&Listedesmatchs!$W$38&Listedesmatchs!$W$39&Listedesmatchs!$W$40&Listedesmatchs!$W$41&Listedesmatchs!$W$42&Listedesmatchs!$W$43&Listedesmatchs!$W$44&Listedesmatchs!$W$45&Listedesmatchs!$W$46&Listedesmatchs!$W$47&Listedesmatchs!$W$48&Listedesmatchs!$W$49&Listedesmatchs!$W$50&Listedesmatchs!$W$51&Listedesmatchs!$W$52&Listedesmatchs!$W$53&Listedesmatchs!$W$54&Listedesmatchs!$W$55&Listedesmatchs!$W$56&Listedesmatchs!$W$57&Listedesmatchs!$W$58&Listedesmatchs!$W$59&Listedesmatchs!$W$60&Listedesmatchs!$W$61&Listedesmatchs!$W$62&Listedesmatchs!$W$63&Listedesmatchs!$W$64&Listedesmatchs!$W$65&Listedesmatchs!$W$66&Listedesmatchs!$W$67&Listedesmatchs!$W$68&Listedesmatchs!$W$69&Listedesmatchs!$W$70&Listedesmatchs!$W$71&Listedesmatchs!$W$72&Listedesmatchs!$W$73&Listedesmatchs!$W$74&Listedesmatchs!$W$75&Listedesmatchs!$W$76&Listedesmatchs!$W$77&Listedesmatchs!$W$78&Listedesmatchs!$W$79&Listedesmatchs!$W$80&Listedesmatchs!$W$81&Listedesmatchs!$W$82&Listedesmatchs!$W$83&Listedesmatchs!$W$84&Listedesmatchs!$W$85&Listedesmatchs!$W$86&Listedesmatchs!$W$87&Listedesmatchs!$W$88&Listedesmatchs!$W$89&Listedesmatchs!$W$90&Listedesmatchs!$W$91&Listedesmatchs!$W$92&Listedesmatchs!$W$93&Listedesmatchs!$W$94&Listedesmatchs!$W$95&Listedesmatchs!$W$96&Listedesmatchs!$W$97&Listedesmatchs!$W$98&Listedesmatchs!$W$99&Listedesmatchs!$W$100&Listedesmatchs!$W$101&Listedesmatchs!$W$102&Listedesmatchs!$W$103&Listedesmatchs!$W$104&Listedesmatchs!$W$105&Listedesmatchs!$W$106&Listedesmatchs!$W$107&Listedesmatchs!$W$108&Listedesmatchs!$W$109&Listedesmatchs!$W$110&Listedesmatchs!$W$111&Listedesmatchs!$W$112&Listedesmatchs!$W$113&Listedesmatchs!$W$114&Listedesmatchs!$W$115&Listedesmatchs!$W$116&Listedesmatchs!$W$117&Listedesmatchs!$W$118&Listedesmatchs!$W$119&Listedesmatchs!$W$120&Listedesmatchs!$W$121&Listedesmatchs!$W$122&Listedesmatchs!$W$123&Listedesmatchs!$W$124&Listedesmatchs!$W$125&Listedesmatchs!$W$126&Listedesmatchs!$W$127&Listedesmatchs!$W$128&Listedesmatchs!$W$129&Listedesmatchs!$W$130&Listedesmatchs!$W$131&Listedesmatchs!$W$132&Listedesmatchs!$W$133&Listedesmatchs!$W$134&Listedesmatchs!$W$135&Listedesmatchs!$W$136&Listedesmatchs!$W$137&Listedesmatchs!$W$138&Listedesmatchs!$W$139&Listedesmatchs!$W$140&Listedesmatchs!$W$141&Listedesmatchs!$W$142&Listedesmatchs!$W$143&Listedesmatchs!$W$144&Listedesmatchs!$W$145&Listedesmatchs!$W$146&Listedesmatchs!$W$147&Listedesmatchs!$W$148&Listedesmatchs!$W$149&Listedesmatchs!$W$150&Listedesmatchs!$W$151&Listedesmatchs!$W$152&Listedesmatchs!$W$153&Listedesmatchs!$W$154&Listedesmatchs!$W$155&Listedesmatchs!$W$156&Listedesmatchs!$W$157&Listedesmatchs!$W$158&Listedesmatchs!$W$159&Listedesmatchs!$W$160&Listedesmatchs!$W$161&Listedesmatchs!$W$162&Listedesmatchs!$W$163&Listedesmatchs!$W$164&Listedesmatchs!$W$165&Listedesmatchs!$W$166&Listedesmatchs!$W$167&Listedesmatchs!$W$168&Listedesmatchs!$W$169&Listedesmatchs!$W$170&Listedesmatchs!$W$171&Listedesmatchs!$W$172&Listedesmatchs!$W$173&Listedesmatchs!$W$174&Listedesmatchs!$W$175&Listedesmatchs!$W$176&Listedesmatchs!$W$177&Listedesmatchs!$W$178&Listedesmatchs!$W$179&Listedesmatchs!$W$180&Listedesmatchs!$W$181&Listedesmatchs!$W$182&Listedesmatchs!$W$183&Listedesmatchs!$W$184&Listedesmatchs!$W$185&Listedesmatchs!$W$186&Listedesmatchs!$W$187&Listedesmatchs!$W$188&Listedesmatchs!$W$189&Listedesmatchs!$W$190&Listedesmatchs!$W$191&Listedesmatchs!$W$192&Listedesmatchs!$W$193&Listedesmatchs!$W$194&Listedesmatchs!$W$195&Listedesmatchs!$W$196&Listedesmatchs!$W$197&Listedesmatchs!$W$198&Listedesmatchs!$W$199&Listedesmatchs!$W$200&Listedesmatchs!$W$201&Listedesmatchs!$W$202&Listedesmatchs!$W$203&Listedesmatchs!$W$204&Listedesmatchs!$W$205&Listedesmatchs!$W$206&Listedesmatchs!$W$207&Listedesmatchs!$W$208&Listedesmatchs!$W$209&Listedesmatchs!$W$210&Listedesmatchs!$W$211&Listedesmatchs!$W$212&Listedesmatchs!$W$213&Listedesmatchs!$W$214&Listedesmatchs!$W$215&Listedesmatchs!$W$216&Listedesmatchs!$W$217&Listedesmatchs!$W$218&Listedesmatchs!$W$219&Listedesmatchs!$W$220&Listedesmatchs!$W$221&Listedesmatchs!$W$222&Listedesmatchs!$W$223&Listedesmatchs!$W$224&Listedesmatchs!$W$225&Listedesmatchs!$W$226&Listedesmatchs!$W$227&Listedesmatchs!$W$228&Listedesmatchs!$W$229&Listedesmatchs!$W$230&Listedesmatchs!$W$231&Listedesmatchs!$W$232&Listedesmatchs!$W$233&Listedesmatchs!$W$234&Listedesmatchs!$W$235&Listedesmatchs!$W$236&Listedesmatchs!$W$237&Listedesmatchs!$W$238&Listedesmatchs!$W$239&Listedesmatchs!$W$240&Listedesmatchs!$W$241&Listedesmatchs!$W$242&Listedesmatchs!$W$243&Listedesmatchs!$W$244&Listedesmatchs!$W$245&Listedesmatchs!$W$246&Listedesmatchs!$W$247&Listedesmatchs!$W$248&Listedesmatchs!$W$249&Listedesmatchs!$W$250&Listedesmatchs!$W$251&Listedesmatchs!$W$252&Listedesmatchs!$W$253&Listedesmatchs!$W$254&Listedesmatchs!$W$255&Listedesmatchs!$W$256&Listedesmatchs!$W$257&Listedesmatchs!$W$258&Listedesmatchs!$W$259&Listedesmatchs!$W$260&Listedesmatchs!$W$261&Listedesmatchs!$W$262&Listedesmatchs!$W$263&Listedesmatchs!$W$264&Listedesmatchs!$W$265&Listedesmatchs!$W$266&Listedesmatchs!$W$267&Listedesmatchs!$W$268&Listedesmatchs!$W$269&Listedesmatchs!$W$270&Listedesmatchs!$W$271&Listedesmatchs!$W$272&Listedesmatchs!$W$273&Listedesmatchs!$W$274&Listedesmatchs!$W$275&Listedesmatchs!$W$276&Listedesmatchs!$W$277&Listedesmatchs!$W$278&Listedesmatchs!$W$279&Listedesmatchs!$W$280&Listedesmatchs!$W$281&Listedesmatchs!$W$282&Listedesmatchs!$W$283&Listedesmatchs!$W$284&Listedesmatchs!$W$285&Listedesmatchs!$W$286&Listedesmatchs!$W$287&Listedesmatchs!$W$288&Listedesmatchs!$W$289&Listedesmatchs!$W$290&Listedesmatchs!$W$291&Listedesmatchs!$W$292&Listedesmatchs!$W$293&Listedesmatchs!$W$294&Listedesmatchs!$W$295&Listedesmatchs!$W$296&Listedesmatchs!$W$297&Listedesmatchs!$W$298&Listedesmatchs!$W$299&Listedesmatchs!$W$300","v":""},{"$f":"Listedesmatchs!$W$301&Listedesmatchs!$W$302&Listedesmatchs!$W$303&Listedesmatchs!$W$304&Listedesmatchs!$W$305&Listedesmatchs!$W$306&Listedesmatchs!$W$307&Listedesmatchs!$W$308&Listedesmatchs!$W$309&Listedesmatchs!$W$310&Listedesmatchs!$W$311&Listedesmatchs!$W$312&Listedesmatchs!$W$313&Listedesmatchs!$W$314&Listedesmatchs!$W$315&Listedesmatchs!$W$316&Listedesmatchs!$W$317&Listedesmatchs!$W$318&Listedesmatchs!$W$319&Listedesmatchs!$W$320&Listedesmatchs!$W$321&Listedesmatchs!$W$322&Listedesmatchs!$W$323&Listedesmatchs!$W$324&Listedesmatchs!$W$325&Listedesmatchs!$W$326&Listedesmatchs!$W$327&Listedesmatchs!$W$328&Listedesmatchs!$W$329&Listedesmatchs!$W$330&Listedesmatchs!$W$331&Listedesmatchs!$W$332&Listedesmatchs!$W$333&Listedesmatchs!$W$334&Listedesmatchs!$W$335&Listedesmatchs!$W$336&Listedesmatchs!$W$337&Listedesmatchs!$W$338&Listedesmatchs!$W$339&Listedesmatchs!$W$340&Listedesmatchs!$W$341&Listedesmatchs!$W$342&Listedesmatchs!$W$343&Listedesmatchs!$W$344&Listedesmatchs!$W$345&Listedesmatchs!$W$346&Listedesmatchs!$W$347&Listedesmatchs!$W$348&Listedesmatchs!$W$349&Listedesmatchs!$W$350&Listedesmatchs!$W$351&Listedesmatchs!$W$352&Listedesmatchs!$W$353&Listedesmatchs!$W$354&Listedesmatchs!$W$355&Listedesmatchs!$W$356&Listedesmatchs!$W$357&Listedesmatchs!$W$358&Listedesmatchs!$W$359&Listedesmatchs!$W$360&Listedesmatchs!$W$361&Listedesmatchs!$W$362&Listedesmatchs!$W$363&Listedesmatchs!$W$364&Listedesmatchs!$W$365&Listedesmatchs!$W$366&Listedesmatchs!$W$367&Listedesmatchs!$W$368&Listedesmatchs!$W$369&Listedesmatchs!$W$370&Listedesmatchs!$W$371&Listedesmatchs!$W$372&Listedesmatchs!$W$373&Listedesmatchs!$W$374&Listedesmatchs!$W$375&Listedesmatchs!$W$376&Listedesmatchs!$W$377&Listedesmatchs!$W$378&Listedesmatchs!$W$379&Listedesmatchs!$W$380&Listedesmatchs!$W$381&Listedesmatchs!$W$382&Listedesmatchs!$W$383&Listedesmatchs!$W$384&Listedesmatchs!$W$385&Listedesmatchs!$W$386&Listedesmatchs!$W$387&Listedesmatchs!$W$388&Listedesmatchs!$W$389&Listedesmatchs!$W$390&Listedesmatchs!$W$391&Listedesmatchs!$W$392&Listedesmatchs!$W$393&Listedesmatchs!$W$394&Listedesmatchs!$W$395&Listedesmatchs!$W$396&Listedesmatchs!$W$397&Listedesmatchs!$W$398&Listedesmatchs!$W$399&Listedesmatchs!$W$400&Listedesmatchs!$W$401&Listedesmatchs!$W$402&Listedesmatchs!$W$403&Listedesmatchs!$W$404&Listedesmatchs!$W$405&Listedesmatchs!$W$406&Listedesmatchs!$W$407&Listedesmatchs!$W$408&Listedesmatchs!$W$409&Listedesmatchs!$W$410&Listedesmatchs!$W$411&Listedesmatchs!$W$412&Listedesmatchs!$W$413&Listedesmatchs!$W$414&Listedesmatchs!$W$415&Listedesmatchs!$W$416&Listedesmatchs!$W$417&Listedesmatchs!$W$418&Listedesmatchs!$W$419&Listedesmatchs!$W$420&Listedesmatchs!$W$421&Listedesmatchs!$W$422&Listedesmatchs!$W$423&Listedesmatchs!$W$424&Listedesmatchs!$W$425&Listedesmatchs!$W$426&Listedesmatchs!$W$427&Listedesmatchs!$W$428&Listedesmatchs!$W$429&Listedesmatchs!$W$430&Listedesmatchs!$W$431&Listedesmatchs!$W$432&Listedesmatchs!$W$433&Listedesmatchs!$W$434&Listedesmatchs!$W$435&Listedesmatchs!$W$436&Listedesmatchs!$W$437&Listedesmatchs!$W$438&Listedesmatchs!$W$439&Listedesmatchs!$W$440&Listedesmatchs!$W$441&Listedesmatchs!$W$442&Listedesmatchs!$W$554&Listedesmatchs!$W$555&Listedesmatchs!$W$556&Listedesmatchs!$W$557&Listedesmatchs!$W$558&Listedesmatchs!$W$559&Listedesmatchs!$W$560&Listedesmatchs!$W$561&Listedesmatchs!$W$562&Listedesmatchs!$W$563&Listedesmatchs!$W$564&Listedesmatchs!$W$565&Listedesmatchs!$W$566&Listedesmatchs!$W$567&Listedesmatchs!$W$568&Listedesmatchs!$W$569&Listedesmatchs!$W$570&Listedesmatchs!$W$571&Listedesmatchs!$W$572&Listedesmatchs!$W$573&Listedesmatchs!$W$574&Listedesmatchs!$W$575&Listedesmatchs!$W$576&Listedesmatchs!$W$577&Listedesmatchs!$W$578&Listedesmatchs!$W$579&Listedesmatchs!$W$580&Listedesmatchs!$W$581&Listedesmatchs!$W$582&Listedesmatchs!$W$583&Listedesmatchs!$W$584&Listedesmatchs!$W$585&Listedesmatchs!$W$586&Listedesmatchs!$W$587&Listedesmatchs!$W$588&Listedesmatchs!$W$589&Listedesmatchs!$W$590&Listedesmatchs!$W$591&Listedesmatchs!$W$592&Listedesmatchs!$W$593&Listedesmatchs!$W$594&Listedesmatchs!$W$595&Listedesmatchs!$W$596&Listedesmatchs!$W$597&Listedesmatchs!$W$598&Listedesmatchs!$W$599&Listedesmatchs!$W$600","v":""},{"$f":"IF($DV$4=\"\",$DW$4,IF($DW$4=\"\",$DV$4,\"\"))","v":""},null,{"$f":"EA4&EB4","v":"EXCELLENCECP Zutzendorf 1"},"EXCELLENCE",{"$f":"$H$4","v":"CP Zutzendorf 1"},"Vendredi","20H00"]
["2026-2027",4,3,3,2025,"JEUNES","MIXTESD1STRASBOURG","Hanau TT 1","Amitié Lingolsheim 2","Hanau TT 3","US Egalitaire Neudorf 4","CLTT Menchhoffen 4","Hanau TT 1","CLTT Menchhoffen 2","AS Electricité Strasbourg 1","Amitié Lingolsheim 4",null,"Amitié Lingolsheim 2","Manche 2",null,null,null,null,null,null,null,"Manche 2",null,null,null,"Manche 2",null,null,null,"Manche 2",null,null,null,null,null,null,null,"Manche 2",null,null,null,"Manche 2",null,null,null,"Manche 2",null,null,null,null,null,null,null,"Ligne 2",{"$f":"IF(LEN('Feuille de match'!$M$18)=2,\"00\"&'Feuille de match'!$M$18,IF(LEN('Feuille de match'!$M$18)=3,\"0\"&'Feuille de match'!$M$18,'Feuille de match'!$M$18))","v":0},{"$f":"IFERROR(LEFT($BH$5,2),0)","v":"0"},{"$f":"IFERROR(RIGHT($BH$5,2),0)","v":"0"},{"$f":"IF($BI$5>$BJ$5,1,0)","v":0},{"$f":"IF($BI$5<$BJ$5,1,0)","v":0},{"$f":"IF(LEN('Feuille de match'!$N$18)=2,\"00\"&'Feuille de match'!$N$18,IF(LEN('Feuille de match'!$N$18)=3,\"0\"&'Feuille de match'!$N$18,'Feuille de match'!$N$18))","v":0},{"$f":"IFERROR(LEFT($BM$5,2),0)","v":"0"},{"$f":"IFERROR(RIGHT($BM$5,2),0)","v":"0"},{"$f":"IF($BN$5>$BO$5,1,0)","v":0},{"$f":"IF($BN$5<$BO$5,1,0)","v":0},{"$f":"IF(LEN('Feuille de match'!$O$18)=2,\"00\"&'Feuille de match'!$O$18,IF(LEN('Feuille de match'!$O$18)=3,\"0\"&'Feuille de match'!$O$18,'Feuille de match'!$O$18))","v":0},{"$f":"IFERROR(LEFT($BR$5,2),0)","v":"0"},{"$f":"IFERROR(RIGHT($BR$5,2),0)","v":"0"},{"$f":"IF($BS$5>$BT$5,1,0)","v":0},{"$f":"IF($BS$5<$BT$5,1,0)","v":0},{"$f":"IF(LEN('Feuille de match'!$P$18)=2,\"00\"&'Feuille de match'!$P$18,IF(LEN('Feuille de match'!$P$18)=3,\"0\"&'Feuille de match'!$P$18,'Feuille de match'!$P$18))","v":0},{"$f":"IFERROR(LEFT($BW$5,2),0)","v":"0"},{"$f":"IFERROR(RIGHT($BW$5,2),0)","v":"0"},{"$f":"IF($BX$5>$BY$5,1,0)","v":0},{"$f":"IF($BX$5<$BY$5,1,0)","v":0},{"$f":"IF(LEN('Feuille de match'!$Q$18)=2,\"00\"&'Feuille de match'!$Q$18,IF(LEN('Feuille de match'!$Q$18)=3,\"0\"&'Feuille de match'!$Q$18,'Feuille de match'!$Q$18))","v":0},{"$f":"IFERROR(LEFT($CB$5,2),0)","v":"0"},{"$f":"IFERROR(RIGHT($CB$5,2),0)","v":"0"},{"$f":"IF($CC$5>$CD$5,1,0)","v":0},{"$f":"IF($CC$5<$CD$5,1,0)","v":0},{"$f":"IF(LEN('Feuille de match'!$R$18)=2,\"00\"&'Feuille de match'!$R$18,IF(LEN('Feuille de match'!$R$18)=3,\"0\"&'Feuille de match'!$R$18,'Feuille de match'!$R$18))","v":0},{"$f":"IFERROR(LEFT($CG$5,2),0)","v":"0"},{"$f":"IFERROR(RIGHT($CG$5,2),0)","v":"0"},{"$f":"IF($CH$5>$CI$5,1,0)","v":0},{"$f":"IF($CH$5<$CI$5,1,0)","v":0},{"$f":"IF(LEN('Feuille de match'!$S$18)=2,\"00\"&'Feuille de match'!$S$18,IF(LEN('Feuille de match'!$S$18)=3,\"0\"&'Feuille de match'!$S$18,'Feuille de match'!$S$18))","v":0},{"$f":"IFERROR(LEFT($CL$5,2),0)","v":"0"},{"$f":"IFERROR(RIGHT($CL$5,2),0)","v":"0"},{"$f":"IF($CM$5>$CN$5,1,0)","v":0},{"$f":"IF($CM$5<$CN$5,1,0)","v":0},{"$f":"$BK$5+$BP$5+$BU$5+$BZ$5+$CE$5+$CJ$5+$CO$5","v":0},{"$f":"$BL$5+$BQ$5+$BV$5+$CA$5+$CF$5+$CK$5+$CP$5","v":0},{"$f":"IF(AND(COUNTIF('Feuille de match'!$D18,\"*JOUEUR ABSENT*\"),COUNTIF('Feuille de match'!$J18,\"*JOUEUR ABSENT*\")),0,IF($CQ5>$CR5,1,0))","v":0},{"$f":"IF(AND(COUNTIF('Feuille de match'!$D18,\"*JOUEUR ABSENT*\"),COUNTIF('Feuille de match'!$J18,\"*JOUEUR ABSENT*\")),0,IF($CQ5<$CR5,1,0))","v":0},"EXCELLENCE",{"$f":"$H$5","v":"Hanau TT 1"},"Vendredi","20H00","A,B,",{"$f":"$G$10","v":"VETERANSD2NORD"},11,11,11,11,{"$f":"$G$10","v":"VETERANSD2NORD"},"Do ","B",null,{"$f":"IF($DH$5=\"\",\"\",IF($DH$5=TRUE,\"\",IF($DH$5=FALSE,'Feuille de match'!$D$11)))","v":""},true,{"$f":"IF($DJ$5=\"\",\"\",IF($DJ$5=TRUE,\"\",IF($DJ$5=FALSE,'Feuille de match'!$D$11)))","v":""},null,null,{"$f":"IF($DM$5=\"\",\"\",IF($DM$5=TRUE,\"\",IF($DM$5=FALSE,'Feuille de match'!$D$11)))","v":""},null,{"$f":"IF($DO$5=\"\",\"\",IF($DO$5=TRUE,\"\",IF($DO$5=FALSE,'Feuille de match'!$D$11)))","v":""},null,"RETOUR",{"$f":"$DS$3&\" - \"&$DR$3","v":"0 - 0"},{"$f":" 'Feuille de match'!$V$35","v":0},{"$f":" 'Feuille de match'!$U$35","v":0},null,"autre methode",{"$f":"IFERROR(INDEX(Listedesmatchs!$W$2:$W$700,MATCH(TRUE,Listedesmatchs!$W$2:$W$700<>\"\",0)),\"\")","v":""},null,"EXCELLENCEHanau TT 1","EXCELLENCE",{"$f":"$H$5","v":"Hanau TT 1"},"Vendredi","20H00"]
["2027-2028",5,4,4,2026,"FINALESDEPARTEMENTALES","VETERANSD1STRASBOURG","CLTT Menchhoffen 1","Amitié Lingolsheim 3","CLTT Menchhoffen 2","Amitié Lingolsheim 4","CLTT Menchhoffen 3","CLTT Menchhoffen 1","CLTT Menchhoffen 3","UT AURORA Schilt.-B. 1","Amitié Lingolsheim 5",null,"Amitié Lingolsheim 3",{"$f":"IF(OR('Feuille de match'!$K$5=\"EXCELLENCE\",'Feuille de match'!$K$5=\"HONNEUR\",'Feuille de match'!$K$5=\"PROMOTIONNORD\",'Feuille de match'!$K$5=\"ADULTESDIVISION1NORD\",'Feuille de match'!$K$5=\"PROMOTIONSTRASBOURG\",'Feuille de match'!$K$5=\"PROMOTIONFINALE\"),'Feuille de match'!$N$23,IF(OR('Feuille de match'!$K$5=\"MIXTESD1NORD\",'Feuille de match'!$K$5=\"MIXTESD1STRASBOURG\",'Feuille de match'!$K$5=\"VETERANSD1STRASBOURG\",'Feuille de match'!$K$5=\"VETERANSD2STRASBOURG\",'Feuille de match'!$K$5=\"VETERANSD1NORD\",'Feuille de match'!$K$5=\"VETERANSD2NORD\",'Feuille de match'!$K$5=\"JUNIORS\",'Feuille de match'!$K$5=\"CADETS\",'Feuille de match'!$K$5=\"MINIMESBENJAMINSPOUSSINS\",'Feuille de match'!$K$5=\"MIXTESD1FINALE\",'Feuille de match'!$K$5=\"VETERANSD1FINALE\",'Feuille de match'!$K$5=\"VETERANSD2FINALE\",'Feuille de match'!$K$5=\"JUNIORSFINALE\",'Feuille de match'!$K$5=\"CADETSFINALE\",'Feuille de match'!$K$5=\"MINIMESBENJAMINSPOUSSINSFINALE\"),'Feuille de match'!$N$19,0))","v":0},{"$f":"IF(LEN($S$6)=2,\"00\"&$S6,IF(LEN($S$6)=3,\"0\"&$S$6,$S$6))","v":0},{"$f":"IFERROR(LEFT($T$6,2),0)","v":"0"},{"$f":"IFERROR(RIGHT($T$6,2),0)","v":"0"},null,null,null,null,{"$f":"IF(OR('Feuille de match'!$K$5=\"EXCELLENCE\",'Feuille de match'!$K$5=\"HONNEUR\",'Feuille de match'!$K$5=\"PROMOTIONNORD\",'Feuille de match'!$K$5=\"ADULTESDIVISION1NORD\",'Feuille de match'!$K$5=\"PROMOTIONSTRASBOURG\",'Feuille de match'!$K$5=\"PROMOTIONFINALE\"),'Feuille de match'!$N$17,IF(OR('Feuille de match'!$K$5=\"MIXTESD1NORD\",'Feuille de match'!$K$5=\"MIXTESD1STRASBOURG\",'Feuille de match'!$K$5=\"VETERANSD1STRASBOURG\",'Feuille de match'!$K$5=\"VETERANSD2STRASBOURG\",'Feuille de match'!$K$5=\"VETERANSD1NORD\",'Feuille de match'!$K$5=\"VETERANSD2NORD\",'Feuille de match'!$K$5=\"JUNIORS\",'Feuille de match'!$K$5=\"CADETS\",'Feuille de match'!$K$5=\"MINIMESBENJAMINSPOUSSINS\",'Feuille de match'!$K$5=\"MIXTESD1FINALE\",'Feuille de match'!$K$5=\"VETERANSD1FINALE\",'Feuille de match'!$K$5=\"VETERANSD2FINALE\",'Feuille de match'!$K$5=\"JUNIORSFINALE\",'Feuille de match'!$K$5=\"CADETSFINALE\",'Feuille de match'!$K$5=\"MINIMESBENJAMINSPOUSSINSFINALE\"),'Feuille de match'!$N$17,0))","v":0},{"$f":"IF(LEN($AA$6)=2,\"00\"&$AA6,IF(LEN($AA$6)=3,\"0\"&$AA$6,$AA$6))","v":0},{"$f":"IFERROR(LEFT($AB$6,2),0)","v":"0"},{"$f":"IFERROR(RIGHT($AB$6,2),0)","v":"0"},{"$f":"IF(OR('Feuille de match'!$K$5=\"EXCELLENCE\",'Feuille de match'!$K$5=\"HONNEUR\",'Feuille de match'!$K$5=\"PROMOTIONNORD\",'Feuille de match'!$K$5=\"ADULTESDIVISION1NORD\",'Feuille de match'!$K$5=\"PROMOTIONSTRASBOURG\",'Feuille de match'!$K$5=\"PROMOTIONFINALE\"),'Feuille de match'!$N$18,IF(OR('Feuille de match'!$K$5=\"MIXTESD1NORD\",'Feuille de match'!$K$5=\"MIXTESD1STRASBOURG\",'Feuille de match'!$K$5=\"VETERANSD1STRASBOURG\",'Feuille de match'!$K$5=\"VETERANSD2STRASBOURG\",'Feuille de match'!$K$5=\"VETERANSD1NORD\",'Feuille de match'!$K$5=\"VETERANSD2NORD\",'Feuille de match'!$K$5=\"JUNIORS\",'Feuille de match'!$K$5=\"CADETS\",'Feuille de match'!$K$5=\"MINIMESBENJAMINSPOUSSINS\",'Feuille de match'!$K$5=\"MIXTESD1FINALE\",'Feuille de match'!$K$5=\"VETERANSD1FINALE\",'Feuille de match'!$K$5=\"VETERANSD2FINALE\",'Feuille de match'!$K$5=\"JUNIORSFINALE\",'Feuille de match'!$K$5=\"CADETSFINALE\",'Feuille de match'!$K$5=\"MINIMESBENJAMINSPOUSSINSFINALE\"),'Feuille de match'!$N$18,0))","v":0},{"$f":"IF(LEN($AE$6)=2,\"00\"&$AE6,IF(LEN($AE$6)=3,\"0\"&$AE$6,$AE$6))","v":0},{"$f":"IFERROR(LEFT($AF$6,2),0)","v":"0"},{"$f":"IFERROR(RIGHT($AF$6,2),0)","v":"0"},{"$f":"IF(OR('Feuille de match'!$K$5=\"EXCELLENCE\",'Feuille de match'!$K$5=\"HONNEUR\",'Feuille de match'!$K$5=\"PROMOTIONNORD\",'Feuille de match'!$K$5=\"ADULTESDIVISION1NORD\",'Feuille de match'!$K$5=\"PROMOTIONSTRASBOURG\",'Feuille de match'!$K$5=\"PROMOTIONFINALE\"),'Feuille de match'!$N$19,IF(OR('Feuille de match'!$K$5=\"MIXTESD1NORD\",'Feuille de match'!$K$5=\"MIXTESD1STRASBOURG\",'Feuille de match'!$K$5=\"VETERANSD1STRASBOURG\",'Feuille de match'!$K$5=\"VETERANSD2STRASBOURG\",'Feuille de match'!$K$5=\"VETERANSD1NORD\",'Feuille de match'!$K$5=\"VETERANSD2NORD\",'Feuille de match'!$K$5=\"JUNIORS\",'Feuille de match'!$K$5=\"CADETS\",'Feuille de match'!$K$5=\"MINIMESBENJAMINSPOUSSINS\",'Feuille de match'!$K$5=\"MIXTESD1FINALE\",'Feuille de match'!$K$5=\"VETERANSD1FINALE\",'Feuille de match'!$K$5=\"VETERANSD2FINALE\",'Feuille de match'!$K$5=\"JUNIORSFINALE\",'Feuille de match'!$K$5=\"CADETSFINALE\",'Feuille de match'!$K$5=\"MINIMESBENJAMINSPOUSSINSFINALE\"),\"0\",0))","v":0},{"$f":"IF(LEN($AI$6)=2,\"00\"&$AI6,IF(LEN($AI$6)=3,\"0\"&$AI$6,$AI$6))","v":0},{"$f":"IFERROR(LEFT($AJ$6,2),0)","v":"0"},{"$f":"IFERROR(RIGHT($AJ$6,2),0)","v":"0"},null,null,null,null,{"$f":"IF(OR('Feuille de match'!$K$5=\"EXCELLENCE\",'Feuille de match'!$K$5=\"HONNEUR\",'Feuille de match'!$K$5=\"PROMOTIONNORD\",'Feuille de match'!$K$5=\"ADULTESDIVISION1NORD\",'Feuille de match'!$K$5=\"PROMOTIONSTRASBOURG\",'Feuille de match'!$K$5=\"PROMOTIONFINALE\"),'Feuille de match'!$N$17,IF(OR('Feuille de match'!$K$5=\"MIXTESD1NORD\",'Feuille de match'!$K$5=\"MIXTESD1STRASBOURG\",'Feuille de match'!$K$5=\"VETERANSD1STRASBOURG\",'Feuille de match'!$K$5=\"VETERANSD2STRASBOURG\",'Feuille de match'!$K$5=\"VETERANSD1NORD\",'Feuille de match'!$K$5=\"VETERANSD2NORD\",'Feuille de match'!$K$5=\"JUNIORS\",'Feuille de match'!$K$5=\"CADETS\",'Feuille de match'!$K$5=\"MINIMESBENJAMINSPOUSSINS\",'Feuille de match'!$K$5=\"MIXTESD1FINALE\",'Feuille de match'!$K$5=\"VETERANSD1FINALE\",'Feuille de match'!$K$5=\"VETERANSD2FINALE\",'Feuille de match'!$K$5=\"JUNIORSFINALE\",'Feuille de match'!$K$5=\"CADETSFINALE\",'Feuille de match'!$K$5=\"MINIMESBENJAMINSPOUSSINSFINALE\"),'Feuille de match'!$N$17,0))","v":0},{"$f":"IF(LEN($AQ$6)=2,\"00\"&$AQ6,IF(LEN($AQ$6)=3,\"0\"&$AQ$6,$AQ$6))","v":0},{"$f":"IFERROR(RIGHT($AR$6,2),0)","v":"0"},{"$f":"IFERROR(LEFT($AR$6,2),0)","v":"0"},{"$f":"IF(OR('Feuille de match'!$K$5=\"EXCELLENCE\",'Feuille de match'!$K$5=\"HONNEUR\",'Feuille de match'!$K$5=\"PROMOTIONNORD\",'Feuille de match'!$K$5=\"ADULTESDIVISION1NORD\",'Feuille de match'!$K$5=\"PROMOTIONSTRASBOURG\",'Feuille de match'!$K$5=\"PROMOTIONFINALE\"),'Feuille de match'!$N$18,IF(OR('Feuille de match'!$K$5=\"MIXTESD1NORD\",'Feuille de match'!$K$5=\"MIXTESD1STRASBOURG\",'Feuille de match'!$K$5=\"VETERANSD1STRASBOURG\",'Feuille de match'!$K$5=\"VETERANSD2STRASBOURG\",'Feuille de match'!$K$5=\"VETERANSD1NORD\",'Feuille de match'!$K$5=\"VETERANSD2NORD\",'Feuille de match'!$K$5=\"JUNIORS\",'Feuille de match'!$K$5=\"CADETS\",'Feuille de match'!$K$5=\"MINIMESBENJAMINSPOUSSINS\",'Feuille de match'!$K$5=\"MIXTESD1FINALE\",'Feuille de match'!$K$5=\"VETERANSD1FINALE\",'Feuille de match'!$K$5=\"VETERANSD2FINALE\",'Feuille de match'!$K$5=\"JUNIORSFINALE\",'Feuille de match'!$K$5=\"CADETSFINALE\",'Feuille de match'!$K$5=\"MINIMESBENJAMINSPOUSSINSFINALE\"),'Feuille de match'!$N$18,0))","v":0},{"$f":"IF(LEN($AU$6)=2,\"00\"&$AU6,IF(LEN($AU$6)=3,\"0\"&$AU$6,$AU$6))","v":0},{"$f":"IFERROR(RIGHT($AV$6,2),0)","v":"0"},{"$f":"IFERROR(LEFT($AV$6,2),0)","v":"0"},{"$f":"IF(OR('Feuille de match'!$K$5=\"EXCELLENCE\",'Feuille de match'!$K$5=\"HONNEUR\",'Feuille de match'!$K$5=\"PROMOTIONNORD\",'Feuille de match'!$K$5=\"ADULTESDIVISION1NORD\",'Feuille de match'!$K$5=\"PROMOTIONSTRASBOURG\",'Feuille de match'!$K$5=\"PROMOTIONFINALE\"),'Feuille de match'!$N$19,IF(OR('Feuille de match'!$K$5=\"MIXTESD1NORD\",'Feuille de match'!$K$5=\"MIXTESD1STRASBOURG\",'Feuille de match'!$K$5=\"VETERANSD1STRASBOURG\",'Feuille de match'!$K$5=\"VETERANSD2STRASBOURG\",'Feuille de match'!$K$5=\"VETERANSD1NORD\",'Feuille de match'!$K$5=\"VETERANSD2NORD\",'Feuille de match'!$K$5=\"JUNIORS\",'Feuille de match'!$K$5=\"CADETS\",'Feuille de match'!$K$5=\"MINIMESBENJAMINSPOUSSINS\",'Feuille de match'!$K$5=\"MIXTESD1FINALE\",'Feuille de match'!$K$5=\"VETERANSD1FINALE\",'Feuille de match'!$K$5=\"VETERANSD2FINALE\",'Feuille de match'!$K$5=\"JUNIORSFINALE\",'Feuille de match'!$K$5=\"CADETSFINALE\",'Feuille de match'!$K$5=\"MINIMESBENJAMINSPOUSSINSFINALE\"),\"0\",0))","v":0},{"$f":"IF(LEN($AY$6)=2,\"00\"&$AY6,IF(LEN($AY$6)=3,\"0\"&$AY$6,$AY$6))","v":0},{"$f":"IFERROR(RIGHT($AZ$6,2),0)","v":"0"},{"$f":"IFERROR(LEFT($AZ$6,2),0)","v":"0"},null,null,null,null,"Ligne3",{"$f":"IF(LEN('Feuille de match'!$M$19)=2,\"00\"&'Feuille de match'!$M$19,IF(LEN('Feuille de match'!$M$19)=3,\"0\"&'Feuille de match'!$M$19,'Feuille de match'!$M$19))","v":0},{"$f":"IFERROR(LEFT($BH$6,2),0)","v":"0"},{"$f":"IFERROR(RIGHT($BH$6,2),0)","v":"0"},{"$f":"IF($BI$6>$BJ$6,1,0)","v":0},{"$f":"IF($BI$6<$BJ$6,1,0)","v":0},{"$f":"IF(LEN('Feuille de match'!$N$19)=2,\"00\"&'Feuille de match'!$N$19,IF(LEN('Feuille de match'!$N$19)=3,\"0\"&'Feuille de match'!$N$19,'Feuille de match'!$N$19))","v":0},{"$f":"IFERROR(LEFT($BM$6,2),0)","v":"0"},{"$f":"IFERROR(RIGHT($BM$6,2),0)","v":"0"},{"$f":"IF($BN$6>$BO$6,1,0)","v":0},{"$f":"IF($BN$6<$BO$6,1,0)","v":0},{"$f":"IF(LEN('Feuille de match'!$O$19)=2,\"00\"&'Feuille de match'!$O$19,IF(LEN('Feuille de match'!$O$19)=3,\"0\"&'Feuille de match'!$O$19,'Feuille de match'!$O$19))","v":0},{"$f":"IFERROR(LEFT($BR$6,2),0)","v":"0"},{"$f":"IFERROR(RIGHT($BR$6,2),0)","v":"0"},{"$f":"IF($BS$6>$BT$6,1,0)","v":0},{"$f":"IF($BS$6<$BT$6,1,0)","v":0},{"$f":"IF(LEN('Feuille de match'!$P$19)=2,\"00\"&'Feuille de match'!$P$19,IF(LEN('Feuille de match'!$P$19)=3,\"0\"&'Feuille de match'!$P$19,'Feuille de match'!$P$19))","v":0},{"$f":"IFERROR(LEFT($BW$6,2),0)","v":"0"},{"$f":"IFERROR(RIGHT($BW$6,2),0)","v":"0"},{"$f":"IF($BX$6>$BY$6,1,0)","v":0},{"$f":"IF($BX$6<$BY$6,1,0)","v":0},{"$f":"IF(LEN('Feuille de match'!$Q$19)=2,\"00\"&'Feuille de match'!$Q$19,IF(LEN('Feuille de match'!$Q$19)=3,\"0\"&'Feuille de match'!$Q$19,'Feuille de match'!$Q$19))","v":0},{"$f":"IFERROR(LEFT($CB$6,2),0)","v":"0"},{"$f":"IFERROR(RIGHT($CB$6,2),0)","v":"0"},{"$f":"IF($CC$6>$CD$6,1,0)","v":0},{"$f":"IF($CC$6<$CD$6,1,0)","v":0},{"$f":"IF(LEN('Feuille de match'!$R$19)=2,\"00\"&'Feuille de match'!$R$19,IF(LEN('Feuille de match'!$R$19)=3,\"0\"&'Feuille de match'!$R$19,'Feuille de match'!$R$19))","v":0},{"$f":"IFERROR(LEFT($CG$6,2),0)","v":"0"},{"$f":"IFERROR(RIGHT($CG$6,2),0)","v":"0"},{"$f":"IF($CH$6>$CI$6,1,0)","v":0},{"$f":"IF($CH$6<$CI$6,1,0)","v":0},{"$f":"IF(LEN('Feuille de match'!$S$19)=2,\"00\"&'Feuille de match'!$S$19,IF(LEN('Feuille de match'!$S$19)=3,\"0\"&'Feuille de match'!$S$19,'Feuille de match'!$S$19))","v":0},{"$f":"IFERROR(LEFT($CL$6,2),0)","v":"0"},{"$f":"IFERROR(RIGHT($CL$6,2),0)","v":"0"},{"$f":"IF($CM$6>$CN$6,1,0)","v":0},{"$f":"IF($CM$6<$CN$6,1,0)","v":0},{"$f":"$BK$6+$BP$6+$BU$6+$BZ$6+$CE$6+$CJ$6+$CO$6","v":0},{"$f":"$BL$6+$BQ$6+$BV$6+$CA$6+$CF$6+$CK$6+$CP$6","v":0},{"$f":"IF(AND(COUNTIF('Feuille de match'!$D19,\"*JOUEUR ABSENT*\"),COUNTIF('Feuille de match'!$J19,\"*JOUEUR ABSENT*\")),0,IF($CQ6>$CR6,1,0))","v":0},{"$f":"IF(AND(COUNTIF('Feuille de match'!$D19,\"*JOUEUR ABSENT*\"),COUNTIF('Feuille de match'!$J19,\"*JOUEUR ABSENT*\")),0,IF($CQ6<$CR6,1,0))","v":0},"EXCELLENCE",{"$f":"$H$6","v":"CLTT Menchhoffen 1"},"Vendredi","20H00","A,B,C,D",{"$f":"$G$2","v":"EXCELLENCE"},11,11,11,null,{"$f":"$G$6","v":"VETERANSD1STRASBOURG"},"Do ","C",null,{"$f":"IF($DH$6=\"\",\"\",IF($DH$6=TRUE,\"\",IF($DH$6=FALSE,'Feuille de match'!$D$12)))","v":""},null,{"$f":"IF($DJ$6=\"\",\"\",IF($DJ$6=TRUE,\"\",IF($DJ$6=FALSE,'Feuille de match'!$D$12)))","v":""},null,null,{"$f":"IF($DM$6=\"\",\"\",IF($DM$6=TRUE,\"\",IF($DM$6=FALSE,'Feuille de match'!$D$12)))","v":""},null,{"$f":"IF($DO$6=\"\",\"\",IF($DO$6=TRUE,\"\",IF($DO$6=FALSE,'Feuille de match'!$D$12)))","v":""},null,"DIVISION",{"$f":" 'Feuille de match'!$K$5","v":0},null,null,null,null,null,null,"EXCELLENCECLTT Menchhoffen 1","EXCELLENCE",{"$f":"$H$6","v":"CLTT Menchhoffen 1"},"Vendredi","20H00"]
["2028-2029",6,5,5,2027,null,"VETERANSD2STRASBOURG","CS Tricolore Saverne 1","Hanau TT 2","CS Tricolore Saverne 2","UT AURORA Schilt.-B. 1","CS Tricolore Saverne 3","CS Tricolore Saverne 1","CS Tricolore Saverne 2","Amitié Lingolsheim 1","AS Electricité Strasbourg 2",null,"AS Electricité Strasbourg 1","Manche 3",null,null,null,null,null,null,null,"Manche 3",null,null,null,"Manche 3",null,null,null,"Manche 3",null,null,null,null,null,null,null,"Manche 3",null,null,null,"Manche 3",null,null,null,"Manche 3",null,null,null,null,null,null,null,"Ligne 4",{"$f":"IF(LEN('Feuille de match'!$M$20)=2,\"00\"&'Feuille de match'!$M$20,IF(LEN('Feuille de match'!$M$20)=3,\"0\"&'Feuille de match'!$M$20,'Feuille de match'!$M$20))","v":0},{"$f":"IFERROR(LEFT($BH$7,2),0)","v":"0"},{"$f":"IFERROR(RIGHT($BH$7,2),0)","v":"0"},{"$f":"IF($BI$7>$BJ$7,1,0)","v":0},{"$f":"IF($BI$7<$BJ$7,1,0)","v":0},{"$f":"IF(LEN('Feuille de match'!$N$20)=2,\"00\"&'Feuille de match'!$N$20,IF(LEN('Feuille de match'!$N$20)=3,\"0\"&'Feuille de match'!$N$20,'Feuille de match'!$N$20))","v":0},{"$f":"IFERROR(LEFT($BM$7,2),0)","v":"0"},{"$f":"IFERROR(RIGHT($BM$7,2),0)","v":"0"},{"$f":"IF($BN$7>$BO$7,1,0)","v":0},{"$f":"IF($BN$7<$BO$7,1,0)","v":0},{"$f":"IF(LEN('Feuille de match'!$O$20)=2,\"00\"&'Feuille de match'!$O$20,IF(LEN('Feuille de match'!$O$20)=3,\"0\"&'Feuille de match'!$O$20,'Feuille de match'!$O$20))","v":0},{"$f":"IFERROR(LEFT($BR$7,2),0)","v":"0"},{"$f":"IFERROR(RIGHT($BR$7,2),0)","v":"0"},{"$f":"IF($BS$7>$BT$7,1,0)","v":0},{"$f":"IF($BS$7<$BT$7,1,0)","v":0},{"$f":"IF(LEN('Feuille de match'!$P$20)=2,\"00\"&'Feuille de match'!$P$20,IF(LEN('Feuille de match'!$P$20)=3,\"0\"&'Feuille de match'!$P$20,'Feuille de match'!$P$20))","v":0},{"$f":"IFERROR(LEFT($BW$7,2),0)","v":"0"},{"$f":"IFERROR(RIGHT($BW$7,2),0)","v":"0"},{"$f":"IF($BX$7>$BY$7,1,0)","v":0},{"$f":"IF($BX$7<$BY$7,1,0)","v":0},{"$f":"IF(LEN('Feuille de match'!$Q$20)=2,\"00\"&'Feuille de match'!$Q$20,IF(LEN('Feuille de match'!$Q$20)=3,\"0\"&'Feuille de match'!$Q$20,'Feuille de match'!$Q$20))","v":0},{"$f":"IFERROR(LEFT($CB$7,2),0)","v":"0"},{"$f":"IFERROR(RIGHT($CB$7,2),0)","v":"0"},{"$f":"IF($CC$7>$CD$7,1,0)","v":0},{"$f":"IF($CC$7<$CD$7,1,0)","v":0},{"$f":"IF(LEN('Feuille de match'!$R$20)=2,\"00\"&'Feuille de match'!$R$20,IF(LEN('Feuille de match'!$R$20)=3,\"0\"&'Feuille de match'!$R$20,'Feuille de match'!$R$20))","v":0},{"$f":"IFERROR(LEFT($CG$7,2),0)","v":"0"},{"$f":"IFERROR(RIGHT($CG$7,2),0)","v":"0"},{"$f":"IF($CH$7>$CI$7,1,0)","v":0},{"$f":"IF($CH$7<$CI$7,1,0)","v":0},{"$f":"IF(LEN('Feuille de match'!$S$20)=2,\"00\"&'Feuille de match'!$S$20,IF(LEN('Feuille de match'!$S$20)=3,\"0\"&'Feuille de match'!$S$20,'Feuille de match'!$S$20))","v":0},{"$f":"IFERROR(LEFT($CL$7,2),0)","v":"0"},{"$f":"IFERROR(RIGHT($CL$7,2),0)","v":"0"},{"$f":"IF($CM$7>$CN$7,1,0)","v":0},{"$f":"IF($CM$7<$CN$7,1,0)","v":0},{"$f":"$BK$7+$BP$7+$BU$7+$BZ$7+$CE$7+$CJ$7+$CO$7","v":0},{"$f":"$BL$7+$BQ$7+$BV$7+$CA$7+$CF$7+$CK$7+$CP$7","v":0},{"$f":"IF(AND(COUNTIF('Feuille de match'!$D20,\"*JOUEUR ABSENT*\"),COUNTIF('Feuille de match'!$J20,\"*JOUEUR ABSENT*\")),0,IF($CQ7>$CR7,1,0))","v":0},{"$f":"IF(AND(COUNTIF('Feuille de match'!$D20,\"*JOUEUR ABSENT*\"),COUNTIF('Feuille de match'!$J20,\"*JOUEUR ABSENT*\")),0,IF($CQ7<$CR7,1,0))","v":0},"EXCELLENCE",{"$f":"$H$7","v":"CS Tricolore Saverne 1"},"Vendredi","20H30","A,B,C,",{"$f":"$G$3","v":"HONNEUR"},11,11,11,null,{"$f":"$G$7","v":"VETERANSD2STRASBOURG"},"Do ","D",null,{"$f":"IF($DH$7=\"\",\"\",IF($DH$7=TRUE,\"\",IF($DH$7=FALSE,'Feuille de match'!$D$13)))","v":""},null,{"$f":"IF($DJ$7=\"\",\"\",IF($DJ$7=TRUE,\"\",IF($DJ$7=FALSE,'Feuille de match'!$D$13)))","v":""},null,null,{"$f":"IF($DM$7=\"\",\"\",IF($DM$7=TRUE,\"\",IF($DM$7=FALSE,'Feuille de match'!$D$13)))","v":""},null,{"$f":"IF($DO$7=\"\",\"\",IF($DO$7=TRUE,\"\",IF($DO$7=FALSE,'Feuille de match'!$D$13)))","v":""},null,null,null,null,null,null,null,null,null,"EXCELLENCECS Tricolore Saverne 1","EXCELLENCE",{"$f":"$H$7","v":"CS Tricolore Saverne 1"},"Vendredi","20H30",1]
["2029-2030",7,6,6,2028,null,"PROMOTIONNORD","CTT 77 Val de Moder 1","CP Zutzendorf 2","CTT 77 Val de Moder 2","AS Electricité Strasbourg 2","CTT 77 Val de Moder 3","CTT 77 Val de Moder 1","CS Tricolore Saverne 3","Amitié Lingolsheim 2","UT AURORA Schilt.-B. 2",null,null,{"$f":"IF(OR('Feuille de match'!$K$5=\"EXCELLENCE\",'Feuille de match'!$K$5=\"HONNEUR\",'Feuille de match'!$K$5=\"PROMOTIONNORD\",'Feuille de match'!$K$5=\"ADULTESDIVISION1NORD\",'Feuille de match'!$K$5=\"PROMOTIONSTRASBOURG\",'Feuille de match'!$K$5=\"PROMOTIONFINALE\"),'Feuille de match'!$O$23,IF(OR('Feuille de match'!$K$5=\"MIXTESD1NORD\",'Feuille de match'!$K$5=\"MIXTESD1STRASBOURG\",'Feuille de match'!$K$5=\"VETERANSD1STRASBOURG\",'Feuille de match'!$K$5=\"VETERANSD2STRASBOURG\",'Feuille de match'!$K$5=\"VETERANSD1NORD\",'Feuille de match'!$K$5=\"VETERANSD2NORD\",'Feuille de match'!$K$5=\"JUNIORS\",'Feuille de match'!$K$5=\"CADETS\",'Feuille de match'!$K$5=\"MINIMESBENJAMINSPOUSSINS\",'Feuille de match'!$K$5=\"MIXTESD1FINALE\",'Feuille de match'!$K$5=\"VETERANSD1FINALE\",'Feuille de match'!$K$5=\"VETERANSD2FINALE\",'Feuille de match'!$K$5=\"JUNIORSFINALE\",'Feuille de match'!$K$5=\"CADETSFINALE\",'Feuille de match'!$K$5=\"MINIMESBENJAMINSPOUSSINSFINALE\"),'Feuille de match'!$O$19,0))","v":0},{"$f":"IF(LEN($S$8)=2,\"00\"&$S$8,IF(LEN($S$8)=3,\"0\"&$S$8,$S$8))","v":0},{"$f":"IFERROR(LEFT($T$8,2),0)","v":"0"},{"$f":"IFERROR(RIGHT($T$8,2),0)","v":"0"},null,null,null,null,{"$f":"IF(OR('Feuille de match'!$K$5=\"EXCELLENCE\",'Feuille de match'!$K$5=\"HONNEUR\",'Feuille de match'!$K$5=\"PROMOTIONNORD\",'Feuille de match'!$K$5=\"ADULTESDIVISION1NORD\",'Feuille de match'!$K$5=\"PROMOTIONSTRASBOURG\",'Feuille de match'!$K$5=\"PROMOTIONFINALE\"),'Feuille de match'!$O$17,IF(OR('Feuille de match'!$K$5=\"MIXTESD1NORD\",'Feuille de match'!$K$5=\"MIXTESD1STRASBOURG\",'Feuille de match'!$K$5=\"VETERANSD1STRASBOURG\",'Feuille de match'!$K$5=\"VETERANSD2STRASBOURG\",'Feuille de match'!$K$5=\"VETERANSD1NORD\",'Feuille de match'!$K$5=\"VETERANSD2NORD\",'Feuille de match'!$K$5=\"JUNIORS\",'Feuille de match'!$K$5=\"CADETS\",'Feuille de match'!$K$5=\"MINIMESBENJAMINSPOUSSINS\",'Feuille de match'!$K$5=\"MIXTESD1FINALE\",'Feuille de match'!$K$5=\"VETERANSD1FINALE\",'Feuille de match'!$K$5=\"VETERANSD2FINALE\",'Feuille de match'!$K$5=\"JUNIORSFINALE\",'Feuille de match'!$K$5=\"CADETSFINALE\",'Feuille de match'!$K$5=\"MINIMESBENJAMINSPOUSSINSFINALE\"),'Feuille de match'!$O$17,0))","v":0},{"$f":"IF(LEN($AA$8)=2,\"00\"&$AA$8,IF(LEN($AA$8)=3,\"0\"&$AA$8,$AA$8))","v":0},{"$f":"IFERROR(LEFT($AB$8,2),0)","v":"0"},{"$f":"IFERROR(RIGHT($AB$8,2),0)","v":"0"},{"$f":"IF(OR('Feuille de match'!$K$5=\"EXCELLENCE\",'Feuille de match'!$K$5=\"HONNEUR\",'Feuille de match'!$K$5=\"PROMOTIONNORD\",'Feuille de match'!$K$5=\"ADULTESDIVISION1NORD\",'Feuille de match'!$K$5=\"PROMOTIONSTRASBOURG\",'Feuille de match'!$K$5=\"PROMOTIONFINALE\"),'Feuille de match'!$O$18,IF(OR('Feuille de match'!$K$5=\"MIXTESD1NORD\",'Feuille de match'!$K$5=\"MIXTESD1STRASBOURG\",'Feuille de match'!$K$5=\"VETERANSD1STRASBOURG\",'Feuille de match'!$K$5=\"VETERANSD2STRASBOURG\",'Feuille de match'!$K$5=\"VETERANSD1NORD\",'Feuille de match'!$K$5=\"VETERANSD2NORD\",'Feuille de match'!$K$5=\"JUNIORS\",'Feuille de match'!$K$5=\"CADETS\",'Feuille de match'!$K$5=\"MINIMESBENJAMINSPOUSSINS\",'Feuille de match'!$K$5=\"MIXTESD1FINALE\",'Feuille de match'!$K$5=\"VETERANSD1FINALE\",'Feuille de match'!$K$5=\"VETERANSD2FINALE\",'Feuille de match'!$K$5=\"JUNIORSFINALE\",'Feuille de match'!$K$5=\"CADETSFINALE\",'Feuille de match'!$K$5=\"MINIMESBENJAMINSPOUSSINSFINALE\"),'Feuille de match'!$O$18,0))","v":0},{"$f":"IF(LEN($AE$8)=2,\"00\"&$AE$8,IF(LEN($AE$8)=3,\"0\"&$AE$8,$AE$8))","v":0},{"$f":"IFERROR(LEFT($AF$8,2),0)","v":"0"},{"$f":"IFERROR(RIGHT($AF$8,2),0)","v":"0"},{"$f":"IF(OR('Feuille de match'!$K$5=\"EXCELLENCE\",'Feuille de match'!$K$5=\"HONNEUR\",'Feuille de match'!$K$5=\"PROMOTIONNORD\",'Feuille de match'!$K$5=\"ADULTESDIVISION1NORD\",'Feuille de match'!$K$5=\"PROMOTIONSTRASBOURG\",'Feuille de match'!$K$5=\"PROMOTIONFINALE\"),'Feuille de match'!$O$19,IF(OR('Feuille de match'!$K$5=\"MIXTESD1NORD\",'Feuille de match'!$K$5=\"MIXTESD1STRASBOURG\",'Feuille de match'!$K$5=\"VETERANSD1STRASBOURG\",'Feuille de match'!$K$5=\"VETERANSD2STRASBOURG\",'Feuille de match'!$K$5=\"VETERANSD1NORD\",'Feuille de match'!$K$5=\"VETERANSD2NORD\",'Feuille de match'!$K$5=\"JUNIORS\",'Feuille de match'!$K$5=\"CADETS\",'Feuille de match'!$K$5=\"MINIMESBENJAMINSPOUSSINS\",'Feuille de match'!$K$5=\"MIXTESD1FINALE\",'Feuille de match'!$K$5=\"VETERANSD1FINALE\",'Feuille de match'!$K$5=\"VETERANSD2FINALE\",'Feuille de match'!$K$5=\"JUNIORSFINALE\",'Feuille de match'!$K$5=\"CADETSFINALE\",'Feuille de match'!$K$5=\"MINIMESBENJAMINSPOUSSINSFINALE\"),\"0\",0))","v":0},{"$f":"IF(LEN($AI$8)=2,\"00\"&$AI$8,IF(LEN($AI$8)=3,\"0\"&$AI$8,$AI$8))","v":0},{"$f":"IFERROR(LEFT($AJ$8,2),0)","v":"0"},{"$f":"IFERROR(RIGHT($AJ$8,2),0)","v":"0"},null,null,null,null,{"$f":"IF(OR('Feuille de match'!$K$5=\"EXCELLENCE\",'Feuille de match'!$K$5=\"HONNEUR\",'Feuille de match'!$K$5=\"PROMOTIONNORD\",'Feuille de match'!$K$5=\"ADULTESDIVISION1NORD\",'Feuille de match'!$K$5=\"PROMOTIONSTRASBOURG\",'Feuille de match'!$K$5=\"PROMOTIONFINALE\"),'Feuille de match'!$O$17,IF(OR('Feuille de match'!$K$5=\"MIXTESD1NORD\",'Feuille de match'!$K$5=\"MIXTESD1STRASBOURG\",'Feuille de match'!$K$5=\"VETERANSD1STRASBOURG\",'Feuille de match'!$K$5=\"VETERANSD2STRASBOURG\",'Feuille de match'!$K$5=\"VETERANSD1NORD\",'Feuille de match'!$K$5=\"VETERANSD2NORD\",'Feuille de match'!$K$5=\"JUNIORS\",'Feuille de match'!$K$5=\"CADETS\",'Feuille de match'!$K$5=\"MINIMESBENJAMINSPOUSSINS\",'Feuille de match'!$K$5=\"MIXTESD1FINALE\",'Feuille de match'!$K$5=\"VETERANSD1FINALE\",'Feuille de match'!$K$5=\"VETERANSD2FINALE\",'Feuille de match'!$K$5=\"JUNIORSFINALE\",'Feuille de match'!$K$5=\"CADETSFINALE\",'Feuille de match'!$K$5=\"MINIMESBENJAMINSPOUSSINSFINALE\"),'Feuille de match'!$O$17,0))","v":0},{"$f":"IF(LEN($AQ$8)=2,\"00\"&$AQ$8,IF(LEN($AQ$8)=3,\"0\"&$AQ$8,$AQ$8))","v":0},{"$f":"IFERROR(RIGHT($AR$8,2),0)","v":"0"},{"$f":"IFERROR(LEFT($AR$8,2),0)","v":"0"},{"$f":"IF(OR('Feuille de match'!$K$5=\"EXCELLENCE\",'Feuille de match'!$K$5=\"HONNEUR\",'Feuille de match'!$K$5=\"PROMOTIONNORD\",'Feuille de match'!$K$5=\"ADULTESDIVISION1NORD\",'Feuille de match'!$K$5=\"PROMOTIONSTRASBOURG\",'Feuille de match'!$K$5=\"PROMOTIONFINALE\"),'Feuille de match'!$O$18,IF(OR('Feuille de match'!$K$5=\"MIXTESD1NORD\",'Feuille de match'!$K$5=\"MIXTESD1STRASBOURG\",'Feuille de match'!$K$5=\"VETERANSD1STRASBOURG\",'Feuille de match'!$K$5=\"VETERANSD2STRASBOURG\",'Feuille de match'!$K$5=\"VETERANSD1NORD\",'Feuille de match'!$K$5=\"VETERANSD2NORD\",'Feuille de match'!$K$5=\"JUNIORS\",'Feuille de match'!$K$5=\"CADETS\",'Feuille de match'!$K$5=\"MINIMESBENJAMINSPOUSSINS\",'Feuille de match'!$K$5=\"MIXTESD1FINALE\",'Feuille de match'!$K$5=\"VETERANSD1FINALE\",'Feuille de match'!$K$5=\"VETERANSD2FINALE\",'Feuille de match'!$K$5=\"JUNIORSFINALE\",'Feuille de match'!$K$5=\"CADETSFINALE\",'Feuille de match'!$K$5=\"MINIMESBENJAMINSPOUSSINSFINALE\"),'Feuille de match'!$O$18,0))","v":0},{"$f":"IF(LEN($AU$8)=2,\"00\"&$AU$8,IF(LEN($AU$8)=3,\"0\"&$AU$8,$AU$8))","v":0},{"$f":"IFERROR(RIGHT($AV$8,2),0)","v":"0"},{"$f":"IFERROR(LEFT($AV$8,2),0)","v":"0"},{"$f":"IF(OR('Feuille de match'!$K$5=\"EXCELLENCE\",'Feuille de match'!$K$5=\"HONNEUR\",'Feuille de match'!$K$5=\"PROMOTIONNORD\",'Feuille de match'!$K$5=\"ADULTESDIVISION1NORD\",'Feuille de match'!$K$5=\"PROMOTIONSTRASBOURG\",'Feuille de match'!$K$5=\"PROMOTIONFINALE\"),'Feuille de match'!$O$19,IF(OR('Feuille de match'!$K$5=\"MIXTESD1NORD\",'Feuille de match'!$K$5=\"MIXTESD1STRASBOURG\",'Feuille de match'!$K$5=\"VETERANSD1STRASBOURG\",'Feuille de match'!$K$5=\"VETERANSD2STRASBOURG\",'Feuille de match'!$K$5=\"VETERANSD1NORD\",'Feuille de match'!$K$5=\"VETERANSD2NORD\",'Feuille de match'!$K$5=\"JUNIORS\",'Feuille de match'!$K$5=\"CADETS\",'Feuille de match'!$K$5=\"MINIMESBENJAMINSPOUSSINS\",'Feuille de match'!$K$5=\"MIXTESD1FINALE\",'Feuille de match'!$K$5=\"VETERANSD1FINALE\",'Feuille de match'!$K$5=\"VETERANSD2FINALE\",'Feuille de match'!$K$5=\"JUNIORSFINALE\",'Feuille de match'!$K$5=\"CADETSFINALE\",'Feuille de match'!$K$5=\"MINIMESBENJAMINSPOUSSINSFINALE\"),\"0\",0))","v":0},{"$f":"IF(LEN($AY$8)=2,\"00\"&$AY$8,IF(LEN($AY$8)=3,\"0\"&$AY$8,$AY$8))","v":0},{"$f":"IFERROR(RIGHT($AZ$8,2),0)","v":"0"},{"$f":"IFERROR(LEFT($AZ$8,2),0)","v":"0"},null,null,null,null,"Ligne 5",{"$f":"IF(LEN('Feuille de match'!$M$21)=2,\"00\"&'Feuille de match'!$M$21,IF(LEN('Feuille de match'!$M$21)=3,\"0\"&'Feuille de match'!$M$21,'Feuille de match'!$M$21))","v":0},{"$f":"IFERROR(LEFT($BH$8,2),0)","v":"0"},{"$f":"IFERROR(RIGHT($BH$8,2),0)","v":"0"},{"$f":"IF($BI$8>$BJ$8,1,0)","v":0},{"$f":"IF($BI$8<$BJ$8,1,0)","v":0},{"$f":"IF(LEN('Feuille de match'!$N$21)=2,\"00\"&'Feuille de match'!$N$21,IF(LEN('Feuille de match'!$N$21)=3,\"0\"&'Feuille de match'!$N$21,'Feuille de match'!$N$21))","v":0},{"$f":"IFERROR(LEFT($BM$8,2),0)","v":"0"},{"$f":"IFERROR(RIGHT($BM$8,2),0)","v":"0"},{"$f":"IF($BN$8>$BO$8,1,0)","v":0},{"$f":"IF($BN$8<$BO$8,1,0)","v":0},{"$f":"IF(LEN('Feuille de match'!$O$21)=2,\"00\"&'Feuille de match'!$O$21,IF(LEN('Feuille de match'!$O$21)=3,\"0\"&'Feuille de match'!$O$21,'Feuille de match'!$O$21))","v":0},{"$f":"IFERROR(LEFT($BR$8,2),0)","v":"0"},{"$f":"IFERROR(RIGHT($BR$8,2),0)","v":"0"},{"$f":"IF($BS$8>$BT$8,1,0)","v":0},{"$f":"IF($BS$8<$BT$8,1,0)","v":0},{"$f":"IF(LEN('Feuille de match'!$P$21)=2,\"00\"&'Feuille de match'!$P$21,IF(LEN('Feuille de match'!$P$21)=3,\"0\"&'Feuille de match'!$P$21,'Feuille de match'!$P$21))","v":0},{"$f":"IFERROR(LEFT($BW$8,2),0)","v":"0"},{"$f":"IFERROR(RIGHT($BW$8,2),0)","v":"0"},{"$f":"IF($BX$8>$BY$8,1,0)","v":0},{"$f":"IF($BX$8<$BY$8,1,0)","v":0},{"$f":"IF(LEN('Feuille de match'!$Q$21)=2,\"00\"&'Feuille de match'!$Q$21,IF(LEN('Feuille de match'!$Q$21)=3,\"0\"&'Feuille de match'!$Q$21,'Feuille de match'!$Q$21))","v":0},{"$f":"IFERROR(LEFT($CB$8,2),0)","v":"0"},{"$f":"IFERROR(RIGHT($CB$8,2),0)","v":"0"},{"$f":"IF($CC$8>$CD$8,1,0)","v":0},{"$f":"IF($CC$8<$CD$8,1,0)","v":0},{"$f":"IF(LEN('Feuille de match'!$R$21)=2,\"00\"&'Feuille de match'!$R$21,IF(LEN('Feuille de match'!$R$21)=3,\"0\"&'Feuille de match'!$R$21,'Feuille de match'!$R$21))","v":0},{"$f":"IFERROR(LEFT($CG$8,2),0)","v":"0"},{"$f":"IFERROR(RIGHT($CG$8,2),0)","v":"0"},{"$f":"IF($CH$8>$CI$8,1,0)","v":0},{"$f":"IF($CH$8<$CI$8,1,0)","v":0},{"$f":"IF(LEN('Feuille de match'!$S$21)=2,\"00\"&'Feuille de match'!$S$21,IF(LEN('Feuille de match'!$S$21)=3,\"0\"&'Feuille de match'!$S$21,'Feuille de match'!$S$21))","v":0},{"$f":"IFERROR(LEFT($CL$8,2),0)","v":"0"},{"$f":"IFERROR(RIGHT($CL$8,2),0)","v":"0"},{"$f":"IF($CM$8>$CN$8,1,0)","v":0},{"$f":"IF($CM$8<$CN$8,1,0)","v":0},{"$f":"$BK$8+$BP$8+$BU$8+$BZ$8+$CE$8+$CJ$8+$CO$8","v":0},{"$f":"$BL$8+$BQ$8+$BV$8+$CA$8+$CF$8+$CK$8+$CP$8","v":0},{"$f":"IF(AND(COUNTIF('Feuille de match'!$D21,\"*JOUEUR ABSENT*\"),COUNTIF('Feuille de match'!$J21,\"*JOUEUR ABSENT*\")),0,IF($CQ8>$CR8,1,0))","v":0},{"$f":"IF(AND(COUNTIF('Feuille de match'!$D21,\"*JOUEUR ABSENT*\"),COUNTIF('Feuille de match'!$J21,\"*JOUEUR ABSENT*\")),0,IF($CQ8<$CR8,1,0))","v":0},"EXCELLENCE",{"$f":"$H$8","v":"CTT 77 Val de Moder 1"},"Dimanche","09H00","A,B,C,",{"$f":"$G$4","v":"PROMOTIONSTRASBOURG"},11,11,11,null,{"$f":"$G$5","v":"MIXTESD1STRASBOURG"},"Do ","W",null,{"$f":"IF($DH$8=\"\",\"\",IF($DH$8=TRUE,\"\",IF($DH$8=FALSE,'Feuille de match'!$O$10)))","v":""},null,{"$f":"IF($DJ$8=\"\",\"\",IF($DJ$8=TRUE,\"\",IF($DJ$8=FALSE,'Feuille de match'!$O$10)))","v":""},{"$f":"$DI$8&$DI$9&$DI$10&$DI$11&\" + \"&$DK$8&$DK$9&$DK$10&$DK$11","v":" + "},null,{"$f":"IF($DM$8=\"\",\"\",IF($DM$8=TRUE,\"\",IF($DM$8=FALSE,'Feuille de match'!$O$10)))","v":""},null,{"$f":"IF($DO$8=\"\",\"\",IF($DO$8=TRUE,\"\",IF($DO$8=FALSE,'Feuille de match'!$O$10)))","v":""},{"$f":"$DN$8&$DN$9&$DN$10&$DN$11&\" + \"&$DP$8&$DP$9&$DP$10&$DP$11","v":" + "},null,null,null,null,null,null,null,null,"EXCELLENCECTT 77 Val de Moder 1","EXCELLENCE",{"$f":"$H$8","v":"CTT 77 Val de Moder 1"},"Dimanche","09H00"]
[null,8,7,7,null,null,"VETERANSD1NORD","AS Electricité Strasbourg 1","US Egalitaire Neudorf 1",null,"UT AURORA Schilt.-B. 2","TT Dossenheim sur Zintel 1","CTT 77 Val de Moder 2","CTT 77 Val de Moder 3",null,"UT AURORA Schilt.-B. 3",null,null,"Manche 4",null,null,null,null,null,null,null,"Manche 4",null,null,null,"Manche 4",null,null,null,"Manche 4",null,null,null,null,null,null,null,"Manche 4",null,null,null,"Manche 4",null,null,null,"Manche 4",null,null,null,null,null,null,null,"Ligne 6",{"$f":"IF(LEN('Feuille de match'!$M$22)=2,\"00\"&'Feuille de match'!$M$22,IF(LEN('Feuille de match'!$M$22)=3,\"0\"&'Feuille de match'!$M$22,'Feuille de match'!$M$22))","v":0},{"$f":"IFERROR(LEFT($BH$9,2),0)","v":"0"},{"$f":"IFERROR(RIGHT($BH$9,2),0)","v":"0"},{"$f":"IF($BI$9>$BJ$9,1,0)","v":0},{"$f":"IF($BI$9<$BJ$9,1,0)","v":0},{"$f":"IF(LEN('Feuille de match'!$N$22)=2,\"00\"&'Feuille de match'!$N$22,IF(LEN('Feuille de match'!$N$22)=3,\"0\"&'Feuille de match'!$N$22,'Feuille de match'!$N$22))","v":0},{"$f":"IFERROR(LEFT($BM$9,2),0)","v":"0"},{"$f":"IFERROR(RIGHT($BM$9,2),0)","v":"0"},{"$f":"IF($BN$9>$BO$9,1,0)","v":0},{"$f":"IF($BN$9<$BO$9,1,0)","v":0},{"$f":"IF(LEN('Feuille de match'!$O$22)=2,\"00\"&'Feuille de match'!$O$22,IF(LEN('Feuille de match'!$O$22)=3,\"0\"&'Feuille de match'!$O$22,'Feuille de match'!$O$22))","v":0},{"$f":"IFERROR(LEFT($BR$9,2),0)","v":"0"},{"$f":"IFERROR(RIGHT($BR$9,2),0)","v":"0"},{"$f":"IF($BS$9>$BT$9,1,0)","v":0},{"$f":"IF($BS$9<$BT$9,1,0)","v":0},{"$f":"IF(LEN('Feuille de match'!$P$22)=2,\"00\"&'Feuille de match'!$P$22,IF(LEN('Feuille de match'!$P$22)=3,\"0\"&'Feuille de match'!$P$22,'Feuille de match'!$P$22))","v":0},{"$f":"IFERROR(LEFT($BW$9,2),0)","v":"0"},{"$f":"IFERROR(RIGHT($BW$9,2),0)","v":"0"},{"$f":"IF($BX$9>$BY$9,1,0)","v":0},{"$f":"IF($BX$9<$BY$9,1,0)","v":0},{"$f":"IF(LEN('Feuille de match'!$Q$22)=2,\"00\"&'Feuille de match'!$Q$22,IF(LEN('Feuille de match'!$Q$22)=3,\"0\"&'Feuille de match'!$Q$22,'Feuille de match'!$Q$22))","v":0},{"$f":"IFERROR(LEFT($CB$9,2),0)","v":"0"},{"$f":"IFERROR(RIGHT($CB$9,2),0)","v":"0"},{"$f":"IF($CC$9>$CD$9,1,0)","v":0},{"$f":"IF($CC$9<$CD$9,1,0)","v":0},{"$f":"IF(LEN('Feuille de match'!$R$22)=2,\"00\"&'Feuille de match'!$R$22,IF(LEN('Feuille de match'!$R$22)=3,\"0\"&'Feuille de match'!$R$22,'Feuille de match'!$R$22))","v":0},{"$f":"IFERROR(LEFT($CG$9,2),0)","v":"0"},{"$f":"IFERROR(RIGHT($CG$9,2),0)","v":"0"},{"$f":"IF($CH$9>$CI$9,1,0)","v":0},{"$f":"IF($CH$9<$CI$9,1,0)","v":0},{"$f":"IF(LEN('Feuille de match'!$S$22)=2,\"00\"&'Feuille de match'!$S$22,IF(LEN('Feuille de match'!$S$22)=3,\"0\"&'Feuille de match'!$S$22,'Feuille de match'!$S$22))","v":0},{"$f":"IFERROR(LEFT($CL$9,2),0)","v":"0"},{"$f":"IFERROR(RIGHT($CL$9,2),0)","v":"0"},{"$f":"IF($CM$9>$CN$9,1,0)","v":0},{"$f":"IF($CM$9<$CN$9,1,0)","v":0},{"$f":"$BK$9+$BP$9+$BU$9+$BZ$9+$CE$9+$CJ$9+$CO$9","v":0},{"$f":"$BL$9+$BQ$9+$BV$9+$CA$9+$CF$9+$CK$9+$CP$9","v":0},{"$f":"IF('Feuille de match'!$K$5=\"\",0,IF(OR('Feuille de match'!$K$5=\"MIXTESD1NORD\",'Feuille de match'!$K$5=\"MIXTESD1STRASBOURG\",'Feuille de match'!$K$5=\"VETERANSD1STRASBOURG\",'Feuille de match'!$K$5=\"VETERANSD2STRASBOURG\",'Feuille de match'!$K$5=\"VETERANSD1NORD\",'Feuille de match'!$K$5=\"VETERANSD2NORD\",'Feuille de match'!$K$5=\"JUNIORS\",'Feuille de match'!$K$5=\"CADETS\",'Feuille de match'!$K$5=\"MINIMESBENJAMINSPOUSSINS\",'Feuille de match'!$K$5=\"MIXTESD1FINALE\",'Feuille de match'!$K$5=\"VETERANSD1FINALE\",'Feuille de match'!$K$5=\"VETERANSD2FINALE\",'Feuille de match'!$K$5=\"JUNIORSFINALE\",'Feuille de match'!$K$5=\"CADETSFINALE\",'Feuille de match'!$K$5=\"MINIMESBENJAMINSPOUSSINSFINALE\"),0,IF(AND(COUNTIF('Feuille de match'!$D22,\"*JOUEUR ABSENT*\"),COUNTIF('Feuille de match'!$J22,\"*JOUEUR ABSENT*\")),0,IF($CQ9>$CR9,1,0))))","v":0},{"$f":"IF('Feuille de match'!$K$5=\"\",0,IF(OR('Feuille de match'!$K$5=\"MIXTESD1NORD\",'Feuille de match'!$K$5=\"MIXTESD1STRASBOURG\",'Feuille de match'!$K$5=\"VETERANSD1STRASBOURG\",'Feuille de match'!$K$5=\"VETERANSD2STRASBOURG\",'Feuille de match'!$K$5=\"VETERANSD1NORD\",'Feuille de match'!$K$5=\"VETERANSD2NORD\",'Feuille de match'!$K$5=\"JUNIORS\",'Feuille de match'!$K$5=\"CADETS\",'Feuille de match'!$K$5=\"MINIMESBENJAMINSPOUSSINS\",'Feuille de match'!$K$5=\"MIXTESD1FINALE\",'Feuille de match'!$K$5=\"VETERANSD1FINALE\",'Feuille de match'!$K$5=\"VETERANSD2FINALE\",'Feuille de match'!$K$5=\"JUNIORSFINALE\",'Feuille de match'!$K$5=\"CADETSFINALE\",'Feuille de match'!$K$5=\"MINIMESBENJAMINSPOUSSINSFINALE\"),0,IF(AND(COUNTIF('Feuille de match'!$D22,\"*JOUEUR ABSENT*\"),COUNTIF('Feuille de match'!$J22,\"*JOUEUR ABSENT*\")),0,IF($CQ9<$CR9,1,0))))","v":0},{"$f":"$G$3","v":"HONNEUR"},{"$f":"$I$3","v":"MJC Kirrwiller 1"},"Mardi","20H00","A,B,C,",{"$f":"$G$8","v":"PROMOTIONNORD"},11,11,11,null,{"$f":"$G$11","v":"MIXTESD1NORD"},"Do ","X",null,{"$f":"IF($DH$9=\"\",\"\",IF($DH$9=TRUE,\"\",IF($DH$9=FALSE,'Feuille de match'!$O$11)))","v":""},null,{"$f":"IF($DJ$9=\"\",\"\",IF($DJ$9=TRUE,\"\",IF($DJ$9=FALSE,'Feuille de match'!$O$11)))","v":""},null,null,{"$f":"IF($DM$9=\"\",\"\",IF($DM$9=TRUE,\"\",IF($DM$9=FALSE,'Feuille de match'!$O$11)))","v":""},null,{"$f":"IF($DO$9=\"\",\"\",IF($DO$9=TRUE,\"\",IF($DO$9=FALSE,'Feuille de match'!$O$11)))","v":""},null,null,null,null,null,null,null,null,null,"HONNEURMJC Kirrwiller 1",{"$f":"$G$3","v":"HONNEUR"},{"$f":"$I$3","v":"MJC Kirrwiller 1"},"Mardi","20H00"]
[null,9,8,8,null,null,"VETERANSD2NORD",null,null,null,null,null,"ASP Gottenhouse 1","Liberté Dettwiller 2",null,null,null,null,{"$f":"IF(OR('Feuille de match'!$K$5=\"EXCELLENCE\",'Feuille de match'!$K$5=\"HONNEUR\",'Feuille de match'!$K$5=\"PROMOTIONNORD\",'Feuille de match'!$K$5=\"ADULTESDIVISION1NORD\",'Feuille de match'!$K$5=\"PROMOTIONSTRASBOURG\",'Feuille de match'!$K$5=\"PROMOTIONFINALE\"),'Feuille de match'!$P$23,IF(OR('Feuille de match'!$K$5=\"MIXTESD1NORD\",'Feuille de match'!$K$5=\"MIXTESD1STRASBOURG\",'Feuille de match'!$K$5=\"VETERANSD1STRASBOURG\",'Feuille de match'!$K$5=\"VETERANSD2STRASBOURG\",'Feuille de match'!$K$5=\"VETERANSD1NORD\",'Feuille de match'!$K$5=\"VETERANSD2NORD\",'Feuille de match'!$K$5=\"JUNIORS\",'Feuille de match'!$K$5=\"CADETS\",'Feuille de match'!$K$5=\"MINIMESBENJAMINSPOUSSINS\",'Feuille de match'!$K$5=\"MIXTESD1FINALE\",'Feuille de match'!$K$5=\"VETERANSD1FINALE\",'Feuille de match'!$K$5=\"VETERANSD2FINALE\",'Feuille de match'!$K$5=\"JUNIORSFINALE\",'Feuille de match'!$K$5=\"CADETSFINALE\",'Feuille de match'!$K$5=\"MINIMESBENJAMINSPOUSSINSFINALE\"),'Feuille de match'!$P$19,0))","v":0},{"$f":"IF(LEN($S$10)=2,\"00\"&$S$10,IF(LEN($S$10)=3,\"0\"&$S$10,$S$10))","v":0},{"$f":"IFERROR(LEFT($T$10,2),0)","v":"0"},{"$f":"IFERROR(RIGHT($T$10,2),0)","v":"0"},null,null,null,null,{"$f":"IF(OR('Feuille de match'!$K$5=\"EXCELLENCE\",'Feuille de match'!$K$5=\"HONNEUR\",'Feuille de match'!$K$5=\"PROMOTIONNORD\",'Feuille de match'!$K$5=\"ADULTESDIVISION1NORD\",'Feuille de match'!$K$5=\"PROMOTIONSTRASBOURG\",'Feuille de match'!$K$5=\"PROMOTIONFINALE\"),'Feuille de match'!$P$17,IF(OR('Feuille de match'!$K$5=\"MIXTESD1NORD\",'Feuille de match'!$K$5=\"MIXTESD1STRASBOURG\",'Feuille de match'!$K$5=\"VETERANSD1STRASBOURG\",'Feuille de match'!$K$5=\"VETERANSD2STRASBOURG\",'Feuille de match'!$K$5=\"VETERANSD1NORD\",'Feuille de match'!$K$5=\"VETERANSD2NORD\",'Feuille de match'!$K$5=\"JUNIORS\",'Feuille de match'!$K$5=\"CADETS\",'Feuille de match'!$K$5=\"MINIMESBENJAMINSPOUSSINS\",'Feuille de match'!$K$5=\"MIXTESD1FINALE\",'Feuille de match'!$K$5=\"VETERANSD1FINALE\",'Feuille de match'!$K$5=\"VETERANSD2FINALE\",'Feuille de match'!$K$5=\"JUNIORSFINALE\",'Feuille de match'!$K$5=\"CADETSFINALE\",'Feuille de match'!$K$5=\"MINIMESBENJAMINSPOUSSINSFINALE\"),'Feuille de match'!$P$17,0))","v":0},{"$f":"IF(LEN($AA$10)=2,\"00\"&$AA$10,IF(LEN($AA$10)=3,\"0\"&$AA$10,$AA$10))","v":0},{"$f":"IFERROR(LEFT($AB$10,2),0)","v":"0"},{"$f":"IFERROR(RIGHT($AB$10,2),0)","v":"0"},{"$f":"IF(OR('Feuille de match'!$K$5=\"EXCELLENCE\",'Feuille de match'!$K$5=\"HONNEUR\",'Feuille de match'!$K$5=\"PROMOTIONNORD\",'Feuille de match'!$K$5=\"ADULTESDIVISION1NORD\",'Feuille de match'!$K$5=\"PROMOTIONSTRASBOURG\",'Feuille de match'!$K$5=\"PROMOTIONFINALE\"),'Feuille de match'!$P$18,IF(OR('Feuille de match'!$K$5=\"MIXTESD1NORD\",'Feuille de match'!$K$5=\"MIXTESD1STRASBOURG\",'Feuille de match'!$K$5=\"VETERANSD1STRASBOURG\",'Feuille de match'!$K$5=\"VETERANSD2STRASBOURG\",'Feuille de match'!$K$5=\"VETERANSD1NORD\",'Feuille de match'!$K$5=\"VETERANSD2NORD\",'Feuille de match'!$K$5=\"JUNIORS\",'Feuille de match'!$K$5=\"CADETS\",'Feuille de match'!$K$5=\"MINIMESBENJAMINSPOUSSINS\",'Feuille de match'!$K$5=\"MIXTESD1FINALE\",'Feuille de match'!$K$5=\"VETERANSD1FINALE\",'Feuille de match'!$K$5=\"VETERANSD2FINALE\",'Feuille de match'!$K$5=\"JUNIORSFINALE\",'Feuille de match'!$K$5=\"CADETSFINALE\",'Feuille de match'!$K$5=\"MINIMESBENJAMINSPOUSSINSFINALE\"),'Feuille de match'!$P$18,0))","v":0},{"$f":"IF(LEN($AE$10)=2,\"00\"&$AE$10,IF(LEN($AE$10)=3,\"0\"&$AE$10,$AE$10))","v":0},{"$f":"IFERROR(LEFT($AF$10,2),0)","v":"0"},{"$f":"IFERROR(RIGHT($AF$10,2),0)","v":"0"},{"$f":"IF(OR('Feuille de match'!$K$5=\"EXCELLENCE\",'Feuille de match'!$K$5=\"HONNEUR\",'Feuille de match'!$K$5=\"PROMOTIONNORD\",'Feuille de match'!$K$5=\"ADULTESDIVISION1NORD\",'Feuille de match'!$K$5=\"PROMOTIONSTRASBOURG\",'Feuille de match'!$K$5=\"PROMOTIONFINALE\"),'Feuille de match'!$P$19,IF(OR('Feuille de match'!$K$5=\"MIXTESD1NORD\",'Feuille de match'!$K$5=\"MIXTESD1STRASBOURG\",'Feuille de match'!$K$5=\"VETERANSD1STRASBOURG\",'Feuille de match'!$K$5=\"VETERANSD2STRASBOURG\",'Feuille de match'!$K$5=\"VETERANSD1NORD\",'Feuille de match'!$K$5=\"VETERANSD2NORD\",'Feuille de match'!$K$5=\"JUNIORS\",'Feuille de match'!$K$5=\"CADETS\",'Feuille de match'!$K$5=\"MINIMESBENJAMINSPOUSSINS\",'Feuille de match'!$K$5=\"MIXTESD1FINALE\",'Feuille de match'!$K$5=\"VETERANSD1FINALE\",'Feuille de match'!$K$5=\"VETERANSD2FINALE\",'Feuille de match'!$K$5=\"JUNIORSFINALE\",'Feuille de match'!$K$5=\"CADETSFINALE\",'Feuille de match'!$K$5=\"MINIMESBENJAMINSPOUSSINSFINALE\"),\"0\",0))","v":0},{"$f":"IF(LEN($AI$10)=2,\"00\"&$AI$10,IF(LEN($AI$10)=3,\"0\"&$AI$10,$AI$10))","v":0},{"$f":"IFERROR(LEFT($AJ$10,2),0)","v":"0"},{"$f":"IFERROR(RIGHT($AJ$10,2),0)","v":"0"},null,null,null,null,{"$f":"IF(OR('Feuille de match'!$K$5=\"EXCELLENCE\",'Feuille de match'!$K$5=\"HONNEUR\",'Feuille de match'!$K$5=\"PROMOTIONNORD\",'Feuille de match'!$K$5=\"ADULTESDIVISION1NORD\",'Feuille de match'!$K$5=\"PROMOTIONSTRASBOURG\",'Feuille de match'!$K$5=\"PROMOTIONFINALE\"),'Feuille de match'!$P$17,IF(OR('Feuille de match'!$K$5=\"MIXTESD1NORD\",'Feuille de match'!$K$5=\"MIXTESD1STRASBOURG\",'Feuille de match'!$K$5=\"VETERANSD1STRASBOURG\",'Feuille de match'!$K$5=\"VETERANSD2STRASBOURG\",'Feuille de match'!$K$5=\"VETERANSD1NORD\",'Feuille de match'!$K$5=\"VETERANSD2NORD\",'Feuille de match'!$K$5=\"JUNIORS\",'Feuille de match'!$K$5=\"CADETS\",'Feuille de match'!$K$5=\"MINIMESBENJAMINSPOUSSINS\",'Feuille de match'!$K$5=\"MIXTESD1FINALE\",'Feuille de match'!$K$5=\"VETERANSD1FINALE\",'Feuille de match'!$K$5=\"VETERANSD2FINALE\",'Feuille de match'!$K$5=\"JUNIORSFINALE\",'Feuille de match'!$K$5=\"CADETSFINALE\",'Feuille de match'!$K$5=\"MINIMESBENJAMINSPOUSSINSFINALE\"),'Feuille de match'!$P$17,0))","v":0},{"$f":"IF(LEN($AQ$10)=2,\"00\"&$AQ$10,IF(LEN($AQ$10)=3,\"0\"&$AQ$10,$AQ$10))","v":0},{"$f":"IFERROR(RIGHT($AR$10,2),0)","v":"0"},{"$f":"IFERROR(LEFT($AR$10,2),0)","v":"0"},{"$f":"IF(OR('Feuille de match'!$K$5=\"EXCELLENCE\",'Feuille de match'!$K$5=\"HONNEUR\",'Feuille de match'!$K$5=\"PROMOTIONNORD\",'Feuille de match'!$K$5=\"ADULTESDIVISION1NORD\",'Feuille de match'!$K$5=\"PROMOTIONSTRASBOURG\",'Feuille de match'!$K$5=\"PROMOTIONFINALE\"),'Feuille de match'!$P$18,IF(OR('Feuille de match'!$K$5=\"MIXTESD1NORD\",'Feuille de match'!$K$5=\"MIXTESD1STRASBOURG\",'Feuille de match'!$K$5=\"VETERANSD1STRASBOURG\",'Feuille de match'!$K$5=\"VETERANSD2STRASBOURG\",'Feuille de match'!$K$5=\"VETERANSD1NORD\",'Feuille de match'!$K$5=\"VETERANSD2NORD\",'Feuille de match'!$K$5=\"JUNIORS\",'Feuille de match'!$K$5=\"CADETS\",'Feuille de match'!$K$5=\"MINIMESBENJAMINSPOUSSINS\",'Feuille de match'!$K$5=\"MIXTESD1FINALE\",'Feuille de match'!$K$5=\"VETERANSD1FINALE\",'Feuille de match'!$K$5=\"VETERANSD2FINALE\",'Feuille de match'!$K$5=\"JUNIORSFINALE\",'Feuille de match'!$K$5=\"CADETSFINALE\",'Feuille de match'!$K$5=\"MINIMESBENJAMINSPOUSSINSFINALE\"),'Feuille de match'!$P$18,0))","v":0},{"$f":"IF(LEN($AU$10)=2,\"00\"&$AU$10,IF(LEN($AU$10)=3,\"0\"&$AU$10,$AU$10))","v":0},{"$f":"IFERROR(RIGHT($AV$10,2),0)","v":"0"},{"$f":"IFERROR(LEFT($AV$10,2),0)","v":"0"},{"$f":"IF(OR('Feuille de match'!$K$5=\"EXCELLENCE\",'Feuille de match'!$K$5=\"HONNEUR\",'Feuille de match'!$K$5=\"PROMOTIONNORD\",'Feuille de match'!$K$5=\"ADULTESDIVISION1NORD\",'Feuille de match'!$K$5=\"PROMOTIONSTRASBOURG\",'Feuille de match'!$K$5=\"PROMOTIONFINALE\"),'Feuille de match'!$P$19,IF(OR('Feuille de match'!$K$5=\"MIXTESD1NORD\",'Feuille de match'!$K$5=\"MIXTESD1STRASBOURG\",'Feuille de match'!$K$5=\"VETERANSD1STRASBOURG\",'Feuille de match'!$K$5=\"VETERANSD2STRASBOURG\",'Feuille de match'!$K$5=\"VETERANSD1NORD\",'Feuille de match'!$K$5=\"VETERANSD2NORD\",'Feuille de match'!$K$5=\"JUNIORS\",'Feuille de match'!$K$5=\"CADETS\",'Feuille de match'!$K$5=\"MINIMESBENJAMINSPOUSSINS\",'Feuille de match'!$K$5=\"MIXTESD1FINALE\",'Feuille de match'!$K$5=\"VETERANSD1FINALE\",'Feuille de match'!$K$5=\"VETERANSD2FINALE\",'Feuille de match'!$K$5=\"JUNIORSFINALE\",'Feuille de match'!$K$5=\"CADETSFINALE\",'Feuille de match'!$K$5=\"MINIMESBENJAMINSPOUSSINSFINALE\"),\"0\",0))","v":0},{"$f":"IF(LEN($AY$10)=2,\"00\"&$AY$10,IF(LEN($AY$10)=3,\"0\"&$AY$10,$AY$10))","v":0},{"$f":"IFERROR(RIGHT($AZ$10,2),0)","v":"0"},{"$f":"IFERROR(LEFT($AZ$10,2),0)","v":"0"},null,null,null,null,"Ligne 7",{"$f":"IF(LEN('Feuille de match'!$M$23)=2,\"00\"&'Feuille de match'!$M$23,IF(LEN('Feuille de match'!$M$23)=3,\"0\"&'Feuille de match'!$M$23,'Feuille de match'!$M$23))","v":0},{"$f":"IFERROR(LEFT($BH$10,2),0)","v":"0"},{"$f":"IFERROR(RIGHT($BH$10,2),0)","v":"0"},{"$f":"IF($BI$10>$BJ$10,1,0)","v":0},{"$f":"IF($BI$10<$BJ$10,1,0)","v":0},{"$f":"IF(LEN('Feuille de match'!$N$23)=2,\"00\"&'Feuille de match'!$N$23,IF(LEN('Feuille de match'!$N$23)=3,\"0\"&'Feuille de match'!$N$23,'Feuille de match'!$N$23))","v":0},{"$f":"IFERROR(LEFT($BM$10,2),0)","v":"0"},{"$f":"IFERROR(RIGHT($BM$10,2),0)","v":"0"},{"$f":"IF($BN$10>$BO$10,1,0)","v":0},{"$f":"IF($BN$10<$BO$10,1,0)","v":0},{"$f":"IF(LEN('Feuille de match'!$O$23)=2,\"00\"&'Feuille de match'!$O$23,IF(LEN('Feuille de match'!$O$23)=3,\"0\"&'Feuille de match'!$O$23,'Feuille de match'!$O$23))","v":0},{"$f":"IFERROR(LEFT($BR$10,2),0)","v":"0"},{"$f":"IFERROR(RIGHT($BR$10,2),0)","v":"0"},{"$f":"IF($BS$10>$BT$10,1,0)","v":0},{"$f":"IF($BS$10<$BT$10,1,0)","v":0},{"$f":"IF(LEN('Feuille de match'!$P$23)=2,\"00\"&'Feuille de match'!$P$23,IF(LEN('Feuille de match'!$P$23)=3,\"0\"&'Feuille de match'!$P$23,'Feuille de match'!$P$23))","v":0},{"$f":"IFERROR(LEFT($BW$10,2),0)","v":"0"},{"$f":"IFERROR(RIGHT($BW$10,2),0)","v":"0"},{"$f":"IF($BX$10>$BY$10,1,0)","v":0},{"$f":"IF($BX$10<$BY$10,1,0)","v":0},{"$f":"IF(LEN('Feuille de match'!$Q$23)=2,\"00\"&'Feuille de match'!$Q$23,IF(LEN('Feuille de match'!$Q$23)=3,\"0\"&'Feuille de match'!$Q$23,'Feuille de match'!$Q$23))","v":0},{"$f":"IFERROR(LEFT($CB$10,2),0)","v":"0"},{"$f":"IFERROR(RIGHT($CB$10,2),0)","v":"0"},{"$f":"IF($CC$10>$CD$10,1,0)","v":0},{"$f":"IF($CC$10<$CD$10,1,0)","v":0},{"$f":"IF(LEN('Feuille de match'!$R$23)=2,\"00\"&'Feuille de match'!$R$23,IF(LEN('Feuille de match'!$R$23)=3,\"0\"&'Feuille de match'!$R$23,'Feuille de match'!$R$23))","v":0},{"$f":"IFERROR(LEFT($CG$10,2),0)","v":"0"},{"$f":"IFERROR(RIGHT($CG$10,2),0)","v":"0"},{"$f":"IF($CH$10>$CI$10,1,0)","v":0},{"$f":"IF($CH$10<$CI$10,1,0)","v":0},{"$f":"IF(LEN('Feuille de match'!$S$23)=2,\"00\"&'Feuille de match'!$S$23,IF(LEN('Feuille de match'!$S$23)=3,\"0\"&'Feuille de match'!$S$23,'Feuille de match'!$S$23))","v":0},{"$f":"IFERROR(LEFT($CL$10,2),0)","v":"0"},{"$f":"IFERROR(RIGHT($CL$10,2),0)","v":"0"},{"$f":"IF($CM$10>$CN$10,1,0)","v":0},{"$f":"IF($CM$10<$CN$10,1,0)","v":0},{"$f":"$BK$10+$BP$10+$BU$10+$BZ$10+$CE$10+$CJ$10+$CO$10","v":0},{"$f":"$BL$10+$BQ$10+$BV$10+$CA$10+$CF$10+$CK$10+$CP$10","v":0},{"$f":"IF('Feuille de match'!$K$5=\"\",0,IF(OR('Feuille de match'!$K$5=\"MIXTESD1NORD\",'Feuille de match'!$K$5=\"MIXTESD1STRASBOURG\",'Feuille de match'!$K$5=\"VETERANSD1STRASBOURG\",'Feuille de match'!$K$5=\"VETERANSD2STRASBOURG\",'Feuille de match'!$K$5=\"VETERANSD1NORD\",'Feuille de match'!$K$5=\"VETERANSD2NORD\",'Feuille de match'!$K$5=\"JUNIORS\",'Feuille de match'!$K$5=\"CADETS\",'Feuille de match'!$K$5=\"MINIMESBENJAMINSPOUSSINS\",'Feuille de match'!$K$5=\"MIXTESD1FINALE\",'Feuille de match'!$K$5=\"VETERANSD1FINALE\",'Feuille de match'!$K$5=\"VETERANSD2FINALE\",'Feuille de match'!$K$5=\"JUNIORSFINALE\",'Feuille de match'!$K$5=\"CADETSFINALE\",'Feuille de match'!$K$5=\"MINIMESBENJAMINSPOUSSINSFINALE\"),0,IF(AND(COUNTIF('Feuille de match'!$D23,\"*JOUEUR ABSENT*\"),COUNTIF('Feuille de match'!$J23,\"*JOUEUR ABSENT*\")),0,IF($CQ10>$CR10,1,0))))","v":0},{"$f":"IF('Feuille de match'!$K$5=\"\",0,IF(OR('Feuille de match'!$K$5=\"MIXTESD1NORD\",'Feuille de match'!$K$5=\"MIXTESD1STRASBOURG\",'Feuille de match'!$K$5=\"VETERANSD1STRASBOURG\",'Feuille de match'!$K$5=\"VETERANSD2STRASBOURG\",'Feuille de match'!$K$5=\"VETERANSD1NORD\",'Feuille de match'!$K$5=\"VETERANSD2NORD\",'Feuille de match'!$K$5=\"JUNIORS\",'Feuille de match'!$K$5=\"CADETS\",'Feuille de match'!$K$5=\"MINIMESBENJAMINSPOUSSINS\",'Feuille de match'!$K$5=\"MIXTESD1FINALE\",'Feuille de match'!$K$5=\"VETERANSD1FINALE\",'Feuille de match'!$K$5=\"VETERANSD2FINALE\",'Feuille de match'!$K$5=\"JUNIORSFINALE\",'Feuille de match'!$K$5=\"CADETSFINALE\",'Feuille de match'!$K$5=\"MINIMESBENJAMINSPOUSSINSFINALE\"),0,IF(AND(COUNTIF('Feuille de match'!$D23,\"*JOUEUR ABSENT*\"),COUNTIF('Feuille de match'!$J23,\"*JOUEUR ABSENT*\")),0,IF($CQ10<$CR10,1,0))))","v":0},{"$f":"$G$3","v":"HONNEUR"},{"$f":"$I$4","v":"ASP Gottenhouse 1"},"Jeudi","20H00","A,B,",{"$f":"$G$6","v":"VETERANSD1STRASBOURG"},11,11,11,null,{"$f":"$G$3","v":"HONNEUR"},"Do ","Y",null,{"$f":"IF($DH$10=\"\",\"\",IF($DH$10=TRUE,\"\",IF($DH$10=FALSE,'Feuille de match'!$O$12)))","v":""},null,{"$f":"IF($DJ$10=\"\",\"\",IF($DJ$10=TRUE,\"\",IF($DJ$10=FALSE,'Feuille de match'!$O$12)))","v":""},null,null,{"$f":"IF($DM$10=\"\",\"\",IF($DM$10=TRUE,\"\",IF($DM$10=FALSE,'Feuille de match'!$O$12)))","v":""},null,{"$f":"IF($DO$10=\"\",\"\",IF($DO$10=TRUE,\"\",IF($DO$10=FALSE,'Feuille de match'!$O$12)))","v":""},null,null,null,null,null,null,null,null,null,"HONNEURASP Gottenhouse 1",{"$f":"$G$3","v":"HONNEUR"},{"$f":"$I$4","v":"ASP Gottenhouse 1"},"Jeudi","20H00"]
[null,10,9,9,null,null,"MIXTESD1NORD",null,null,null,null,null,null,"Hanau TT 2",null,null,null,null,"Manche 5",null,null,null,null,null,null,null,"Manche 5",null,null,null,"Manche 5",null,null,null,"Manche 5",null,null,null,null,null,null,null,"Manche 5",null,null,null,"Manche 5",null,null,null,"Manche 5",null,null,null,null,null,null,null,"Ligne 8",{"$f":"IF(LEN('Feuille de match'!$M$24)=2,\"00\"&'Feuille de match'!$M$24,IF(LEN('Feuille de match'!$M$24)=3,\"0\"&'Feuille de match'!$M$24,'Feuille de match'!$M$24))","v":0},{"$f":"IFERROR(LEFT($BH$11,2),0)","v":"0"},{"$f":"IFERROR(RIGHT($BH$11,2),0)","v":"0"},{"$f":"IF($BI$11>$BJ$11,1,0)","v":0},{"$f":"IF($BI$11<$BJ$11,1,0)","v":0},{"$f":"IF(LEN('Feuille de match'!$N$24)=2,\"00\"&'Feuille de match'!$N$24,IF(LEN('Feuille de match'!$N$24)=3,\"0\"&'Feuille de match'!$N$24,'Feuille de match'!$N$24))","v":0},{"$f":"IFERROR(LEFT($BM$11,2),0)","v":"0"},{"$f":"IFERROR(RIGHT($BM$11,2),0)","v":"0"},{"$f":"IF($BN$11>$BO$11,1,0)","v":0},{"$f":"IF($BN$11<$BO$11,1,0)","v":0},{"$f":"IF(LEN('Feuille de match'!$O$24)=2,\"00\"&'Feuille de match'!$O$24,IF(LEN('Feuille de match'!$O$24)=3,\"0\"&'Feuille de match'!$O$24,'Feuille de match'!$O$24))","v":0},{"$f":"IFERROR(LEFT($BR$11,2),0)","v":"0"},{"$f":"IFERROR(RIGHT($BR$11,2),0)","v":"0"},{"$f":"IF($BS$11>$BT$11,1,0)","v":0},{"$f":"IF($BS$11<$BT$11,1,0)","v":0},{"$f":"IF(LEN('Feuille de match'!$P$24)=2,\"00\"&'Feuille de match'!$P$24,IF(LEN('Feuille de match'!$P$24)=3,\"0\"&'Feuille de match'!$P$24,'Feuille de match'!$P$24))","v":0},{"$f":"IFERROR(LEFT($BW$11,2),0)","v":"0"},{"$f":"IFERROR(RIGHT($BW$11,2),0)","v":"0"},{"$f":"IF($BX$11>$BY$11,1,0)","v":0},{"$f":"IF($BX$11<$BY$11,1,0)","v":0},{"$f":"IF(LEN('Feuille de match'!$Q$24)=2,\"00\"&'Feuille de match'!$Q$24,IF(LEN('Feuille de match'!$Q$24)=3,\"0\"&'Feuille de match'!$Q$24,'Feuille de match'!$Q$24))","v":0},{"$f":"IFERROR(LEFT($CB$11,2),0)","v":"0"},{"$f":"IFERROR(RIGHT($CB$11,2),0)","v":"0"},{"$f":"IF($CC$11>$CD$11,1,0)","v":0},{"$f":"IF($CC$11<$CD$11,1,0)","v":0},{"$f":"IF(LEN('Feuille de match'!$R$24)=2,\"00\"&'Feuille de match'!$R$24,IF(LEN('Feuille de match'!$R$24)=3,\"0\"&'Feuille de match'!$R$24,'Feuille de match'!$R$24))","v":0},{"$f":"IFERROR(LEFT($CG$11,2),0)","v":"0"},{"$f":"IFERROR(RIGHT($CG$11,2),0)","v":"0"},{"$f":"IF($CH$11>$CI$11,1,0)","v":0},{"$f":"IF($CH$11<$CI$11,1,0)","v":0},{"$f":"IF(LEN('Feuille de match'!$S$24)=2,\"00\"&'Feuille de match'!$S$24,IF(LEN('Feuille de match'!$S$24)=3,\"0\"&'Feuille de match'!$S$24,'Feuille de match'!$S$24))","v":0},{"$f":"IFERROR(LEFT($CL$11,2),0)","v":"0"},{"$f":"IFERROR(RIGHT($CL$11,2),0)","v":"0"},{"$f":"IF($CM$11>$CN$11,1,0)","v":0},{"$f":"IF($CM$11<$CN$11,1,0)","v":0},{"$f":"$BK$11+$BP$11+$BU$11+$BZ$11+$CE$11+$CJ$11+$CO$11","v":0},{"$f":"$BL$11+$BQ$11+$BV$11+$CA$11+$CF$11+$CK$11+$CP$11","v":0},{"$f":"IF('Feuille de match'!$K$5=\"\",0,IF(OR('Feuille de match'!$K$5=\"MIXTESD1NORD\",'Feuille de match'!$K$5=\"MIXTESD1STRASBOURG\",'Feuille de match'!$K$5=\"VETERANSD1STRASBOURG\",'Feuille de match'!$K$5=\"VETERANSD2STRASBOURG\",'Feuille de match'!$K$5=\"VETERANSD1NORD\",'Feuille de match'!$K$5=\"VETERANSD2NORD\",'Feuille de match'!$K$5=\"JUNIORS\",'Feuille de match'!$K$5=\"CADETS\",'Feuille de match'!$K$5=\"MINIMESBENJAMINSPOUSSINS\",'Feuille de match'!$K$5=\"MIXTESD1FINALE\",'Feuille de match'!$K$5=\"VETERANSD1FINALE\",'Feuille de match'!$K$5=\"VETERANSD2FINALE\",'Feuille de match'!$K$5=\"JUNIORSFINALE\",'Feuille de match'!$K$5=\"CADETSFINALE\",'Feuille de match'!$K$5=\"MINIMESBENJAMINSPOUSSINSFINALE\"),0,IF(AND(COUNTIF('Feuille de match'!$D24,\"*JOUEUR ABSENT*\"),COUNTIF('Feuille de match'!$J24,\"*JOUEUR ABSENT*\")),0,IF($CQ11>$CR11,1,0))))","v":0},{"$f":"IF('Feuille de match'!$K$5=\"\",0,IF(OR('Feuille de match'!$K$5=\"MIXTESD1NORD\",'Feuille de match'!$K$5=\"MIXTESD1STRASBOURG\",'Feuille de match'!$K$5=\"VETERANSD1STRASBOURG\",'Feuille de match'!$K$5=\"VETERANSD2STRASBOURG\",'Feuille de match'!$K$5=\"VETERANSD1NORD\",'Feuille de match'!$K$5=\"VETERANSD2NORD\",'Feuille de match'!$K$5=\"JUNIORS\",'Feuille de match'!$K$5=\"CADETS\",'Feuille de match'!$K$5=\"MINIMESBENJAMINSPOUSSINS\",'Feuille de match'!$K$5=\"MIXTESD1FINALE\",'Feuille de match'!$K$5=\"VETERANSD1FINALE\",'Feuille de match'!$K$5=\"VETERANSD2FINALE\",'Feuille de match'!$K$5=\"JUNIORSFINALE\",'Feuille de match'!$K$5=\"CADETSFINALE\",'Feuille de match'!$K$5=\"MINIMESBENJAMINSPOUSSINSFINALE\"),0,IF(AND(COUNTIF('Feuille de match'!$D24,\"*JOUEUR ABSENT*\"),COUNTIF('Feuille de match'!$J24,\"*JOUEUR ABSENT*\")),0,IF($CQ11<$CR11,1,0))))","v":0},"HONNEUR",{"$f":"$I$5","v":"Amitié Lingolsheim 2"},"Mercredi","20H00","A,B,",{"$f":"$G$7","v":"VETERANSD2STRASBOURG"},11,11,11,null,{"$f":"$G$4","v":"PROMOTIONSTRASBOURG"},"Do ","Z",null,{"$f":"IF($DH$11=\"\",\"\",IF($DH$11=TRUE,\"\",IF($DH$11=FALSE,'Feuille de match'!$O$13)))","v":""},null,{"$f":"IF($DJ$11=\"\",\"\",IF($DJ$11=TRUE,\"\",IF($DJ$11=FALSE,'Feuille de match'!$O$13)))","v":""},null,null,{"$f":"IF($DM$11=\"\",\"\",IF($DM$11=TRUE,\"\",IF($DM$11=FALSE,'Feuille de match'!$O$13)))","v":""},null,{"$f":"IF($DO$11=\"\",\"\",IF($DO$11=TRUE,\"\",IF($DO$11=FALSE,'Feuille de match'!$O$13)))","v":""},null,null,null,null,null,null,null,null,null,"HONNEURAmitié Lingolsheim 2","HONNEUR",{"$f":"$I$5","v":"Amitié Lingolsheim 2"},"Mercredi","20H00"]
[null,11,10,10,null,null,"ADULTESDIVISION1NORD",null,null,null,null,null,null,"ASP Gottenhouse 2",null,null,null,null,{"$f":"IF(OR('Feuille de match'!$K$5=\"EXCELLENCE\",'Feuille de match'!$K$5=\"HONNEUR\",'Feuille de match'!$K$5=\"PROMOTIONNORD\",'Feuille de match'!$K$5=\"ADULTESDIVISION1NORD\",'Feuille de match'!$K$5=\"PROMOTIONSTRASBOURG\",'Feuille de match'!$K$5=\"PROMOTIONFINALE\"),'Feuille de match'!$Q$23,IF(OR('Feuille de match'!$K$5=\"MIXTESD1NORD\",'Feuille de match'!$K$5=\"MIXTESD1STRASBOURG\",'Feuille de match'!$K$5=\"VETERANSD1STRASBOURG\",'Feuille de match'!$K$5=\"VETERANSD2STRASBOURG\",'Feuille de match'!$K$5=\"VETERANSD1NORD\",'Feuille de match'!$K$5=\"VETERANSD2NORD\",'Feuille de match'!$K$5=\"JUNIORS\",'Feuille de match'!$K$5=\"CADETS\",'Feuille de match'!$K$5=\"MINIMESBENJAMINSPOUSSINS\",'Feuille de match'!$K$5=\"MIXTESD1FINALE\",'Feuille de match'!$K$5=\"VETERANSD1FINALE\",'Feuille de match'!$K$5=\"VETERANSD2FINALE\",'Feuille de match'!$K$5=\"JUNIORSFINALE\",'Feuille de match'!$K$5=\"CADETSFINALE\",'Feuille de match'!$K$5=\"MINIMESBENJAMINSPOUSSINSFINALE\"),'Feuille de match'!$Q$19,0))","v":0},{"$f":"IF(LEN($S$12)=2,\"00\"&$S$12,IF(LEN($S$12)=3,\"0\"&$S$12,$S$12))","v":0},{"$f":"IFERROR(LEFT($T$12,2),0)","v":"0"},{"$f":"IFERROR(RIGHT($T$12,2),0)","v":"0"},null,null,null,null,{"$f":"IF(OR('Feuille de match'!$K$5=\"EXCELLENCE\",'Feuille de match'!$K$5=\"HONNEUR\",'Feuille de match'!$K$5=\"PROMOTIONNORD\",'Feuille de match'!$K$5=\"ADULTESDIVISION1NORD\",'Feuille de match'!$K$5=\"PROMOTIONSTRASBOURG\",'Feuille de match'!$K$5=\"PROMOTIONFINALE\"),'Feuille de match'!$Q$17,IF(OR('Feuille de match'!$K$5=\"MIXTESD1NORD\",'Feuille de match'!$K$5=\"MIXTESD1STRASBOURG\",'Feuille de match'!$K$5=\"VETERANSD1STRASBOURG\",'Feuille de match'!$K$5=\"VETERANSD2STRASBOURG\",'Feuille de match'!$K$5=\"VETERANSD1NORD\",'Feuille de match'!$K$5=\"VETERANSD2NORD\",'Feuille de match'!$K$5=\"JUNIORS\",'Feuille de match'!$K$5=\"CADETS\",'Feuille de match'!$K$5=\"MINIMESBENJAMINSPOUSSINS\",'Feuille de match'!$K$5=\"MIXTESD1FINALE\",'Feuille de match'!$K$5=\"VETERANSD1FINALE\",'Feuille de match'!$K$5=\"VETERANSD2FINALE\",'Feuille de match'!$K$5=\"JUNIORSFINALE\",'Feuille de match'!$K$5=\"CADETSFINALE\",'Feuille de match'!$K$5=\"MINIMESBENJAMINSPOUSSINSFINALE\"),'Feuille de match'!$Q$17,0))","v":0},{"$f":"IF(LEN($AA$12)=2,\"00\"&$AA$12,IF(LEN($AA$12)=3,\"0\"&$AA$12,$AA$12))","v":0},{"$f":"IFERROR(LEFT($AB$12,2),0)","v":"0"},{"$f":"IFERROR(RIGHT($AB$12,2),0)","v":"0"},{"$f":"IF(OR('Feuille de match'!$K$5=\"EXCELLENCE\",'Feuille de match'!$K$5=\"HONNEUR\",'Feuille de match'!$K$5=\"PROMOTIONNORD\",'Feuille de match'!$K$5=\"ADULTESDIVISION1NORD\",'Feuille de match'!$K$5=\"PROMOTIONSTRASBOURG\",'Feuille de match'!$K$5=\"PROMOTIONFINALE\"),'Feuille de match'!$Q$18,IF(OR('Feuille de match'!$K$5=\"MIXTESD1NORD\",'Feuille de match'!$K$5=\"MIXTESD1STRASBOURG\",'Feuille de match'!$K$5=\"VETERANSD1STRASBOURG\",'Feuille de match'!$K$5=\"VETERANSD2STRASBOURG\",'Feuille de match'!$K$5=\"VETERANSD1NORD\",'Feuille de match'!$K$5=\"VETERANSD2NORD\",'Feuille de match'!$K$5=\"JUNIORS\",'Feuille de match'!$K$5=\"CADETS\",'Feuille de match'!$K$5=\"MINIMESBENJAMINSPOUSSINS\",'Feuille de match'!$K$5=\"MIXTESD1FINALE\",'Feuille de match'!$K$5=\"VETERANSD1FINALE\",'Feuille de match'!$K$5=\"VETERANSD2FINALE\",'Feuille de match'!$K$5=\"JUNIORSFINALE\",'Feuille de match'!$K$5=\"CADETSFINALE\",'Feuille de match'!$K$5=\"MINIMESBENJAMINSPOUSSINSFINALE\"),'Feuille de match'!$Q$18,0))","v":0},{"$f":"IF(LEN($AE$12)=2,\"00\"&$AE$12,IF(LEN($AE$12)=3,\"0\"&$AE$12,$AE$12))","v":0},{"$f":"IFERROR(LEFT($AF$12,2),0)","v":"0"},{"$f":"IFERROR(RIGHT($AF$12,2),0)","v":"0"},{"$f":"IF(OR('Feuille de match'!$K$5=\"EXCELLENCE\",'Feuille de match'!$K$5=\"HONNEUR\",'Feuille de match'!$K$5=\"PROMOTIONNORD\",'Feuille de match'!$K$5=\"ADULTESDIVISION1NORD\",'Feuille de match'!$K$5=\"PROMOTIONSTRASBOURG\",'Feuille de match'!$K$5=\"PROMOTIONFINALE\"),'Feuille de match'!$Q$19,IF(OR('Feuille de match'!$K$5=\"MIXTESD1NORD\",'Feuille de match'!$K$5=\"MIXTESD1STRASBOURG\",'Feuille de match'!$K$5=\"VETERANSD1STRASBOURG\",'Feuille de match'!$K$5=\"VETERANSD2STRASBOURG\",'Feuille de match'!$K$5=\"VETERANSD1NORD\",'Feuille de match'!$K$5=\"VETERANSD2NORD\",'Feuille de match'!$K$5=\"JUNIORS\",'Feuille de match'!$K$5=\"CADETS\",'Feuille de match'!$K$5=\"MINIMESBENJAMINSPOUSSINS\",'Feuille de match'!$K$5=\"MIXTESD1FINALE\",'Feuille de match'!$K$5=\"VETERANSD1FINALE\",'Feuille de match'!$K$5=\"VETERANSD2FINALE\",'Feuille de match'!$K$5=\"JUNIORSFINALE\",'Feuille de match'!$K$5=\"CADETSFINALE\",'Feuille de match'!$K$5=\"MINIMESBENJAMINSPOUSSINSFINALE\"),\"0\",0))","v":0},{"$f":"IF(LEN($AI$12)=2,\"00\"&$AI$12,IF(LEN($AI$12)=3,\"0\"&$AI$12,$AI$12))","v":0},{"$f":"IFERROR(LEFT($AJ$12,2),0)","v":"0"},{"$f":"IFERROR(RIGHT($AJ$12,2),0)","v":"0"},null,null,null,null,{"$f":"IF(OR('Feuille de match'!$K$5=\"EXCELLENCE\",'Feuille de match'!$K$5=\"HONNEUR\",'Feuille de match'!$K$5=\"PROMOTIONNORD\",'Feuille de match'!$K$5=\"ADULTESDIVISION1NORD\",'Feuille de match'!$K$5=\"PROMOTIONSTRASBOURG\",'Feuille de match'!$K$5=\"PROMOTIONFINALE\"),'Feuille de match'!$Q$17,IF(OR('Feuille de match'!$K$5=\"MIXTESD1NORD\",'Feuille de match'!$K$5=\"MIXTESD1STRASBOURG\",'Feuille de match'!$K$5=\"VETERANSD1STRASBOURG\",'Feuille de match'!$K$5=\"VETERANSD2STRASBOURG\",'Feuille de match'!$K$5=\"VETERANSD1NORD\",'Feuille de match'!$K$5=\"VETERANSD2NORD\",'Feuille de match'!$K$5=\"JUNIORS\",'Feuille de match'!$K$5=\"CADETS\",'Feuille de match'!$K$5=\"MINIMESBENJAMINSPOUSSINS\",'Feuille de match'!$K$5=\"MIXTESD1FINALE\",'Feuille de match'!$K$5=\"VETERANSD1FINALE\",'Feuille de match'!$K$5=\"VETERANSD2FINALE\",'Feuille de match'!$K$5=\"JUNIORSFINALE\",'Feuille de match'!$K$5=\"CADETSFINALE\",'Feuille de match'!$K$5=\"MINIMESBENJAMINSPOUSSINSFINALE\"),'Feuille de match'!$Q$17,0))","v":0},{"$f":"IF(LEN($AQ$12)=2,\"00\"&$AQ$12,IF(LEN($AQ$12)=3,\"0\"&$AQ$12,$AQ$12))","v":0},{"$f":"IFERROR(RIGHT($AR$12,2),0)","v":"0"},{"$f":"IFERROR(LEFT($AR$12,2),0)","v":"0"},{"$f":"IF(OR('Feuille de match'!$K$5=\"EXCELLENCE\",'Feuille de match'!$K$5=\"HONNEUR\",'Feuille de match'!$K$5=\"PROMOTIONNORD\",'Feuille de match'!$K$5=\"ADULTESDIVISION1NORD\",'Feuille de match'!$K$5=\"PROMOTIONSTRASBOURG\",'Feuille de match'!$K$5=\"PROMOTIONFINALE\"),'Feuille de match'!$Q$18,IF(OR('Feuille de match'!$K$5=\"MIXTESD1NORD\",'Feuille de match'!$K$5=\"MIXTESD1STRASBOURG\",'Feuille de match'!$K$5=\"VETERANSD1STRASBOURG\",'Feuille de match'!$K$5=\"VETERANSD2STRASBOURG\",'Feuille de match'!$K$5=\"VETERANSD1NORD\",'Feuille de match'!$K$5=\"VETERANSD2NORD\",'Feuille de match'!$K$5=\"JUNIORS\",'Feuille de match'!$K$5=\"CADETS\",'Feuille de match'!$K$5=\"MINIMESBENJAMINSPOUSSINS\",'Feuille de match'!$K$5=\"MIXTESD1FINALE\",'Feuille de match'!$K$5=\"VETERANSD1FINALE\",'Feuille de match'!$K$5=\"VETERANSD2FINALE\",'Feuille de match'!$K$5=\"JUNIORSFINALE\",'Feuille de match'!$K$5=\"CADETSFINALE\",'Feuille de match'!$K$5=\"MINIMESBENJAMINSPOUSSINSFINALE\"),'Feuille de match'!$Q$18,0))","v":0},{"$f":"IF(LEN($AU$12)=2,\"00\"&$AU$12,IF(LEN($AU$12)=3,\"0\"&$AU$12,$AU$12))","v":0},{"$f":"IFERROR(RIGHT($AV$12,2),0)","v":"0"},{"$f":"IFERROR(LEFT($AV$12,2),0)","v":"0"},{"$f":"IF(OR('Feuille de match'!$K$5=\"EXCELLENCE\",'Feuille de match'!$K$5=\"HONNEUR\",'Feuille de match'!$K$5=\"PROMOTIONNORD\",'Feuille de match'!$K$5=\"ADULTESDIVISION1NORD\",'Feuille de match'!$K$5=\"PROMOTIONSTRASBOURG\",'Feuille de match'!$K$5=\"PROMOTIONFINALE\"),'Feuille de match'!$Q$19,IF(OR('Feuille de match'!$K$5=\"MIXTESD1NORD\",'Feuille de match'!$K$5=\"MIXTESD1STRASBOURG\",'Feuille de match'!$K$5=\"VETERANSD1STRASBOURG\",'Feuille de match'!$K$5=\"VETERANSD2STRASBOURG\",'Feuille de match'!$K$5=\"VETERANSD1NORD\",'Feuille de match'!$K$5=\"VETERANSD2NORD\",'Feuille de match'!$K$5=\"JUNIORS\",'Feuille de match'!$K$5=\"CADETS\",'Feuille de match'!$K$5=\"MINIMESBENJAMINSPOUSSINS\",'Feuille de match'!$K$5=\"MIXTESD1FINALE\",'Feuille de match'!$K$5=\"VETERANSD1FINALE\",'Feuille de match'!$K$5=\"VETERANSD2FINALE\",'Feuille de match'!$K$5=\"JUNIORSFINALE\",'Feuille de match'!$K$5=\"CADETSFINALE\",'Feuille de match'!$K$5=\"MINIMESBENJAMINSPOUSSINSFINALE\"),\"0\",0))","v":0},{"$f":"IF(LEN($AY$12)=2,\"00\"&$AY$12,IF(LEN($AY$12)=3,\"0\"&$AY$12,$AY$12))","v":0},{"$f":"IFERROR(RIGHT($AZ$12,2),0)","v":"0"},{"$f":"IFERROR(LEFT($AZ$12,2),0)","v":"0"},null,null,null,null,"Ligne 9",{"$f":"IF(LEN('Feuille de match'!$M$25)=2,\"00\"&'Feuille de match'!$M$25,IF(LEN('Feuille de match'!$M$25)=3,\"0\"&'Feuille de match'!$M$25,'Feuille de match'!$M$25))","v":0},{"$f":"IFERROR(LEFT($BH$12,2),0)","v":"0"},{"$f":"IFERROR(RIGHT($BH$12,2),0)","v":"0"},{"$f":"IF($BI$12>$BJ$12,1,0)","v":0},{"$f":"IF($BI$12<$BJ$12,1,0)","v":0},{"$f":"IF(LEN('Feuille de match'!$N$25)=2,\"00\"&'Feuille de match'!$N$25,IF(LEN('Feuille de match'!$N$25)=3,\"0\"&'Feuille de match'!$N$25,'Feuille de match'!$N$25))","v":0},{"$f":"IFERROR(LEFT($BM$12,2),0)","v":"0"},{"$f":"IFERROR(RIGHT($BM$12,2),0)","v":"0"},{"$f":"IF($BN$12>$BO$12,1,0)","v":0},{"$f":"IF($BN$12<$BO$12,1,0)","v":0},{"$f":"IF(LEN('Feuille de match'!$O$25)=2,\"00\"&'Feuille de match'!$O$25,IF(LEN('Feuille de match'!$O$25)=3,\"0\"&'Feuille de match'!$O$25,'Feuille de match'!$O$25))","v":0},{"$f":"IFERROR(LEFT($BR$12,2),0)","v":"0"},{"$f":"IFERROR(RIGHT($BR$12,2),0)","v":"0"},{"$f":"IF($BS$12>$BT$12,1,0)","v":0},{"$f":"IF($BS$12<$BT$12,1,0)","v":0},{"$f":"IF(LEN('Feuille de match'!$P$25)=2,\"00\"&'Feuille de match'!$P$25,IF(LEN('Feuille de match'!$P$25)=3,\"0\"&'Feuille de match'!$P$25,'Feuille de match'!$P$25))","v":0},{"$f":"IFERROR(LEFT($BW$12,2),0)","v":"0"},{"$f":"IFERROR(RIGHT($BW$12,2),0)","v":"0"},{"$f":"IF($BX$12>$BY$12,1,0)","v":0},{"$f":"IF($BX$12<$BY$12,1,0)","v":0},{"$f":"IF(LEN('Feuille de match'!$Q$25)=2,\"00\"&'Feuille de match'!$Q$25,IF(LEN('Feuille de match'!$Q$25)=3,\"0\"&'Feuille de match'!$Q$25,'Feuille de match'!$Q$25))","v":0},{"$f":"IFERROR(LEFT($CB$12,2),0)","v":"0"},{"$f":"IFERROR(RIGHT($CB$12,2),0)","v":"0"},{"$f":"IF($CC$12>$CD$12,1,0)","v":0},{"$f":"IF($CC$12<$CD$12,1,0)","v":0},{"$f":"IF(LEN('Feuille de match'!$R$25)=2,\"00\"&'Feuille de match'!$R$25,IF(LEN('Feuille de match'!$R$25)=3,\"0\"&'Feuille de match'!$R$25,'Feuille de match'!$R$25))","v":0},{"$f":"IFERROR(LEFT($CG$12,2),0)","v":"0"},{"$f":"IFERROR(RIGHT($CG$12,2),0)","v":"0"},{"$f":"IF($CH$12>$CI$12,1,0)","v":0},{"$f":"IF($CH$12<$CI$12,1,0)","v":0},{"$f":"IF(LEN('Feuille de match'!$S$25)=2,\"00\"&'Feuille de match'!$S$25,IF(LEN('Feuille de match'!$S$25)=3,\"0\"&'Feuille de match'!$S$25,'Feuille de match'!$S$25))","v":0},{"$f":"IFERROR(LEFT($CL$12,2),0)","v":"0"},{"$f":"IFERROR(RIGHT($CL$12,2),0)","v":"0"},{"$f":"IF($CM$12>$CN$12,1,0)","v":0},{"$f":"IF($CM$12<$CN$12,1,0)","v":0},{"$f":"$BK$12+$BP$12+$BU$12+$BZ$12+$CE$12+$CJ$12+$CO$12","v":0},{"$f":"$BL$12+$BQ$12+$BV$12+$CA$12+$CF$12+$CK$12+$CP$12","v":0},{"$f":"IF('Feuille de match'!$K$5=\"\",0,IF(OR('Feuille de match'!$K$5=\"MIXTESD1NORD\",'Feuille de match'!$K$5=\"MIXTESD1STRASBOURG\",'Feuille de match'!$K$5=\"VETERANSD1STRASBOURG\",'Feuille de match'!$K$5=\"VETERANSD2STRASBOURG\",'Feuille de match'!$K$5=\"VETERANSD1NORD\",'Feuille de match'!$K$5=\"VETERANSD2NORD\",'Feuille de match'!$K$5=\"JUNIORS\",'Feuille de match'!$K$5=\"CADETS\",'Feuille de match'!$K$5=\"MINIMESBENJAMINSPOUSSINS\",'Feuille de match'!$K$5=\"MIXTESD1FINALE\",'Feuille de match'!$K$5=\"VETERANSD1FINALE\",'Feuille de match'!$K$5=\"VETERANSD2FINALE\",'Feuille de match'!$K$5=\"JUNIORSFINALE\",'Feuille de match'!$K$5=\"CADETSFINALE\",'Feuille de match'!$K$5=\"MINIMESBENJAMINSPOUSSINSFINALE\"),0,IF(AND(COUNTIF('Feuille de match'!$D25,\"*JOUEUR ABSENT*\"),COUNTIF('Feuille de match'!$J25,\"*JOUEUR ABSENT*\")),0,IF($CQ12>$CR12,1,0))))","v":0},{"$f":"IF('Feuille de match'!$K$5=\"\",0,IF(OR('Feuille de match'!$K$5=\"MIXTESD1NORD\",'Feuille de match'!$K$5=\"MIXTESD1STRASBOURG\",'Feuille de match'!$K$5=\"VETERANSD1STRASBOURG\",'Feuille de match'!$K$5=\"VETERANSD2STRASBOURG\",'Feuille de match'!$K$5=\"VETERANSD1NORD\",'Feuille de match'!$K$5=\"VETERANSD2NORD\",'Feuille de match'!$K$5=\"JUNIORS\",'Feuille de match'!$K$5=\"CADETS\",'Feuille de match'!$K$5=\"MINIMESBENJAMINSPOUSSINS\",'Feuille de match'!$K$5=\"MIXTESD1FINALE\",'Feuille de match'!$K$5=\"VETERANSD1FINALE\",'Feuille de match'!$K$5=\"VETERANSD2FINALE\",'Feuille de match'!$K$5=\"JUNIORSFINALE\",'Feuille de match'!$K$5=\"CADETSFINALE\",'Feuille de match'!$K$5=\"MINIMESBENJAMINSPOUSSINSFINALE\"),0,IF(AND(COUNTIF('Feuille de match'!$D25,\"*JOUEUR ABSENT*\"),COUNTIF('Feuille de match'!$J25,\"*JOUEUR ABSENT*\")),0,IF($CQ12<$CR12,1,0))))","v":0},"HONNEUR",{"$f":"$I$6","v":"Amitié Lingolsheim 3"},"Vendredi","20H00","A,B,",{"$f":"$G$5","v":"MIXTESD1STRASBOURG"},11,11,11,null,{"$f":"$G$8","v":"PROMOTIONNORD"},"Do ",null,null,null,null,null,null,null,null,null,null,null,null,null,null,null,null,null,null,null,"HONNEURAmitié Lingolsheim 3","HONNEUR",{"$f":"$I$6","v":"Amitié Lingolsheim 3"},"Vendredi","20H00"]
[null,12,11,11,null,null,"JUNIORS",null,null,null,null,null,null,null,null,null,null,null,"Manche 6",null,null,null,null,null,null,null,"Manche 6",null,null,null,"Manche 6",null,null,null,"Manche 6",null,null,null,null,null,null,null,"Manche 6",null,null,null,"Manche 6",null,null,null,"Manche 6",null,null,null,null,null,null,null,"Ligne 10",{"$f":"IF(LEN('Feuille de match'!$M$26)=2,\"00\"&'Feuille de match'!$M$26,IF(LEN('Feuille de match'!$M$26)=3,\"0\"&'Feuille de match'!$M$26,'Feuille de match'!$M$26))","v":0},{"$f":"IFERROR(LEFT($BH$13,2),0)","v":"0"},{"$f":"IFERROR(RIGHT($BH$13,2),0)","v":"0"},{"$f":"IF($BI$13>$BJ$13,1,0)","v":0},{"$f":"IF($BI$13<$BJ$13,1,0)","v":0},{"$f":"IF(LEN('Feuille de match'!$N$26)=2,\"00\"&'Feuille de match'!$N$26,IF(LEN('Feuille de match'!$N$26)=3,\"0\"&'Feuille de match'!$N$26,'Feuille de match'!$N$26))","v":0},{"$f":"IFERROR(LEFT($BM$13,2),0)","v":"0"},{"$f":"IFERROR(RIGHT($BM$13,2),0)","v":"0"},{"$f":"IF($BN$13>$BO$13,1,0)","v":0},{"$f":"IF($BN$13<$BO$13,1,0)","v":0},{"$f":"IF(LEN('Feuille de match'!$O$26)=2,\"00\"&'Feuille de match'!$O$26,IF(LEN('Feuille de match'!$O$26)=3,\"0\"&'Feuille de match'!$O$26,'Feuille de match'!$O$26))","v":0},{"$f":"IFERROR(LEFT($BR$13,2),0)","v":"0"},{"$f":"IFERROR(RIGHT($BR$13,2),0)","v":"0"},{"$f":"IF($BS$13>$BT$13,1,0)","v":0},{"$f":"IF($BS$13<$BT$13,1,0)","v":0},{"$f":"IF(LEN('Feuille de match'!$P$26)=2,\"00\"&'Feuille de match'!$P$26,IF(LEN('Feuille de match'!$P$26)=3,\"0\"&'Feuille de match'!$P$26,'Feuille de match'!$P$26))","v":0},{"$f":"IFERROR(LEFT($BW$13,2),0)","v":"0"},{"$f":"IFERROR(RIGHT($BW$13,2),0)","v":"0"},{"$f":"IF($BX$13>$BY$13,1,0)","v":0},{"$f":"IF($BX$13<$BY$13,1,0)","v":0},{"$f":"IF(LEN('Feuille de match'!$Q$26)=2,\"00\"&'Feuille de match'!$Q$26,IF(LEN('Feuille de match'!$Q$26)=3,\"0\"&'Feuille de match'!$Q$26,'Feuille de match'!$Q$26))","v":0},{"$f":"IFERROR(LEFT($CB$13,2),0)","v":"0"},{"$f":"IFERROR(RIGHT($CB$13,2),0)","v":"0"},{"$f":"IF($CC$13>$CD$13,1,0)","v":0},{"$f":"IF($CC$13<$CD$13,1,0)","v":0},{"$f":"IF(LEN('Feuille de match'!$R$26)=2,\"00\"&'Feuille de match'!$R$26,IF(LEN('Feuille de match'!$R$26)=3,\"0\"&'Feuille de match'!$R$26,'Feuille de match'!$R$26))","v":0},{"$f":"IFERROR(LEFT($CG$13,2),0)","v":"0"},{"$f":"IFERROR(RIGHT($CG$13,2),0)","v":"0"},{"$f":"IF($CH$13>$CI$13,1,0)","v":0},{"$f":"IF($CH$13<$CI$13,1,0)","v":0},{"$f":"IF(LEN('Feuille de match'!$S$26)=2,\"00\"&'Feuille de match'!$S$26,IF(LEN('Feuille de match'!$S$26)=3,\"0\"&'Feuille de match'!$S$26,'Feuille de match'!$S$26))","v":0},{"$f":"IFERROR(LEFT($CL$13,2),0)","v":"0"},{"$f":"IFERROR(RIGHT($CL$13,2),0)","v":"0"},{"$f":"IF($CM$13>$CN$13,1,0)","v":0},{"$f":"IF($CM$13<$CN$13,1,0)","v":0},{"$f":"$BK$13+$BP$13+$BU$13+$BZ$13+$CE$13+$CJ$13+$CO$13","v":0},{"$f":"$BL$13+$BQ$13+$BV$13+$CA$13+$CF$13+$CK$13+$CP$13","v":0},{"$f":"IF('Feuille de match'!$K$5=\"\",0,IF(OR('Feuille de match'!$K$5=\"MIXTESD1NORD\",'Feuille de match'!$K$5=\"MIXTESD1STRASBOURG\",'Feuille de match'!$K$5=\"VETERANSD1STRASBOURG\",'Feuille de match'!$K$5=\"VETERANSD2STRASBOURG\",'Feuille de match'!$K$5=\"VETERANSD1NORD\",'Feuille de match'!$K$5=\"VETERANSD2NORD\",'Feuille de match'!$K$5=\"JUNIORS\",'Feuille de match'!$K$5=\"CADETS\",'Feuille de match'!$K$5=\"MINIMESBENJAMINSPOUSSINS\",'Feuille de match'!$K$5=\"MIXTESD1FINALE\",'Feuille de match'!$K$5=\"VETERANSD1FINALE\",'Feuille de match'!$K$5=\"VETERANSD2FINALE\",'Feuille de match'!$K$5=\"JUNIORSFINALE\",'Feuille de match'!$K$5=\"CADETSFINALE\",'Feuille de match'!$K$5=\"MINIMESBENJAMINSPOUSSINSFINALE\"),0,IF(AND(COUNTIF('Feuille de match'!$D26,\"*JOUEUR ABSENT*\"),COUNTIF('Feuille de match'!$J26,\"*JOUEUR ABSENT*\")),0,IF($CQ13>$CR13,1,0))))","v":0},{"$f":"IF('Feuille de match'!$K$5=\"\",0,IF(OR('Feuille de match'!$K$5=\"MIXTESD1NORD\",'Feuille de match'!$K$5=\"MIXTESD1STRASBOURG\",'Feuille de match'!$K$5=\"VETERANSD1STRASBOURG\",'Feuille de match'!$K$5=\"VETERANSD2STRASBOURG\",'Feuille de match'!$K$5=\"VETERANSD1NORD\",'Feuille de match'!$K$5=\"VETERANSD2NORD\",'Feuille de match'!$K$5=\"JUNIORS\",'Feuille de match'!$K$5=\"CADETS\",'Feuille de match'!$K$5=\"MINIMESBENJAMINSPOUSSINS\",'Feuille de match'!$K$5=\"MIXTESD1FINALE\",'Feuille de match'!$K$5=\"VETERANSD1FINALE\",'Feuille de match'!$K$5=\"VETERANSD2FINALE\",'Feuille de match'!$K$5=\"JUNIORSFINALE\",'Feuille de match'!$K$5=\"CADETSFINALE\",'Feuille de match'!$K$5=\"MINIMESBENJAMINSPOUSSINSFINALE\"),0,IF(AND(COUNTIF('Feuille de match'!$D26,\"*JOUEUR ABSENT*\"),COUNTIF('Feuille de match'!$J26,\"*JOUEUR ABSENT*\")),0,IF($CQ13<$CR13,1,0))))","v":0},"HONNEUR",{"$f":"$I$7","v":"Hanau TT 2"},"Vendredi","20H00","A,B,",{"$f":"$G$11","v":"MIXTESD1NORD"},11,11,11,null,{"$f":"$G$12","v":"ADULTESDIVISION1NORD"},"Do ",null,null,null,null,null,null,null,null,null,null,null,null,null,null,null,null,null,null,null,"HONNEURHanau TT 2","HONNEUR",{"$f":"$I$7","v":"Hanau TT 2"},"Vendredi","20H00"]
[null,13,12,12,null,null,"CADETS",null,null,null,null,null,null,null,null,null,null,null,{"$f":"IF(OR('Feuille de match'!$K$5=\"EXCELLENCE\",'Feuille de match'!$K$5=\"HONNEUR\",'Feuille de match'!$K$5=\"PROMOTIONNORD\",'Feuille de match'!$K$5=\"ADULTESDIVISION1NORD\",'Feuille de match'!$K$5=\"PROMOTIONSTRASBOURG\",'Feuille de match'!$K$5=\"PROMOTIONFINALE\"),'Feuille de match'!$R$23,IF(OR('Feuille de match'!$K$5=\"MIXTESD1NORD\",'Feuille de match'!$K$5=\"MIXTESD1STRASBOURG\",'Feuille de match'!$K$5=\"VETERANSD1STRASBOURG\",'Feuille de match'!$K$5=\"VETERANSD2STRASBOURG\",'Feuille de match'!$K$5=\"VETERANSD1NORD\",'Feuille de match'!$K$5=\"VETERANSD2NORD\",'Feuille de match'!$K$5=\"JUNIORS\",'Feuille de match'!$K$5=\"CADETS\",'Feuille de match'!$K$5=\"MINIMESBENJAMINSPOUSSINS\",'Feuille de match'!$K$5=\"MIXTESD1FINALE\",'Feuille de match'!$K$5=\"VETERANSD1FINALE\",'Feuille de match'!$K$5=\"VETERANSD2FINALE\",'Feuille de match'!$K$5=\"JUNIORSFINALE\",'Feuille de match'!$K$5=\"CADETSFINALE\",'Feuille de match'!$K$5=\"MINIMESBENJAMINSPOUSSINSFINALE\"),'Feuille de match'!$R$19,0))","v":0},{"$f":"IF(LEN($S$14)=2,\"00\"&$S$14,IF(LEN($S$14)=3,\"0\"&$S$14,$S$14))","v":0},{"$f":"IFERROR(LEFT($T$14,2),0)","v":"0"},{"$f":"IFERROR(RIGHT($T$14,2),0)","v":"0"},null,null,null,null,{"$f":"IF(OR('Feuille de match'!$K$5=\"EXCELLENCE\",'Feuille de match'!$K$5=\"HONNEUR\",'Feuille de match'!$K$5=\"PROMOTIONNORD\",'Feuille de match'!$K$5=\"ADULTESDIVISION1NORD\",'Feuille de match'!$K$5=\"PROMOTIONSTRASBOURG\",'Feuille de match'!$K$5=\"PROMOTIONFINALE\"),'Feuille de match'!$R$17,IF(OR('Feuille de match'!$K$5=\"MIXTESD1NORD\",'Feuille de match'!$K$5=\"MIXTESD1STRASBOURG\",'Feuille de match'!$K$5=\"VETERANSD1STRASBOURG\",'Feuille de match'!$K$5=\"VETERANSD2STRASBOURG\",'Feuille de match'!$K$5=\"VETERANSD1NORD\",'Feuille de match'!$K$5=\"VETERANSD2NORD\",'Feuille de match'!$K$5=\"JUNIORS\",'Feuille de match'!$K$5=\"CADETS\",'Feuille de match'!$K$5=\"MINIMESBENJAMINSPOUSSINS\",'Feuille de match'!$K$5=\"MIXTESD1FINALE\",'Feuille de match'!$K$5=\"VETERANSD1FINALE\",'Feuille de match'!$K$5=\"VETERANSD2FINALE\",'Feuille de match'!$K$5=\"JUNIORSFINALE\",'Feuille de match'!$K$5=\"CADETSFINALE\",'Feuille de match'!$K$5=\"MINIMESBENJAMINSPOUSSINSFINALE\"),'Feuille de match'!$R$17,0))","v":0},{"$f":"IF(LEN($AA$14)=2,\"00\"&$AA$14,IF(LEN($AA$14)=3,\"0\"&$AA$14,$AA$14))","v":0},{"$f":"IFERROR(LEFT($AB$14,2),0)","v":"0"},{"$f":"IFERROR(RIGHT($AB$14,2),0)","v":"0"},{"$f":"IF(OR('Feuille de match'!$K$5=\"EXCELLENCE\",'Feuille de match'!$K$5=\"HONNEUR\",'Feuille de match'!$K$5=\"PROMOTIONNORD\",'Feuille de match'!$K$5=\"ADULTESDIVISION1NORD\",'Feuille de match'!$K$5=\"PROMOTIONSTRASBOURG\",'Feuille de match'!$K$5=\"PROMOTIONFINALE\"),'Feuille de match'!$R$18,IF(OR('Feuille de match'!$K$5=\"MIXTESD1NORD\",'Feuille de match'!$K$5=\"MIXTESD1STRASBOURG\",'Feuille de match'!$K$5=\"VETERANSD1STRASBOURG\",'Feuille de match'!$K$5=\"VETERANSD2STRASBOURG\",'Feuille de match'!$K$5=\"VETERANSD1NORD\",'Feuille de match'!$K$5=\"VETERANSD2NORD\",'Feuille de match'!$K$5=\"JUNIORS\",'Feuille de match'!$K$5=\"CADETS\",'Feuille de match'!$K$5=\"MINIMESBENJAMINSPOUSSINS\",'Feuille de match'!$K$5=\"MIXTESD1FINALE\",'Feuille de match'!$K$5=\"VETERANSD1FINALE\",'Feuille de match'!$K$5=\"VETERANSD2FINALE\",'Feuille de match'!$K$5=\"JUNIORSFINALE\",'Feuille de match'!$K$5=\"CADETSFINALE\",'Feuille de match'!$K$5=\"MINIMESBENJAMINSPOUSSINSFINALE\"),'Feuille de match'!$R$18,0))","v":0},{"$f":"IF(LEN($AE$14)=2,\"00\"&$AE$14,IF(LEN($AE$14)=3,\"0\"&$AE$14,$AE$14))","v":0},{"$f":"IFERROR(LEFT($AF$14,2),0)","v":"0"},{"$f":"IFERROR(RIGHT($AF$14,2),0)","v":"0"},{"$f":"IF(OR('Feuille de match'!$K$5=\"EXCELLENCE\",'Feuille de match'!$K$5=\"HONNEUR\",'Feuille de match'!$K$5=\"PROMOTIONNORD\",'Feuille de match'!$K$5=\"ADULTESDIVISION1NORD\",'Feuille de match'!$K$5=\"PROMOTIONSTRASBOURG\",'Feuille de match'!$K$5=\"PROMOTIONFINALE\"),'Feuille de match'!$R$19,IF(OR('Feuille de match'!$K$5=\"MIXTESD1NORD\",'Feuille de match'!$K$5=\"MIXTESD1STRASBOURG\",'Feuille de match'!$K$5=\"VETERANSD1STRASBOURG\",'Feuille de match'!$K$5=\"VETERANSD2STRASBOURG\",'Feuille de match'!$K$5=\"VETERANSD1NORD\",'Feuille de match'!$K$5=\"VETERANSD2NORD\",'Feuille de match'!$K$5=\"JUNIORS\",'Feuille de match'!$K$5=\"CADETS\",'Feuille de match'!$K$5=\"MINIMESBENJAMINSPOUSSINS\",'Feuille de match'!$K$5=\"MIXTESD1FINALE\",'Feuille de match'!$K$5=\"VETERANSD1FINALE\",'Feuille de match'!$K$5=\"VETERANSD2FINALE\",'Feuille de match'!$K$5=\"JUNIORSFINALE\",'Feuille de match'!$K$5=\"CADETSFINALE\",'Feuille de match'!$K$5=\"MINIMESBENJAMINSPOUSSINSFINALE\"),\"0\",0))","v":0},{"$f":"IF(LEN($AI$14)=2,\"00\"&$AI$14,IF(LEN($AI$14)=3,\"0\"&$AI$14,$AI$14))","v":0},{"$f":"IFERROR(LEFT($AJ$14,2),0)","v":"0"},{"$f":"IFERROR(RIGHT($AJ$14,2),0)","v":"0"},null,null,null,null,{"$f":"IF(OR('Feuille de match'!$K$5=\"EXCELLENCE\",'Feuille de match'!$K$5=\"HONNEUR\",'Feuille de match'!$K$5=\"PROMOTIONNORD\",'Feuille de match'!$K$5=\"ADULTESDIVISION1NORD\",'Feuille de match'!$K$5=\"PROMOTIONSTRASBOURG\",'Feuille de match'!$K$5=\"PROMOTIONFINALE\"),'Feuille de match'!$R$17,IF(OR('Feuille de match'!$K$5=\"MIXTESD1NORD\",'Feuille de match'!$K$5=\"MIXTESD1STRASBOURG\",'Feuille de match'!$K$5=\"VETERANSD1STRASBOURG\",'Feuille de match'!$K$5=\"VETERANSD2STRASBOURG\",'Feuille de match'!$K$5=\"VETERANSD1NORD\",'Feuille de match'!$K$5=\"VETERANSD2NORD\",'Feuille de match'!$K$5=\"JUNIORS\",'Feuille de match'!$K$5=\"CADETS\",'Feuille de match'!$K$5=\"MINIMESBENJAMINSPOUSSINS\",'Feuille de match'!$K$5=\"MIXTESD1FINALE\",'Feuille de match'!$K$5=\"VETERANSD1FINALE\",'Feuille de match'!$K$5=\"VETERANSD2FINALE\",'Feuille de match'!$K$5=\"JUNIORSFINALE\",'Feuille de match'!$K$5=\"CADETSFINALE\",'Feuille de match'!$K$5=\"MINIMESBENJAMINSPOUSSINSFINALE\"),'Feuille de match'!$R$17,0))","v":0},{"$f":"IF(LEN($AQ$14)=2,\"00\"&$AQ$14,IF(LEN($AQ$14)=3,\"0\"&$AQ$14,$AQ$14))","v":0},{"$f":"IFERROR(RIGHT($AR$14,2),0)","v":"0"},{"$f":"IFERROR(LEFT($AR$14,2),0)","v":"0"},{"$f":"IF(OR('Feuille de match'!$K$5=\"EXCELLENCE\",'Feuille de match'!$K$5=\"HONNEUR\",'Feuille de match'!$K$5=\"PROMOTIONNORD\",'Feuille de match'!$K$5=\"ADULTESDIVISION1NORD\",'Feuille de match'!$K$5=\"PROMOTIONSTRASBOURG\",'Feuille de match'!$K$5=\"PROMOTIONFINALE\"),'Feuille de match'!$R$18,IF(OR('Feuille de match'!$K$5=\"MIXTESD1NORD\",'Feuille de match'!$K$5=\"MIXTESD1STRASBOURG\",'Feuille de match'!$K$5=\"VETERANSD1STRASBOURG\",'Feuille de match'!$K$5=\"VETERANSD2STRASBOURG\",'Feuille de match'!$K$5=\"VETERANSD1NORD\",'Feuille de match'!$K$5=\"VETERANSD2NORD\",'Feuille de match'!$K$5=\"JUNIORS\",'Feuille de match'!$K$5=\"CADETS\",'Feuille de match'!$K$5=\"MINIMESBENJAMINSPOUSSINS\",'Feuille de match'!$K$5=\"MIXTESD1FINALE\",'Feuille de match'!$K$5=\"VETERANSD1FINALE\",'Feuille de match'!$K$5=\"VETERANSD2FINALE\",'Feuille de match'!$K$5=\"JUNIORSFINALE\",'Feuille de match'!$K$5=\"CADETSFINALE\",'Feuille de match'!$K$5=\"MINIMESBENJAMINSPOUSSINSFINALE\"),'Feuille de match'!$R$18,0))","v":0},{"$f":"IF(LEN($AU$14)=2,\"00\"&$AU$14,IF(LEN($AU$14)=3,\"0\"&$AU$14,$AU$14))","v":0},{"$f":"IFERROR(RIGHT($AV$14,2),0)","v":"0"},{"$f":"IFERROR(LEFT($AV$14,2),0)","v":"0"},{"$f":"IF(OR('Feuille de match'!$K$5=\"EXCELLENCE\",'Feuille de match'!$K$5=\"HONNEUR\",'Feuille de match'!$K$5=\"PROMOTIONNORD\",'Feuille de match'!$K$5=\"ADULTESDIVISION1NORD\",'Feuille de match'!$K$5=\"PROMOTIONSTRASBOURG\",'Feuille de match'!$K$5=\"PROMOTIONFINALE\"),'Feuille de match'!$R$19,IF(OR('Feuille de match'!$K$5=\"MIXTESD1NORD\",'Feuille de match'!$K$5=\"MIXTESD1STRASBOURG\",'Feuille de match'!$K$5=\"VETERANSD1STRASBOURG\",'Feuille de match'!$K$5=\"VETERANSD2STRASBOURG\",'Feuille de match'!$K$5=\"VETERANSD1NORD\",'Feuille de match'!$K$5=\"VETERANSD2NORD\",'Feuille de match'!$K$5=\"JUNIORS\",'Feuille de match'!$K$5=\"CADETS\",'Feuille de match'!$K$5=\"MINIMESBENJAMINSPOUSSINS\",'Feuille de match'!$K$5=\"MIXTESD1FINALE\",'Feuille de match'!$K$5=\"VETERANSD1FINALE\",'Feuille de match'!$K$5=\"VETERANSD2FINALE\",'Feuille de match'!$K$5=\"JUNIORSFINALE\",'Feuille de match'!$K$5=\"CADETSFINALE\",'Feuille de match'!$K$5=\"MINIMESBENJAMINSPOUSSINSFINALE\"),\"0\",0))","v":0},{"$f":"IF(LEN($AY$14)=2,\"00\"&$AY$14,IF(LEN($AY$14)=3,\"0\"&$AY$14,$AY$14))","v":0},{"$f":"IFERROR(RIGHT($AZ$14,2),0)","v":"0"},{"$f":"IFERROR(LEFT($AZ$14,2),0)","v":"0"},null,null,null,null,null,null,null,null,null,null,null,null,null,null,null,null,null,null,null,null,null,null,null,null,null,null,null,null,null,null,null,null,null,null,null,null,null,null,null,null,null,null,null,null,"HONNEUR",{"$f":"$I$8","v":"CP Zutzendorf 2"},"Mercredi","20H00","A,B,C,",{"$f":"$G$12","v":"ADULTESDIVISION1NORD"},11,11,11,null,{"$f":"$G$2","v":"EXCELLENCE"},"Do1 ,Do2",null,null,null,null,null,null,null,null,null,null,null,null,null,null,null,null,null,null,null,"HONNEURCP Zutzendorf 2","HONNEUR",{"$f":"$I$8","v":"CP Zutzendorf 2"},"Mercredi","20H00"]
[null,14,13,null,null,null,"MINIMESBENJAMINSPOUSSINS",null,null,null,null,null,null,null,null,null,null,null,"Manche 7",null,null,null,null,null,null,null,"Manche 7",null,null,null,"Manche 7",null,null,null,"Manche 7",null,null,null,null,null,null,null,"Manche 7",null,null,null,"Manche 7",null,null,null,"Manche 7",null,null,null,null,null,null,null,null,null,null,null,null,null,null,null,null,null,null,null,null,null,null,null,null,null,null,null,null,null,null,null,null,null,null,null,null,null,null,null,null,null,null,null,null,null,null,null,"HONNEUR",{"$f":"$I$9","v":"US Egalitaire Neudorf 1"},"Mardi","20H00","W,X,",{"$f":"$G$9","v":"VETERANSD1NORD"},1100,1100,1100,1100,{"$f":"$G$13","v":"JUNIORS"},"Do",null,null,null,null,null,null,null,null,null,null,null,null,null,null,null,null,null,null,null,"HONNEURUS Egalitaire Neudorf 1","HONNEUR",{"$f":"$I$9","v":"US Egalitaire Neudorf 1"},"Mardi","20H00"]
[null,15,14,null,null,null,null,null,null,null,null,null,null,null,null,null,null,null,{"$f":"IF(OR('Feuille de match'!$K$5=\"EXCELLENCE\",'Feuille de match'!$K$5=\"HONNEUR\",'Feuille de match'!$K$5=\"PROMOTIONNORD\",'Feuille de match'!$K$5=\"ADULTESDIVISION1NORD\",'Feuille de match'!$K$5=\"PROMOTIONSTRASBOURG\",'Feuille de match'!$K$5=\"PROMOTIONFINALE\"),'Feuille de match'!$S$23,IF(OR('Feuille de match'!$K$5=\"MIXTESD1NORD\",'Feuille de match'!$K$5=\"MIXTESD1STRASBOURG\",'Feuille de match'!$K$5=\"VETERANSD1STRASBOURG\",'Feuille de match'!$K$5=\"VETERANSD2STRASBOURG\",'Feuille de match'!$K$5=\"VETERANSD1NORD\",'Feuille de match'!$K$5=\"VETERANSD2NORD\",'Feuille de match'!$K$5=\"JUNIORS\",'Feuille de match'!$K$5=\"CADETS\",'Feuille de match'!$K$5=\"MINIMESBENJAMINSPOUSSINS\",'Feuille de match'!$K$5=\"MIXTESD1FINALE\",'Feuille de match'!$K$5=\"VETERANSD1FINALE\",'Feuille de match'!$K$5=\"VETERANSD2FINALE\",'Feuille de match'!$K$5=\"JUNIORSFINALE\",'Feuille de match'!$K$5=\"CADETSFINALE\",'Feuille de match'!$K$5=\"MINIMESBENJAMINSPOUSSINSFINALE\"),'Feuille de match'!$S$19,0))","v":0},{"$f":"IF(LEN($S$16)=2,\"00\"&$S$16,IF(LEN($S$16)=3,\"0\"&$S$16,$S$16))","v":0},{"$f":"IFERROR(LEFT($T$16,2),0)","v":"0"},{"$f":"IFERROR(RIGHT($T$16,2),0)","v":"0"},null,null,null,null,{"$f":"IF(OR('Feuille de match'!$K$5=\"EXCELLENCE\",'Feuille de match'!$K$5=\"HONNEUR\",'Feuille de match'!$K$5=\"PROMOTIONNORD\",'Feuille de match'!$K$5=\"ADULTESDIVISION1NORD\",'Feuille de match'!$K$5=\"PROMOTIONSTRASBOURG\",'Feuille de match'!$K$5=\"PROMOTIONFINALE\"),'Feuille de match'!$S$17,IF(OR('Feuille de match'!$K$5=\"MIXTESD1NORD\",'Feuille de match'!$K$5=\"MIXTESD1STRASBOURG\",'Feuille de match'!$K$5=\"VETERANSD1STRASBOURG\",'Feuille de match'!$K$5=\"VETERANSD2STRASBOURG\",'Feuille de match'!$K$5=\"VETERANSD1NORD\",'Feuille de match'!$K$5=\"VETERANSD2NORD\",'Feuille de match'!$K$5=\"JUNIORS\",'Feuille de match'!$K$5=\"CADETS\",'Feuille de match'!$K$5=\"MINIMESBENJAMINSPOUSSINS\",'Feuille de match'!$K$5=\"MIXTESD1FINALE\",'Feuille de match'!$K$5=\"VETERANSD1FINALE\",'Feuille de match'!$K$5=\"VETERANSD2FINALE\",'Feuille de match'!$K$5=\"JUNIORSFINALE\",'Feuille de match'!$K$5=\"CADETSFINALE\",'Feuille de match'!$K$5=\"MINIMESBENJAMINSPOUSSINSFINALE\"),'Feuille de match'!$S$17,0))","v":0},{"$f":"IF(LEN($AA$16)=2,\"00\"&$AA$16,IF(LEN($AA$16)=3,\"0\"&$AA$16,$AA$16))","v":0},{"$f":"IFERROR(LEFT($AB$16,2),0)","v":"0"},{"$f":"IFERROR(RIGHT($AB$16,2),0)","v":"0"},{"$f":"IF(OR('Feuille de match'!$K$5=\"EXCELLENCE\",'Feuille de match'!$K$5=\"HONNEUR\",'Feuille de match'!$K$5=\"PROMOTIONNORD\",'Feuille de match'!$K$5=\"ADULTESDIVISION1NORD\",'Feuille de match'!$K$5=\"PROMOTIONSTRASBOURG\",'Feuille de match'!$K$5=\"PROMOTIONFINALE\"),'Feuille de match'!$S$18,IF(OR('Feuille de match'!$K$5=\"MIXTESD1NORD\",'Feuille de match'!$K$5=\"MIXTESD1STRASBOURG\",'Feuille de match'!$K$5=\"VETERANSD1STRASBOURG\",'Feuille de match'!$K$5=\"VETERANSD2STRASBOURG\",'Feuille de match'!$K$5=\"VETERANSD1NORD\",'Feuille de match'!$K$5=\"VETERANSD2NORD\",'Feuille de match'!$K$5=\"JUNIORS\",'Feuille de match'!$K$5=\"CADETS\",'Feuille de match'!$K$5=\"MINIMESBENJAMINSPOUSSINS\",'Feuille de match'!$K$5=\"MIXTESD1FINALE\",'Feuille de match'!$K$5=\"VETERANSD1FINALE\",'Feuille de match'!$K$5=\"VETERANSD2FINALE\",'Feuille de match'!$K$5=\"JUNIORSFINALE\",'Feuille de match'!$K$5=\"CADETSFINALE\",'Feuille de match'!$K$5=\"MINIMESBENJAMINSPOUSSINSFINALE\"),'Feuille de match'!$S$18,0))","v":0},{"$f":"IF(LEN($AE$16)=2,\"00\"&$AE$16,IF(LEN($AE$16)=3,\"0\"&$AE$16,$AE$16))","v":0},{"$f":"IFERROR(LEFT($AF$16,2),0)","v":"0"},{"$f":"IFERROR(RIGHT($AF$16,2),0)","v":"0"},{"$f":"IF(OR('Feuille de match'!$K$5=\"EXCELLENCE\",'Feuille de match'!$K$5=\"HONNEUR\",'Feuille de match'!$K$5=\"PROMOTIONNORD\",'Feuille de match'!$K$5=\"ADULTESDIVISION1NORD\",'Feuille de match'!$K$5=\"PROMOTIONSTRASBOURG\",'Feuille de match'!$K$5=\"PROMOTIONFINALE\"),'Feuille de match'!$S$19,IF(OR('Feuille de match'!$K$5=\"MIXTESD1NORD\",'Feuille de match'!$K$5=\"MIXTESD1STRASBOURG\",'Feuille de match'!$K$5=\"VETERANSD1STRASBOURG\",'Feuille de match'!$K$5=\"VETERANSD2STRASBOURG\",'Feuille de match'!$K$5=\"VETERANSD1NORD\",'Feuille de match'!$K$5=\"VETERANSD2NORD\",'Feuille de match'!$K$5=\"JUNIORS\",'Feuille de match'!$K$5=\"CADETS\",'Feuille de match'!$K$5=\"MINIMESBENJAMINSPOUSSINS\",'Feuille de match'!$K$5=\"MIXTESD1FINALE\",'Feuille de match'!$K$5=\"VETERANSD1FINALE\",'Feuille de match'!$K$5=\"VETERANSD2FINALE\",'Feuille de match'!$K$5=\"JUNIORSFINALE\",'Feuille de match'!$K$5=\"CADETSFINALE\",'Feuille de match'!$K$5=\"MINIMESBENJAMINSPOUSSINSFINALE\"),\"0\",0))","v":0},{"$f":"IF(LEN($AI$16)=2,\"00\"&$AI$16,IF(LEN($AI$16)=3,\"0\"&$AI$16,$AI$16))","v":0},{"$f":"IFERROR(LEFT($AJ$16,2),0)","v":"0"},{"$f":"IFERROR(RIGHT($AJ$16,2),0)","v":"0"},null,null,null,null,{"$f":"IF(OR('Feuille de match'!$K$5=\"EXCELLENCE\",'Feuille de match'!$K$5=\"HONNEUR\",'Feuille de match'!$K$5=\"PROMOTIONNORD\",'Feuille de match'!$K$5=\"ADULTESDIVISION1NORD\",'Feuille de match'!$K$5=\"PROMOTIONSTRASBOURG\",'Feuille de match'!$K$5=\"PROMOTIONFINALE\"),'Feuille de match'!$S$17,IF(OR('Feuille de match'!$K$5=\"MIXTESD1NORD\",'Feuille de match'!$K$5=\"MIXTESD1STRASBOURG\",'Feuille de match'!$K$5=\"VETERANSD1STRASBOURG\",'Feuille de match'!$K$5=\"VETERANSD2STRASBOURG\",'Feuille de match'!$K$5=\"VETERANSD1NORD\",'Feuille de match'!$K$5=\"VETERANSD2NORD\",'Feuille de match'!$K$5=\"JUNIORS\",'Feuille de match'!$K$5=\"CADETS\",'Feuille de match'!$K$5=\"MINIMESBENJAMINSPOUSSINS\",'Feuille de match'!$K$5=\"MIXTESD1FINALE\",'Feuille de match'!$K$5=\"VETERANSD1FINALE\",'Feuille de match'!$K$5=\"VETERANSD2FINALE\",'Feuille de match'!$K$5=\"JUNIORSFINALE\",'Feuille de match'!$K$5=\"CADETSFINALE\",'Feuille de match'!$K$5=\"MINIMESBENJAMINSPOUSSINSFINALE\"),'Feuille de match'!$S$17,0))","v":0},{"$f":"IF(LEN($AQ$16)=2,\"00\"&$AQ$16,IF(LEN($AQ$16)=3,\"0\"&$AQ$16,$AQ$16))","v":0},{"$f":"IFERROR(RIGHT($AR$16,2),0)","v":"0"},{"$f":"IFERROR(LEFT($AR$16,2),0)","v":"0"},{"$f":"IF(OR('Feuille de match'!$K$5=\"EXCELLENCE\",'Feuille de match'!$K$5=\"HONNEUR\",'Feuille de match'!$K$5=\"PROMOTIONNORD\",'Feuille de match'!$K$5=\"ADULTESDIVISION1NORD\",'Feuille de match'!$K$5=\"PROMOTIONSTRASBOURG\",'Feuille de match'!$K$5=\"PROMOTIONFINALE\"),'Feuille de match'!$S$18,IF(OR('Feuille de match'!$K$5=\"MIXTESD1NORD\",'Feuille de match'!$K$5=\"MIXTESD1STRASBOURG\",'Feuille de match'!$K$5=\"VETERANSD1STRASBOURG\",'Feuille de match'!$K$5=\"VETERANSD2STRASBOURG\",'Feuille de match'!$K$5=\"VETERANSD1NORD\",'Feuille de match'!$K$5=\"VETERANSD2NORD\",'Feuille de match'!$K$5=\"JUNIORS\",'Feuille de match'!$K$5=\"CADETS\",'Feuille de match'!$K$5=\"MINIMESBENJAMINSPOUSSINS\",'Feuille de match'!$K$5=\"MIXTESD1FINALE\",'Feuille de match'!$K$5=\"VETERANSD1FINALE\",'Feuille de match'!$K$5=\"VETERANSD2FINALE\",'Feuille de match'!$K$5=\"JUNIORSFINALE\",'Feuille de match'!$K$5=\"CADETSFINALE\",'Feuille de match'!$K$5=\"MINIMESBENJAMINSPOUSSINSFINALE\"),'Feuille de match'!$S$18,0))","v":0},{"$f":"IF(LEN($AU$16)=2,\"00\"&$AU$16,IF(LEN($AU$16)=3,\"0\"&$AU$16,$AU$16))","v":0},{"$f":"IFERROR(RIGHT($AV$16,2),0)","v":"0"},{"$f":"IFERROR(LEFT($AV$16,2),0)","v":"0"},{"$f":"IF(OR('Feuille de match'!$K$5=\"EXCELLENCE\",'Feuille de match'!$K$5=\"HONNEUR\",'Feuille de match'!$K$5=\"PROMOTIONNORD\",'Feuille de match'!$K$5=\"ADULTESDIVISION1NORD\",'Feuille de match'!$K$5=\"PROMOTIONSTRASBOURG\",'Feuille de match'!$K$5=\"PROMOTIONFINALE\"),'Feuille de match'!$S$19,IF(OR('Feuille de match'!$K$5=\"MIXTESD1NORD\",'Feuille de match'!$K$5=\"MIXTESD1STRASBOURG\",'Feuille de match'!$K$5=\"VETERANSD1STRASBOURG\",'Feuille de match'!$K$5=\"VETERANSD2STRASBOURG\",'Feuille de match'!$K$5=\"VETERANSD1NORD\",'Feuille de match'!$K$5=\"VETERANSD2NORD\",'Feuille de match'!$K$5=\"JUNIORS\",'Feuille de match'!$K$5=\"CADETS\",'Feuille de match'!$K$5=\"MINIMESBENJAMINSPOUSSINS\",'Feuille de match'!$K$5=\"MIXTESD1FINALE\",'Feuille de match'!$K$5=\"VETERANSD1FINALE\",'Feuille de match'!$K$5=\"VETERANSD2FINALE\",'Feuille de match'!$K$5=\"JUNIORSFINALE\",'Feuille de match'!$K$5=\"CADETSFINALE\",'Feuille de match'!$K$5=\"MINIMESBENJAMINSPOUSSINSFINALE\"),\"0\",0))","v":0},{"$f":"IF(LEN($AY$16)=2,\"00\"&$AY$16,IF(LEN($AY$16)=3,\"0\"&$AY$16,$AY$16))","v":0},{"$f":"IFERROR(RIGHT($AZ$16,2),0)","v":"0"},{"$f":"IFERROR(LEFT($AZ$16,2),0)","v":"0"},null,null,null,null,null,null,null,null,null,null,null,null,null,null,null,null,null,null,null,null,null,null,null,null,null,null,null,null,null,null,null,null,null,null,null,null,null,null,null,null,null,null,null,null,"HONNEUR",{"$f":"$I$10","v":0},"Mardi","20H00","W,X,",{"$f":"$G$10","v":"VETERANSD2NORD"},1100,1100,1100,1100,{"$f":"$G$14","v":"CADETS"},"Do",null,null,null,null,null,null,null,null,null,null,null,null,null,null,null,null,null,null,null,"HONNEUR0","HONNEUR",{"$f":"$I$10","v":0},"Mardi","20H00"]
[null,16,15,null,null,null,null,null,null,null,null,null,null,null,null,null,null,null,null,null,null,null,null,null,null,null,"DECONCATENER SCORES JOUEUR A",null,null,null,"DECONCATENER SCORES JOUEUR B",null,null,null,"DECONCATENER SCORES JOUEUR C",null,null,null,null,null,null,null,"DECONCATENER SCORES JOUEUR W",null,null,null,"DECONCATENER SCORES JOUEUR X",null,null,null,"DECONCATENER SCORES JOUEUR Y",null,null,null,null,null,null,null,null,null,null,null,null,null,null,null,null,null,null,null,null,null,null,null,null,null,null,null,null,null,null,null,null,null,null,null,null,null,null,null,null,null,null,null,null,null,null,null,{"$f":"$G$4","v":"PROMOTIONSTRASBOURG"},{"$f":"$K$3","v":"US Egalitaire Neudorf 2"},"Lundi","20H00","W,X,Y,Z",{"$f":"$G$2","v":"EXCELLENCE"},1100,1100,1100,null,{"$f":"$G$15","v":"MINIMESBENJAMINSPOUSSINS"},"Do",null,null,null,null,null,null,null,null,null,null,null,null,null,null,null,null,null,null,null,"PROMOTIONSTRASBOURGUS Egalitaire Neudorf 2",{"$f":"$G$4","v":"PROMOTIONSTRASBOURG"},{"$f":"$K$3","v":"US Egalitaire Neudorf 2"},"Lundi","20H00"]
[null,17,16,null,null,null,null,null,null,"JUNIORS","CADETS","MINIMESBENJAMINSPOUSSINS","JUNIORSSTRAS","CADETSSTRAS","MINIMESBENJAMINSPOUSSINSSTRAS",null,null,null,null,null,null,null,null,null,null,null,"MATCH 2","0&","points gagnés","points perdus","MATCH 2","0&","points gagnés","points perdus","MATCH 2","0&","points gagnés","points perdus",null,null,null,null,"MATCH 2","0&","points gagnés","points perdus","MATCH 2","0&","points gagnés","points perdus","MATCH 2","0&","points gagnés","points perdus",null,null,null,null,null,null,null,null,null,null,null,null,null,null,null,null,null,null,null,null,null,null,null,null,null,null,null,null,null,null,null,null,null,null,null,null,null,null,null,null,null,null,null,null,{"$f":"$G$4","v":"PROMOTIONSTRASBOURG"},{"$f":"$K$4","v":"US Egalitaire Neudorf 3"},"Lundi","19H30","W,X,Y,",{"$f":"$G$3","v":"HONNEUR"},1100,1100,1100,null,null,null,null,null,null,null,null,null,null,null,null,null,null,null,null,null,null,null,null,null,null,"PROMOTIONSTRASBOURGUS Egalitaire Neudorf 3",{"$f":"$G$4","v":"PROMOTIONSTRASBOURG"},{"$f":"$K$4","v":"US Egalitaire Neudorf 3"},"Lundi","19H30"]
[null,18,17,null,null,null,null,"Match joué",null,null,null,null,null,null,null,null,null,null,{"$f":"IF($K$5=\"EXCELLENCE\",$M$25,IF($K$5=\"HONNEUR\",$M$23,IF($K$5=\"PROMOTIONNORD\",$M$23,IF($K$5=\"ADULTESDIVISION1NORD\",$M$23,IF($K$5=\"PROMOTIONSTRASBOURG\",$M$23,IF($K$5=\"MIXTESD1NORD\",$M$19,IF($K$5=\"MIXTESD1STRASBOURG\",\"\",IF($K$5=\"VETERANSD1STRASBOURG\",$M$19,IF($K$5=\"VETERANSD2STRASBOURG\",$M$19,IF($K$5=\"VETERANSD1NORD\",$M$19,IF($K$5=\"VETERANSD2NORD\",$M$19,\"\")))))))))))","v":""},null,null,null,null,null,null,null,"Manche 1",null,null,null,"Manche 1",null,null,null,"Manche 1",null,null,null,null,null,null,null,"Manche 1",null,null,null,"Manche 1",null,null,null,"Manche 1",null,null,null,null,null,null,null,null,null,null,null,null,null,null,null,null,null,null,null,null,null,null,null,null,null,null,null,null,null,null,null,null,null,null,null,null,null,null,null,null,null,null,null,null,null,null,null,"PROMOTIONSTRASBOURG",{"$f":"$K$5","v":"US Egalitaire Neudorf 4"},"Lundi","19H30","W,X,Y,",{"$f":"$G$4","v":"PROMOTIONSTRASBOURG"},1100,1100,1100,null,null,null,null,null,null,null,null,null,null,null,null,null,null,null,null,null,null,null,null,null,null,"PROMOTIONSTRASBOURGUS Egalitaire Neudorf 4","PROMOTIONSTRASBOURG",{"$f":"$K$5","v":"US Egalitaire Neudorf 4"},"Lundi","19H30"]
[null,null,8,null,null,null,null,"FORFAIT",null,null,null,null,null,null,null,null,null,null,null,null,null,null,null,null,null,null,{"$f":"IF(OR('Feuille de match'!$K$5=\"EXCELLENCE\",'Feuille de match'!$K$5=\"HONNEUR\",'Feuille de match'!$K$5=\"PROMOTIONNORD\",'Feuille de match'!$K$5=\"ADULTESDIVISION1NORD\",'Feuille de match'!$K$5=\"PROMOTIONSTRASBOURG\",'Feuille de match'!$K$5=\"PROMOTIONFINALE\"),'Feuille de match'!$M$21,IF(OR('Feuille de match'!$K$5=\"MIXTESD1NORD\",'Feuille de match'!$K$5=\"MIXTESD1STRASBOURG\",'Feuille de match'!$K$5=\"VETERANSD1STRASBOURG\",'Feuille de match'!$K$5=\"VETERANSD2STRASBOURG\",'Feuille de match'!$K$5=\"VETERANSD1NORD\",'Feuille de match'!$K$5=\"VETERANSD2NORD\",'Feuille de match'!$K$5=\"JUNIORS\",'Feuille de match'!$K$5=\"CADETS\",'Feuille de match'!$K$5=\"MINIMESBENJAMINSPOUSSINS\",'Feuille de match'!$K$5=\"MIXTESD1FINALE\",'Feuille de match'!$K$5=\"VETERANSD1FINALE\",'Feuille de match'!$K$5=\"VETERANSD2FINALE\",'Feuille de match'!$K$5=\"JUNIORSFINALE\",'Feuille de match'!$K$5=\"CADETSFINALE\",'Feuille de match'!$K$5=\"MINIMESBENJAMINSPOUSSINSFINALE\"),'Feuille de match'!$M$20,0))","v":0},{"$f":"IF(LEN($AA$20)=2,\"00\"&$AA$20,IF(LEN($AA$20)=3,\"0\"&$AA$20,$AA$20))","v":0},{"$f":"IFERROR(LEFT($AB$20,2),0)","v":"0"},{"$f":"IFERROR(RIGHT($AB$20,2),0)","v":"0"},{"$f":"IF(OR('Feuille de match'!$K$5=\"EXCELLENCE\",'Feuille de match'!$K$5=\"HONNEUR\",'Feuille de match'!$K$5=\"PROMOTIONNORD\",'Feuille de match'!$K$5=\"ADULTESDIVISION1NORD\",'Feuille de match'!$K$5=\"PROMOTIONSTRASBOURG\",'Feuille de match'!$K$5=\"PROMOTIONFINALE\"),'Feuille de match'!$M$20,IF(OR('Feuille de match'!$K$5=\"MIXTESD1NORD\",'Feuille de match'!$K$5=\"MIXTESD1STRASBOURG\",'Feuille de match'!$K$5=\"VETERANSD1STRASBOURG\",'Feuille de match'!$K$5=\"VETERANSD2STRASBOURG\",'Feuille de match'!$K$5=\"VETERANSD1NORD\",'Feuille de match'!$K$5=\"VETERANSD2NORD\",'Feuille de match'!$K$5=\"JUNIORS\",'Feuille de match'!$K$5=\"CADETS\",'Feuille de match'!$K$5=\"MINIMESBENJAMINSPOUSSINS\",'Feuille de match'!$K$5=\"MIXTESD1FINALE\",'Feuille de match'!$K$5=\"VETERANSD1FINALE\",'Feuille de match'!$K$5=\"VETERANSD2FINALE\",'Feuille de match'!$K$5=\"JUNIORSFINALE\",'Feuille de match'!$K$5=\"CADETSFINALE\",'Feuille de match'!$K$5=\"MINIMESBENJAMINSPOUSSINSFINALE\"),'Feuille de match'!$M$21,0))","v":0},{"$f":"IF(LEN($AE$20)=2,\"00\"&$AE$20,IF(LEN($AE$20)=3,\"0\"&$AE$20,$AE$20))","v":0},{"$f":"IFERROR(LEFT($AF$20,2),0)","v":"0"},{"$f":"IFERROR(RIGHT($AF$20,2),0)","v":"0"},{"$f":"IF(OR('Feuille de match'!$K$5=\"EXCELLENCE\",'Feuille de match'!$K$5=\"HONNEUR\",'Feuille de match'!$K$5=\"PROMOTIONNORD\",'Feuille de match'!$K$5=\"ADULTESDIVISION1NORD\",'Feuille de match'!$K$5=\"PROMOTIONSTRASBOURG\",'Feuille de match'!$K$5=\"PROMOTIONFINALE\"),'Feuille de match'!$M$22,IF(OR('Feuille de match'!$K$5=\"MIXTESD1NORD\",'Feuille de match'!$K$5=\"MIXTESD1STRASBOURG\",'Feuille de match'!$K$5=\"VETERANSD1STRASBOURG\",'Feuille de match'!$K$5=\"VETERANSD2STRASBOURG\",'Feuille de match'!$K$5=\"VETERANSD1NORD\",'Feuille de match'!$K$5=\"VETERANSD2NORD\",'Feuille de match'!$K$5=\"JUNIORS\",'Feuille de match'!$K$5=\"CADETS\",'Feuille de match'!$K$5=\"MINIMESBENJAMINSPOUSSINS\",'Feuille de match'!$K$5=\"MIXTESD1FINALE\",'Feuille de match'!$K$5=\"VETERANSD1FINALE\",'Feuille de match'!$K$5=\"VETERANSD2FINALE\",'Feuille de match'!$K$5=\"JUNIORSFINALE\",'Feuille de match'!$K$5=\"CADETSFINALE\",'Feuille de match'!$K$5=\"MINIMESBENJAMINSPOUSSINSFINALE\"),\"0\",0))","v":0},{"$f":"IF(LEN($AI$20)=2,\"00\"&$AI$20,IF(LEN($AI$20)=3,\"0\"&$AI$20,$AI$20))","v":0},{"$f":"IFERROR(LEFT($AJ$20,2),0)","v":"0"},{"$f":"IFERROR(RIGHT($AJ$20,2),0)","v":"0"},null,null,null,null,{"$f":"IF(OR('Feuille de match'!$K$5=\"EXCELLENCE\",'Feuille de match'!$K$5=\"HONNEUR\",'Feuille de match'!$K$5=\"PROMOTIONNORD\",'Feuille de match'!$K$5=\"ADULTESDIVISION1NORD\",'Feuille de match'!$K$5=\"PROMOTIONSTRASBOURG\",'Feuille de match'!$K$5=\"PROMOTIONFINALE\"),'Feuille de match'!$M$20,IF(OR('Feuille de match'!$K$5=\"MIXTESD1NORD\",'Feuille de match'!$K$5=\"MIXTESD1STRASBOURG\",'Feuille de match'!$K$5=\"VETERANSD1STRASBOURG\",'Feuille de match'!$K$5=\"VETERANSD2STRASBOURG\",'Feuille de match'!$K$5=\"VETERANSD1NORD\",'Feuille de match'!$K$5=\"VETERANSD2NORD\",'Feuille de match'!$K$5=\"JUNIORS\",'Feuille de match'!$K$5=\"CADETS\",'Feuille de match'!$K$5=\"MINIMESBENJAMINSPOUSSINS\",'Feuille de match'!$K$5=\"MIXTESD1FINALE\",'Feuille de match'!$K$5=\"VETERANSD1FINALE\",'Feuille de match'!$K$5=\"VETERANSD2FINALE\",'Feuille de match'!$K$5=\"JUNIORSFINALE\",'Feuille de match'!$K$5=\"CADETSFINALE\",'Feuille de match'!$K$5=\"MINIMESBENJAMINSPOUSSINSFINALE\"),'Feuille de match'!$M$21,0))","v":0},{"$f":"IF(LEN($AQ$20)=2,\"00\"&$AQ$20,IF(LEN($AQ$20)=3,\"0\"&$AQ$20,$AQ$20))","v":0},{"$f":"IFERROR(RIGHT($AR$20,2),0)","v":"0"},{"$f":"IFERROR(LEFT($AR$20,2),0)","v":"0"},{"$f":"IF(OR('Feuille de match'!$K$5=\"EXCELLENCE\",'Feuille de match'!$K$5=\"HONNEUR\",'Feuille de match'!$K$5=\"PROMOTIONNORD\",'Feuille de match'!$K$5=\"ADULTESDIVISION1NORD\",'Feuille de match'!$K$5=\"PROMOTIONSTRASBOURG\",'Feuille de match'!$K$5=\"PROMOTIONFINALE\"),'Feuille de match'!$M$22,IF(OR('Feuille de match'!$K$5=\"MIXTESD1NORD\",'Feuille de match'!$K$5=\"MIXTESD1STRASBOURG\",'Feuille de match'!$K$5=\"VETERANSD1STRASBOURG\",'Feuille de match'!$K$5=\"VETERANSD2STRASBOURG\",'Feuille de match'!$K$5=\"VETERANSD1NORD\",'Feuille de match'!$K$5=\"VETERANSD2NORD\",'Feuille de match'!$K$5=\"JUNIORS\",'Feuille de match'!$K$5=\"CADETS\",'Feuille de match'!$K$5=\"MINIMESBENJAMINSPOUSSINS\",'Feuille de match'!$K$5=\"MIXTESD1FINALE\",'Feuille de match'!$K$5=\"VETERANSD1FINALE\",'Feuille de match'!$K$5=\"VETERANSD2FINALE\",'Feuille de match'!$K$5=\"JUNIORSFINALE\",'Feuille de match'!$K$5=\"CADETSFINALE\",'Feuille de match'!$K$5=\"MINIMESBENJAMINSPOUSSINSFINALE\"),'Feuille de match'!$M$20,0))","v":0},{"$f":"IF(LEN($AU$20)=2,\"00\"&$AU$20,IF(LEN($AU$20)=3,\"0\"&$AU$20,$AU$20))","v":0},{"$f":"IFERROR(RIGHT($AV$20,2),0)","v":"0"},{"$f":"IFERROR(LEFT($AV$20,2),0)","v":"0"},{"$f":"IF(OR('Feuille de match'!$K$5=\"EXCELLENCE\",'Feuille de match'!$K$5=\"HONNEUR\",'Feuille de match'!$K$5=\"PROMOTIONNORD\",'Feuille de match'!$K$5=\"ADULTESDIVISION1NORD\",'Feuille de match'!$K$5=\"PROMOTIONSTRASBOURG\",'Feuille de match'!$K$5=\"PROMOTIONFINALE\"),'Feuille de match'!$M$21,IF(OR('Feuille de match'!$K$5=\"MIXTESD1NORD\",'Feuille de match'!$K$5=\"MIXTESD1STRASBOURG\",'Feuille de match'!$K$5=\"VETERANSD1STRASBOURG\",'Feuille de match'!$K$5=\"VETERANSD2STRASBOURG\",'Feuille de match'!$K$5=\"VETERANSD1NORD\",'Feuille de match'!$K$5=\"VETERANSD2NORD\",'Feuille de match'!$K$5=\"JUNIORS\",'Feuille de match'!$K$5=\"CADETS\",'Feuille de match'!$K$5=\"MINIMESBENJAMINSPOUSSINS\",'Feuille de match'!$K$5=\"MIXTESD1FINALE\",'Feuille de match'!$K$5=\"VETERANSD1FINALE\",'Feuille de match'!$K$5=\"VETERANSD2FINALE\",'Feuille de match'!$K$5=\"JUNIORSFINALE\",'Feuille de match'!$K$5=\"CADETSFINALE\",'Feuille de match'!$K$5=\"MINIMESBENJAMINSPOUSSINSFINALE\"),\"0\",0))","v":0},{"$f":"IF(LEN($AY$20)=2,\"00\"&$AY$20,IF(LEN($AY$20)=3,\"0\"&$AY$20,$AY$20))","v":0},{"$f":"IFERROR(RIGHT($AZ$20,2),0)","v":"0"},{"$f":"IFERROR(LEFT($AZ$20,2),0)","v":"0"},null,null,null,null,null,null,null,null,null,null,null,null,null,null,null,null,null,null,null,null,null,null,null,null,null,null,null,null,null,null,null,null,null,null,null,null,null,null,null,null,null,null,null,null,{"$f":"$G$4","v":"PROMOTIONSTRASBOURG"},{"$f":"$K$6","v":"Amitié Lingolsheim 4"},"Jeudi","20H00","W,X,Y,",{"$f":"$G$8","v":"PROMOTIONNORD"},1100,1100,1100,null,null,null,null,null,null,null,null,null,null,null,null,null,null,null,null,null,null,null,null,null,null,"PROMOTIONSTRASBOURGAmitié Lingolsheim 4",{"$f":"$G$4","v":"PROMOTIONSTRASBOURG"},{"$f":"$K$6","v":"Amitié Lingolsheim 4"},"Jeudi","20H00"]
[null,null,19,null,null,null,null,null,null,null,null,null,null,null,null,null,null,null,null,null,null,null,null,null,null,null,"Manche 2",null,null,null,"Manche 2",null,null,null,"Manche 2",null,null,null,null,null,null,null,"Manche 2",null,null,null,"Manche 2",null,null,null,"Manche 2",null,null,null,null,null,null,null,null,null,null,null,null,null,null,null,null,null,null,null,null,null,null,null,null,null,null,null,null,null,null,null,null,null,null,null,null,null,null,null,null,null,null,null,null,null,null,null,"PROMOTIONSTRASBOURG",{"$f":"$K$7","v":"UT AURORA Schilt.-B. 1"},"Lundi","19H30","W,X,",{"$f":"$G$6","v":"VETERANSD1STRASBOURG"},1100,1100,1100,null,null,null,null,null,null,null,null,null,null,null,null,null,null,null,null,null,null,null,null,null,null,"PROMOTIONSTRASBOURGUT AURORA Schilt.-B. 1","PROMOTIONSTRASBOURG",{"$f":"$K$7","v":"UT AURORA Schilt.-B. 1"},"Lundi","19H30"]
[null,null,20,null,null,null,null,null,null,null,null,null,null,null,null,null,null,null,null,null,null,null,null,null,null,null,{"$f":"IF(OR('Feuille de match'!$K$5=\"EXCELLENCE\",'Feuille de match'!$K$5=\"HONNEUR\",'Feuille de match'!$K$5=\"PROMOTIONNORD\",'Feuille de match'!$K$5=\"ADULTESDIVISION1NORD\",'Feuille de match'!$K$5=\"PROMOTIONSTRASBOURG\",'Feuille de match'!$K$5=\"PROMOTIONFINALE\"),'Feuille de match'!$N$21,IF(OR('Feuille de match'!$K$5=\"MIXTESD1NORD\",'Feuille de match'!$K$5=\"MIXTESD1STRASBOURG\",'Feuille de match'!$K$5=\"VETERANSD1STRASBOURG\",'Feuille de match'!$K$5=\"VETERANSD2STRASBOURG\",'Feuille de match'!$K$5=\"VETERANSD1NORD\",'Feuille de match'!$K$5=\"VETERANSD2NORD\",'Feuille de match'!$K$5=\"JUNIORS\",'Feuille de match'!$K$5=\"CADETS\",'Feuille de match'!$K$5=\"MINIMESBENJAMINSPOUSSINS\",'Feuille de match'!$K$5=\"MIXTESD1FINALE\",'Feuille de match'!$K$5=\"VETERANSD1FINALE\",'Feuille de match'!$K$5=\"VETERANSD2FINALE\",'Feuille de match'!$K$5=\"JUNIORSFINALE\",'Feuille de match'!$K$5=\"CADETSFINALE\",'Feuille de match'!$K$5=\"MINIMESBENJAMINSPOUSSINSFINALE\"),'Feuille de match'!$N$20,0))","v":0},{"$f":"IF(LEN($AA$22)=2,\"00\"&$AA$22,IF(LEN($AA$22)=3,\"0\"&$AA$22,$AA$22))","v":0},{"$f":"IFERROR(LEFT($AB$22,2),0)","v":"0"},{"$f":"IFERROR(RIGHT($AB$22,2),0)","v":"0"},{"$f":"IF(OR('Feuille de match'!$K$5=\"EXCELLENCE\",'Feuille de match'!$K$5=\"HONNEUR\",'Feuille de match'!$K$5=\"PROMOTIONNORD\",'Feuille de match'!$K$5=\"ADULTESDIVISION1NORD\",'Feuille de match'!$K$5=\"PROMOTIONSTRASBOURG\",'Feuille de match'!$K$5=\"PROMOTIONFINALE\"),'Feuille de match'!$N$20,IF(OR('Feuille de match'!$K$5=\"MIXTESD1NORD\",'Feuille de match'!$K$5=\"MIXTESD1STRASBOURG\",'Feuille de match'!$K$5=\"VETERANSD1STRASBOURG\",'Feuille de match'!$K$5=\"VETERANSD2STRASBOURG\",'Feuille de match'!$K$5=\"VETERANSD1NORD\",'Feuille de match'!$K$5=\"VETERANSD2NORD\",'Feuille de match'!$K$5=\"JUNIORS\",'Feuille de match'!$K$5=\"CADETS\",'Feuille de match'!$K$5=\"MINIMESBENJAMINSPOUSSINS\",'Feuille de match'!$K$5=\"MIXTESD1FINALE\",'Feuille de match'!$K$5=\"VETERANSD1FINALE\",'Feuille de match'!$K$5=\"VETERANSD2FINALE\",'Feuille de match'!$K$5=\"JUNIORSFINALE\",'Feuille de match'!$K$5=\"CADETSFINALE\",'Feuille de match'!$K$5=\"MINIMESBENJAMINSPOUSSINSFINALE\"),'Feuille de match'!$N$21,0))","v":0},{"$f":"IF(LEN($AE$22)=2,\"00\"&$AE$22,IF(LEN($AE$22)=3,\"0\"&$AE$22,$AE$22))","v":0},{"$f":"IFERROR(LEFT($AF$22,2),0)","v":"0"},{"$f":"IFERROR(RIGHT($AF$22,2),0)","v":"0"},{"$f":"IF(OR('Feuille de match'!$K$5=\"EXCELLENCE\",'Feuille de match'!$K$5=\"HONNEUR\",'Feuille de match'!$K$5=\"PROMOTIONNORD\",'Feuille de match'!$K$5=\"ADULTESDIVISION1NORD\",'Feuille de match'!$K$5=\"PROMOTIONSTRASBOURG\",'Feuille de match'!$K$5=\"PROMOTIONFINALE\"),'Feuille de match'!$N$22,IF(OR('Feuille de match'!$K$5=\"MIXTESD1NORD\",'Feuille de match'!$K$5=\"MIXTESD1STRASBOURG\",'Feuille de match'!$K$5=\"VETERANSD1STRASBOURG\",'Feuille de match'!$K$5=\"VETERANSD2STRASBOURG\",'Feuille de match'!$K$5=\"VETERANSD1NORD\",'Feuille de match'!$K$5=\"VETERANSD2NORD\",'Feuille de match'!$K$5=\"JUNIORS\",'Feuille de match'!$K$5=\"CADETS\",'Feuille de match'!$K$5=\"MINIMESBENJAMINSPOUSSINS\",'Feuille de match'!$K$5=\"MIXTESD1FINALE\",'Feuille de match'!$K$5=\"VETERANSD1FINALE\",'Feuille de match'!$K$5=\"VETERANSD2FINALE\",'Feuille de match'!$K$5=\"JUNIORSFINALE\",'Feuille de match'!$K$5=\"CADETSFINALE\",'Feuille de match'!$K$5=\"MINIMESBENJAMINSPOUSSINSFINALE\"),\"0\",0))","v":0},{"$f":"IF(LEN($AI$22)=2,\"00\"&$AI$22,IF(LEN($AI$22)=3,\"0\"&$AI$22,$AI$22))","v":0},{"$f":"IFERROR(LEFT($AJ$22,2),0)","v":"0"},{"$f":"IFERROR(RIGHT($AJ$22,2),0)","v":"0"},null,null,null,null,{"$f":"IF(OR('Feuille de match'!$K$5=\"EXCELLENCE\",'Feuille de match'!$K$5=\"HONNEUR\",'Feuille de match'!$K$5=\"PROMOTIONNORD\",'Feuille de match'!$K$5=\"ADULTESDIVISION1NORD\",'Feuille de match'!$K$5=\"PROMOTIONSTRASBOURG\",'Feuille de match'!$K$5=\"PROMOTIONFINALE\"),'Feuille de match'!$N$20,IF(OR('Feuille de match'!$K$5=\"MIXTESD1NORD\",'Feuille de match'!$K$5=\"MIXTESD1STRASBOURG\",'Feuille de match'!$K$5=\"VETERANSD1STRASBOURG\",'Feuille de match'!$K$5=\"VETERANSD2STRASBOURG\",'Feuille de match'!$K$5=\"VETERANSD1NORD\",'Feuille de match'!$K$5=\"VETERANSD2NORD\",'Feuille de match'!$K$5=\"JUNIORS\",'Feuille de match'!$K$5=\"CADETS\",'Feuille de match'!$K$5=\"MINIMESBENJAMINSPOUSSINS\",'Feuille de match'!$K$5=\"MIXTESD1FINALE\",'Feuille de match'!$K$5=\"VETERANSD1FINALE\",'Feuille de match'!$K$5=\"VETERANSD2FINALE\",'Feuille de match'!$K$5=\"JUNIORSFINALE\",'Feuille de match'!$K$5=\"CADETSFINALE\",'Feuille de match'!$K$5=\"MINIMESBENJAMINSPOUSSINSFINALE\"),'Feuille de match'!$N$21,0))","v":0},{"$f":"IF(LEN($AQ$22)=2,\"00\"&$AQ$22,IF(LEN($AQ$22)=3,\"0\"&$AQ$22,$AQ$22))","v":0},{"$f":"IFERROR(RIGHT($AR$22,2),0)","v":"0"},{"$f":"IFERROR(LEFT($AR$22,2),0)","v":"0"},{"$f":"IF(OR('Feuille de match'!$K$5=\"EXCELLENCE\",'Feuille de match'!$K$5=\"HONNEUR\",'Feuille de match'!$K$5=\"PROMOTIONNORD\",'Feuille de match'!$K$5=\"ADULTESDIVISION1NORD\",'Feuille de match'!$K$5=\"PROMOTIONSTRASBOURG\",'Feuille de match'!$K$5=\"PROMOTIONFINALE\"),'Feuille de match'!$N$22,IF(OR('Feuille de match'!$K$5=\"MIXTESD1NORD\",'Feuille de match'!$K$5=\"MIXTESD1STRASBOURG\",'Feuille de match'!$K$5=\"VETERANSD1STRASBOURG\",'Feuille de match'!$K$5=\"VETERANSD2STRASBOURG\",'Feuille de match'!$K$5=\"VETERANSD1NORD\",'Feuille de match'!$K$5=\"VETERANSD2NORD\",'Feuille de match'!$K$5=\"JUNIORS\",'Feuille de match'!$K$5=\"CADETS\",'Feuille de match'!$K$5=\"MINIMESBENJAMINSPOUSSINS\",'Feuille de match'!$K$5=\"MIXTESD1FINALE\",'Feuille de match'!$K$5=\"VETERANSD1FINALE\",'Feuille de match'!$K$5=\"VETERANSD2FINALE\",'Feuille de match'!$K$5=\"JUNIORSFINALE\",'Feuille de match'!$K$5=\"CADETSFINALE\",'Feuille de match'!$K$5=\"MINIMESBENJAMINSPOUSSINSFINALE\"),'Feuille de match'!$N$20,0))","v":0},{"$f":"IF(LEN($AU$22)=2,\"00\"&$AU$22,IF(LEN($AU$22)=3,\"0\"&$AU$22,$AU$22))","v":0},{"$f":"IFERROR(RIGHT($AV$22,2),0)","v":"0"},{"$f":"IFERROR(LEFT($AV$22,2),0)","v":"0"},{"$f":"IF(OR('Feuille de match'!$K$5=\"EXCELLENCE\",'Feuille de match'!$K$5=\"HONNEUR\",'Feuille de match'!$K$5=\"PROMOTIONNORD\",'Feuille de match'!$K$5=\"ADULTESDIVISION1NORD\",'Feuille de match'!$K$5=\"PROMOTIONSTRASBOURG\",'Feuille de match'!$K$5=\"PROMOTIONFINALE\"),'Feuille de match'!$N$21,IF(OR('Feuille de match'!$K$5=\"MIXTESD1NORD\",'Feuille de match'!$K$5=\"MIXTESD1STRASBOURG\",'Feuille de match'!$K$5=\"VETERANSD1STRASBOURG\",'Feuille de match'!$K$5=\"VETERANSD2STRASBOURG\",'Feuille de match'!$K$5=\"VETERANSD1NORD\",'Feuille de match'!$K$5=\"VETERANSD2NORD\",'Feuille de match'!$K$5=\"JUNIORS\",'Feuille de match'!$K$5=\"CADETS\",'Feuille de match'!$K$5=\"MINIMESBENJAMINSPOUSSINS\",'Feuille de match'!$K$5=\"MIXTESD1FINALE\",'Feuille de match'!$K$5=\"VETERANSD1FINALE\",'Feuille de match'!$K$5=\"VETERANSD2FINALE\",'Feuille de match'!$K$5=\"JUNIORSFINALE\",'Feuille de match'!$K$5=\"CADETSFINALE\",'Feuille de match'!$K$5=\"MINIMESBENJAMINSPOUSSINSFINALE\"),\"0\",0))","v":0},{"$f":"IF(LEN($AY$22)=2,\"00\"&$AY$22,IF(LEN($AY$22)=3,\"0\"&$AY$22,$AY$22))","v":0},{"$f":"IFERROR(RIGHT($AZ$22,2),0)","v":"0"},{"$f":"IFERROR(LEFT($AZ$22,2),0)","v":"0"},null,null,null,null,null,null,null,null,null,null,null,null,null,null,null,null,null,null,null,null,null,null,null,null,null,null,null,null,null,null,null,null,null,null,null,null,null,null,null,null,"résultat de la rencontre",null,{"$f":"$CS$4+$CS$5+$CS$6+$CS$7+$CS$8+$CS$9+$CS$10+$CS$11+$CS$12+$CS$13","v":0},{"$f":"$CT$4+$CT$5+$CT$6+$CT$7+$CT$8+$CT$9+$CT$10+$CT$11+$CT$12+$CT$13","v":0},"PROMOTIONSTRASBOURG",{"$f":"$K$8","v":"AS Electricité Strasbourg 2"},"Mercredi","20H30","W,X,",{"$f":"$G$7","v":"VETERANSD2STRASBOURG"},1100,1100,1100,null,null,null,null,null,null,null,null,null,null,null,null,null,null,null,null,null,null,null,null,null,null,"PROMOTIONSTRASBOURGAS Electricité Strasbourg 2","PROMOTIONSTRASBOURG",{"$f":"$K$8","v":"AS Electricité Strasbourg 2"},"Mercredi","20H30"]
[null,null,21,null,null,null,null,null,null,null,null,null,null,null,null,null,null,null,null,null,null,null,null,null,null,null,"Manche 3",null,null,null,"Manche 3",null,null,null,"Manche 3",null,null,null,null,null,null,null,"Manche 3",null,null,null,"Manche 3",null,null,null,"Manche 3",null,null,null,null,null,null,null,null,null,null,null,null,null,null,null,null,null,null,null,null,null,null,null,null,null,null,null,null,null,null,null,null,null,null,null,null,null,null,null,null,null,null,null,null,null,null,null,{"$f":"$G$8","v":"PROMOTIONNORD"},{"$f":"$J$3","v":"MJC Kirrwiller 2"},"Jeudi","20H30","W,X,",{"$f":"$G$5","v":"MIXTESD1STRASBOURG"},1100,1100,1100,null,null,null,null,null,null,null,null,null,null,null,null,null,null,null,null,null,null,null,null,null,null,"PROMOTIONNORDMJC Kirrwiller 2",{"$f":"$G$8","v":"PROMOTIONNORD"},{"$f":"$J$3","v":"MJC Kirrwiller 2"},"Jeudi","20H30"]
[null,null,22,null,null,null,null,null,null,null,null,null,null,null,null,null,null,null,null,null,null,null,null,null,null,null,{"$f":"IF(OR('Feuille de match'!$K$5=\"EXCELLENCE\",'Feuille de match'!$K$5=\"HONNEUR\",'Feuille de match'!$K$5=\"PROMOTIONNORD\",'Feuille de match'!$K$5=\"ADULTESDIVISION1NORD\",'Feuille de match'!$K$5=\"PROMOTIONSTRASBOURG\",'Feuille de match'!$K$5=\"PROMOTIONFINALE\"),'Feuille de match'!$O$21,IF(OR('Feuille de match'!$K$5=\"MIXTESD1NORD\",'Feuille de match'!$K$5=\"MIXTESD1STRASBOURG\",'Feuille de match'!$K$5=\"VETERANSD1STRASBOURG\",'Feuille de match'!$K$5=\"VETERANSD2STRASBOURG\",'Feuille de match'!$K$5=\"VETERANSD1NORD\",'Feuille de match'!$K$5=\"VETERANSD2NORD\",'Feuille de match'!$K$5=\"JUNIORS\",'Feuille de match'!$K$5=\"CADETS\",'Feuille de match'!$K$5=\"MINIMESBENJAMINSPOUSSINS\",'Feuille de match'!$K$5=\"MIXTESD1FINALE\",'Feuille de match'!$K$5=\"VETERANSD1FINALE\",'Feuille de match'!$K$5=\"VETERANSD2FINALE\",'Feuille de match'!$K$5=\"JUNIORSFINALE\",'Feuille de match'!$K$5=\"CADETSFINALE\",'Feuille de match'!$K$5=\"MINIMESBENJAMINSPOUSSINSFINALE\"),'Feuille de match'!$O$20,0))","v":0},{"$f":"IF(LEN($AA$24)=2,\"00\"&$AA$24,IF(LEN($AA$24)=3,\"0\"&$AA$24,$AA$24))","v":0},{"$f":"IFERROR(LEFT($AB$24,2),0)","v":"0"},{"$f":"IFERROR(RIGHT($AB$24,2),0)","v":"0"},{"$f":"IF(OR('Feuille de match'!$K$5=\"EXCELLENCE\",'Feuille de match'!$K$5=\"HONNEUR\",'Feuille de match'!$K$5=\"PROMOTIONNORD\",'Feuille de match'!$K$5=\"ADULTESDIVISION1NORD\",'Feuille de match'!$K$5=\"PROMOTIONSTRASBOURG\",'Feuille de match'!$K$5=\"PROMOTIONFINALE\"),'Feuille de match'!$O$20,IF(OR('Feuille de match'!$K$5=\"MIXTESD1NORD\",'Feuille de match'!$K$5=\"MIXTESD1STRASBOURG\",'Feuille de match'!$K$5=\"VETERANSD1STRASBOURG\",'Feuille de match'!$K$5=\"VETERANSD2STRASBOURG\",'Feuille de match'!$K$5=\"VETERANSD1NORD\",'Feuille de match'!$K$5=\"VETERANSD2NORD\",'Feuille de match'!$K$5=\"JUNIORS\",'Feuille de match'!$K$5=\"CADETS\",'Feuille de match'!$K$5=\"MINIMESBENJAMINSPOUSSINS\",'Feuille de match'!$K$5=\"MIXTESD1FINALE\",'Feuille de match'!$K$5=\"VETERANSD1FINALE\",'Feuille de match'!$K$5=\"VETERANSD2FINALE\",'Feuille de match'!$K$5=\"JUNIORSFINALE\",'Feuille de match'!$K$5=\"CADETSFINALE\",'Feuille de match'!$K$5=\"MINIMESBENJAMINSPOUSSINSFINALE\"),'Feuille de match'!$O$21,0))","v":0},{"$f":"IF(LEN($AE$24)=2,\"00\"&$AE$24,IF(LEN($AE$24)=3,\"0\"&$AE$24,$AE$24))","v":0},{"$f":"IFERROR(LEFT($AF$24,2),0)","v":"0"},{"$f":"IFERROR(RIGHT($AF$24,2),0)","v":"0"},{"$f":"IF(OR('Feuille de match'!$K$5=\"EXCELLENCE\",'Feuille de match'!$K$5=\"HONNEUR\",'Feuille de match'!$K$5=\"PROMOTIONNORD\",'Feuille de match'!$K$5=\"ADULTESDIVISION1NORD\",'Feuille de match'!$K$5=\"PROMOTIONSTRASBOURG\",'Feuille de match'!$K$5=\"PROMOTIONFINALE\"),'Feuille de match'!$O$22,IF(OR('Feuille de match'!$K$5=\"MIXTESD1NORD\",'Feuille de match'!$K$5=\"MIXTESD1STRASBOURG\",'Feuille de match'!$K$5=\"VETERANSD1STRASBOURG\",'Feuille de match'!$K$5=\"VETERANSD2STRASBOURG\",'Feuille de match'!$K$5=\"VETERANSD1NORD\",'Feuille de match'!$K$5=\"VETERANSD2NORD\",'Feuille de match'!$K$5=\"JUNIORS\",'Feuille de match'!$K$5=\"CADETS\",'Feuille de match'!$K$5=\"MINIMESBENJAMINSPOUSSINS\",'Feuille de match'!$K$5=\"MIXTESD1FINALE\",'Feuille de match'!$K$5=\"VETERANSD1FINALE\",'Feuille de match'!$K$5=\"VETERANSD2FINALE\",'Feuille de match'!$K$5=\"JUNIORSFINALE\",'Feuille de match'!$K$5=\"CADETSFINALE\",'Feuille de match'!$K$5=\"MINIMESBENJAMINSPOUSSINSFINALE\"),\"0\",0))","v":0},{"$f":"IF(LEN($AI$24)=2,\"00\"&$AI$24,IF(LEN($AI$24)=3,\"0\"&$AI$24,$AI$24))","v":0},{"$f":"IFERROR(LEFT($AJ$24,2),0)","v":"0"},{"$f":"IFERROR(RIGHT($AJ$24,2),0)","v":"0"},null,null,null,null,{"$f":"IF(OR('Feuille de match'!$K$5=\"EXCELLENCE\",'Feuille de match'!$K$5=\"HONNEUR\",'Feuille de match'!$K$5=\"PROMOTIONNORD\",'Feuille de match'!$K$5=\"ADULTESDIVISION1NORD\",'Feuille de match'!$K$5=\"PROMOTIONSTRASBOURG\",'Feuille de match'!$K$5=\"PROMOTIONFINALE\"),'Feuille de match'!$O$20,IF(OR('Feuille de match'!$K$5=\"MIXTESD1NORD\",'Feuille de match'!$K$5=\"MIXTESD1STRASBOURG\",'Feuille de match'!$K$5=\"VETERANSD1STRASBOURG\",'Feuille de match'!$K$5=\"VETERANSD2STRASBOURG\",'Feuille de match'!$K$5=\"VETERANSD1NORD\",'Feuille de match'!$K$5=\"VETERANSD2NORD\",'Feuille de match'!$K$5=\"JUNIORS\",'Feuille de match'!$K$5=\"CADETS\",'Feuille de match'!$K$5=\"MINIMESBENJAMINSPOUSSINS\",'Feuille de match'!$K$5=\"MIXTESD1FINALE\",'Feuille de match'!$K$5=\"VETERANSD1FINALE\",'Feuille de match'!$K$5=\"VETERANSD2FINALE\",'Feuille de match'!$K$5=\"JUNIORSFINALE\",'Feuille de match'!$K$5=\"CADETSFINALE\",'Feuille de match'!$K$5=\"MINIMESBENJAMINSPOUSSINSFINALE\"),'Feuille de match'!$O$21,0))","v":0},{"$f":"IF(LEN($AQ$24)=2,\"00\"&$AQ$24,IF(LEN($AQ$24)=3,\"0\"&$AQ$24,$AQ$24))","v":0},{"$f":"IFERROR(RIGHT($AR$24,2),0)","v":"0"},{"$f":"IFERROR(LEFT($AR$24,2),0)","v":"0"},{"$f":"IF(OR('Feuille de match'!$K$5=\"EXCELLENCE\",'Feuille de match'!$K$5=\"HONNEUR\",'Feuille de match'!$K$5=\"PROMOTIONNORD\",'Feuille de match'!$K$5=\"ADULTESDIVISION1NORD\",'Feuille de match'!$K$5=\"PROMOTIONSTRASBOURG\",'Feuille de match'!$K$5=\"PROMOTIONFINALE\"),'Feuille de match'!$O$22,IF(OR('Feuille de match'!$K$5=\"MIXTESD1NORD\",'Feuille de match'!$K$5=\"MIXTESD1STRASBOURG\",'Feuille de match'!$K$5=\"VETERANSD1STRASBOURG\",'Feuille de match'!$K$5=\"VETERANSD2STRASBOURG\",'Feuille de match'!$K$5=\"VETERANSD1NORD\",'Feuille de match'!$K$5=\"VETERANSD2NORD\",'Feuille de match'!$K$5=\"JUNIORS\",'Feuille de match'!$K$5=\"CADETS\",'Feuille de match'!$K$5=\"MINIMESBENJAMINSPOUSSINS\",'Feuille de match'!$K$5=\"MIXTESD1FINALE\",'Feuille de match'!$K$5=\"VETERANSD1FINALE\",'Feuille de match'!$K$5=\"VETERANSD2FINALE\",'Feuille de match'!$K$5=\"JUNIORSFINALE\",'Feuille de match'!$K$5=\"CADETSFINALE\",'Feuille de match'!$K$5=\"MINIMESBENJAMINSPOUSSINSFINALE\"),'Feuille de match'!$O$20,0))","v":0},{"$f":"IF(LEN($AU$24)=2,\"00\"&$AU$24,IF(LEN($AU$24)=3,\"0\"&$AU$24,$AU$24))","v":0},{"$f":"IFERROR(RIGHT($AV$24,2),0)","v":"0"},{"$f":"IFERROR(LEFT($AV$24,2),0)","v":"0"},{"$f":"IF(OR('Feuille de match'!$K$5=\"EXCELLENCE\",'Feuille de match'!$K$5=\"HONNEUR\",'Feuille de match'!$K$5=\"PROMOTIONNORD\",'Feuille de match'!$K$5=\"ADULTESDIVISION1NORD\",'Feuille de match'!$K$5=\"PROMOTIONSTRASBOURG\",'Feuille de match'!$K$5=\"PROMOTIONFINALE\"),'Feuille de match'!$O$21,IF(OR('Feuille de match'!$K$5=\"MIXTESD1NORD\",'Feuille de match'!$K$5=\"MIXTESD1STRASBOURG\",'Feuille de match'!$K$5=\"VETERANSD1STRASBOURG\",'Feuille de match'!$K$5=\"VETERANSD2STRASBOURG\",'Feuille de match'!$K$5=\"VETERANSD1NORD\",'Feuille de match'!$K$5=\"VETERANSD2NORD\",'Feuille de match'!$K$5=\"JUNIORS\",'Feuille de match'!$K$5=\"CADETS\",'Feuille de match'!$K$5=\"MINIMESBENJAMINSPOUSSINS\",'Feuille de match'!$K$5=\"MIXTESD1FINALE\",'Feuille de match'!$K$5=\"VETERANSD1FINALE\",'Feuille de match'!$K$5=\"VETERANSD2FINALE\",'Feuille de match'!$K$5=\"JUNIORSFINALE\",'Feuille de match'!$K$5=\"CADETSFINALE\",'Feuille de match'!$K$5=\"MINIMESBENJAMINSPOUSSINSFINALE\"),\"0\",0))","v":0},{"$f":"IF(LEN($AY$24)=2,\"00\"&$AY$24,IF(LEN($AY$24)=3,\"0\"&$AY$24,$AY$24))","v":0},{"$f":"IFERROR(RIGHT($AZ$24,2),0)","v":"0"},{"$f":"IFERROR(LEFT($AZ$24,2),0)","v":"0"},null,null,null,null,null,null,null,null,null,null,null,null,null,null,null,null,null,null,null,null,null,null,null,null,null,null,null,null,null,null,null,null,null,null,null,null,null,null,null,null,null,null,null,null,{"$f":"$G$8","v":"PROMOTIONNORD"},{"$f":"$J$4","v":"Liberté Dettwiller 1"},"Jeudi","20H00","W,X,",{"$f":"$G$11","v":"MIXTESD1NORD"},1100,1100,1100,null,null,null,null,null,null,null,null,null,null,null,null,null,null,null,null,null,null,null,null,null,null,"PROMOTIONNORDLiberté Dettwiller 1",{"$f":"$G$8","v":"PROMOTIONNORD"},{"$f":"$J$4","v":"Liberté Dettwiller 1"},"Jeudi","20H00"]
[null,null,23,null,null,null,null,null,null,null,null,null,null,null,null,null,null,null,null,null,null,null,null,null,null,null,"Manche 4",null,null,null,"Manche 4",null,null,null,"Manche 4",null,null,null,null,null,null,null,"Manche 4",null,null,null,"Manche 4",null,null,null,"Manche 4",null,null,null,null,null,null,null,null,null,null,null,null,null,null,null,null,null,null,null,null,null,null,null,null,null,null,null,null,null,null,null,null,null,null,null,null,null,null,null,null,null,null,null,null,null,null,null,"PROMOTIONNORD",{"$f":"$J$5","v":"Hanau TT 3"},"Mardi","20H00","W,X,Y,",{"$f":"$G$12","v":"ADULTESDIVISION1NORD"},1100,1100,1100,null,null,null,null,null,null,null,null,null,null,null,null,null,null,null,null,null,null,null,null,null,null,"PROMOTIONNORDHanau TT 3","PROMOTIONNORD",{"$f":"$J$5","v":"Hanau TT 3"},"Mardi","20H00"]
[null,null,24,null,null,null,null,null,null,null,null,null,null,null,null,null,null,null,null,null,null,null,null,null,null,null,{"$f":"IF(OR('Feuille de match'!$K$5=\"EXCELLENCE\",'Feuille de match'!$K$5=\"HONNEUR\",'Feuille de match'!$K$5=\"PROMOTIONNORD\",'Feuille de match'!$K$5=\"ADULTESDIVISION1NORD\",'Feuille de match'!$K$5=\"PROMOTIONSTRASBOURG\",'Feuille de match'!$K$5=\"PROMOTIONFINALE\"),'Feuille de match'!$P$21,IF(OR('Feuille de match'!$K$5=\"MIXTESD1NORD\",'Feuille de match'!$K$5=\"MIXTESD1STRASBOURG\",'Feuille de match'!$K$5=\"VETERANSD1STRASBOURG\",'Feuille de match'!$K$5=\"VETERANSD2STRASBOURG\",'Feuille de match'!$K$5=\"VETERANSD1NORD\",'Feuille de match'!$K$5=\"VETERANSD2NORD\",'Feuille de match'!$K$5=\"JUNIORS\",'Feuille de match'!$K$5=\"CADETS\",'Feuille de match'!$K$5=\"MINIMESBENJAMINSPOUSSINS\",'Feuille de match'!$K$5=\"MIXTESD1FINALE\",'Feuille de match'!$K$5=\"VETERANSD1FINALE\",'Feuille de match'!$K$5=\"VETERANSD2FINALE\",'Feuille de match'!$K$5=\"JUNIORSFINALE\",'Feuille de match'!$K$5=\"CADETSFINALE\",'Feuille de match'!$K$5=\"MINIMESBENJAMINSPOUSSINSFINALE\"),'Feuille de match'!$P$20,0))","v":0},{"$f":"IF(LEN($AA$26)=2,\"00\"&$AA$26,IF(LEN($AA$26)=3,\"0\"&$AA$26,$AA$26))","v":0},{"$f":"IFERROR(LEFT($AB$26,2),0)","v":"0"},{"$f":"IFERROR(RIGHT($AB$26,2),0)","v":"0"},{"$f":"IF(OR('Feuille de match'!$K$5=\"EXCELLENCE\",'Feuille de match'!$K$5=\"HONNEUR\",'Feuille de match'!$K$5=\"PROMOTIONNORD\",'Feuille de match'!$K$5=\"ADULTESDIVISION1NORD\",'Feuille de match'!$K$5=\"PROMOTIONSTRASBOURG\",'Feuille de match'!$K$5=\"PROMOTIONFINALE\"),'Feuille de match'!$P$20,IF(OR('Feuille de match'!$K$5=\"MIXTESD1NORD\",'Feuille de match'!$K$5=\"MIXTESD1STRASBOURG\",'Feuille de match'!$K$5=\"VETERANSD1STRASBOURG\",'Feuille de match'!$K$5=\"VETERANSD2STRASBOURG\",'Feuille de match'!$K$5=\"VETERANSD1NORD\",'Feuille de match'!$K$5=\"VETERANSD2NORD\",'Feuille de match'!$K$5=\"JUNIORS\",'Feuille de match'!$K$5=\"CADETS\",'Feuille de match'!$K$5=\"MINIMESBENJAMINSPOUSSINS\",'Feuille de match'!$K$5=\"MIXTESD1FINALE\",'Feuille de match'!$K$5=\"VETERANSD1FINALE\",'Feuille de match'!$K$5=\"VETERANSD2FINALE\",'Feuille de match'!$K$5=\"JUNIORSFINALE\",'Feuille de match'!$K$5=\"CADETSFINALE\",'Feuille de match'!$K$5=\"MINIMESBENJAMINSPOUSSINSFINALE\"),'Feuille de match'!$P$21,0))","v":0},{"$f":"IF(LEN($AE$26)=2,\"00\"&$AE$26,IF(LEN($AE$26)=3,\"0\"&$AE$26,$AE$26))","v":0},{"$f":"IFERROR(LEFT($AF$26,2),0)","v":"0"},{"$f":"IFERROR(RIGHT($AF$26,2),0)","v":"0"},{"$f":"IF(OR('Feuille de match'!$K$5=\"EXCELLENCE\",'Feuille de match'!$K$5=\"HONNEUR\",'Feuille de match'!$K$5=\"PROMOTIONNORD\",'Feuille de match'!$K$5=\"ADULTESDIVISION1NORD\",'Feuille de match'!$K$5=\"PROMOTIONSTRASBOURG\",'Feuille de match'!$K$5=\"PROMOTIONFINALE\"),'Feuille de match'!$P$22,IF(OR('Feuille de match'!$K$5=\"MIXTESD1NORD\",'Feuille de match'!$K$5=\"MIXTESD1STRASBOURG\",'Feuille de match'!$K$5=\"VETERANSD1STRASBOURG\",'Feuille de match'!$K$5=\"VETERANSD2STRASBOURG\",'Feuille de match'!$K$5=\"VETERANSD1NORD\",'Feuille de match'!$K$5=\"VETERANSD2NORD\",'Feuille de match'!$K$5=\"JUNIORS\",'Feuille de match'!$K$5=\"CADETS\",'Feuille de match'!$K$5=\"MINIMESBENJAMINSPOUSSINS\",'Feuille de match'!$K$5=\"MIXTESD1FINALE\",'Feuille de match'!$K$5=\"VETERANSD1FINALE\",'Feuille de match'!$K$5=\"VETERANSD2FINALE\",'Feuille de match'!$K$5=\"JUNIORSFINALE\",'Feuille de match'!$K$5=\"CADETSFINALE\",'Feuille de match'!$K$5=\"MINIMESBENJAMINSPOUSSINSFINALE\"),\"0\",0))","v":0},{"$f":"IF(LEN($AI$26)=2,\"00\"&$AI$26,IF(LEN($AI$26)=3,\"0\"&$AI$26,$AI$26))","v":0},{"$f":"IFERROR(LEFT($AJ$26,2),0)","v":"0"},{"$f":"IFERROR(RIGHT($AJ$26,2),0)","v":"0"},null,null,null,null,{"$f":"IF(OR('Feuille de match'!$K$5=\"EXCELLENCE\",'Feuille de match'!$K$5=\"HONNEUR\",'Feuille de match'!$K$5=\"PROMOTIONNORD\",'Feuille de match'!$K$5=\"ADULTESDIVISION1NORD\",'Feuille de match'!$K$5=\"PROMOTIONSTRASBOURG\",'Feuille de match'!$K$5=\"PROMOTIONFINALE\"),'Feuille de match'!$P$20,IF(OR('Feuille de match'!$K$5=\"MIXTESD1NORD\",'Feuille de match'!$K$5=\"MIXTESD1STRASBOURG\",'Feuille de match'!$K$5=\"VETERANSD1STRASBOURG\",'Feuille de match'!$K$5=\"VETERANSD2STRASBOURG\",'Feuille de match'!$K$5=\"VETERANSD1NORD\",'Feuille de match'!$K$5=\"VETERANSD2NORD\",'Feuille de match'!$K$5=\"JUNIORS\",'Feuille de match'!$K$5=\"CADETS\",'Feuille de match'!$K$5=\"MINIMESBENJAMINSPOUSSINS\",'Feuille de match'!$K$5=\"MIXTESD1FINALE\",'Feuille de match'!$K$5=\"VETERANSD1FINALE\",'Feuille de match'!$K$5=\"VETERANSD2FINALE\",'Feuille de match'!$K$5=\"JUNIORSFINALE\",'Feuille de match'!$K$5=\"CADETSFINALE\",'Feuille de match'!$K$5=\"MINIMESBENJAMINSPOUSSINSFINALE\"),'Feuille de match'!$P$21,0))","v":0},{"$f":"IF(LEN($AQ$26)=2,\"00\"&$AQ$26,IF(LEN($AQ$26)=3,\"0\"&$AQ$26,$AQ$26))","v":0},{"$f":"IFERROR(RIGHT($AR$26,2),0)","v":"0"},{"$f":"IFERROR(LEFT($AR$26,2),0)","v":"0"},{"$f":"IF(OR('Feuille de match'!$K$5=\"EXCELLENCE\",'Feuille de match'!$K$5=\"HONNEUR\",'Feuille de match'!$K$5=\"PROMOTIONNORD\",'Feuille de match'!$K$5=\"ADULTESDIVISION1NORD\",'Feuille de match'!$K$5=\"PROMOTIONSTRASBOURG\",'Feuille de match'!$K$5=\"PROMOTIONFINALE\"),'Feuille de match'!$P$22,IF(OR('Feuille de match'!$K$5=\"MIXTESD1NORD\",'Feuille de match'!$K$5=\"MIXTESD1STRASBOURG\",'Feuille de match'!$K$5=\"VETERANSD1STRASBOURG\",'Feuille de match'!$K$5=\"VETERANSD2STRASBOURG\",'Feuille de match'!$K$5=\"VETERANSD1NORD\",'Feuille de match'!$K$5=\"VETERANSD2NORD\",'Feuille de match'!$K$5=\"JUNIORS\",'Feuille de match'!$K$5=\"CADETS\",'Feuille de match'!$K$5=\"MINIMESBENJAMINSPOUSSINS\",'Feuille de match'!$K$5=\"MIXTESD1FINALE\",'Feuille de match'!$K$5=\"VETERANSD1FINALE\",'Feuille de match'!$K$5=\"VETERANSD2FINALE\",'Feuille de match'!$K$5=\"JUNIORSFINALE\",'Feuille de match'!$K$5=\"CADETSFINALE\",'Feuille de match'!$K$5=\"MINIMESBENJAMINSPOUSSINSFINALE\"),'Feuille de match'!$P$20,0))","v":0},{"$f":"IF(LEN($AU$26)=2,\"00\"&$AU$26,IF(LEN($AU$26)=3,\"0\"&$AU$26,$AU$26))","v":0},{"$f":"IFERROR(RIGHT($AV$26,2),0)","v":"0"},{"$f":"IFERROR(LEFT($AV$26,2),0)","v":"0"},{"$f":"IF(OR('Feuille de match'!$K$5=\"EXCELLENCE\",'Feuille de match'!$K$5=\"HONNEUR\",'Feuille de match'!$K$5=\"PROMOTIONNORD\",'Feuille de match'!$K$5=\"ADULTESDIVISION1NORD\",'Feuille de match'!$K$5=\"PROMOTIONSTRASBOURG\",'Feuille de match'!$K$5=\"PROMOTIONFINALE\"),'Feuille de match'!$P$21,IF(OR('Feuille de match'!$K$5=\"MIXTESD1NORD\",'Feuille de match'!$K$5=\"MIXTESD1STRASBOURG\",'Feuille de match'!$K$5=\"VETERANSD1STRASBOURG\",'Feuille de match'!$K$5=\"VETERANSD2STRASBOURG\",'Feuille de match'!$K$5=\"VETERANSD1NORD\",'Feuille de match'!$K$5=\"VETERANSD2NORD\",'Feuille de match'!$K$5=\"JUNIORS\",'Feuille de match'!$K$5=\"CADETS\",'Feuille de match'!$K$5=\"MINIMESBENJAMINSPOUSSINS\",'Feuille de match'!$K$5=\"MIXTESD1FINALE\",'Feuille de match'!$K$5=\"VETERANSD1FINALE\",'Feuille de match'!$K$5=\"VETERANSD2FINALE\",'Feuille de match'!$K$5=\"JUNIORSFINALE\",'Feuille de match'!$K$5=\"CADETSFINALE\",'Feuille de match'!$K$5=\"MINIMESBENJAMINSPOUSSINSFINALE\"),\"0\",0))","v":0},{"$f":"IF(LEN($AY$26)=2,\"00\"&$AY$26,IF(LEN($AY$26)=3,\"0\"&$AY$26,$AY$26))","v":0},{"$f":"IFERROR(RIGHT($AZ$26,2),0)","v":"0"},{"$f":"IFERROR(LEFT($AZ$26,2),0)","v":"0"},null,null,null,null,null,null,null,null,null,null,null,null,null,null,null,null,null,null,null,null,null,null,null,null,null,null,null,null,null,null,null,null,null,null,null,null,null,null,null,null,null,null,null,null,"PROMOTIONNORD",{"$f":"$J$6","v":"CLTT Menchhoffen 2"},"Jeudi","20H00","A,B,",{"$f":"G13","v":"JUNIORS"},11,11,11,null,null,null,null,null,null,null,null,null,null,null,null,null,null,null,null,null,null,null,null,null,null,"PROMOTIONNORDCLTT Menchhoffen 2","PROMOTIONNORD",{"$f":"$J$6","v":"CLTT Menchhoffen 2"},"Jeudi","20H00"]
[null,null,25,null,null,null,null,null,null,null,null,null,null,null,null,null,null,null,null,null,null,null,null,null,null,null,"Manche 5",null,null,null,"Manche 5",null,null,null,"Manche 5",null,null,null,null,null,null,null,"Manche 5",null,null,null,"Manche 5",null,null,null,"Manche 5",null,null,null,null,null,null,null,null,null,null,null,null,null,null,null,null,null,null,null,null,null,null,null,null,null,null,null,null,null,null,null,null,null,null,null,null,null,null,null,null,null,null,null,null,null,null,null,"PROMOTIONNORD",{"$f":"$J$7","v":"CS Tricolore Saverne 2"},"Vendredi","20H00","A,B,",{"$f":"G14","v":"CADETS"},11,11,11,null,null,null,null,null,null,null,null,null,null,null,null,null,null,null,null,null,null,null,null,null,null,"PROMOTIONNORDCS Tricolore Saverne 2","PROMOTIONNORD",{"$f":"$J$7","v":"CS Tricolore Saverne 2"},"Vendredi","20H00"]
[null,null,26,null,null,null,"PROMOTIONFINALE",null,"VETERANSD1FINALE","VETERANSD2FINALE","PROMOTIONFINALE","MIXTESD1FINALE","JUNIORSFINALE","CADETSFINALE","MINIMESBENJAMINSPOUSSINSFINALE",null,null,null,null,null,null,null,null,null,null,null,{"$f":"IF(OR('Feuille de match'!$K$5=\"EXCELLENCE\",'Feuille de match'!$K$5=\"HONNEUR\",'Feuille de match'!$K$5=\"PROMOTIONNORD\",'Feuille de match'!$K$5=\"ADULTESDIVISION1NORD\",'Feuille de match'!$K$5=\"PROMOTIONSTRASBOURG\",'Feuille de match'!$K$5=\"PROMOTIONFINALE\"),'Feuille de match'!$Q$21,IF(OR('Feuille de match'!$K$5=\"MIXTESD1NORD\",'Feuille de match'!$K$5=\"MIXTESD1STRASBOURG\",'Feuille de match'!$K$5=\"VETERANSD1STRASBOURG\",'Feuille de match'!$K$5=\"VETERANSD2STRASBOURG\",'Feuille de match'!$K$5=\"VETERANSD1NORD\",'Feuille de match'!$K$5=\"VETERANSD2NORD\",'Feuille de match'!$K$5=\"JUNIORS\",'Feuille de match'!$K$5=\"CADETS\",'Feuille de match'!$K$5=\"MINIMESBENJAMINSPOUSSINS\",'Feuille de match'!$K$5=\"MIXTESD1FINALE\",'Feuille de match'!$K$5=\"VETERANSD1FINALE\",'Feuille de match'!$K$5=\"VETERANSD2FINALE\",'Feuille de match'!$K$5=\"JUNIORSFINALE\",'Feuille de match'!$K$5=\"CADETSFINALE\",'Feuille de match'!$K$5=\"MINIMESBENJAMINSPOUSSINSFINALE\"),'Feuille de match'!$Q$20,0))","v":0},{"$f":"IF(LEN($AA$28)=2,\"00\"&$AA$28,IF(LEN($AA$28)=3,\"0\"&$AA$28,$AA$28))","v":0},{"$f":"IFERROR(LEFT($AB$28,2),0)","v":"0"},{"$f":"IFERROR(RIGHT($AB$28,2),0)","v":"0"},{"$f":"IF(OR('Feuille de match'!$K$5=\"EXCELLENCE\",'Feuille de match'!$K$5=\"HONNEUR\",'Feuille de match'!$K$5=\"PROMOTIONNORD\",'Feuille de match'!$K$5=\"ADULTESDIVISION1NORD\",'Feuille de match'!$K$5=\"PROMOTIONSTRASBOURG\",'Feuille de match'!$K$5=\"PROMOTIONFINALE\"),'Feuille de match'!$Q$20,IF(OR('Feuille de match'!$K$5=\"MIXTESD1NORD\",'Feuille de match'!$K$5=\"MIXTESD1STRASBOURG\",'Feuille de match'!$K$5=\"VETERANSD1STRASBOURG\",'Feuille de match'!$K$5=\"VETERANSD2STRASBOURG\",'Feuille de match'!$K$5=\"VETERANSD1NORD\",'Feuille de match'!$K$5=\"VETERANSD2NORD\",'Feuille de match'!$K$5=\"JUNIORS\",'Feuille de match'!$K$5=\"CADETS\",'Feuille de match'!$K$5=\"MINIMESBENJAMINSPOUSSINS\",'Feuille de match'!$K$5=\"MIXTESD1FINALE\",'Feuille de match'!$K$5=\"VETERANSD1FINALE\",'Feuille de match'!$K$5=\"VETERANSD2FINALE\",'Feuille de match'!$K$5=\"JUNIORSFINALE\",'Feuille de match'!$K$5=\"CADETSFINALE\",'Feuille de match'!$K$5=\"MINIMESBENJAMINSPOUSSINSFINALE\"),'Feuille de match'!$Q$21,0))","v":0},{"$f":"IF(LEN($AE$28)=2,\"00\"&$AE$28,IF(LEN($AE$28)=3,\"0\"&$AE$28,$AE$28))","v":0},{"$f":"IFERROR(LEFT($AF$28,2),0)","v":"0"},{"$f":"IFERROR(RIGHT($AF$28,2),0)","v":"0"},{"$f":"IF(OR('Feuille de match'!$K$5=\"EXCELLENCE\",'Feuille de match'!$K$5=\"HONNEUR\",'Feuille de match'!$K$5=\"PROMOTIONNORD\",'Feuille de match'!$K$5=\"ADULTESDIVISION1NORD\",'Feuille de match'!$K$5=\"PROMOTIONSTRASBOURG\",'Feuille de match'!$K$5=\"PROMOTIONFINALE\"),'Feuille de match'!$Q$22,IF(OR('Feuille de match'!$K$5=\"MIXTESD1NORD\",'Feuille de match'!$K$5=\"MIXTESD1STRASBOURG\",'Feuille de match'!$K$5=\"VETERANSD1STRASBOURG\",'Feuille de match'!$K$5=\"VETERANSD2STRASBOURG\",'Feuille de match'!$K$5=\"VETERANSD1NORD\",'Feuille de match'!$K$5=\"VETERANSD2NORD\",'Feuille de match'!$K$5=\"JUNIORS\",'Feuille de match'!$K$5=\"CADETS\",'Feuille de match'!$K$5=\"MINIMESBENJAMINSPOUSSINS\",'Feuille de match'!$K$5=\"MIXTESD1FINALE\",'Feuille de match'!$K$5=\"VETERANSD1FINALE\",'Feuille de match'!$K$5=\"VETERANSD2FINALE\",'Feuille de match'!$K$5=\"JUNIORSFINALE\",'Feuille de match'!$K$5=\"CADETSFINALE\",'Feuille de match'!$K$5=\"MINIMESBENJAMINSPOUSSINSFINALE\"),\"0\",0))","v":0},{"$f":"IF(LEN($AI$28)=2,\"00\"&$AI$28,IF(LEN($AI$28)=3,\"0\"&$AI$28,$AI$28))","v":0},{"$f":"IFERROR(LEFT($AJ$28,2),0)","v":"0"},{"$f":"IFERROR(RIGHT($AJ$28,2),0)","v":"0"},null,null,null,null,{"$f":"IF(OR('Feuille de match'!$K$5=\"EXCELLENCE\",'Feuille de match'!$K$5=\"HONNEUR\",'Feuille de match'!$K$5=\"PROMOTIONNORD\",'Feuille de match'!$K$5=\"ADULTESDIVISION1NORD\",'Feuille de match'!$K$5=\"PROMOTIONSTRASBOURG\",'Feuille de match'!$K$5=\"PROMOTIONFINALE\"),'Feuille de match'!$Q$20,IF(OR('Feuille de match'!$K$5=\"MIXTESD1NORD\",'Feuille de match'!$K$5=\"MIXTESD1STRASBOURG\",'Feuille de match'!$K$5=\"VETERANSD1STRASBOURG\",'Feuille de match'!$K$5=\"VETERANSD2STRASBOURG\",'Feuille de match'!$K$5=\"VETERANSD1NORD\",'Feuille de match'!$K$5=\"VETERANSD2NORD\",'Feuille de match'!$K$5=\"JUNIORS\",'Feuille de match'!$K$5=\"CADETS\",'Feuille de match'!$K$5=\"MINIMESBENJAMINSPOUSSINS\",'Feuille de match'!$K$5=\"MIXTESD1FINALE\",'Feuille de match'!$K$5=\"VETERANSD1FINALE\",'Feuille de match'!$K$5=\"VETERANSD2FINALE\",'Feuille de match'!$K$5=\"JUNIORSFINALE\",'Feuille de match'!$K$5=\"CADETSFINALE\",'Feuille de match'!$K$5=\"MINIMESBENJAMINSPOUSSINSFINALE\"),'Feuille de match'!$Q$21,0))","v":0},{"$f":"IF(LEN($AQ$28)=2,\"00\"&$AQ$28,IF(LEN($AQ$28)=3,\"0\"&$AQ$28,$AQ$28))","v":0},{"$f":"IFERROR(RIGHT($AR$28,2),0)","v":"0"},{"$f":"IFERROR(LEFT($AR$28,2),0)","v":"0"},{"$f":"IF(OR('Feuille de match'!$K$5=\"EXCELLENCE\",'Feuille de match'!$K$5=\"HONNEUR\",'Feuille de match'!$K$5=\"PROMOTIONNORD\",'Feuille de match'!$K$5=\"ADULTESDIVISION1NORD\",'Feuille de match'!$K$5=\"PROMOTIONSTRASBOURG\",'Feuille de match'!$K$5=\"PROMOTIONFINALE\"),'Feuille de match'!$Q$22,IF(OR('Feuille de match'!$K$5=\"MIXTESD1NORD\",'Feuille de match'!$K$5=\"MIXTESD1STRASBOURG\",'Feuille de match'!$K$5=\"VETERANSD1STRASBOURG\",'Feuille de match'!$K$5=\"VETERANSD2STRASBOURG\",'Feuille de match'!$K$5=\"VETERANSD1NORD\",'Feuille de match'!$K$5=\"VETERANSD2NORD\",'Feuille de match'!$K$5=\"JUNIORS\",'Feuille de match'!$K$5=\"CADETS\",'Feuille de match'!$K$5=\"MINIMESBENJAMINSPOUSSINS\",'Feuille de match'!$K$5=\"MIXTESD1FINALE\",'Feuille de match'!$K$5=\"VETERANSD1FINALE\",'Feuille de match'!$K$5=\"VETERANSD2FINALE\",'Feuille de match'!$K$5=\"JUNIORSFINALE\",'Feuille de match'!$K$5=\"CADETSFINALE\",'Feuille de match'!$K$5=\"MINIMESBENJAMINSPOUSSINSFINALE\"),'Feuille de match'!$Q$20,0))","v":0},{"$f":"IF(LEN($AU$28)=2,\"00\"&$AU$28,IF(LEN($AU$28)=3,\"0\"&$AU$28,$AU$28))","v":0},{"$f":"IFERROR(RIGHT($AV$28,2),0)","v":"0"},{"$f":"IFERROR(LEFT($AV$28,2),0)","v":"0"},{"$f":"IF(OR('Feuille de match'!$K$5=\"EXCELLENCE\",'Feuille de match'!$K$5=\"HONNEUR\",'Feuille de match'!$K$5=\"PROMOTIONNORD\",'Feuille de match'!$K$5=\"ADULTESDIVISION1NORD\",'Feuille de match'!$K$5=\"PROMOTIONSTRASBOURG\",'Feuille de match'!$K$5=\"PROMOTIONFINALE\"),'Feuille de match'!$Q$21,IF(OR('Feuille de match'!$K$5=\"MIXTESD1NORD\",'Feuille de match'!$K$5=\"MIXTESD1STRASBOURG\",'Feuille de match'!$K$5=\"VETERANSD1STRASBOURG\",'Feuille de match'!$K$5=\"VETERANSD2STRASBOURG\",'Feuille de match'!$K$5=\"VETERANSD1NORD\",'Feuille de match'!$K$5=\"VETERANSD2NORD\",'Feuille de match'!$K$5=\"JUNIORS\",'Feuille de match'!$K$5=\"CADETS\",'Feuille de match'!$K$5=\"MINIMESBENJAMINSPOUSSINS\",'Feuille de match'!$K$5=\"MIXTESD1FINALE\",'Feuille de match'!$K$5=\"VETERANSD1FINALE\",'Feuille de match'!$K$5=\"VETERANSD2FINALE\",'Feuille de match'!$K$5=\"JUNIORSFINALE\",'Feuille de match'!$K$5=\"CADETSFINALE\",'Feuille de match'!$K$5=\"MINIMESBENJAMINSPOUSSINSFINALE\"),\"0\",0))","v":0},{"$f":"IF(LEN($AY$28)=2,\"00\"&$AY$28,IF(LEN($AY$28)=3,\"0\"&$AY$28,$AY$28))","v":0},{"$f":"IFERROR(RIGHT($AZ$28,2),0)","v":"0"},{"$f":"IFERROR(LEFT($AZ$28,2),0)","v":"0"},null,null,null,null,null,null,null,null,null,null,null,null,null,null,null,null,null,null,null,null,null,null,null,null,null,null,null,null,null,null,null,null,null,null,null,null,null,null,null,null,null,null,null,null,{"$f":"$G$8","v":"PROMOTIONNORD"},{"$f":"$J$8","v":"CTT 77 Val de Moder 2"},"Jeudi","19H30","A,B,","MINIMESBENJAMINSPOUSSINS",11,11,11,null,null,null,null,null,null,null,null,null,null,null,null,null,null,null,null,null,null,null,null,null,null,"PROMOTIONNORDCTT 77 Val de Moder 2",{"$f":"$G$8","v":"PROMOTIONNORD"},{"$f":"$J$8","v":"CTT 77 Val de Moder 2"},"Jeudi","19H30"]
[null,null,27,null,null,null,"MIXTESD1FINALE",null,"Liberté Dettwiller 1","MJC Kirrwiller 1","MJC Kirrwiller 2","UT AURORA Schilt.-B. 1",null,null,null,null,null,null,null,null,null,null,null,null,null,null,"Manche 6",null,null,null,"Manche 6",null,null,null,"Manche 6",null,null,null,null,null,null,null,"Manche 6",null,null,null,"Manche 6",null,null,null,"Manche 6",null,null,null,null,null,null,null,null,null,null,null,null,null,null,null,null,null,null,null,null,null,null,null,null,null,null,null,null,null,null,null,null,null,null,null,null,null,null,null,null,null,null,null,null,null,null,null,"PROMOTIONNORD",{"$f":"$J$9","v":0},"Vendredi","20H30","W,X,",{"$f":"G13","v":"JUNIORS"},1100,1100,1100,null,null,null,null,null,null,null,null,null,null,null,null,null,null,null,null,null,null,null,null,null,null,"PROMOTIONNORD0","PROMOTIONNORD",{"$f":"$J$9","v":0},"Vendredi","20H30"]
[null,null,28,null,null,null,"VETERANSD1FINALE",null,"CP Zutzendorf 1","MJC Kirrwiller 2","Liberté Dettwiller 1","Amitié Lingolsheim 1",null,null,null,null,null,null,null,null,null,null,null,null,null,null,{"$f":"IF(OR('Feuille de match'!$K$5=\"EXCELLENCE\",'Feuille de match'!$K$5=\"HONNEUR\",'Feuille de match'!$K$5=\"PROMOTIONNORD\",'Feuille de match'!$K$5=\"ADULTESDIVISION1NORD\",'Feuille de match'!$K$5=\"PROMOTIONSTRASBOURG\",'Feuille de match'!$K$5=\"PROMOTIONFINALE\"),'Feuille de match'!$R$21,IF(OR('Feuille de match'!$K$5=\"MIXTESD1NORD\",'Feuille de match'!$K$5=\"MIXTESD1STRASBOURG\",'Feuille de match'!$K$5=\"VETERANSD1STRASBOURG\",'Feuille de match'!$K$5=\"VETERANSD2STRASBOURG\",'Feuille de match'!$K$5=\"VETERANSD1NORD\",'Feuille de match'!$K$5=\"VETERANSD2NORD\",'Feuille de match'!$K$5=\"JUNIORS\",'Feuille de match'!$K$5=\"CADETS\",'Feuille de match'!$K$5=\"MINIMESBENJAMINSPOUSSINS\",'Feuille de match'!$K$5=\"MIXTESD1FINALE\",'Feuille de match'!$K$5=\"VETERANSD1FINALE\",'Feuille de match'!$K$5=\"VETERANSD2FINALE\",'Feuille de match'!$K$5=\"JUNIORSFINALE\",'Feuille de match'!$K$5=\"CADETSFINALE\",'Feuille de match'!$K$5=\"MINIMESBENJAMINSPOUSSINSFINALE\"),'Feuille de match'!$R$20,0))","v":0},{"$f":"IF(LEN($AA$30)=2,\"00\"&$AA$30,IF(LEN($AA$30)=3,\"0\"&$AA$30,$AA$30))","v":0},{"$f":"IFERROR(LEFT($AB$30,2),0)","v":"0"},{"$f":"IFERROR(RIGHT($AB$30,2),0)","v":"0"},{"$f":"IF(OR('Feuille de match'!$K$5=\"EXCELLENCE\",'Feuille de match'!$K$5=\"HONNEUR\",'Feuille de match'!$K$5=\"PROMOTIONNORD\",'Feuille de match'!$K$5=\"ADULTESDIVISION1NORD\",'Feuille de match'!$K$5=\"PROMOTIONSTRASBOURG\",'Feuille de match'!$K$5=\"PROMOTIONFINALE\"),'Feuille de match'!$R$20,IF(OR('Feuille de match'!$K$5=\"MIXTESD1NORD\",'Feuille de match'!$K$5=\"MIXTESD1STRASBOURG\",'Feuille de match'!$K$5=\"VETERANSD1STRASBOURG\",'Feuille de match'!$K$5=\"VETERANSD2STRASBOURG\",'Feuille de match'!$K$5=\"VETERANSD1NORD\",'Feuille de match'!$K$5=\"VETERANSD2NORD\",'Feuille de match'!$K$5=\"JUNIORS\",'Feuille de match'!$K$5=\"CADETS\",'Feuille de match'!$K$5=\"MINIMESBENJAMINSPOUSSINS\",'Feuille de match'!$K$5=\"MIXTESD1FINALE\",'Feuille de match'!$K$5=\"VETERANSD1FINALE\",'Feuille de match'!$K$5=\"VETERANSD2FINALE\",'Feuille de match'!$K$5=\"JUNIORSFINALE\",'Feuille de match'!$K$5=\"CADETSFINALE\",'Feuille de match'!$K$5=\"MINIMESBENJAMINSPOUSSINSFINALE\"),'Feuille de match'!$R$21,0))","v":0},{"$f":"IF(LEN($AE$30)=2,\"00\"&$AE$30,IF(LEN($AE$30)=3,\"0\"&$AE$30,$AE$30))","v":0},{"$f":"IFERROR(LEFT($AF$30,2),0)","v":"0"},{"$f":"IFERROR(RIGHT($AF$30,2),0)","v":"0"},{"$f":"IF(OR('Feuille de match'!$K$5=\"EXCELLENCE\",'Feuille de match'!$K$5=\"HONNEUR\",'Feuille de match'!$K$5=\"PROMOTIONNORD\",'Feuille de match'!$K$5=\"ADULTESDIVISION1NORD\",'Feuille de match'!$K$5=\"PROMOTIONSTRASBOURG\",'Feuille de match'!$K$5=\"PROMOTIONFINALE\"),'Feuille de match'!$R$22,IF(OR('Feuille de match'!$K$5=\"MIXTESD1NORD\",'Feuille de match'!$K$5=\"MIXTESD1STRASBOURG\",'Feuille de match'!$K$5=\"VETERANSD1STRASBOURG\",'Feuille de match'!$K$5=\"VETERANSD2STRASBOURG\",'Feuille de match'!$K$5=\"VETERANSD1NORD\",'Feuille de match'!$K$5=\"VETERANSD2NORD\",'Feuille de match'!$K$5=\"JUNIORS\",'Feuille de match'!$K$5=\"CADETS\",'Feuille de match'!$K$5=\"MINIMESBENJAMINSPOUSSINS\",'Feuille de match'!$K$5=\"MIXTESD1FINALE\",'Feuille de match'!$K$5=\"VETERANSD1FINALE\",'Feuille de match'!$K$5=\"VETERANSD2FINALE\",'Feuille de match'!$K$5=\"JUNIORSFINALE\",'Feuille de match'!$K$5=\"CADETSFINALE\",'Feuille de match'!$K$5=\"MINIMESBENJAMINSPOUSSINSFINALE\"),\"0\",0))","v":0},{"$f":"IF(LEN($AI$30)=2,\"00\"&$AI$30,IF(LEN($AI$30)=3,\"0\"&$AI$30,$AI$30))","v":0},{"$f":"IFERROR(LEFT($AJ$30,2),0)","v":"0"},{"$f":"IFERROR(RIGHT($AJ$30,2),0)","v":"0"},null,null,null,null,{"$f":"IF(OR('Feuille de match'!$K$5=\"EXCELLENCE\",'Feuille de match'!$K$5=\"HONNEUR\",'Feuille de match'!$K$5=\"PROMOTIONNORD\",'Feuille de match'!$K$5=\"ADULTESDIVISION1NORD\",'Feuille de match'!$K$5=\"PROMOTIONSTRASBOURG\",'Feuille de match'!$K$5=\"PROMOTIONFINALE\"),'Feuille de match'!$R$20,IF(OR('Feuille de match'!$K$5=\"MIXTESD1NORD\",'Feuille de match'!$K$5=\"MIXTESD1STRASBOURG\",'Feuille de match'!$K$5=\"VETERANSD1STRASBOURG\",'Feuille de match'!$K$5=\"VETERANSD2STRASBOURG\",'Feuille de match'!$K$5=\"VETERANSD1NORD\",'Feuille de match'!$K$5=\"VETERANSD2NORD\",'Feuille de match'!$K$5=\"JUNIORS\",'Feuille de match'!$K$5=\"CADETS\",'Feuille de match'!$K$5=\"MINIMESBENJAMINSPOUSSINS\",'Feuille de match'!$K$5=\"MIXTESD1FINALE\",'Feuille de match'!$K$5=\"VETERANSD1FINALE\",'Feuille de match'!$K$5=\"VETERANSD2FINALE\",'Feuille de match'!$K$5=\"JUNIORSFINALE\",'Feuille de match'!$K$5=\"CADETSFINALE\",'Feuille de match'!$K$5=\"MINIMESBENJAMINSPOUSSINSFINALE\"),'Feuille de match'!$R$21,0))","v":0},{"$f":"IF(LEN($AQ$30)=2,\"00\"&$AQ$30,IF(LEN($AQ$30)=3,\"0\"&$AQ$30,$AQ$30))","v":0},{"$f":"IFERROR(RIGHT($AR$30,2),0)","v":"0"},{"$f":"IFERROR(LEFT($AR$30,2),0)","v":"0"},{"$f":"IF(OR('Feuille de match'!$K$5=\"EXCELLENCE\",'Feuille de match'!$K$5=\"HONNEUR\",'Feuille de match'!$K$5=\"PROMOTIONNORD\",'Feuille de match'!$K$5=\"ADULTESDIVISION1NORD\",'Feuille de match'!$K$5=\"PROMOTIONSTRASBOURG\",'Feuille de match'!$K$5=\"PROMOTIONFINALE\"),'Feuille de match'!$R$22,IF(OR('Feuille de match'!$K$5=\"MIXTESD1NORD\",'Feuille de match'!$K$5=\"MIXTESD1STRASBOURG\",'Feuille de match'!$K$5=\"VETERANSD1STRASBOURG\",'Feuille de match'!$K$5=\"VETERANSD2STRASBOURG\",'Feuille de match'!$K$5=\"VETERANSD1NORD\",'Feuille de match'!$K$5=\"VETERANSD2NORD\",'Feuille de match'!$K$5=\"JUNIORS\",'Feuille de match'!$K$5=\"CADETS\",'Feuille de match'!$K$5=\"MINIMESBENJAMINSPOUSSINS\",'Feuille de match'!$K$5=\"MIXTESD1FINALE\",'Feuille de match'!$K$5=\"VETERANSD1FINALE\",'Feuille de match'!$K$5=\"VETERANSD2FINALE\",'Feuille de match'!$K$5=\"JUNIORSFINALE\",'Feuille de match'!$K$5=\"CADETSFINALE\",'Feuille de match'!$K$5=\"MINIMESBENJAMINSPOUSSINSFINALE\"),'Feuille de match'!$R$20,0))","v":0},{"$f":"IF(LEN($AU$30)=2,\"00\"&$AU$30,IF(LEN($AU$30)=3,\"0\"&$AU$30,$AU$30))","v":0},{"$f":"IFERROR(RIGHT($AV$30,2),0)","v":"0"},{"$f":"IFERROR(LEFT($AV$30,2),0)","v":"0"},{"$f":"IF(OR('Feuille de match'!$K$5=\"EXCELLENCE\",'Feuille de match'!$K$5=\"HONNEUR\",'Feuille de match'!$K$5=\"PROMOTIONNORD\",'Feuille de match'!$K$5=\"ADULTESDIVISION1NORD\",'Feuille de match'!$K$5=\"PROMOTIONSTRASBOURG\",'Feuille de match'!$K$5=\"PROMOTIONFINALE\"),'Feuille de match'!$R$21,IF(OR('Feuille de match'!$K$5=\"MIXTESD1NORD\",'Feuille de match'!$K$5=\"MIXTESD1STRASBOURG\",'Feuille de match'!$K$5=\"VETERANSD1STRASBOURG\",'Feuille de match'!$K$5=\"VETERANSD2STRASBOURG\",'Feuille de match'!$K$5=\"VETERANSD1NORD\",'Feuille de match'!$K$5=\"VETERANSD2NORD\",'Feuille de match'!$K$5=\"JUNIORS\",'Feuille de match'!$K$5=\"CADETS\",'Feuille de match'!$K$5=\"MINIMESBENJAMINSPOUSSINS\",'Feuille de match'!$K$5=\"MIXTESD1FINALE\",'Feuille de match'!$K$5=\"VETERANSD1FINALE\",'Feuille de match'!$K$5=\"VETERANSD2FINALE\",'Feuille de match'!$K$5=\"JUNIORSFINALE\",'Feuille de match'!$K$5=\"CADETSFINALE\",'Feuille de match'!$K$5=\"MINIMESBENJAMINSPOUSSINSFINALE\"),\"0\",0))","v":0},{"$f":"IF(LEN($AY$30)=2,\"00\"&$AY$30,IF(LEN($AY$30)=3,\"0\"&$AY$30,$AY$30))","v":0},{"$f":"IFERROR(RIGHT($AZ$30,2),0)","v":"0"},{"$f":"IFERROR(LEFT($AZ$30,2),0)","v":"0"},null,null,null,null,null,null,null,null,null,null,null,null,null,null,null,null,null,null,null,null,null,null,null,null,null,null,null,null,null,null,null,null,null,null,null,null,null,null,null,null,null,null,null,null,"PROMOTIONNORD",{"$f":"$J$10","v":0},"Vendredi","20H30","W,X,",{"$f":"G14","v":"CADETS"},1100,1100,1100,null,null,null,null,null,null,null,null,null,null,null,null,null,null,null,null,null,null,null,null,null,null,"PROMOTIONNORD0","PROMOTIONNORD",{"$f":"$J$10","v":0},"Vendredi","20H30"]
[null,null,29,null,null,null,"VETERANSD2FINALE",null,"Hanau TT 1","CLTT Menchhoffen 2","Hanau TT 3","Amitié Lingolsheim 2",null,null,null,null,null,null,null,null,null,null,null,null,null,null,"Manche 7",null,null,null,"Manche 7",null,null,null,"Manche 7",null,null,null,null,null,null,null,"Manche 7",null,null,null,"Manche 7",null,null,null,"Manche 7",null,null,null,null,null,null,null,null,null,null,null,null,null,null,null,null,null,null,null,null,null,null,null,null,null,null,null,null,null,null,null,null,null,null,null,null,null,null,null,null,null,null,null,null,null,null,null,{"$f":"$G$12","v":"ADULTESDIVISION1NORD"},{"$f":"$L$3","v":"MJC Kirrwiller 3"},"Mardi","20H00","W,X,","MINIMESBENJAMINSPOUSSINS",1100,1100,1100,null,null,null,null,null,null,null,null,null,null,null,null,null,null,null,null,null,null,null,null,null,null,"ADULTESDIVISION1NORDMJC Kirrwiller 3",{"$f":"$G$12","v":"ADULTESDIVISION1NORD"},{"$f":"$L$3","v":"MJC Kirrwiller 3"},"Mardi","20H00"]
[null,null,30,null,null,null,"JUNIORSFINALE",null,"CLTT Menchhoffen 1","CLTT Menchhoffen 3","CLTT Menchhoffen 2","Amitié Lingolsheim 3",null,null,null,null,null,null,null,null,null,null,null,null,null,null,{"$f":"IF(OR('Feuille de match'!$K$5=\"EXCELLENCE\",'Feuille de match'!$K$5=\"HONNEUR\",'Feuille de match'!$K$5=\"PROMOTIONNORD\",'Feuille de match'!$K$5=\"ADULTESDIVISION1NORD\",'Feuille de match'!$K$5=\"PROMOTIONSTRASBOURG\",'Feuille de match'!$K$5=\"PROMOTIONFINALE\"),'Feuille de match'!$S$21,IF(OR('Feuille de match'!$K$5=\"MIXTESD1NORD\",'Feuille de match'!$K$5=\"MIXTESD1STRASBOURG\",'Feuille de match'!$K$5=\"VETERANSD1STRASBOURG\",'Feuille de match'!$K$5=\"VETERANSD2STRASBOURG\",'Feuille de match'!$K$5=\"VETERANSD1NORD\",'Feuille de match'!$K$5=\"VETERANSD2NORD\",'Feuille de match'!$K$5=\"JUNIORS\",'Feuille de match'!$K$5=\"CADETS\",'Feuille de match'!$K$5=\"MINIMESBENJAMINSPOUSSINS\",'Feuille de match'!$K$5=\"MIXTESD1FINALE\",'Feuille de match'!$K$5=\"VETERANSD1FINALE\",'Feuille de match'!$K$5=\"VETERANSD2FINALE\",'Feuille de match'!$K$5=\"JUNIORSFINALE\",'Feuille de match'!$K$5=\"CADETSFINALE\",'Feuille de match'!$K$5=\"MINIMESBENJAMINSPOUSSINSFINALE\"),'Feuille de match'!$S$20,0))","v":0},{"$f":"IF(LEN($AA$32)=2,\"00\"&$AA$32,IF(LEN($AA$32)=3,\"0\"&$AA$32,$AA$32))","v":0},{"$f":"IFERROR(LEFT($AB$32,2),0)","v":"0"},{"$f":"IFERROR(RIGHT($AB$32,2),0)","v":"0"},{"$f":"IF(OR('Feuille de match'!$K$5=\"EXCELLENCE\",'Feuille de match'!$K$5=\"HONNEUR\",'Feuille de match'!$K$5=\"PROMOTIONNORD\",'Feuille de match'!$K$5=\"ADULTESDIVISION1NORD\",'Feuille de match'!$K$5=\"PROMOTIONSTRASBOURG\",'Feuille de match'!$K$5=\"PROMOTIONFINALE\"),'Feuille de match'!$S$20,IF(OR('Feuille de match'!$K$5=\"MIXTESD1NORD\",'Feuille de match'!$K$5=\"MIXTESD1STRASBOURG\",'Feuille de match'!$K$5=\"VETERANSD1STRASBOURG\",'Feuille de match'!$K$5=\"VETERANSD2STRASBOURG\",'Feuille de match'!$K$5=\"VETERANSD1NORD\",'Feuille de match'!$K$5=\"VETERANSD2NORD\",'Feuille de match'!$K$5=\"JUNIORS\",'Feuille de match'!$K$5=\"CADETS\",'Feuille de match'!$K$5=\"MINIMESBENJAMINSPOUSSINS\",'Feuille de match'!$K$5=\"MIXTESD1FINALE\",'Feuille de match'!$K$5=\"VETERANSD1FINALE\",'Feuille de match'!$K$5=\"VETERANSD2FINALE\",'Feuille de match'!$K$5=\"JUNIORSFINALE\",'Feuille de match'!$K$5=\"CADETSFINALE\",'Feuille de match'!$K$5=\"MINIMESBENJAMINSPOUSSINSFINALE\"),'Feuille de match'!$S$21,0))","v":0},{"$f":"IF(LEN($AE$32)=2,\"00\"&$AE$32,IF(LEN($AE$32)=3,\"0\"&$AE$32,$AE$32))","v":0},{"$f":"IFERROR(LEFT($AF$32,2),0)","v":"0"},{"$f":"IFERROR(RIGHT($AF$32,2),0)","v":"0"},{"$f":"IF(OR('Feuille de match'!$K$5=\"EXCELLENCE\",'Feuille de match'!$K$5=\"HONNEUR\",'Feuille de match'!$K$5=\"PROMOTIONNORD\",'Feuille de match'!$K$5=\"ADULTESDIVISION1NORD\",'Feuille de match'!$K$5=\"PROMOTIONSTRASBOURG\",'Feuille de match'!$K$5=\"PROMOTIONFINALE\"),'Feuille de match'!$S$22,IF(OR('Feuille de match'!$K$5=\"MIXTESD1NORD\",'Feuille de match'!$K$5=\"MIXTESD1STRASBOURG\",'Feuille de match'!$K$5=\"VETERANSD1STRASBOURG\",'Feuille de match'!$K$5=\"VETERANSD2STRASBOURG\",'Feuille de match'!$K$5=\"VETERANSD1NORD\",'Feuille de match'!$K$5=\"VETERANSD2NORD\",'Feuille de match'!$K$5=\"JUNIORS\",'Feuille de match'!$K$5=\"CADETS\",'Feuille de match'!$K$5=\"MINIMESBENJAMINSPOUSSINS\",'Feuille de match'!$K$5=\"MIXTESD1FINALE\",'Feuille de match'!$K$5=\"VETERANSD1FINALE\",'Feuille de match'!$K$5=\"VETERANSD2FINALE\",'Feuille de match'!$K$5=\"JUNIORSFINALE\",'Feuille de match'!$K$5=\"CADETSFINALE\",'Feuille de match'!$K$5=\"MINIMESBENJAMINSPOUSSINSFINALE\"),\"0\",0))","v":0},{"$f":"IF(LEN($AI$32)=2,\"00\"&$AI$32,IF(LEN($AI$32)=3,\"0\"&$AI$32,$AI$32))","v":0},{"$f":"IFERROR(LEFT($AJ$32,2),0)","v":"0"},{"$f":"IFERROR(RIGHT($AJ$32,2),0)","v":"0"},null,null,null,null,{"$f":"IF(OR('Feuille de match'!$K$5=\"EXCELLENCE\",'Feuille de match'!$K$5=\"HONNEUR\",'Feuille de match'!$K$5=\"PROMOTIONNORD\",'Feuille de match'!$K$5=\"ADULTESDIVISION1NORD\",'Feuille de match'!$K$5=\"PROMOTIONSTRASBOURG\",'Feuille de match'!$K$5=\"PROMOTIONFINALE\"),'Feuille de match'!$S$20,IF(OR('Feuille de match'!$K$5=\"MIXTESD1NORD\",'Feuille de match'!$K$5=\"MIXTESD1STRASBOURG\",'Feuille de match'!$K$5=\"VETERANSD1STRASBOURG\",'Feuille de match'!$K$5=\"VETERANSD2STRASBOURG\",'Feuille de match'!$K$5=\"VETERANSD1NORD\",'Feuille de match'!$K$5=\"VETERANSD2NORD\",'Feuille de match'!$K$5=\"JUNIORS\",'Feuille de match'!$K$5=\"CADETS\",'Feuille de match'!$K$5=\"MINIMESBENJAMINSPOUSSINS\",'Feuille de match'!$K$5=\"MIXTESD1FINALE\",'Feuille de match'!$K$5=\"VETERANSD1FINALE\",'Feuille de match'!$K$5=\"VETERANSD2FINALE\",'Feuille de match'!$K$5=\"JUNIORSFINALE\",'Feuille de match'!$K$5=\"CADETSFINALE\",'Feuille de match'!$K$5=\"MINIMESBENJAMINSPOUSSINSFINALE\"),'Feuille de match'!$S$21,0))","v":0},{"$f":"IF(LEN($AQ$32)=2,\"00\"&$AQ$32,IF(LEN($AQ$32)=3,\"0\"&$AQ$32,$AQ$32))","v":0},{"$f":"IFERROR(RIGHT($AR$32,2),0)","v":"0"},{"$f":"IFERROR(LEFT($AR$32,2),0)","v":"0"},{"$f":"IF(OR('Feuille de match'!$K$5=\"EXCELLENCE\",'Feuille de match'!$K$5=\"HONNEUR\",'Feuille de match'!$K$5=\"PROMOTIONNORD\",'Feuille de match'!$K$5=\"ADULTESDIVISION1NORD\",'Feuille de match'!$K$5=\"PROMOTIONSTRASBOURG\",'Feuille de match'!$K$5=\"PROMOTIONFINALE\"),'Feuille de match'!$S$22,IF(OR('Feuille de match'!$K$5=\"MIXTESD1NORD\",'Feuille de match'!$K$5=\"MIXTESD1STRASBOURG\",'Feuille de match'!$K$5=\"VETERANSD1STRASBOURG\",'Feuille de match'!$K$5=\"VETERANSD2STRASBOURG\",'Feuille de match'!$K$5=\"VETERANSD1NORD\",'Feuille de match'!$K$5=\"VETERANSD2NORD\",'Feuille de match'!$K$5=\"JUNIORS\",'Feuille de match'!$K$5=\"CADETS\",'Feuille de match'!$K$5=\"MINIMESBENJAMINSPOUSSINS\",'Feuille de match'!$K$5=\"MIXTESD1FINALE\",'Feuille de match'!$K$5=\"VETERANSD1FINALE\",'Feuille de match'!$K$5=\"VETERANSD2FINALE\",'Feuille de match'!$K$5=\"JUNIORSFINALE\",'Feuille de match'!$K$5=\"CADETSFINALE\",'Feuille de match'!$K$5=\"MINIMESBENJAMINSPOUSSINSFINALE\"),'Feuille de match'!$S$20,0))","v":0},{"$f":"IF(LEN($AU$32)=2,\"00\"&$AU$32,IF(LEN($AU$32)=3,\"0\"&$AU$32,$AU$32))","v":0},{"$f":"IFERROR(RIGHT($AV$32,2),0)","v":"0"},{"$f":"IFERROR(LEFT($AV$32,2),0)","v":"0"},{"$f":"IF(OR('Feuille de match'!$K$5=\"EXCELLENCE\",'Feuille de match'!$K$5=\"HONNEUR\",'Feuille de match'!$K$5=\"PROMOTIONNORD\",'Feuille de match'!$K$5=\"ADULTESDIVISION1NORD\",'Feuille de match'!$K$5=\"PROMOTIONSTRASBOURG\",'Feuille de match'!$K$5=\"PROMOTIONFINALE\"),'Feuille de match'!$S$21,IF(OR('Feuille de match'!$K$5=\"MIXTESD1NORD\",'Feuille de match'!$K$5=\"MIXTESD1STRASBOURG\",'Feuille de match'!$K$5=\"VETERANSD1STRASBOURG\",'Feuille de match'!$K$5=\"VETERANSD2STRASBOURG\",'Feuille de match'!$K$5=\"VETERANSD1NORD\",'Feuille de match'!$K$5=\"VETERANSD2NORD\",'Feuille de match'!$K$5=\"JUNIORS\",'Feuille de match'!$K$5=\"CADETS\",'Feuille de match'!$K$5=\"MINIMESBENJAMINSPOUSSINS\",'Feuille de match'!$K$5=\"MIXTESD1FINALE\",'Feuille de match'!$K$5=\"VETERANSD1FINALE\",'Feuille de match'!$K$5=\"VETERANSD2FINALE\",'Feuille de match'!$K$5=\"JUNIORSFINALE\",'Feuille de match'!$K$5=\"CADETSFINALE\",'Feuille de match'!$K$5=\"MINIMESBENJAMINSPOUSSINSFINALE\"),\"0\",0))","v":0},{"$f":"IF(LEN($AY$32)=2,\"00\"&$AY$32,IF(LEN($AY$32)=3,\"0\"&$AY$32,$AY$32))","v":0},{"$f":"IFERROR(RIGHT($AZ$32,2),0)","v":"0"},{"$f":"IFERROR(LEFT($AZ$32,2),0)","v":"0"},null,null,null,null,null,null,null,null,null,null,null,null,null,null,null,null,null,null,null,null,null,null,null,null,null,null,null,null,null,null,null,null,null,null,null,null,null,null,null,null,null,null,null,null,{"$f":"$G$12","v":"ADULTESDIVISION1NORD"},{"$f":"$L$4","v":"Liberté Dettwiller 2"},"Mercredi","20H00","A,B,C",{"$f":"G28","v":"PROMOTIONFINALE"},11,11,11,null,null,null,null,null,null,null,null,null,null,null,null,null,null,null,null,null,null,null,null,null,null,"ADULTESDIVISION1NORDLiberté Dettwiller 2",{"$f":"$G$12","v":"ADULTESDIVISION1NORD"},{"$f":"$L$4","v":"Liberté Dettwiller 2"},"Mercredi","20H00"]
[null,null,31,null,null,null,"CADETSFINALE",null,"CS Tricolore Saverne 1","CS Tricolore Saverne 2","CS Tricolore Saverne 2","AS Electricité Strasbourg 1",null,null,null,null,null,null,null,null,null,null,null,null,null,null,"DECONCATENER SCORES JOUEUR A",null,null,null,"DECONCATENER SCORES JOUEUR B",null,null,null,"DECONCATENER SCORES JOUEUR C",null,null,null,null,null,null,null,"DECONCATENER SCORES JOUEUR W",null,null,null,"DECONCATENER SCORES JOUEUR X",null,null,null,"DECONCATENER SCORES JOUEUR Y",null,null,null,null,null,null,null,null,null,null,null,null,null,null,null,null,null,null,null,null,null,null,null,null,null,null,null,null,null,null,null,null,null,null,null,null,null,null,null,null,null,null,null,null,null,null,null,"ADULTESDIVISION1NORD",{"$f":"$L$5","v":"CLTT Menchhoffen 4"},"Vendredi","20H00","A,B",{"$f":"G29","v":"MIXTESD1FINALE"},11,11,11,null,null,null,null,null,null,null,null,null,null,null,null,null,null,null,null,null,null,null,null,null,null,"ADULTESDIVISION1NORDCLTT Menchhoffen 4","ADULTESDIVISION1NORD",{"$f":"$L$5","v":"CLTT Menchhoffen 4"},"Vendredi","20H00"]
[null,null,null,null,null,null,"MINIMESBENJAMINSPOUSSINSFINALE",null,"CTT 77 Val de Moder 1","CS Tricolore Saverne 3","CTT 77 Val de Moder 2","CLTT Menchhoffen 1",null,null,null,null,null,null,null,null,null,null,null,null,null,null,"MATCH 3","0&","points gagnés","points perdus","MATCH 3","0&","points gagnés","points perdus","MATCH 3","0&","points gagnés","points perdus",null,null,null,null,"MATCH 3","0&","points gagnés","points perdus","MATCH 3","0&","points gagnés","points perdus","MATCH 3","0&","points gagnés","points perdus",null,null,null,null,null,null,null,null,null,null,null,null,null,null,null,null,null,null,null,null,null,null,null,null,null,null,null,null,null,null,null,null,null,null,null,null,null,null,null,null,null,null,null,null,"ADULTESDIVISION1NORD",{"$f":"$L$6","v":"CLTT Menchhoffen 3"},"Jeudi","20H00","A,B","VETERANSD1FINALE",11,11,11,null,null,null,null,null,null,null,null,null,null,null,null,null,null,null,null,null,null,null,null,null,null,"ADULTESDIVISION1NORDCLTT Menchhoffen 3","ADULTESDIVISION1NORD",{"$f":"$L$6","v":"CLTT Menchhoffen 3"},"Jeudi","20H00"]
[null,null,null,null,null,null,null,null,"CTT 77 Val de Moder 2","CTT 77 Val de Moder 3","US Egalitaire Neudorf 2","CLTT Menchhoffen 2",null,null,null,null,null,null,null,null,null,null,null,null,null,null,"Manche 1",null,null,null,"Manche 1",null,null,null,"Manche 1",null,null,null,null,null,null,null,"Manche 1",null,null,null,"Manche 1",null,null,null,"Manche 1",null,null,null,null,null,null,null,null,null,null,null,null,null,null,null,null,null,null,null,null,null,null,null,null,null,null,null,null,null,null,null,null,null,null,null,null,null,null,null,null,null,null,null,null,null,null,null,"ADULTESDIVISION1NORD",{"$f":"$L$7","v":"CS Tricolore Saverne 3"},"Vendredi","20H00","A,B","VETERANSD2FINALE",11,11,11,null,null,null,null,null,null,null,null,null,null,null,null,null,null,null,null,null,null,null,null,null,null,"ADULTESDIVISION1NORDCS Tricolore Saverne 3","ADULTESDIVISION1NORD",{"$f":"$L$7","v":"CS Tricolore Saverne 3"},"Vendredi","20H00"]
[null,null,null,null,null,null,null,null,"ASP Gottenhouse 1","Liberté Dettwiller 2","US Egalitaire Neudorf 3",null,null,null,null,null,null,null,null,null,null,null,null,null,null,null,{"$f":"IF(OR('Feuille de match'!$K$5=\"EXCELLENCE\",'Feuille de match'!$K$5=\"HONNEUR\",'Feuille de match'!$K$5=\"PROMOTIONNORD\",'Feuille de match'!$K$5=\"ADULTESDIVISION1NORD\",'Feuille de match'!$K$5=\"PROMOTIONSTRASBOURG\",'Feuille de match'!$K$5=\"PROMOTIONFINALE\"),'Feuille de match'!$M$26,IF(OR('Feuille de match'!$K$5=\"MIXTESD1NORD\",'Feuille de match'!$K$5=\"MIXTESD1STRASBOURG\",'Feuille de match'!$K$5=\"VETERANSD1STRASBOURG\",'Feuille de match'!$K$5=\"VETERANSD2STRASBOURG\",'Feuille de match'!$K$5=\"VETERANSD1NORD\",'Feuille de match'!$K$5=\"VETERANSD2NORD\",'Feuille de match'!$K$5=\"JUNIORS\",'Feuille de match'!$K$5=\"CADETS\",'Feuille de match'!$K$5=\"MINIMESBENJAMINSPOUSSINS\",'Feuille de match'!$K$5=\"MIXTESD1FINALE\",'Feuille de match'!$K$5=\"VETERANSD1FINALE\",'Feuille de match'!$K$5=\"VETERANSD2FINALE\",'Feuille de match'!$K$5=\"JUNIORSFINALE\",'Feuille de match'!$K$5=\"CADETSFINALE\",'Feuille de match'!$K$5=\"MINIMESBENJAMINSPOUSSINSFINALE\"),\"0\",0))","v":0},{"$f":"IF(LEN($AA$36)=2,\"00\"&$AA$36,IF(LEN($AA$36)=3,\"0\"&$AA$36,$AA$36))","v":0},{"$f":"IFERROR(LEFT($AB$36,2),0)","v":"0"},{"$f":"IFERROR(RIGHT($AB$36,2),0)","v":"0"},{"$f":"IF(OR('Feuille de match'!$K$5=\"EXCELLENCE\",'Feuille de match'!$K$5=\"HONNEUR\",'Feuille de match'!$K$5=\"PROMOTIONNORD\",'Feuille de match'!$K$5=\"ADULTESDIVISION1NORD\",'Feuille de match'!$K$5=\"PROMOTIONSTRASBOURG\",'Feuille de match'!$K$5=\"PROMOTIONFINALE\"),'Feuille de match'!$M$24,IF(OR('Feuille de match'!$K$5=\"MIXTESD1NORD\",'Feuille de match'!$K$5=\"MIXTESD1STRASBOURG\",'Feuille de match'!$K$5=\"VETERANSD1STRASBOURG\",'Feuille de match'!$K$5=\"VETERANSD2STRASBOURG\",'Feuille de match'!$K$5=\"VETERANSD1NORD\",'Feuille de match'!$K$5=\"VETERANSD2NORD\",'Feuille de match'!$K$5=\"JUNIORS\",'Feuille de match'!$K$5=\"CADETS\",'Feuille de match'!$K$5=\"MINIMESBENJAMINSPOUSSINS\",'Feuille de match'!$K$5=\"MIXTESD1FINALE\",'Feuille de match'!$K$5=\"VETERANSD1FINALE\",'Feuille de match'!$K$5=\"VETERANSD2FINALE\",'Feuille de match'!$K$5=\"JUNIORSFINALE\",'Feuille de match'!$K$5=\"CADETSFINALE\",'Feuille de match'!$K$5=\"MINIMESBENJAMINSPOUSSINSFINALE\"),\"0\",0))","v":0},{"$f":"IF(LEN($AE$36)=2,\"00\"&$AE$36,IF(LEN($AE$36)=3,\"0\"&$AE$36,$AE$36))","v":0},{"$f":"IFERROR(LEFT($AF$36,2),0)","v":"0"},{"$f":"IFERROR(RIGHT($AF$36,2),0)","v":"0"},{"$f":"IF(OR('Feuille de match'!$K$5=\"EXCELLENCE\",'Feuille de match'!$K$5=\"HONNEUR\",'Feuille de match'!$K$5=\"PROMOTIONNORD\",'Feuille de match'!$K$5=\"ADULTESDIVISION1NORD\",'Feuille de match'!$K$5=\"PROMOTIONSTRASBOURG\",'Feuille de match'!$K$5=\"PROMOTIONFINALE\"),'Feuille de match'!$M$25,IF(OR('Feuille de match'!$K$5=\"MIXTESD1NORD\",'Feuille de match'!$K$5=\"MIXTESD1STRASBOURG\",'Feuille de match'!$K$5=\"VETERANSD1STRASBOURG\",'Feuille de match'!$K$5=\"VETERANSD2STRASBOURG\",'Feuille de match'!$K$5=\"VETERANSD1NORD\",'Feuille de match'!$K$5=\"VETERANSD2NORD\",'Feuille de match'!$K$5=\"JUNIORS\",'Feuille de match'!$K$5=\"CADETS\",'Feuille de match'!$K$5=\"MINIMESBENJAMINSPOUSSINS\",'Feuille de match'!$K$5=\"MIXTESD1FINALE\",'Feuille de match'!$K$5=\"VETERANSD1FINALE\",'Feuille de match'!$K$5=\"VETERANSD2FINALE\",'Feuille de match'!$K$5=\"JUNIORSFINALE\",'Feuille de match'!$K$5=\"CADETSFINALE\",'Feuille de match'!$K$5=\"MINIMESBENJAMINSPOUSSINSFINALE\"),\"0\",0))","v":0},{"$f":"IF(LEN($AI$36)=2,\"00\"&$AI$36,IF(LEN($AI$36)=3,\"0\"&$AI$36,$AI$36))","v":0},{"$f":"IFERROR(LEFT($AJ$36,2),0)","v":"0"},{"$f":"IFERROR(RIGHT($AJ$36,2),0)","v":"0"},null,null,null,null,{"$f":"IF(OR('Feuille de match'!$K$5=\"EXCELLENCE\",'Feuille de match'!$K$5=\"HONNEUR\",'Feuille de match'!$K$5=\"PROMOTIONNORD\",'Feuille de match'!$K$5=\"ADULTESDIVISION1NORD\",'Feuille de match'!$K$5=\"PROMOTIONSTRASBOURG\",'Feuille de match'!$K$5=\"PROMOTIONFINALE\"),'Feuille de match'!$M$25,IF(OR('Feuille de match'!$K$5=\"MIXTESD1NORD\",'Feuille de match'!$K$5=\"MIXTESD1STRASBOURG\",'Feuille de match'!$K$5=\"VETERANSD1STRASBOURG\",'Feuille de match'!$K$5=\"VETERANSD2STRASBOURG\",'Feuille de match'!$K$5=\"VETERANSD1NORD\",'Feuille de match'!$K$5=\"VETERANSD2NORD\",'Feuille de match'!$K$5=\"JUNIORS\",'Feuille de match'!$K$5=\"CADETS\",'Feuille de match'!$K$5=\"MINIMESBENJAMINSPOUSSINS\",'Feuille de match'!$K$5=\"MIXTESD1FINALE\",'Feuille de match'!$K$5=\"VETERANSD1FINALE\",'Feuille de match'!$K$5=\"VETERANSD2FINALE\",'Feuille de match'!$K$5=\"JUNIORSFINALE\",'Feuille de match'!$K$5=\"CADETSFINALE\",'Feuille de match'!$K$5=\"MINIMESBENJAMINSPOUSSINSFINALE\"),\"0\",0))","v":0},{"$f":"IF(LEN($AQ$36)=2,\"00\"&$AQ$36,IF(LEN($AQ$36)=3,\"0\"&$AQ$36,$AQ$36))","v":0},{"$f":"IFERROR(RIGHT($AR$36,2),0)","v":"0"},{"$f":"IFERROR(LEFT($AR$36,2),0)","v":"0"},{"$f":"IF(OR('Feuille de match'!$K$5=\"EXCELLENCE\",'Feuille de match'!$K$5=\"HONNEUR\",'Feuille de match'!$K$5=\"PROMOTIONNORD\",'Feuille de match'!$K$5=\"ADULTESDIVISION1NORD\",'Feuille de match'!$K$5=\"PROMOTIONSTRASBOURG\",'Feuille de match'!$K$5=\"PROMOTIONFINALE\"),'Feuille de match'!$M$26,IF(OR('Feuille de match'!$K$5=\"MIXTESD1NORD\",'Feuille de match'!$K$5=\"MIXTESD1STRASBOURG\",'Feuille de match'!$K$5=\"VETERANSD1STRASBOURG\",'Feuille de match'!$K$5=\"VETERANSD2STRASBOURG\",'Feuille de match'!$K$5=\"VETERANSD1NORD\",'Feuille de match'!$K$5=\"VETERANSD2NORD\",'Feuille de match'!$K$5=\"JUNIORS\",'Feuille de match'!$K$5=\"CADETS\",'Feuille de match'!$K$5=\"MINIMESBENJAMINSPOUSSINS\",'Feuille de match'!$K$5=\"MIXTESD1FINALE\",'Feuille de match'!$K$5=\"VETERANSD1FINALE\",'Feuille de match'!$K$5=\"VETERANSD2FINALE\",'Feuille de match'!$K$5=\"JUNIORSFINALE\",'Feuille de match'!$K$5=\"CADETSFINALE\",'Feuille de match'!$K$5=\"MINIMESBENJAMINSPOUSSINSFINALE\"),\"0\",0))","v":0},{"$f":"IF(LEN($AU$36)=2,\"00\"&$AU$36,IF(LEN($AU$36)=3,\"0\"&$AU$36,$AU$36))","v":0},{"$f":"IFERROR(RIGHT($AV$36,2),0)","v":"0"},{"$f":"IFERROR(LEFT($AV$36,2),0)","v":"0"},{"$f":"IF(OR('Feuille de match'!$K$5=\"EXCELLENCE\",'Feuille de match'!$K$5=\"HONNEUR\",'Feuille de match'!$K$5=\"PROMOTIONNORD\",'Feuille de match'!$K$5=\"ADULTESDIVISION1NORD\",'Feuille de match'!$K$5=\"PROMOTIONSTRASBOURG\",'Feuille de match'!$K$5=\"PROMOTIONFINALE\"),'Feuille de match'!$M$24,IF(OR('Feuille de match'!$K$5=\"MIXTESD1NORD\",'Feuille de match'!$K$5=\"MIXTESD1STRASBOURG\",'Feuille de match'!$K$5=\"VETERANSD1STRASBOURG\",'Feuille de match'!$K$5=\"VETERANSD2STRASBOURG\",'Feuille de match'!$K$5=\"VETERANSD1NORD\",'Feuille de match'!$K$5=\"VETERANSD2NORD\",'Feuille de match'!$K$5=\"JUNIORS\",'Feuille de match'!$K$5=\"CADETS\",'Feuille de match'!$K$5=\"MINIMESBENJAMINSPOUSSINS\",'Feuille de match'!$K$5=\"MIXTESD1FINALE\",'Feuille de match'!$K$5=\"VETERANSD1FINALE\",'Feuille de match'!$K$5=\"VETERANSD2FINALE\",'Feuille de match'!$K$5=\"JUNIORSFINALE\",'Feuille de match'!$K$5=\"CADETSFINALE\",'Feuille de match'!$K$5=\"MINIMESBENJAMINSPOUSSINSFINALE\"),\"0\",0))","v":0},{"$f":"IF(LEN($AY$36)=2,\"00\"&$AY$36,IF(LEN($AY$36)=3,\"0\"&$AY$36,$AY$36))","v":0},{"$f":"IFERROR(RIGHT($AZ$36,2),0)","v":"0"},{"$f":"IFERROR(LEFT($AZ$36,2),0)","v":"0"},null,null,null,null,null,null,null,null,null,null,null,null,null,null,null,null,null,null,null,null,null,null,null,null,null,null,null,null,null,null,null,null,null,null,null,null,null,null,null,null,null,null,null,null,"ADULTESDIVISION1NORD",{"$f":"$L$8","v":"CTT 77 Val de Moder 3"},"Jeudi","19H30","A,B","JUNIORSFINALE",11,11,11,null,null,null,null,null,null,null,null,null,null,null,null,null,null,null,null,null,null,null,null,null,null,"ADULTESDIVISION1NORDCTT 77 Val de Moder 3","ADULTESDIVISION1NORD",{"$f":"$L$8","v":"CTT 77 Val de Moder 3"},"Jeudi","19H30"]
[null,null,null,null,null,null,null,null,"US Egalitaire Neudorf 1","Hanau TT 1","US Egalitaire Neudorf 4",null,null,null,null,null,null,null,null,null,null,null,null,null,null,null,"Manche 2",null,null,null,"Manche 2",null,null,null,"Manche 2",null,null,null,null,null,null,null,"Manche 2",null,null,null,"Manche 2",null,null,null,"Manche 2",null,null,null,null,null,null,null,null,null,null,null,null,null,null,null,null,null,null,null,null,null,null,null,null,null,null,null,null,null,null,null,null,null,null,null,null,null,null,null,null,null,null,null,null,null,null,null,"ADULTESDIVISION1NORD",{"$f":"$L$9","v":"TT Dossenheim sur Zintel 1"},"Lundi","20H00","A,B","CADETSFINALE",11,11,11,null,null,null,null,null,null,null,null,null,null,null,null,null,null,null,null,null,null,null,null,null,null,"ADULTESDIVISION1NORDTT Dossenheim sur Zintel 1","ADULTESDIVISION1NORD",{"$f":"$L$9","v":"TT Dossenheim sur Zintel 1"},"Lundi","20H00"]
[null,null,null,null,null,null,null,null,"US Egalitaire Neudorf 2","US Egalitaire Neudorf 3","Amitié Lingolsheim 4",null,null,null,null,null,null,null,null,null,null,null,null,null,null,null,{"$f":"IF(OR('Feuille de match'!$K$5=\"EXCELLENCE\",'Feuille de match'!$K$5=\"HONNEUR\",'Feuille de match'!$K$5=\"PROMOTIONNORD\",'Feuille de match'!$K$5=\"ADULTESDIVISION1NORD\",'Feuille de match'!$K$5=\"PROMOTIONSTRASBOURG\",'Feuille de match'!$K$5=\"PROMOTIONFINALE\"),'Feuille de match'!$N$26,IF(OR('Feuille de match'!$K$5=\"MIXTESD1NORD\",'Feuille de match'!$K$5=\"MIXTESD1STRASBOURG\",'Feuille de match'!$K$5=\"VETERANSD1STRASBOURG\",'Feuille de match'!$K$5=\"VETERANSD2STRASBOURG\",'Feuille de match'!$K$5=\"VETERANSD1NORD\",'Feuille de match'!$K$5=\"VETERANSD2NORD\",'Feuille de match'!$K$5=\"JUNIORS\",'Feuille de match'!$K$5=\"CADETS\",'Feuille de match'!$K$5=\"MINIMESBENJAMINSPOUSSINS\",'Feuille de match'!$K$5=\"MIXTESD1FINALE\",'Feuille de match'!$K$5=\"VETERANSD1FINALE\",'Feuille de match'!$K$5=\"VETERANSD2FINALE\",'Feuille de match'!$K$5=\"JUNIORSFINALE\",'Feuille de match'!$K$5=\"CADETSFINALE\",'Feuille de match'!$K$5=\"MINIMESBENJAMINSPOUSSINSFINALE\"),\"0\",0))","v":0},{"$f":"IF(LEN($AA$38)=2,\"00\"&$AA$38,IF(LEN($AA$38)=3,\"0\"&$AA$38,$AA$38))","v":0},{"$f":"IFERROR(LEFT($AB$38,2),0)","v":"0"},{"$f":"IFERROR(RIGHT($AB$38,2),0)","v":"0"},{"$f":"IF(OR('Feuille de match'!$K$5=\"EXCELLENCE\",'Feuille de match'!$K$5=\"HONNEUR\",'Feuille de match'!$K$5=\"PROMOTIONNORD\",'Feuille de match'!$K$5=\"ADULTESDIVISION1NORD\",'Feuille de match'!$K$5=\"PROMOTIONSTRASBOURG\",'Feuille de match'!$K$5=\"PROMOTIONFINALE\"),'Feuille de match'!$N$24,IF(OR('Feuille de match'!$K$5=\"MIXTESD1NORD\",'Feuille de match'!$K$5=\"MIXTESD1STRASBOURG\",'Feuille de match'!$K$5=\"VETERANSD1STRASBOURG\",'Feuille de match'!$K$5=\"VETERANSD2STRASBOURG\",'Feuille de match'!$K$5=\"VETERANSD1NORD\",'Feuille de match'!$K$5=\"VETERANSD2NORD\",'Feuille de match'!$K$5=\"JUNIORS\",'Feuille de match'!$K$5=\"CADETS\",'Feuille de match'!$K$5=\"MINIMESBENJAMINSPOUSSINS\",'Feuille de match'!$K$5=\"MIXTESD1FINALE\",'Feuille de match'!$K$5=\"VETERANSD1FINALE\",'Feuille de match'!$K$5=\"VETERANSD2FINALE\",'Feuille de match'!$K$5=\"JUNIORSFINALE\",'Feuille de match'!$K$5=\"CADETSFINALE\",'Feuille de match'!$K$5=\"MINIMESBENJAMINSPOUSSINSFINALE\"),\"0\",0))","v":0},{"$f":"IF(LEN($AE$38)=2,\"00\"&$AE$38,IF(LEN($AE$38)=3,\"0\"&$AE$38,$AE$38))","v":0},{"$f":"IFERROR(LEFT($AF$38,2),0)","v":"0"},{"$f":"IFERROR(RIGHT($AF$38,2),0)","v":"0"},{"$f":"IF(OR('Feuille de match'!$K$5=\"EXCELLENCE\",'Feuille de match'!$K$5=\"HONNEUR\",'Feuille de match'!$K$5=\"PROMOTIONNORD\",'Feuille de match'!$K$5=\"ADULTESDIVISION1NORD\",'Feuille de match'!$K$5=\"PROMOTIONSTRASBOURG\",'Feuille de match'!$K$5=\"PROMOTIONFINALE\"),'Feuille de match'!$N$25,IF(OR('Feuille de match'!$K$5=\"MIXTESD1NORD\",'Feuille de match'!$K$5=\"MIXTESD1STRASBOURG\",'Feuille de match'!$K$5=\"VETERANSD1STRASBOURG\",'Feuille de match'!$K$5=\"VETERANSD2STRASBOURG\",'Feuille de match'!$K$5=\"VETERANSD1NORD\",'Feuille de match'!$K$5=\"VETERANSD2NORD\",'Feuille de match'!$K$5=\"JUNIORS\",'Feuille de match'!$K$5=\"CADETS\",'Feuille de match'!$K$5=\"MINIMESBENJAMINSPOUSSINS\",'Feuille de match'!$K$5=\"MIXTESD1FINALE\",'Feuille de match'!$K$5=\"VETERANSD1FINALE\",'Feuille de match'!$K$5=\"VETERANSD2FINALE\",'Feuille de match'!$K$5=\"JUNIORSFINALE\",'Feuille de match'!$K$5=\"CADETSFINALE\",'Feuille de match'!$K$5=\"MINIMESBENJAMINSPOUSSINSFINALE\"),\"0\",0))","v":0},{"$f":"IF(LEN($AI$38)=2,\"00\"&$AI$38,IF(LEN($AI$38)=3,\"0\"&$AI$38,$AI$38))","v":0},{"$f":"IFERROR(LEFT($AJ$38,2),0)","v":"0"},{"$f":"IFERROR(RIGHT($AJ$38,2),0)","v":"0"},null,null,null,null,{"$f":"IF(OR('Feuille de match'!$K$5=\"EXCELLENCE\",'Feuille de match'!$K$5=\"HONNEUR\",'Feuille de match'!$K$5=\"PROMOTIONNORD\",'Feuille de match'!$K$5=\"ADULTESDIVISION1NORD\",'Feuille de match'!$K$5=\"PROMOTIONSTRASBOURG\",'Feuille de match'!$K$5=\"PROMOTIONFINALE\"),'Feuille de match'!$N$25,IF(OR('Feuille de match'!$K$5=\"MIXTESD1NORD\",'Feuille de match'!$K$5=\"MIXTESD1STRASBOURG\",'Feuille de match'!$K$5=\"VETERANSD1STRASBOURG\",'Feuille de match'!$K$5=\"VETERANSD2STRASBOURG\",'Feuille de match'!$K$5=\"VETERANSD1NORD\",'Feuille de match'!$K$5=\"VETERANSD2NORD\",'Feuille de match'!$K$5=\"JUNIORS\",'Feuille de match'!$K$5=\"CADETS\",'Feuille de match'!$K$5=\"MINIMESBENJAMINSPOUSSINS\",'Feuille de match'!$K$5=\"MIXTESD1FINALE\",'Feuille de match'!$K$5=\"VETERANSD1FINALE\",'Feuille de match'!$K$5=\"VETERANSD2FINALE\",'Feuille de match'!$K$5=\"JUNIORSFINALE\",'Feuille de match'!$K$5=\"CADETSFINALE\",'Feuille de match'!$K$5=\"MINIMESBENJAMINSPOUSSINSFINALE\"),\"0\",0))","v":0},{"$f":"IF(LEN($AQ$38)=2,\"00\"&$AQ$38,IF(LEN($AQ$38)=3,\"0\"&$AQ$38,$AQ$38))","v":0},{"$f":"IFERROR(RIGHT($AR$38,2),0)","v":"0"},{"$f":"IFERROR(LEFT($AR$38,2),0)","v":"0"},{"$f":"IF(OR('Feuille de match'!$K$5=\"EXCELLENCE\",'Feuille de match'!$K$5=\"HONNEUR\",'Feuille de match'!$K$5=\"PROMOTIONNORD\",'Feuille de match'!$K$5=\"ADULTESDIVISION1NORD\",'Feuille de match'!$K$5=\"PROMOTIONSTRASBOURG\",'Feuille de match'!$K$5=\"PROMOTIONFINALE\"),'Feuille de match'!$N$26,IF(OR('Feuille de match'!$K$5=\"MIXTESD1NORD\",'Feuille de match'!$K$5=\"MIXTESD1STRASBOURG\",'Feuille de match'!$K$5=\"VETERANSD1STRASBOURG\",'Feuille de match'!$K$5=\"VETERANSD2STRASBOURG\",'Feuille de match'!$K$5=\"VETERANSD1NORD\",'Feuille de match'!$K$5=\"VETERANSD2NORD\",'Feuille de match'!$K$5=\"JUNIORS\",'Feuille de match'!$K$5=\"CADETS\",'Feuille de match'!$K$5=\"MINIMESBENJAMINSPOUSSINS\",'Feuille de match'!$K$5=\"MIXTESD1FINALE\",'Feuille de match'!$K$5=\"VETERANSD1FINALE\",'Feuille de match'!$K$5=\"VETERANSD2FINALE\",'Feuille de match'!$K$5=\"JUNIORSFINALE\",'Feuille de match'!$K$5=\"CADETSFINALE\",'Feuille de match'!$K$5=\"MINIMESBENJAMINSPOUSSINSFINALE\"),\"0\",0))","v":0},{"$f":"IF(LEN($AU$38)=2,\"00\"&$AU$38,IF(LEN($AU$38)=3,\"0\"&$AU$38,$AU$38))","v":0},{"$f":"IFERROR(RIGHT($AV$38,2),0)","v":"0"},{"$f":"IFERROR(LEFT($AV$38,2),0)","v":"0"},{"$f":"IF(OR('Feuille de match'!$K$5=\"EXCELLENCE\",'Feuille de match'!$K$5=\"HONNEUR\",'Feuille de match'!$K$5=\"PROMOTIONNORD\",'Feuille de match'!$K$5=\"ADULTESDIVISION1NORD\",'Feuille de match'!$K$5=\"PROMOTIONSTRASBOURG\",'Feuille de match'!$K$5=\"PROMOTIONFINALE\"),'Feuille de match'!$N$24,IF(OR('Feuille de match'!$K$5=\"MIXTESD1NORD\",'Feuille de match'!$K$5=\"MIXTESD1STRASBOURG\",'Feuille de match'!$K$5=\"VETERANSD1STRASBOURG\",'Feuille de match'!$K$5=\"VETERANSD2STRASBOURG\",'Feuille de match'!$K$5=\"VETERANSD1NORD\",'Feuille de match'!$K$5=\"VETERANSD2NORD\",'Feuille de match'!$K$5=\"JUNIORS\",'Feuille de match'!$K$5=\"CADETS\",'Feuille de match'!$K$5=\"MINIMESBENJAMINSPOUSSINS\",'Feuille de match'!$K$5=\"MIXTESD1FINALE\",'Feuille de match'!$K$5=\"VETERANSD1FINALE\",'Feuille de match'!$K$5=\"VETERANSD2FINALE\",'Feuille de match'!$K$5=\"JUNIORSFINALE\",'Feuille de match'!$K$5=\"CADETSFINALE\",'Feuille de match'!$K$5=\"MINIMESBENJAMINSPOUSSINSFINALE\"),\"0\",0))","v":0},{"$f":"IF(LEN($AY$38)=2,\"00\"&$AY$38,IF(LEN($AY$38)=3,\"0\"&$AY$38,$AY$38))","v":0},{"$f":"IFERROR(RIGHT($AZ$38,2),0)","v":"0"},{"$f":"IFERROR(LEFT($AZ$38,2),0)","v":"0"},null,null,null,null,null,null,null,null,null,null,null,null,null,null,null,null,null,null,null,null,null,null,null,null,null,null,null,null,null,null,null,null,null,null,null,null,null,null,null,null,null,null,null,null,{"$f":"$G$6","v":"VETERANSD1STRASBOURG"},{"$f":"$O$3","v":"US Egalitaire Neudorf 1"},"Mardi","20H00","A,B","MINIMESBENJAMINSPOUSSINSFINALE",11,11,11,null,null,null,null,null,null,null,null,null,null,null,null,null,null,null,null,null,null,null,null,null,null,"VETERANSD1STRASBOURGUS Egalitaire Neudorf 1",{"$f":"$G$6","v":"VETERANSD1STRASBOURG"},{"$f":"$O$3","v":"US Egalitaire Neudorf 1"},"Mardi","20H00"]
[null,null,null,null,null,null,null,null,"AS Electricité Strasbourg 1","Amitié Lingolsheim 3","UT AURORA Schilt.-B. 1",null,null,null,null,null,null,null,null,null,null,null,null,null,null,null,"Manche 3",null,null,null,"Manche 3",null,null,null,"Manche 3",null,null,null,null,null,null,null,"Manche 3",null,null,null,"Manche 3",null,null,null,"Manche 3",null,null,null,null,null,null,null,null,null,null,null,null,null,null,null,null,null,null,null,null,null,null,null,null,null,null,null,null,null,null,null,null,null,null,null,null,null,null,null,null,null,null,null,null,null,null,null,{"$f":"$G$6","v":"VETERANSD1STRASBOURG"},{"$f":"$O$4","v":"US Egalitaire Neudorf 2"},"Mercredi","20H00","W,X,Y",{"$f":"G28","v":"PROMOTIONFINALE"},1100,1100,1100,null,null,null,null,null,null,null,null,null,null,null,null,null,null,null,null,null,null,null,null,null,null,"VETERANSD1STRASBOURGUS Egalitaire Neudorf 2",{"$f":"$G$6","v":"VETERANSD1STRASBOURG"},{"$f":"$O$4","v":"US Egalitaire Neudorf 2"},"Mercredi","20H00"]
[null,null,null,null,null,null,null,null,"UT AURORA Schilt.-B. 1","Amitié Lingolsheim 4","AS Electricité Strasbourg 2",null,null,null,null,null,null,null,null,null,null,null,null,null,null,null,{"$f":"IF(OR('Feuille de match'!$K$5=\"EXCELLENCE\",'Feuille de match'!$K$5=\"HONNEUR\",'Feuille de match'!$K$5=\"PROMOTIONNORD\",'Feuille de match'!$K$5=\"ADULTESDIVISION1NORD\",'Feuille de match'!$K$5=\"PROMOTIONSTRASBOURG\",'Feuille de match'!$K$5=\"PROMOTIONFINALE\"),'Feuille de match'!$O$26,IF(OR('Feuille de match'!$K$5=\"MIXTESD1NORD\",'Feuille de match'!$K$5=\"MIXTESD1STRASBOURG\",'Feuille de match'!$K$5=\"VETERANSD1STRASBOURG\",'Feuille de match'!$K$5=\"VETERANSD2STRASBOURG\",'Feuille de match'!$K$5=\"VETERANSD1NORD\",'Feuille de match'!$K$5=\"VETERANSD2NORD\",'Feuille de match'!$K$5=\"JUNIORS\",'Feuille de match'!$K$5=\"CADETS\",'Feuille de match'!$K$5=\"MINIMESBENJAMINSPOUSSINS\",'Feuille de match'!$K$5=\"MIXTESD1FINALE\",'Feuille de match'!$K$5=\"VETERANSD1FINALE\",'Feuille de match'!$K$5=\"VETERANSD2FINALE\",'Feuille de match'!$K$5=\"JUNIORSFINALE\",'Feuille de match'!$K$5=\"CADETSFINALE\",'Feuille de match'!$K$5=\"MINIMESBENJAMINSPOUSSINSFINALE\"),\"0\",0))","v":0},{"$f":"IF(LEN($AA$40)=2,\"00\"&$AA$40,IF(LEN($AA$40)=3,\"0\"&$AA$40,$AA$40))","v":0},{"$f":"IFERROR(LEFT($AB$40,2),0)","v":"0"},{"$f":"IFERROR(RIGHT($AB$40,2),0)","v":"0"},{"$f":"IF(OR('Feuille de match'!$K$5=\"EXCELLENCE\",'Feuille de match'!$K$5=\"HONNEUR\",'Feuille de match'!$K$5=\"PROMOTIONNORD\",'Feuille de match'!$K$5=\"ADULTESDIVISION1NORD\",'Feuille de match'!$K$5=\"PROMOTIONSTRASBOURG\",'Feuille de match'!$K$5=\"PROMOTIONFINALE\"),'Feuille de match'!$O$24,IF(OR('Feuille de match'!$K$5=\"MIXTESD1NORD\",'Feuille de match'!$K$5=\"MIXTESD1STRASBOURG\",'Feuille de match'!$K$5=\"VETERANSD1STRASBOURG\",'Feuille de match'!$K$5=\"VETERANSD2STRASBOURG\",'Feuille de match'!$K$5=\"VETERANSD1NORD\",'Feuille de match'!$K$5=\"VETERANSD2NORD\",'Feuille de match'!$K$5=\"JUNIORS\",'Feuille de match'!$K$5=\"CADETS\",'Feuille de match'!$K$5=\"MINIMESBENJAMINSPOUSSINS\",'Feuille de match'!$K$5=\"MIXTESD1FINALE\",'Feuille de match'!$K$5=\"VETERANSD1FINALE\",'Feuille de match'!$K$5=\"VETERANSD2FINALE\",'Feuille de match'!$K$5=\"JUNIORSFINALE\",'Feuille de match'!$K$5=\"CADETSFINALE\",'Feuille de match'!$K$5=\"MINIMESBENJAMINSPOUSSINSFINALE\"),\"0\",0))","v":0},{"$f":"IF(LEN($AE$40)=2,\"00\"&$AE$40,IF(LEN($AE$40)=3,\"0\"&$AE$40,$AE$40))","v":0},{"$f":"IFERROR(LEFT($AF$40,2),0)","v":"0"},{"$f":"IFERROR(RIGHT($AF$40,2),0)","v":"0"},{"$f":"IF(OR('Feuille de match'!$K$5=\"EXCELLENCE\",'Feuille de match'!$K$5=\"HONNEUR\",'Feuille de match'!$K$5=\"PROMOTIONNORD\",'Feuille de match'!$K$5=\"ADULTESDIVISION1NORD\",'Feuille de match'!$K$5=\"PROMOTIONSTRASBOURG\",'Feuille de match'!$K$5=\"PROMOTIONFINALE\"),'Feuille de match'!$O$25,IF(OR('Feuille de match'!$K$5=\"MIXTESD1NORD\",'Feuille de match'!$K$5=\"MIXTESD1STRASBOURG\",'Feuille de match'!$K$5=\"VETERANSD1STRASBOURG\",'Feuille de match'!$K$5=\"VETERANSD2STRASBOURG\",'Feuille de match'!$K$5=\"VETERANSD1NORD\",'Feuille de match'!$K$5=\"VETERANSD2NORD\",'Feuille de match'!$K$5=\"JUNIORS\",'Feuille de match'!$K$5=\"CADETS\",'Feuille de match'!$K$5=\"MINIMESBENJAMINSPOUSSINS\",'Feuille de match'!$K$5=\"MIXTESD1FINALE\",'Feuille de match'!$K$5=\"VETERANSD1FINALE\",'Feuille de match'!$K$5=\"VETERANSD2FINALE\",'Feuille de match'!$K$5=\"JUNIORSFINALE\",'Feuille de match'!$K$5=\"CADETSFINALE\",'Feuille de match'!$K$5=\"MINIMESBENJAMINSPOUSSINSFINALE\"),\"0\",0))","v":0},{"$f":"IF(LEN($AI$40)=2,\"00\"&$AI$40,IF(LEN($AI$40)=3,\"0\"&$AI$40,$AI$40))","v":0},{"$f":"IFERROR(LEFT($AJ$40,2),0)","v":"0"},{"$f":"IFERROR(RIGHT($AJ$40,2),0)","v":"0"},null,null,null,null,{"$f":"IF(OR('Feuille de match'!$K$5=\"EXCELLENCE\",'Feuille de match'!$K$5=\"HONNEUR\",'Feuille de match'!$K$5=\"PROMOTIONNORD\",'Feuille de match'!$K$5=\"ADULTESDIVISION1NORD\",'Feuille de match'!$K$5=\"PROMOTIONSTRASBOURG\",'Feuille de match'!$K$5=\"PROMOTIONFINALE\"),'Feuille de match'!$O$25,IF(OR('Feuille de match'!$K$5=\"MIXTESD1NORD\",'Feuille de match'!$K$5=\"MIXTESD1STRASBOURG\",'Feuille de match'!$K$5=\"VETERANSD1STRASBOURG\",'Feuille de match'!$K$5=\"VETERANSD2STRASBOURG\",'Feuille de match'!$K$5=\"VETERANSD1NORD\",'Feuille de match'!$K$5=\"VETERANSD2NORD\",'Feuille de match'!$K$5=\"JUNIORS\",'Feuille de match'!$K$5=\"CADETS\",'Feuille de match'!$K$5=\"MINIMESBENJAMINSPOUSSINS\",'Feuille de match'!$K$5=\"MIXTESD1FINALE\",'Feuille de match'!$K$5=\"VETERANSD1FINALE\",'Feuille de match'!$K$5=\"VETERANSD2FINALE\",'Feuille de match'!$K$5=\"JUNIORSFINALE\",'Feuille de match'!$K$5=\"CADETSFINALE\",'Feuille de match'!$K$5=\"MINIMESBENJAMINSPOUSSINSFINALE\"),\"0\",0))","v":0},{"$f":"IF(LEN($AQ$40)=2,\"00\"&$AQ$40,IF(LEN($AQ$40)=3,\"0\"&$AQ$40,$AQ$40))","v":0},{"$f":"IFERROR(RIGHT($AR$40,2),0)","v":"0"},{"$f":"IFERROR(LEFT($AR$40,2),0)","v":"0"},{"$f":"IF(OR('Feuille de match'!$K$5=\"EXCELLENCE\",'Feuille de match'!$K$5=\"HONNEUR\",'Feuille de match'!$K$5=\"PROMOTIONNORD\",'Feuille de match'!$K$5=\"ADULTESDIVISION1NORD\",'Feuille de match'!$K$5=\"PROMOTIONSTRASBOURG\",'Feuille de match'!$K$5=\"PROMOTIONFINALE\"),'Feuille de match'!$O$26,IF(OR('Feuille de match'!$K$5=\"MIXTESD1NORD\",'Feuille de match'!$K$5=\"MIXTESD1STRASBOURG\",'Feuille de match'!$K$5=\"VETERANSD1STRASBOURG\",'Feuille de match'!$K$5=\"VETERANSD2STRASBOURG\",'Feuille de match'!$K$5=\"VETERANSD1NORD\",'Feuille de match'!$K$5=\"VETERANSD2NORD\",'Feuille de match'!$K$5=\"JUNIORS\",'Feuille de match'!$K$5=\"CADETS\",'Feuille de match'!$K$5=\"MINIMESBENJAMINSPOUSSINS\",'Feuille de match'!$K$5=\"MIXTESD1FINALE\",'Feuille de match'!$K$5=\"VETERANSD1FINALE\",'Feuille de match'!$K$5=\"VETERANSD2FINALE\",'Feuille de match'!$K$5=\"JUNIORSFINALE\",'Feuille de match'!$K$5=\"CADETSFINALE\",'Feuille de match'!$K$5=\"MINIMESBENJAMINSPOUSSINSFINALE\"),\"0\",0))","v":0},{"$f":"IF(LEN($AU$40)=2,\"00\"&$AU$40,IF(LEN($AU$40)=3,\"0\"&$AU$40,$AU$40))","v":0},{"$f":"IFERROR(RIGHT($AV$40,2),0)","v":"0"},{"$f":"IFERROR(LEFT($AV$40,2),0)","v":"0"},{"$f":"IF(OR('Feuille de match'!$K$5=\"EXCELLENCE\",'Feuille de match'!$K$5=\"HONNEUR\",'Feuille de match'!$K$5=\"PROMOTIONNORD\",'Feuille de match'!$K$5=\"ADULTESDIVISION1NORD\",'Feuille de match'!$K$5=\"PROMOTIONSTRASBOURG\",'Feuille de match'!$K$5=\"PROMOTIONFINALE\"),'Feuille de match'!$O$24,IF(OR('Feuille de match'!$K$5=\"MIXTESD1NORD\",'Feuille de match'!$K$5=\"MIXTESD1STRASBOURG\",'Feuille de match'!$K$5=\"VETERANSD1STRASBOURG\",'Feuille de match'!$K$5=\"VETERANSD2STRASBOURG\",'Feuille de match'!$K$5=\"VETERANSD1NORD\",'Feuille de match'!$K$5=\"VETERANSD2NORD\",'Feuille de match'!$K$5=\"JUNIORS\",'Feuille de match'!$K$5=\"CADETS\",'Feuille de match'!$K$5=\"MINIMESBENJAMINSPOUSSINS\",'Feuille de match'!$K$5=\"MIXTESD1FINALE\",'Feuille de match'!$K$5=\"VETERANSD1FINALE\",'Feuille de match'!$K$5=\"VETERANSD2FINALE\",'Feuille de match'!$K$5=\"JUNIORSFINALE\",'Feuille de match'!$K$5=\"CADETSFINALE\",'Feuille de match'!$K$5=\"MINIMESBENJAMINSPOUSSINSFINALE\"),\"0\",0))","v":0},{"$f":"IF(LEN($AY$40)=2,\"00\"&$AY$40,IF(LEN($AY$40)=3,\"0\"&$AY$40,$AY$40))","v":0},{"$f":"IFERROR(RIGHT($AZ$40,2),0)","v":"0"},{"$f":"IFERROR(LEFT($AZ$40,2),0)","v":"0"},null,null,null,null,null,null,null,null,null,null,null,null,null,null,null,null,null,null,null,null,null,null,null,null,null,null,null,null,null,null,null,null,null,null,null,null,null,null,null,null,null,null,null,null,"VETERANSD1STRASBOURG",{"$f":"$O$5","v":"AS Electricité Strasbourg 1"},"Mercredi","19H00","W,X",{"$f":"G29","v":"MIXTESD1FINALE"},1100,1100,1100,null,null,null,null,null,null,null,null,null,null,null,null,null,null,null,null,null,null,null,null,null,null,"VETERANSD1STRASBOURGAS Electricité Strasbourg 1","VETERANSD1STRASBOURG",{"$f":"$O$5","v":"AS Electricité Strasbourg 1"},"Mercredi","19H00"]
[null,null,null,null,null,null,null,null,"Amitié Lingolsheim 1","Amitié Lingolsheim 5","UT AURORA Schilt.-B. 2",null,null,null,null,null,null,null,null,null,null,null,null,null,null,null,"Manche 4",null,null,null,"Manche 4",null,null,null,"Manche 4",null,null,null,null,null,null,null,"Manche 4",null,null,null,"Manche 4",null,null,null,"Manche 4",null,null,null,null,null,null,null,null,null,null,null,null,null,null,null,null,null,null,null,null,null,null,null,null,null,null,null,null,null,null,null,null,null,null,null,null,null,null,null,null,null,null,null,null,null,null,null,"VETERANSD1STRASBOURG",{"$f":"$O$6","v":"UT AURORA Schilt.-B. 1"},"Mercredi","20H00","W,X","VETERANSD1FINALE",1100,1100,1100,null,null,null,null,null,null,null,null,null,null,null,null,null,null,null,null,null,null,null,null,null,null,"VETERANSD1STRASBOURGUT AURORA Schilt.-B. 1","VETERANSD1STRASBOURG",{"$f":"$O$6","v":"UT AURORA Schilt.-B. 1"},"Mercredi","20H00"]
[null,null,null,null,null,null,null,null,"Amitié Lingolsheim 2","AS Electricité Strasbourg 2",null,null,null,null,null,null,null,null,null,null,null,null,null,null,null,null,{"$f":"IF(OR('Feuille de match'!$K$5=\"EXCELLENCE\",'Feuille de match'!$K$5=\"HONNEUR\",'Feuille de match'!$K$5=\"PROMOTIONNORD\",'Feuille de match'!$K$5=\"ADULTESDIVISION1NORD\",'Feuille de match'!$K$5=\"PROMOTIONSTRASBOURG\",'Feuille de match'!$K$5=\"PROMOTIONFINALE\"),'Feuille de match'!$P$26,IF(OR('Feuille de match'!$K$5=\"MIXTESD1NORD\",'Feuille de match'!$K$5=\"MIXTESD1STRASBOURG\",'Feuille de match'!$K$5=\"VETERANSD1STRASBOURG\",'Feuille de match'!$K$5=\"VETERANSD2STRASBOURG\",'Feuille de match'!$K$5=\"VETERANSD1NORD\",'Feuille de match'!$K$5=\"VETERANSD2NORD\",'Feuille de match'!$K$5=\"JUNIORS\",'Feuille de match'!$K$5=\"CADETS\",'Feuille de match'!$K$5=\"MINIMESBENJAMINSPOUSSINS\",'Feuille de match'!$K$5=\"MIXTESD1FINALE\",'Feuille de match'!$K$5=\"VETERANSD1FINALE\",'Feuille de match'!$K$5=\"VETERANSD2FINALE\",'Feuille de match'!$K$5=\"JUNIORSFINALE\",'Feuille de match'!$K$5=\"CADETSFINALE\",'Feuille de match'!$K$5=\"MINIMESBENJAMINSPOUSSINSFINALE\"),\"0\",0))","v":0},{"$f":"IF(LEN($AA$42)=2,\"00\"&$AA$42,IF(LEN($AA$42)=3,\"0\"&$AA$42,$AA$42))","v":0},{"$f":"IFERROR(LEFT($AB$42,2),0)","v":"0"},{"$f":"IFERROR(RIGHT($AB$42,2),0)","v":"0"},{"$f":"IF(OR('Feuille de match'!$K$5=\"EXCELLENCE\",'Feuille de match'!$K$5=\"HONNEUR\",'Feuille de match'!$K$5=\"PROMOTIONNORD\",'Feuille de match'!$K$5=\"ADULTESDIVISION1NORD\",'Feuille de match'!$K$5=\"PROMOTIONSTRASBOURG\",'Feuille de match'!$K$5=\"PROMOTIONFINALE\"),'Feuille de match'!$P$24,IF(OR('Feuille de match'!$K$5=\"MIXTESD1NORD\",'Feuille de match'!$K$5=\"MIXTESD1STRASBOURG\",'Feuille de match'!$K$5=\"VETERANSD1STRASBOURG\",'Feuille de match'!$K$5=\"VETERANSD2STRASBOURG\",'Feuille de match'!$K$5=\"VETERANSD1NORD\",'Feuille de match'!$K$5=\"VETERANSD2NORD\",'Feuille de match'!$K$5=\"JUNIORS\",'Feuille de match'!$K$5=\"CADETS\",'Feuille de match'!$K$5=\"MINIMESBENJAMINSPOUSSINS\",'Feuille de match'!$K$5=\"MIXTESD1FINALE\",'Feuille de match'!$K$5=\"VETERANSD1FINALE\",'Feuille de match'!$K$5=\"VETERANSD2FINALE\",'Feuille de match'!$K$5=\"JUNIORSFINALE\",'Feuille de match'!$K$5=\"CADETSFINALE\",'Feuille de match'!$K$5=\"MINIMESBENJAMINSPOUSSINSFINALE\"),\"0\",0))","v":0},{"$f":"IF(LEN($AE$42)=2,\"00\"&$AE$42,IF(LEN($AE$42)=3,\"0\"&$AE$42,$AE$42))","v":0},{"$f":"IFERROR(LEFT($AF$42,2),0)","v":"0"},{"$f":"IFERROR(RIGHT($AF$42,2),0)","v":"0"},{"$f":"IF(OR('Feuille de match'!$K$5=\"EXCELLENCE\",'Feuille de match'!$K$5=\"HONNEUR\",'Feuille de match'!$K$5=\"PROMOTIONNORD\",'Feuille de match'!$K$5=\"ADULTESDIVISION1NORD\",'Feuille de match'!$K$5=\"PROMOTIONSTRASBOURG\",'Feuille de match'!$K$5=\"PROMOTIONFINALE\"),'Feuille de match'!$P$25,IF(OR('Feuille de match'!$K$5=\"MIXTESD1NORD\",'Feuille de match'!$K$5=\"MIXTESD1STRASBOURG\",'Feuille de match'!$K$5=\"VETERANSD1STRASBOURG\",'Feuille de match'!$K$5=\"VETERANSD2STRASBOURG\",'Feuille de match'!$K$5=\"VETERANSD1NORD\",'Feuille de match'!$K$5=\"VETERANSD2NORD\",'Feuille de match'!$K$5=\"JUNIORS\",'Feuille de match'!$K$5=\"CADETS\",'Feuille de match'!$K$5=\"MINIMESBENJAMINSPOUSSINS\",'Feuille de match'!$K$5=\"MIXTESD1FINALE\",'Feuille de match'!$K$5=\"VETERANSD1FINALE\",'Feuille de match'!$K$5=\"VETERANSD2FINALE\",'Feuille de match'!$K$5=\"JUNIORSFINALE\",'Feuille de match'!$K$5=\"CADETSFINALE\",'Feuille de match'!$K$5=\"MINIMESBENJAMINSPOUSSINSFINALE\"),\"0\",0))","v":0},{"$f":"IF(LEN($AI$42)=2,\"00\"&$AI$42,IF(LEN($AI$42)=3,\"0\"&$AI$42,$AI$42))","v":0},{"$f":"IFERROR(LEFT($AJ$42,2),0)","v":"0"},{"$f":"IFERROR(RIGHT($AJ$42,2),0)","v":"0"},null,null,null,null,{"$f":"IF(OR('Feuille de match'!$K$5=\"EXCELLENCE\",'Feuille de match'!$K$5=\"HONNEUR\",'Feuille de match'!$K$5=\"PROMOTIONNORD\",'Feuille de match'!$K$5=\"ADULTESDIVISION1NORD\",'Feuille de match'!$K$5=\"PROMOTIONSTRASBOURG\",'Feuille de match'!$K$5=\"PROMOTIONFINALE\"),'Feuille de match'!$P$25,IF(OR('Feuille de match'!$K$5=\"MIXTESD1NORD\",'Feuille de match'!$K$5=\"MIXTESD1STRASBOURG\",'Feuille de match'!$K$5=\"VETERANSD1STRASBOURG\",'Feuille de match'!$K$5=\"VETERANSD2STRASBOURG\",'Feuille de match'!$K$5=\"VETERANSD1NORD\",'Feuille de match'!$K$5=\"VETERANSD2NORD\",'Feuille de match'!$K$5=\"JUNIORS\",'Feuille de match'!$K$5=\"CADETS\",'Feuille de match'!$K$5=\"MINIMESBENJAMINSPOUSSINS\",'Feuille de match'!$K$5=\"MIXTESD1FINALE\",'Feuille de match'!$K$5=\"VETERANSD1FINALE\",'Feuille de match'!$K$5=\"VETERANSD2FINALE\",'Feuille de match'!$K$5=\"JUNIORSFINALE\",'Feuille de match'!$K$5=\"CADETSFINALE\",'Feuille de match'!$K$5=\"MINIMESBENJAMINSPOUSSINSFINALE\"),\"0\",0))","v":0},{"$f":"IF(LEN($AQ$42)=2,\"00\"&$AQ$42,IF(LEN($AQ$42)=3,\"0\"&$AQ$42,$AQ$42))","v":0},{"$f":"IFERROR(RIGHT($AR$42,2),0)","v":"0"},{"$f":"IFERROR(LEFT($AR$42,2),0)","v":"0"},{"$f":"IF(OR('Feuille de match'!$K$5=\"EXCELLENCE\",'Feuille de match'!$K$5=\"HONNEUR\",'Feuille de match'!$K$5=\"PROMOTIONNORD\",'Feuille de match'!$K$5=\"ADULTESDIVISION1NORD\",'Feuille de match'!$K$5=\"PROMOTIONSTRASBOURG\",'Feuille de match'!$K$5=\"PROMOTIONFINALE\"),'Feuille de match'!$P$26,IF(OR('Feuille de match'!$K$5=\"MIXTESD1NORD\",'Feuille de match'!$K$5=\"MIXTESD1STRASBOURG\",'Feuille de match'!$K$5=\"VETERANSD1STRASBOURG\",'Feuille de match'!$K$5=\"VETERANSD2STRASBOURG\",'Feuille de match'!$K$5=\"VETERANSD1NORD\",'Feuille de match'!$K$5=\"VETERANSD2NORD\",'Feuille de match'!$K$5=\"JUNIORS\",'Feuille de match'!$K$5=\"CADETS\",'Feuille de match'!$K$5=\"MINIMESBENJAMINSPOUSSINS\",'Feuille de match'!$K$5=\"MIXTESD1FINALE\",'Feuille de match'!$K$5=\"VETERANSD1FINALE\",'Feuille de match'!$K$5=\"VETERANSD2FINALE\",'Feuille de match'!$K$5=\"JUNIORSFINALE\",'Feuille de match'!$K$5=\"CADETSFINALE\",'Feuille de match'!$K$5=\"MINIMESBENJAMINSPOUSSINSFINALE\"),\"0\",0))","v":0},{"$f":"IF(LEN($AU$42)=2,\"00\"&$AU$42,IF(LEN($AU$42)=3,\"0\"&$AU$42,$AU$42))","v":0},{"$f":"IFERROR(RIGHT($AV$42,2),0)","v":"0"},{"$f":"IFERROR(LEFT($AV$42,2),0)","v":"0"},{"$f":"IF(OR('Feuille de match'!$K$5=\"EXCELLENCE\",'Feuille de match'!$K$5=\"HONNEUR\",'Feuille de match'!$K$5=\"PROMOTIONNORD\",'Feuille de match'!$K$5=\"ADULTESDIVISION1NORD\",'Feuille de match'!$K$5=\"PROMOTIONSTRASBOURG\",'Feuille de match'!$K$5=\"PROMOTIONFINALE\"),'Feuille de match'!$P$24,IF(OR('Feuille de match'!$K$5=\"MIXTESD1NORD\",'Feuille de match'!$K$5=\"MIXTESD1STRASBOURG\",'Feuille de match'!$K$5=\"VETERANSD1STRASBOURG\",'Feuille de match'!$K$5=\"VETERANSD2STRASBOURG\",'Feuille de match'!$K$5=\"VETERANSD1NORD\",'Feuille de match'!$K$5=\"VETERANSD2NORD\",'Feuille de match'!$K$5=\"JUNIORS\",'Feuille de match'!$K$5=\"CADETS\",'Feuille de match'!$K$5=\"MINIMESBENJAMINSPOUSSINS\",'Feuille de match'!$K$5=\"MIXTESD1FINALE\",'Feuille de match'!$K$5=\"VETERANSD1FINALE\",'Feuille de match'!$K$5=\"VETERANSD2FINALE\",'Feuille de match'!$K$5=\"JUNIORSFINALE\",'Feuille de match'!$K$5=\"CADETSFINALE\",'Feuille de match'!$K$5=\"MINIMESBENJAMINSPOUSSINSFINALE\"),\"0\",0))","v":0},{"$f":"IF(LEN($AY$42)=2,\"00\"&$AY$42,IF(LEN($AY$42)=3,\"0\"&$AY$42,$AY$42))","v":0},{"$f":"IFERROR(RIGHT($AZ$42,2),0)","v":"0"},{"$f":"IFERROR(LEFT($AZ$42,2),0)","v":"0"},null,null,null,null,null,null,null,null,null,null,null,null,null,null,null,null,null,null,null,null,null,null,null,null,null,null,null,null,null,null,null,null,null,null,null,null,null,null,null,null,null,null,null,null,"VETERANSD1STRASBOURG",{"$f":"$O$7","v":"Amitié Lingolsheim 1"},"Jeudi","20H00","W,X","VETERANSD2FINALE",1100,1100,1100,null,null,null,null,null,null,null,null,null,null,null,null,null,null,null,null,null,null,null,null,null,null,"VETERANSD1STRASBOURGAmitié Lingolsheim 1","VETERANSD1STRASBOURG",{"$f":"$O$7","v":"Amitié Lingolsheim 1"},"Jeudi","20H00"]
[null,null,null,null,null,null,null,null,null,"UT AURORA Schilt.-B. 2",null,null,null,null,null,null,null,null,null,null,null,null,null,null,null,null,"Manche 5",null,null,null,"Manche 5",null,null,null,"Manche 5",null,null,null,null,null,null,null,"Manche 5",null,null,null,"Manche 5",null,null,null,"Manche 5",null,null,null,null,null,null,null,null,null,null,null,null,null,null,null,null,null,null,null,null,null,null,null,null,null,null,null,null,null,null,null,null,null,null,null,null,null,null,null,null,null,null,null,null,null,null,null,"VETERANSD1STRASBOURG",{"$f":"$O$8","v":"Amitié Lingolsheim 2"},"Mercredi","20H00","W,X","JUNIORSFINALE",1100,1100,1100,null,null,null,null,null,null,null,null,null,null,null,null,null,null,null,null,null,null,null,null,null,null,"VETERANSD1STRASBOURGAmitié Lingolsheim 2","VETERANSD1STRASBOURG",{"$f":"$O$8","v":"Amitié Lingolsheim 2"},"Mercredi","20H00"]
[null,null,null,null,null,null,null,null,null,"UT AURORA Schilt.-B. 3",null,null,null,null,null,null,null,null,null,null,null,null,null,null,null,null,{"$f":"IF(OR('Feuille de match'!$K$5=\"EXCELLENCE\",'Feuille de match'!$K$5=\"HONNEUR\",'Feuille de match'!$K$5=\"PROMOTIONNORD\",'Feuille de match'!$K$5=\"ADULTESDIVISION1NORD\",'Feuille de match'!$K$5=\"PROMOTIONSTRASBOURG\",'Feuille de match'!$K$5=\"PROMOTIONFINALE\"),'Feuille de match'!$Q$26,IF(OR('Feuille de match'!$K$5=\"MIXTESD1NORD\",'Feuille de match'!$K$5=\"MIXTESD1STRASBOURG\",'Feuille de match'!$K$5=\"VETERANSD1STRASBOURG\",'Feuille de match'!$K$5=\"VETERANSD2STRASBOURG\",'Feuille de match'!$K$5=\"VETERANSD1NORD\",'Feuille de match'!$K$5=\"VETERANSD2NORD\",'Feuille de match'!$K$5=\"JUNIORS\",'Feuille de match'!$K$5=\"CADETS\",'Feuille de match'!$K$5=\"MINIMESBENJAMINSPOUSSINS\",'Feuille de match'!$K$5=\"MIXTESD1FINALE\",'Feuille de match'!$K$5=\"VETERANSD1FINALE\",'Feuille de match'!$K$5=\"VETERANSD2FINALE\",'Feuille de match'!$K$5=\"JUNIORSFINALE\",'Feuille de match'!$K$5=\"CADETSFINALE\",'Feuille de match'!$K$5=\"MINIMESBENJAMINSPOUSSINSFINALE\"),\"0\",0))","v":0},{"$f":"IF(LEN($AA$44)=2,\"00\"&$AA$44,IF(LEN($AA$44)=3,\"0\"&$AA$44,$AA$44))","v":0},{"$f":"IFERROR(LEFT($AB$44,2),0)","v":"0"},{"$f":"IFERROR(RIGHT($AB$44,2),0)","v":"0"},{"$f":"IF(OR('Feuille de match'!$K$5=\"EXCELLENCE\",'Feuille de match'!$K$5=\"HONNEUR\",'Feuille de match'!$K$5=\"PROMOTIONNORD\",'Feuille de match'!$K$5=\"ADULTESDIVISION1NORD\",'Feuille de match'!$K$5=\"PROMOTIONSTRASBOURG\",'Feuille de match'!$K$5=\"PROMOTIONFINALE\"),'Feuille de match'!$Q$24,IF(OR('Feuille de match'!$K$5=\"MIXTESD1NORD\",'Feuille de match'!$K$5=\"MIXTESD1STRASBOURG\",'Feuille de match'!$K$5=\"VETERANSD1STRASBOURG\",'Feuille de match'!$K$5=\"VETERANSD2STRASBOURG\",'Feuille de match'!$K$5=\"VETERANSD1NORD\",'Feuille de match'!$K$5=\"VETERANSD2NORD\",'Feuille de match'!$K$5=\"JUNIORS\",'Feuille de match'!$K$5=\"CADETS\",'Feuille de match'!$K$5=\"MINIMESBENJAMINSPOUSSINS\",'Feuille de match'!$K$5=\"MIXTESD1FINALE\",'Feuille de match'!$K$5=\"VETERANSD1FINALE\",'Feuille de match'!$K$5=\"VETERANSD2FINALE\",'Feuille de match'!$K$5=\"JUNIORSFINALE\",'Feuille de match'!$K$5=\"CADETSFINALE\",'Feuille de match'!$K$5=\"MINIMESBENJAMINSPOUSSINSFINALE\"),\"0\",0))","v":0},{"$f":"IF(LEN($AE$44)=2,\"00\"&$AE$44,IF(LEN($AE$44)=3,\"0\"&$AE$44,$AE$44))","v":0},{"$f":"IFERROR(LEFT($AF$44,2),0)","v":"0"},{"$f":"IFERROR(RIGHT($AF$44,2),0)","v":"0"},{"$f":"IF(OR('Feuille de match'!$K$5=\"EXCELLENCE\",'Feuille de match'!$K$5=\"HONNEUR\",'Feuille de match'!$K$5=\"PROMOTIONNORD\",'Feuille de match'!$K$5=\"ADULTESDIVISION1NORD\",'Feuille de match'!$K$5=\"PROMOTIONSTRASBOURG\",'Feuille de match'!$K$5=\"PROMOTIONFINALE\"),'Feuille de match'!$Q$25,IF(OR('Feuille de match'!$K$5=\"MIXTESD1NORD\",'Feuille de match'!$K$5=\"MIXTESD1STRASBOURG\",'Feuille de match'!$K$5=\"VETERANSD1STRASBOURG\",'Feuille de match'!$K$5=\"VETERANSD2STRASBOURG\",'Feuille de match'!$K$5=\"VETERANSD1NORD\",'Feuille de match'!$K$5=\"VETERANSD2NORD\",'Feuille de match'!$K$5=\"JUNIORS\",'Feuille de match'!$K$5=\"CADETS\",'Feuille de match'!$K$5=\"MINIMESBENJAMINSPOUSSINS\",'Feuille de match'!$K$5=\"MIXTESD1FINALE\",'Feuille de match'!$K$5=\"VETERANSD1FINALE\",'Feuille de match'!$K$5=\"VETERANSD2FINALE\",'Feuille de match'!$K$5=\"JUNIORSFINALE\",'Feuille de match'!$K$5=\"CADETSFINALE\",'Feuille de match'!$K$5=\"MINIMESBENJAMINSPOUSSINSFINALE\"),\"0\",0))","v":0},{"$f":"IF(LEN($AI$44)=2,\"00\"&$AI$44,IF(LEN($AI$44)=3,\"0\"&$AI$44,$AI$44))","v":0},{"$f":"IFERROR(LEFT($AJ$44,2),0)","v":"0"},{"$f":"IFERROR(RIGHT($AJ$44,2),0)","v":"0"},null,null,null,null,{"$f":"IF(OR('Feuille de match'!$K$5=\"EXCELLENCE\",'Feuille de match'!$K$5=\"HONNEUR\",'Feuille de match'!$K$5=\"PROMOTIONNORD\",'Feuille de match'!$K$5=\"ADULTESDIVISION1NORD\",'Feuille de match'!$K$5=\"PROMOTIONSTRASBOURG\",'Feuille de match'!$K$5=\"PROMOTIONFINALE\"),'Feuille de match'!$Q$25,IF(OR('Feuille de match'!$K$5=\"MIXTESD1NORD\",'Feuille de match'!$K$5=\"MIXTESD1STRASBOURG\",'Feuille de match'!$K$5=\"VETERANSD1STRASBOURG\",'Feuille de match'!$K$5=\"VETERANSD2STRASBOURG\",'Feuille de match'!$K$5=\"VETERANSD1NORD\",'Feuille de match'!$K$5=\"VETERANSD2NORD\",'Feuille de match'!$K$5=\"JUNIORS\",'Feuille de match'!$K$5=\"CADETS\",'Feuille de match'!$K$5=\"MINIMESBENJAMINSPOUSSINS\",'Feuille de match'!$K$5=\"MIXTESD1FINALE\",'Feuille de match'!$K$5=\"VETERANSD1FINALE\",'Feuille de match'!$K$5=\"VETERANSD2FINALE\",'Feuille de match'!$K$5=\"JUNIORSFINALE\",'Feuille de match'!$K$5=\"CADETSFINALE\",'Feuille de match'!$K$5=\"MINIMESBENJAMINSPOUSSINSFINALE\"),\"0\",0))","v":0},{"$f":"IF(LEN($AQ$44)=2,\"00\"&$AQ$44,IF(LEN($AQ$44)=3,\"0\"&$AQ$44,$AQ$44))","v":0},{"$f":"IFERROR(RIGHT($AR$44,2),0)","v":"0"},{"$f":"IFERROR(LEFT($AR$44,2),0)","v":"0"},{"$f":"IF(OR('Feuille de match'!$K$5=\"EXCELLENCE\",'Feuille de match'!$K$5=\"HONNEUR\",'Feuille de match'!$K$5=\"PROMOTIONNORD\",'Feuille de match'!$K$5=\"ADULTESDIVISION1NORD\",'Feuille de match'!$K$5=\"PROMOTIONSTRASBOURG\",'Feuille de match'!$K$5=\"PROMOTIONFINALE\"),'Feuille de match'!$Q$26,IF(OR('Feuille de match'!$K$5=\"MIXTESD1NORD\",'Feuille de match'!$K$5=\"MIXTESD1STRASBOURG\",'Feuille de match'!$K$5=\"VETERANSD1STRASBOURG\",'Feuille de match'!$K$5=\"VETERANSD2STRASBOURG\",'Feuille de match'!$K$5=\"VETERANSD1NORD\",'Feuille de match'!$K$5=\"VETERANSD2NORD\",'Feuille de match'!$K$5=\"JUNIORS\",'Feuille de match'!$K$5=\"CADETS\",'Feuille de match'!$K$5=\"MINIMESBENJAMINSPOUSSINS\",'Feuille de match'!$K$5=\"MIXTESD1FINALE\",'Feuille de match'!$K$5=\"VETERANSD1FINALE\",'Feuille de match'!$K$5=\"VETERANSD2FINALE\",'Feuille de match'!$K$5=\"JUNIORSFINALE\",'Feuille de match'!$K$5=\"CADETSFINALE\",'Feuille de match'!$K$5=\"MINIMESBENJAMINSPOUSSINSFINALE\"),\"0\",0))","v":0},{"$f":"IF(LEN($AU$44)=2,\"00\"&$AU$44,IF(LEN($AU$44)=3,\"0\"&$AU$44,$AU$44))","v":0},{"$f":"IFERROR(RIGHT($AV$44,2),0)","v":"0"},{"$f":"IFERROR(LEFT($AV$44,2),0)","v":"0"},{"$f":"IF(OR('Feuille de match'!$K$5=\"EXCELLENCE\",'Feuille de match'!$K$5=\"HONNEUR\",'Feuille de match'!$K$5=\"PROMOTIONNORD\",'Feuille de match'!$K$5=\"ADULTESDIVISION1NORD\",'Feuille de match'!$K$5=\"PROMOTIONSTRASBOURG\",'Feuille de match'!$K$5=\"PROMOTIONFINALE\"),'Feuille de match'!$Q$24,IF(OR('Feuille de match'!$K$5=\"MIXTESD1NORD\",'Feuille de match'!$K$5=\"MIXTESD1STRASBOURG\",'Feuille de match'!$K$5=\"VETERANSD1STRASBOURG\",'Feuille de match'!$K$5=\"VETERANSD2STRASBOURG\",'Feuille de match'!$K$5=\"VETERANSD1NORD\",'Feuille de match'!$K$5=\"VETERANSD2NORD\",'Feuille de match'!$K$5=\"JUNIORS\",'Feuille de match'!$K$5=\"CADETS\",'Feuille de match'!$K$5=\"MINIMESBENJAMINSPOUSSINS\",'Feuille de match'!$K$5=\"MIXTESD1FINALE\",'Feuille de match'!$K$5=\"VETERANSD1FINALE\",'Feuille de match'!$K$5=\"VETERANSD2FINALE\",'Feuille de match'!$K$5=\"JUNIORSFINALE\",'Feuille de match'!$K$5=\"CADETSFINALE\",'Feuille de match'!$K$5=\"MINIMESBENJAMINSPOUSSINSFINALE\"),\"0\",0))","v":0},{"$f":"IF(LEN($AY$44)=2,\"00\"&$AY$44,IF(LEN($AY$44)=3,\"0\"&$AY$44,$AY$44))","v":0},{"$f":"IFERROR(RIGHT($AZ$44,2),0)","v":"0"},{"$f":"IFERROR(LEFT($AZ$44,2),0)","v":"0"},null,null,null,null,null,null,null,null,null,null,null,null,null,null,null,null,null,null,null,null,null,null,null,null,null,null,null,null,null,null,null,null,null,null,null,null,null,null,null,null,null,null,null,null,{"$f":"$G$7","v":"VETERANSD2STRASBOURG"},{"$f":"$P$3","v":0},"Jeudi","20H00","W,X","CADETSFINALE",1100,1100,1100,null,null,null,null,null,null,null,null,null,null,null,null,null,null,null,null,null,null,null,null,null,null,"VETERANSD2STRASBOURG0",{"$f":"$G$7","v":"VETERANSD2STRASBOURG"},{"$f":"$P$3","v":0},"Jeudi","20H00"]
[null,null,null,null,null,null,null,null,null,null,null,null,null,null,null,null,null,null,null,null,null,null,null,null,null,null,"Manche 6",null,null,null,"Manche 6",null,null,null,"Manche 6",null,null,null,null,null,null,null,"Manche 6",null,null,null,"Manche 6",null,null,null,"Manche 6",null,null,null,null,null,null,null,null,null,null,null,null,null,null,null,null,null,null,null,null,null,null,null,null,null,null,null,null,null,null,null,null,null,null,null,null,null,null,null,null,null,null,null,null,null,null,null,{"$f":"$G$7","v":"VETERANSD2STRASBOURG"},{"$f":"$P$4","v":"Amitié Lingolsheim 3"},"Mercredi","20H00","W,X","MINIMESBENJAMINSPOUSSINSFINALE",1100,1100,1100,null,null,null,null,null,null,null,null,null,null,null,null,null,null,null,null,null,null,null,null,null,null,"VETERANSD2STRASBOURGAmitié Lingolsheim 3",{"$f":"$G$7","v":"VETERANSD2STRASBOURG"},{"$f":"$P$4","v":"Amitié Lingolsheim 3"},"Mercredi","20H00"]
[null,null,null,null,null,null,null,null,null,null,null,null,null,null,null,null,null,null,null,null,null,null,null,null,null,null,{"$f":"IF(OR('Feuille de match'!$K$5=\"EXCELLENCE\",'Feuille de match'!$K$5=\"HONNEUR\",'Feuille de match'!$K$5=\"PROMOTIONNORD\",'Feuille de match'!$K$5=\"ADULTESDIVISION1NORD\",'Feuille de match'!$K$5=\"PROMOTIONSTRASBOURG\",'Feuille de match'!$K$5=\"PROMOTIONFINALE\"),'Feuille de match'!$R$26,IF(OR('Feuille de match'!$K$5=\"MIXTESD1NORD\",'Feuille de match'!$K$5=\"MIXTESD1STRASBOURG\",'Feuille de match'!$K$5=\"VETERANSD1STRASBOURG\",'Feuille de match'!$K$5=\"VETERANSD2STRASBOURG\",'Feuille de match'!$K$5=\"VETERANSD1NORD\",'Feuille de match'!$K$5=\"VETERANSD2NORD\",'Feuille de match'!$K$5=\"JUNIORS\",'Feuille de match'!$K$5=\"CADETS\",'Feuille de match'!$K$5=\"MINIMESBENJAMINSPOUSSINS\",'Feuille de match'!$K$5=\"MIXTESD1FINALE\",'Feuille de match'!$K$5=\"VETERANSD1FINALE\",'Feuille de match'!$K$5=\"VETERANSD2FINALE\",'Feuille de match'!$K$5=\"JUNIORSFINALE\",'Feuille de match'!$K$5=\"CADETSFINALE\",'Feuille de match'!$K$5=\"MINIMESBENJAMINSPOUSSINSFINALE\"),\"0\",0))","v":0},{"$f":"IF(LEN($AA$46)=2,\"00\"&$AA$46,IF(LEN($AA$46)=3,\"0\"&$AA$46,$AA$46))","v":0},{"$f":"IFERROR(LEFT($AB$46,2),0)","v":"0"},{"$f":"IFERROR(RIGHT($AB$46,2),0)","v":"0"},{"$f":"IF(OR('Feuille de match'!$K$5=\"EXCELLENCE\",'Feuille de match'!$K$5=\"HONNEUR\",'Feuille de match'!$K$5=\"PROMOTIONNORD\",'Feuille de match'!$K$5=\"ADULTESDIVISION1NORD\",'Feuille de match'!$K$5=\"PROMOTIONSTRASBOURG\",'Feuille de match'!$K$5=\"PROMOTIONFINALE\"),'Feuille de match'!$R$24,IF(OR('Feuille de match'!$K$5=\"MIXTESD1NORD\",'Feuille de match'!$K$5=\"MIXTESD1STRASBOURG\",'Feuille de match'!$K$5=\"VETERANSD1STRASBOURG\",'Feuille de match'!$K$5=\"VETERANSD2STRASBOURG\",'Feuille de match'!$K$5=\"VETERANSD1NORD\",'Feuille de match'!$K$5=\"VETERANSD2NORD\",'Feuille de match'!$K$5=\"JUNIORS\",'Feuille de match'!$K$5=\"CADETS\",'Feuille de match'!$K$5=\"MINIMESBENJAMINSPOUSSINS\",'Feuille de match'!$K$5=\"MIXTESD1FINALE\",'Feuille de match'!$K$5=\"VETERANSD1FINALE\",'Feuille de match'!$K$5=\"VETERANSD2FINALE\",'Feuille de match'!$K$5=\"JUNIORSFINALE\",'Feuille de match'!$K$5=\"CADETSFINALE\",'Feuille de match'!$K$5=\"MINIMESBENJAMINSPOUSSINSFINALE\"),\"0\",0))","v":0},{"$f":"IF(LEN($AE$46)=2,\"00\"&$AE$46,IF(LEN($AE$46)=3,\"0\"&$AE$46,$AE$46))","v":0},{"$f":"IFERROR(LEFT($AF$46,2),0)","v":"0"},{"$f":"IFERROR(RIGHT($AF$46,2),0)","v":"0"},{"$f":"IF(OR('Feuille de match'!$K$5=\"EXCELLENCE\",'Feuille de match'!$K$5=\"HONNEUR\",'Feuille de match'!$K$5=\"PROMOTIONNORD\",'Feuille de match'!$K$5=\"ADULTESDIVISION1NORD\",'Feuille de match'!$K$5=\"PROMOTIONSTRASBOURG\",'Feuille de match'!$K$5=\"PROMOTIONFINALE\"),'Feuille de match'!$R$25,IF(OR('Feuille de match'!$K$5=\"MIXTESD1NORD\",'Feuille de match'!$K$5=\"MIXTESD1STRASBOURG\",'Feuille de match'!$K$5=\"VETERANSD1STRASBOURG\",'Feuille de match'!$K$5=\"VETERANSD2STRASBOURG\",'Feuille de match'!$K$5=\"VETERANSD1NORD\",'Feuille de match'!$K$5=\"VETERANSD2NORD\",'Feuille de match'!$K$5=\"JUNIORS\",'Feuille de match'!$K$5=\"CADETS\",'Feuille de match'!$K$5=\"MINIMESBENJAMINSPOUSSINS\",'Feuille de match'!$K$5=\"MIXTESD1FINALE\",'Feuille de match'!$K$5=\"VETERANSD1FINALE\",'Feuille de match'!$K$5=\"VETERANSD2FINALE\",'Feuille de match'!$K$5=\"JUNIORSFINALE\",'Feuille de match'!$K$5=\"CADETSFINALE\",'Feuille de match'!$K$5=\"MINIMESBENJAMINSPOUSSINSFINALE\"),\"0\",0))","v":0},{"$f":"IF(LEN($AI$46)=2,\"00\"&$AI$46,IF(LEN($AI$46)=3,\"0\"&$AI$46,$AI$46))","v":0},{"$f":"IFERROR(LEFT($AJ$46,2),0)","v":"0"},{"$f":"IFERROR(RIGHT($AJ$46,2),0)","v":"0"},null,null,null,null,{"$f":"IF(OR('Feuille de match'!$K$5=\"EXCELLENCE\",'Feuille de match'!$K$5=\"HONNEUR\",'Feuille de match'!$K$5=\"PROMOTIONNORD\",'Feuille de match'!$K$5=\"ADULTESDIVISION1NORD\",'Feuille de match'!$K$5=\"PROMOTIONSTRASBOURG\",'Feuille de match'!$K$5=\"PROMOTIONFINALE\"),'Feuille de match'!$R$25,IF(OR('Feuille de match'!$K$5=\"MIXTESD1NORD\",'Feuille de match'!$K$5=\"MIXTESD1STRASBOURG\",'Feuille de match'!$K$5=\"VETERANSD1STRASBOURG\",'Feuille de match'!$K$5=\"VETERANSD2STRASBOURG\",'Feuille de match'!$K$5=\"VETERANSD1NORD\",'Feuille de match'!$K$5=\"VETERANSD2NORD\",'Feuille de match'!$K$5=\"JUNIORS\",'Feuille de match'!$K$5=\"CADETS\",'Feuille de match'!$K$5=\"MINIMESBENJAMINSPOUSSINS\",'Feuille de match'!$K$5=\"MIXTESD1FINALE\",'Feuille de match'!$K$5=\"VETERANSD1FINALE\",'Feuille de match'!$K$5=\"VETERANSD2FINALE\",'Feuille de match'!$K$5=\"JUNIORSFINALE\",'Feuille de match'!$K$5=\"CADETSFINALE\",'Feuille de match'!$K$5=\"MINIMESBENJAMINSPOUSSINSFINALE\"),\"0\",0))","v":0},{"$f":"IF(LEN($AQ$46)=2,\"00\"&$AQ$46,IF(LEN($AQ$46)=3,\"0\"&$AQ$46,$AQ$46))","v":0},{"$f":"IFERROR(RIGHT($AR$46,2),0)","v":"0"},{"$f":"IFERROR(LEFT($AR$46,2),0)","v":"0"},{"$f":"IF(OR('Feuille de match'!$K$5=\"EXCELLENCE\",'Feuille de match'!$K$5=\"HONNEUR\",'Feuille de match'!$K$5=\"PROMOTIONNORD\",'Feuille de match'!$K$5=\"ADULTESDIVISION1NORD\",'Feuille de match'!$K$5=\"PROMOTIONSTRASBOURG\",'Feuille de match'!$K$5=\"PROMOTIONFINALE\"),'Feuille de match'!$R$26,IF(OR('Feuille de match'!$K$5=\"MIXTESD1NORD\",'Feuille de match'!$K$5=\"MIXTESD1STRASBOURG\",'Feuille de match'!$K$5=\"VETERANSD1STRASBOURG\",'Feuille de match'!$K$5=\"VETERANSD2STRASBOURG\",'Feuille de match'!$K$5=\"VETERANSD1NORD\",'Feuille de match'!$K$5=\"VETERANSD2NORD\",'Feuille de match'!$K$5=\"JUNIORS\",'Feuille de match'!$K$5=\"CADETS\",'Feuille de match'!$K$5=\"MINIMESBENJAMINSPOUSSINS\",'Feuille de match'!$K$5=\"MIXTESD1FINALE\",'Feuille de match'!$K$5=\"VETERANSD1FINALE\",'Feuille de match'!$K$5=\"VETERANSD2FINALE\",'Feuille de match'!$K$5=\"JUNIORSFINALE\",'Feuille de match'!$K$5=\"CADETSFINALE\",'Feuille de match'!$K$5=\"MINIMESBENJAMINSPOUSSINSFINALE\"),\"0\",0))","v":0},{"$f":"IF(LEN($AU$46)=2,\"00\"&$AU$46,IF(LEN($AU$46)=3,\"0\"&$AU$46,$AU$46))","v":0},{"$f":"IFERROR(RIGHT($AV$46,2),0)","v":"0"},{"$f":"IFERROR(LEFT($AV$46,2),0)","v":"0"},{"$f":"IF(OR('Feuille de match'!$K$5=\"EXCELLENCE\",'Feuille de match'!$K$5=\"HONNEUR\",'Feuille de match'!$K$5=\"PROMOTIONNORD\",'Feuille de match'!$K$5=\"ADULTESDIVISION1NORD\",'Feuille de match'!$K$5=\"PROMOTIONSTRASBOURG\",'Feuille de match'!$K$5=\"PROMOTIONFINALE\"),'Feuille de match'!$R$24,IF(OR('Feuille de match'!$K$5=\"MIXTESD1NORD\",'Feuille de match'!$K$5=\"MIXTESD1STRASBOURG\",'Feuille de match'!$K$5=\"VETERANSD1STRASBOURG\",'Feuille de match'!$K$5=\"VETERANSD2STRASBOURG\",'Feuille de match'!$K$5=\"VETERANSD1NORD\",'Feuille de match'!$K$5=\"VETERANSD2NORD\",'Feuille de match'!$K$5=\"JUNIORS\",'Feuille de match'!$K$5=\"CADETS\",'Feuille de match'!$K$5=\"MINIMESBENJAMINSPOUSSINS\",'Feuille de match'!$K$5=\"MIXTESD1FINALE\",'Feuille de match'!$K$5=\"VETERANSD1FINALE\",'Feuille de match'!$K$5=\"VETERANSD2FINALE\",'Feuille de match'!$K$5=\"JUNIORSFINALE\",'Feuille de match'!$K$5=\"CADETSFINALE\",'Feuille de match'!$K$5=\"MINIMESBENJAMINSPOUSSINSFINALE\"),\"0\",0))","v":0},{"$f":"IF(LEN($AY$46)=2,\"00\"&$AY$46,IF(LEN($AY$46)=3,\"0\"&$AY$46,$AY$46))","v":0},{"$f":"IFERROR(RIGHT($AZ$46,2),0)","v":"0"},{"$f":"IFERROR(LEFT($AZ$46,2),0)","v":"0"},null,null,null,null,null,null,null,null,null,null,null,null,null,null,null,null,null,null,null,null,null,null,null,null,null,null,null,null,null,null,null,null,null,null,null,null,null,null,null,null,null,null,null,null,"VETERANSD2STRASBOURG",{"$f":"$P$5","v":"Amitié Lingolsheim 4"},"Mercredi","20H00",null,null,null,null,null,null,null,null,null,null,null,null,null,null,null,null,null,null,null,null,null,null,null,null,null,null,null,"VETERANSD2STRASBOURGAmitié Lingolsheim 4","VETERANSD2STRASBOURG",{"$f":"$P$5","v":"Amitié Lingolsheim 4"},"Mercredi","20H00"]
[null,null,null,null,null,null,null,null,null,null,null,null,null,null,null,null,null,null,null,null,null,null,null,null,null,null,"Manche 7",null,null,null,"Manche 7",null,null,null,"Manche 7",null,null,null,null,null,null,null,"Manche 7",null,null,null,"Manche 7",null,null,null,"Manche 7",null,null,null,null,null,null,null,null,null,null,null,null,null,null,null,null,null,null,null,null,null,null,null,null,null,null,null,null,null,null,null,null,null,null,null,null,null,null,null,null,null,null,null,null,null,null,null,"VETERANSD2STRASBOURG",{"$f":"$P$6","v":"Amitié Lingolsheim 5"},"Mercredi","20H00",null,null,null,null,null,null,null,null,null,null,null,null,null,null,null,null,null,null,null,null,null,null,null,null,null,null,null,"VETERANSD2STRASBOURGAmitié Lingolsheim 5","VETERANSD2STRASBOURG",{"$f":"$P$6","v":"Amitié Lingolsheim 5"},"Mercredi","20H00"]
[null,null,null,null,null,null,null,null,null,null,null,null,null,null,null,null,null,null,null,null,null,null,null,null,null,null,{"$f":"IF(OR('Feuille de match'!$K$5=\"EXCELLENCE\",'Feuille de match'!$K$5=\"HONNEUR\",'Feuille de match'!$K$5=\"PROMOTIONNORD\",'Feuille de match'!$K$5=\"ADULTESDIVISION1NORD\",'Feuille de match'!$K$5=\"PROMOTIONSTRASBOURG\",'Feuille de match'!$K$5=\"PROMOTIONFINALE\"),'Feuille de match'!$S$26,IF(OR('Feuille de match'!$K$5=\"MIXTESD1NORD\",'Feuille de match'!$K$5=\"MIXTESD1STRASBOURG\",'Feuille de match'!$K$5=\"VETERANSD1STRASBOURG\",'Feuille de match'!$K$5=\"VETERANSD2STRASBOURG\",'Feuille de match'!$K$5=\"VETERANSD1NORD\",'Feuille de match'!$K$5=\"VETERANSD2NORD\",'Feuille de match'!$K$5=\"JUNIORS\",'Feuille de match'!$K$5=\"CADETS\",'Feuille de match'!$K$5=\"MINIMESBENJAMINSPOUSSINS\",'Feuille de match'!$K$5=\"MIXTESD1FINALE\",'Feuille de match'!$K$5=\"VETERANSD1FINALE\",'Feuille de match'!$K$5=\"VETERANSD2FINALE\",'Feuille de match'!$K$5=\"JUNIORSFINALE\",'Feuille de match'!$K$5=\"CADETSFINALE\",'Feuille de match'!$K$5=\"MINIMESBENJAMINSPOUSSINSFINALE\"),\"0\",0))","v":0},{"$f":"IF(LEN($AA$48)=2,\"00\"&$AA$48,IF(LEN($AA$48)=3,\"0\"&$AA$48,$AA$48))","v":0},{"$f":"IFERROR(LEFT($AB$48,2),0)","v":"0"},{"$f":"IFERROR(RIGHT($AB$48,2),0)","v":"0"},{"$f":"IF(OR('Feuille de match'!$K$5=\"EXCELLENCE\",'Feuille de match'!$K$5=\"HONNEUR\",'Feuille de match'!$K$5=\"PROMOTIONNORD\",'Feuille de match'!$K$5=\"ADULTESDIVISION1NORD\",'Feuille de match'!$K$5=\"PROMOTIONSTRASBOURG\",'Feuille de match'!$K$5=\"PROMOTIONFINALE\"),'Feuille de match'!$S$24,IF(OR('Feuille de match'!$K$5=\"MIXTESD1NORD\",'Feuille de match'!$K$5=\"MIXTESD1STRASBOURG\",'Feuille de match'!$K$5=\"VETERANSD1STRASBOURG\",'Feuille de match'!$K$5=\"VETERANSD2STRASBOURG\",'Feuille de match'!$K$5=\"VETERANSD1NORD\",'Feuille de match'!$K$5=\"VETERANSD2NORD\",'Feuille de match'!$K$5=\"JUNIORS\",'Feuille de match'!$K$5=\"CADETS\",'Feuille de match'!$K$5=\"MINIMESBENJAMINSPOUSSINS\",'Feuille de match'!$K$5=\"MIXTESD1FINALE\",'Feuille de match'!$K$5=\"VETERANSD1FINALE\",'Feuille de match'!$K$5=\"VETERANSD2FINALE\",'Feuille de match'!$K$5=\"JUNIORSFINALE\",'Feuille de match'!$K$5=\"CADETSFINALE\",'Feuille de match'!$K$5=\"MINIMESBENJAMINSPOUSSINSFINALE\"),\"0\",0))","v":0},{"$f":"IF(LEN($AE$48)=2,\"00\"&$AE$48,IF(LEN($AE$48)=3,\"0\"&$AE$48,$AE$48))","v":0},{"$f":"IFERROR(LEFT($AF$48,2),0)","v":"0"},{"$f":"IFERROR(RIGHT($AF$48,2),0)","v":"0"},{"$f":"IF(OR('Feuille de match'!$K$5=\"EXCELLENCE\",'Feuille de match'!$K$5=\"HONNEUR\",'Feuille de match'!$K$5=\"PROMOTIONNORD\",'Feuille de match'!$K$5=\"ADULTESDIVISION1NORD\",'Feuille de match'!$K$5=\"PROMOTIONSTRASBOURG\",'Feuille de match'!$K$5=\"PROMOTIONFINALE\"),'Feuille de match'!$S$25,IF(OR('Feuille de match'!$K$5=\"MIXTESD1NORD\",'Feuille de match'!$K$5=\"MIXTESD1STRASBOURG\",'Feuille de match'!$K$5=\"VETERANSD1STRASBOURG\",'Feuille de match'!$K$5=\"VETERANSD2STRASBOURG\",'Feuille de match'!$K$5=\"VETERANSD1NORD\",'Feuille de match'!$K$5=\"VETERANSD2NORD\",'Feuille de match'!$K$5=\"JUNIORS\",'Feuille de match'!$K$5=\"CADETS\",'Feuille de match'!$K$5=\"MINIMESBENJAMINSPOUSSINS\",'Feuille de match'!$K$5=\"MIXTESD1FINALE\",'Feuille de match'!$K$5=\"VETERANSD1FINALE\",'Feuille de match'!$K$5=\"VETERANSD2FINALE\",'Feuille de match'!$K$5=\"JUNIORSFINALE\",'Feuille de match'!$K$5=\"CADETSFINALE\",'Feuille de match'!$K$5=\"MINIMESBENJAMINSPOUSSINSFINALE\"),\"0\",0))","v":0},{"$f":"IF(LEN($AI$48)=2,\"00\"&$AI$48,IF(LEN($AI$48)=3,\"0\"&$AI$48,$AI$48))","v":0},{"$f":"IFERROR(LEFT($AJ$48,2),0)","v":"0"},{"$f":"IFERROR(RIGHT($AJ$48,2),0)","v":"0"},null,null,null,null,{"$f":"IF(OR('Feuille de match'!$K$5=\"EXCELLENCE\",'Feuille de match'!$K$5=\"HONNEUR\",'Feuille de match'!$K$5=\"PROMOTIONNORD\",'Feuille de match'!$K$5=\"ADULTESDIVISION1NORD\",'Feuille de match'!$K$5=\"PROMOTIONSTRASBOURG\",'Feuille de match'!$K$5=\"PROMOTIONFINALE\"),'Feuille de match'!$S$25,IF(OR('Feuille de match'!$K$5=\"MIXTESD1NORD\",'Feuille de match'!$K$5=\"MIXTESD1STRASBOURG\",'Feuille de match'!$K$5=\"VETERANSD1STRASBOURG\",'Feuille de match'!$K$5=\"VETERANSD2STRASBOURG\",'Feuille de match'!$K$5=\"VETERANSD1NORD\",'Feuille de match'!$K$5=\"VETERANSD2NORD\",'Feuille de match'!$K$5=\"JUNIORS\",'Feuille de match'!$K$5=\"CADETS\",'Feuille de match'!$K$5=\"MINIMESBENJAMINSPOUSSINS\",'Feuille de match'!$K$5=\"MIXTESD1FINALE\",'Feuille de match'!$K$5=\"VETERANSD1FINALE\",'Feuille de match'!$K$5=\"VETERANSD2FINALE\",'Feuille de match'!$K$5=\"JUNIORSFINALE\",'Feuille de match'!$K$5=\"CADETSFINALE\",'Feuille de match'!$K$5=\"MINIMESBENJAMINSPOUSSINSFINALE\"),\"0\",0))","v":0},{"$f":"IF(LEN($AQ$48)=2,\"00\"&$AQ$48,IF(LEN($AQ$48)=3,\"0\"&$AQ$48,$AQ$48))","v":0},{"$f":"IFERROR(RIGHT($AR$48,2),0)","v":"0"},{"$f":"IFERROR(LEFT($AR$48,2),0)","v":"0"},{"$f":"IF(OR('Feuille de match'!$K$5=\"EXCELLENCE\",'Feuille de match'!$K$5=\"HONNEUR\",'Feuille de match'!$K$5=\"PROMOTIONNORD\",'Feuille de match'!$K$5=\"ADULTESDIVISION1NORD\",'Feuille de match'!$K$5=\"PROMOTIONSTRASBOURG\",'Feuille de match'!$K$5=\"PROMOTIONFINALE\"),'Feuille de match'!$S$26,IF(OR('Feuille de match'!$K$5=\"MIXTESD1NORD\",'Feuille de match'!$K$5=\"MIXTESD1STRASBOURG\",'Feuille de match'!$K$5=\"VETERANSD1STRASBOURG\",'Feuille de match'!$K$5=\"VETERANSD2STRASBOURG\",'Feuille de match'!$K$5=\"VETERANSD1NORD\",'Feuille de match'!$K$5=\"VETERANSD2NORD\",'Feuille de match'!$K$5=\"JUNIORS\",'Feuille de match'!$K$5=\"CADETS\",'Feuille de match'!$K$5=\"MINIMESBENJAMINSPOUSSINS\",'Feuille de match'!$K$5=\"MIXTESD1FINALE\",'Feuille de match'!$K$5=\"VETERANSD1FINALE\",'Feuille de match'!$K$5=\"VETERANSD2FINALE\",'Feuille de match'!$K$5=\"JUNIORSFINALE\",'Feuille de match'!$K$5=\"CADETSFINALE\",'Feuille de match'!$K$5=\"MINIMESBENJAMINSPOUSSINSFINALE\"),\"0\",0))","v":0},{"$f":"IF(LEN($AU$48)=2,\"00\"&$AU$48,IF(LEN($AU$48)=3,\"0\"&$AU$48,$AU$48))","v":0},{"$f":"IFERROR(RIGHT($AV$48,2),0)","v":"0"},{"$f":"IFERROR(LEFT($AV$48,2),0)","v":"0"},{"$f":"IF(OR('Feuille de match'!$K$5=\"EXCELLENCE\",'Feuille de match'!$K$5=\"HONNEUR\",'Feuille de match'!$K$5=\"PROMOTIONNORD\",'Feuille de match'!$K$5=\"ADULTESDIVISION1NORD\",'Feuille de match'!$K$5=\"PROMOTIONSTRASBOURG\",'Feuille de match'!$K$5=\"PROMOTIONFINALE\"),'Feuille de match'!$S$24,IF(OR('Feuille de match'!$K$5=\"MIXTESD1NORD\",'Feuille de match'!$K$5=\"MIXTESD1STRASBOURG\",'Feuille de match'!$K$5=\"VETERANSD1STRASBOURG\",'Feuille de match'!$K$5=\"VETERANSD2STRASBOURG\",'Feuille de match'!$K$5=\"VETERANSD1NORD\",'Feuille de match'!$K$5=\"VETERANSD2NORD\",'Feuille de match'!$K$5=\"JUNIORS\",'Feuille de match'!$K$5=\"CADETS\",'Feuille de match'!$K$5=\"MINIMESBENJAMINSPOUSSINS\",'Feuille de match'!$K$5=\"MIXTESD1FINALE\",'Feuille de match'!$K$5=\"VETERANSD1FINALE\",'Feuille de match'!$K$5=\"VETERANSD2FINALE\",'Feuille de match'!$K$5=\"JUNIORSFINALE\",'Feuille de match'!$K$5=\"CADETSFINALE\",'Feuille de match'!$K$5=\"MINIMESBENJAMINSPOUSSINSFINALE\"),\"0\",0))","v":0},{"$f":"IF(LEN($AY$48)=2,\"00\"&$AY$48,IF(LEN($AY$48)=3,\"0\"&$AY$48,$AY$48))","v":0},{"$f":"IFERROR(RIGHT($AZ$48,2),0)","v":"0"},{"$f":"IFERROR(LEFT($AZ$48,2),0)","v":"0"},null,null,null,null,null,null,null,null,null,null,null,null,null,null,null,null,null,null,null,null,null,null,null,null,null,null,null,null,null,null,null,null,null,null,null,null,null,null,null,null,null,null,null,null,"VETERANSD2STRASBOURG",{"$f":"$P$7","v":"AS Electricité Strasbourg 2"},"Mercredi","20H00",null,null,null,null,null,null,null,null,null,null,null,null,null,null,null,null,null,null,null,null,null,null,null,null,null,null,null,"VETERANSD2STRASBOURGAS Electricité Strasbourg 2","VETERANSD2STRASBOURG",{"$f":"$P$7","v":"AS Electricité Strasbourg 2"},"Mercredi","20H00"]
[null,null,null,null,null,null,null,null,null,null,null,null,null,null,null,null,null,null,null,null,null,null,null,null,null,null,null,null,null,null,null,null,null,null,null,null,null,null,null,null,null,null,null,null,null,null,null,null,null,null,null,null,null,null,null,null,null,null,null,null,null,null,null,null,null,null,null,null,null,null,null,null,null,null,null,null,null,null,null,null,null,null,null,null,null,null,null,null,null,null,null,null,null,null,null,null,null,null,"VETERANSD2STRASBOURG",{"$f":"$P$8","v":"UT AURORA Schilt.-B. 2"},"Jeudi","20H00",null,null,null,null,null,null,null,null,null,null,null,null,null,null,null,null,null,null,null,null,null,null,null,null,null,null,null,"VETERANSD2STRASBOURGUT AURORA Schilt.-B. 2","VETERANSD2STRASBOURG",{"$f":"$P$8","v":"UT AURORA Schilt.-B. 2"},"Jeudi","20H00"]
[null,null,null,null,null,null,null,null,null,null,null,null,null,null,null,null,null,null,null,null,null,null,null,null,null,null,null,null,null,null,null,null,null,null,null,null,null,null,null,null,null,null,null,null,null,null,null,null,null,null,null,null,null,null,null,null,null,null,null,null,null,null,null,null,null,null,null,null,null,null,null,null,null,null,null,null,null,null,null,null,null,null,null,null,null,null,null,null,null,null,null,null,null,null,null,null,null,null,{"$f":"$G$9","v":"VETERANSD1NORD"},{"$f":"$M$3","v":"Liberté Dettwiller 1"},"Mercredi","20H00",null,null,null,null,null,null,null,null,null,null,null,null,null,null,null,null,null,null,null,null,null,null,null,null,null,null,null,"VETERANSD1NORDLiberté Dettwiller 1",{"$f":"$G$9","v":"VETERANSD1NORD"},{"$f":"$M$3","v":"Liberté Dettwiller 1"},"Mercredi","20H00"]
[null,null,null,null,null,null,null,null,null,null,null,null,null,null,null,null,null,null,null,null,null,null,null,null,null,null,null,null,null,null,null,null,null,null,null,null,null,null,null,null,null,null,null,null,null,null,null,null,null,null,null,null,null,null,null,null,null,null,null,null,null,null,null,null,null,null,null,null,null,null,null,null,null,null,null,null,null,null,null,null,null,null,null,null,null,null,null,null,null,null,null,null,null,null,null,null,null,null,{"$f":"$G$9","v":"VETERANSD1NORD"},{"$f":"$M$4","v":"CP Zutzendorf 1"},"Jeudi","20H00",null,null,null,null,null,null,null,null,null,null,null,null,null,null,null,null,null,null,null,null,null,null,null,null,null,null,null,"VETERANSD1NORDCP Zutzendorf 1",{"$f":"$G$9","v":"VETERANSD1NORD"},{"$f":"$M$4","v":"CP Zutzendorf 1"},"Jeudi","20H00"]
[null,null,null,null,null,null,null,null,null,null,null,null,null,null,null,null,null,null,null,null,null,null,null,null,null,null,null,null,null,null,null,null,null,null,null,null,null,null,null,null,null,null,null,null,null,null,null,null,null,null,null,null,null,null,null,null,null,null,null,null,null,null,null,null,null,null,null,null,null,null,null,null,null,null,null,null,null,null,null,null,null,null,null,null,null,null,null,null,null,null,null,null,null,null,null,null,null,null,"VETERANSD1NORD",{"$f":"$M$5","v":"Hanau TT 1"},"Mardi","20H00",null,null,null,null,null,null,null,null,null,null,null,null,null,null,null,null,null,null,null,null,null,null,null,null,null,null,null,"VETERANSD1NORDHanau TT 1","VETERANSD1NORD",{"$f":"$M$5","v":"Hanau TT 1"},"Mardi","20H00"]
[null,null,null,null,null,null,null,null,null,null,null,null,null,null,null,null,null,null,null,null,null,null,null,null,null,null,null,null,null,null,null,null,null,null,null,null,null,null,null,null,null,null,null,null,null,null,null,null,null,null,null,null,null,null,null,null,null,null,null,null,null,null,null,null,null,null,null,null,null,null,null,null,null,null,null,null,null,null,null,null,null,null,null,null,null,null,null,null,null,null,null,null,null,null,null,null,null,null,"VETERANSD1NORD",{"$f":"$M$6","v":"CLTT Menchhoffen 1"},"Jeudi","20H00",null,null,null,null,null,null,null,null,null,null,null,null,null,null,null,null,null,null,null,null,null,null,null,null,null,null,null,"VETERANSD1NORDCLTT Menchhoffen 1","VETERANSD1NORD",{"$f":"$M$6","v":"CLTT Menchhoffen 1"},"Jeudi","20H00"]
[null,null,null,null,null,null,null,null,null,null,null,null,null,null,null,null,null,null,null,null,null,null,null,null,null,null,null,null,null,null,null,null,null,null,null,null,null,null,null,null,null,null,null,null,null,null,null,null,null,null,null,null,null,null,null,null,null,null,null,null,null,null,null,null,null,null,null,null,null,null,null,null,null,null,null,null,null,null,null,null,null,null,null,null,null,null,null,null,null,null,null,null,null,null,null,null,null,null,"VETERANSD1NORD",{"$f":"$M$7","v":"CS Tricolore Saverne 1"},"Vendredi","20H00",null,null,null,null,null,null,null,null,null,null,null,null,null,null,null,null,null,null,null,null,null,null,null,null,null,null,null,"VETERANSD1NORDCS Tricolore Saverne 1","VETERANSD1NORD",{"$f":"$M$7","v":"CS Tricolore Saverne 1"},"Vendredi","20H00"]
[null,null,null,null,null,null,null,null,null,null,null,null,null,null,null,null,null,null,null,null,null,null,null,null,null,null,null,null,null,null,null,null,null,null,null,null,null,null,null,null,null,null,null,null,null,null,null,null,null,null,null,null,null,null,null,null,null,null,null,null,null,null,null,null,null,null,null,null,null,null,null,null,null,null,null,null,null,null,null,null,null,null,null,null,null,null,null,null,null,null,null,null,null,null,null,null,null,null,"VETERANSD1NORD",{"$f":"$M$8","v":"CTT 77 Val de Moder 1"},"Jeudi","19H30",null,null,null,null,null,null,null,null,null,null,null,null,null,null,null,null,null,null,null,null,null,null,null,null,null,null,null,"VETERANSD1NORDCTT 77 Val de Moder 1","VETERANSD1NORD",{"$f":"$M$8","v":"CTT 77 Val de Moder 1"},"Jeudi","19H30"]
[null,null,null,null,null,null,null,null,null,null,null,null,null,null,null,null,null,null,null,null,null,null,null,null,null,null,null,null,null,null,null,null,null,null,null,null,null,null,null,null,null,null,null,null,null,null,null,null,null,null,null,null,null,null,null,null,null,null,null,null,null,null,null,null,null,null,null,null,null,null,null,null,null,null,null,null,null,null,null,null,null,null,null,null,null,null,null,null,null,null,null,null,null,null,null,null,null,null,"VETERANSD1NORD",{"$f":"$M$9","v":"CTT 77 Val de Moder 2"},"Lundi","20H00",null,null,null,null,null,null,null,null,null,null,null,null,null,null,null,null,null,null,null,null,null,null,null,null,null,null,null,"VETERANSD1NORDCTT 77 Val de Moder 2","VETERANSD1NORD",{"$f":"$M$9","v":"CTT 77 Val de Moder 2"},"Lundi","20H00"]
[null,null,null,null,null,null,null,null,null,null,null,null,null,null,null,null,null,null,null,null,null,null,null,null,null,null,null,null,null,null,null,null,null,null,null,null,null,null,null,null,null,null,null,null,null,null,null,null,null,null,null,null,null,null,null,null,null,null,null,null,null,null,null,null,null,null,null,null,null,null,null,null,null,null,null,null,null,null,null,null,null,null,null,null,null,null,null,null,null,null,null,null,null,null,null,null,null,null,"VETERANSD1NORD",{"$f":"$M$10","v":"ASP Gottenhouse 1"},"Mardi","20H00",null,null,null,null,null,null,null,null,null,null,null,null,null,null,null,null,null,null,null,null,null,null,null,null,null,null,null,"VETERANSD1NORDASP Gottenhouse 1","VETERANSD1NORD",{"$f":"$M$10","v":"ASP Gottenhouse 1"},"Mardi","20H00"]
[null,null,null,null,null,null,null,null,null,null,null,null,null,null,null,null,null,null,null,null,null,null,null,null,null,null,null,null,null,null,null,null,null,null,null,null,null,null,null,null,null,null,null,null,null,null,null,null,null,null,null,null,null,null,null,null,null,null,null,null,null,null,null,null,null,null,null,null,null,null,null,null,null,null,null,null,null,null,null,null,null,null,null,null,null,null,null,null,null,null,null,null,null,null,null,null,null,null,{"$f":"$G$10","v":"VETERANSD2NORD"},{"$f":"$N$3","v":"MJC Kirrwiller 1"},"Jeudi","20H00",null,null,null,null,null,null,null,null,null,null,null,null,null,null,null,null,null,null,null,null,null,null,null,null,null,null,null,"VETERANSD2NORDMJC Kirrwiller 1",{"$f":"$G$10","v":"VETERANSD2NORD"},{"$f":"$N$3","v":"MJC Kirrwiller 1"},"Jeudi","20H00"]
[null,null,null,null,null,null,null,null,null,null,null,null,null,null,null,null,null,null,null,null,null,null,null,null,null,null,null,null,null,null,null,null,null,null,null,null,null,null,null,null,null,null,null,null,null,null,null,null,null,null,null,null,null,null,null,null,null,null,null,null,null,null,null,null,null,null,null,null,null,null,null,null,null,null,null,null,null,null,null,null,null,null,null,null,null,null,null,null,null,null,null,null,null,null,null,null,null,null,{"$f":"$G$10","v":"VETERANSD2NORD"},{"$f":"$N$4","v":"MJC Kirrwiller 2"},"Jeudi","20H00",null,null,null,null,null,null,null,null,null,null,null,null,null,null,null,null,null,null,null,null,null,null,null,null,null,null,null,"VETERANSD2NORDMJC Kirrwiller 2",{"$f":"$G$10","v":"VETERANSD2NORD"},{"$f":"$N$4","v":"MJC Kirrwiller 2"},"Jeudi","20H00"]
[null,null,null,null,null,null,null,null,null,null,null,null,null,null,null,null,null,null,null,null,null,null,null,null,null,null,null,null,null,null,null,null,null,null,null,null,null,null,null,null,null,null,null,null,null,null,null,null,null,null,null,null,null,null,null,null,null,null,null,null,null,null,null,null,null,null,null,null,null,null,null,null,null,null,null,null,null,null,null,null,null,null,null,null,null,null,null,null,null,null,null,null,null,null,null,null,null,null,"VETERANSD2NORD",{"$f":"$N$5","v":"CLTT Menchhoffen 2"},"Jeudi","20H00",null,null,null,null,null,null,null,null,null,null,null,null,null,null,null,null,null,null,null,null,null,null,null,null,null,null,null,"VETERANSD2NORDCLTT Menchhoffen 2","VETERANSD2NORD",{"$f":"$N$5","v":"CLTT Menchhoffen 2"},"Jeudi","20H00"]
[null,null,null,null,null,null,null,null,null,null,null,null,null,null,null,null,null,null,null,null,null,null,null,null,null,null,null,null,null,null,null,null,null,null,null,null,null,null,null,null,null,null,null,null,null,null,null,null,null,null,null,null,null,null,null,null,null,null,null,null,null,null,null,null,null,null,null,null,null,null,null,null,null,null,null,null,null,null,null,null,null,null,null,null,null,null,null,null,null,null,null,null,null,null,null,null,null,null,"VETERANSD2NORD",{"$f":"$N$6","v":"CLTT Menchhoffen 3"},"Jeudi","20H00",null,null,null,null,null,null,null,null,null,null,null,null,null,null,null,null,null,null,null,null,null,null,null,null,null,null,null,"VETERANSD2NORDCLTT Menchhoffen 3","VETERANSD2NORD",{"$f":"$N$6","v":"CLTT Menchhoffen 3"},"Jeudi","20H00"]
[null,null,null,null,null,null,null,null,null,null,null,null,null,null,null,null,null,null,null,null,null,null,null,null,null,null,null,null,null,null,null,null,null,null,null,null,null,null,null,null,null,null,null,null,null,null,null,null,null,null,null,null,null,null,null,null,null,null,null,null,null,null,null,null,null,null,null,null,null,null,null,null,null,null,null,null,null,null,null,null,null,null,null,null,null,null,null,null,null,null,null,null,null,null,null,null,null,null,"VETERANSD2NORD",{"$f":"$N$7","v":"CS Tricolore Saverne 2"},"Vendredi","20H30",null,null,null,null,null,null,null,null,null,null,null,null,null,null,null,null,null,null,null,null,null,null,null,null,null,null,null,"VETERANSD2NORDCS Tricolore Saverne 2","VETERANSD2NORD",{"$f":"$N$7","v":"CS Tricolore Saverne 2"},"Vendredi","20H30"]
[null,null,null,null,null,null,null,null,null,null,null,null,null,null,null,null,null,null,null,null,null,null,null,null,null,null,null,null,null,null,null,null,null,null,null,null,null,null,null,null,null,null,null,null,null,null,null,null,null,null,null,null,null,null,null,null,null,null,null,null,null,null,null,null,null,null,null,null,null,null,null,null,null,null,null,null,null,null,null,null,null,null,null,null,null,null,null,null,null,null,null,null,null,null,null,null,null,null,"VETERANSD2NORD",{"$f":"$N$8","v":"CS Tricolore Saverne 3"},"Vendredi","20H30",null,null,null,null,null,null,null,null,null,null,null,null,null,null,null,null,null,null,null,null,null,null,null,null,null,null,null,"VETERANSD2NORDCS Tricolore Saverne 3","VETERANSD2NORD",{"$f":"$N$8","v":"CS Tricolore Saverne 3"},"Vendredi","20H30"]
[null,null,null,null,null,null,null,null,null,null,null,null,null,null,null,null,null,null,null,null,null,null,null,null,null,null,null,null,null,null,null,null,null,null,null,null,null,null,null,null,null,null,null,null,null,null,null,null,null,null,null,null,null,null,null,null,null,null,null,null,null,null,null,null,null,null,null,null,null,null,null,null,null,null,null,null,null,null,null,null,null,null,null,null,null,null,null,null,null,null,null,null,null,null,null,null,null,null,"VETERANSD2NORD",{"$f":"$N$9","v":"CTT 77 Val de Moder 3"},"Jeudi","19H30",null,null,null,null,null,null,null,null,null,null,null,null,null,null,null,null,null,null,null,null,null,null,null,null,null,null,null,"VETERANSD2NORDCTT 77 Val de Moder 3","VETERANSD2NORD",{"$f":"$N$9","v":"CTT 77 Val de Moder 3"},"Jeudi","19H30"]
[null,null,null,null,null,null,null,null,null,null,null,null,null,null,null,null,null,null,null,null,null,null,null,null,null,null,null,null,null,null,null,null,null,null,null,null,null,null,null,null,null,null,null,null,null,null,null,null,null,null,null,null,null,null,null,null,null,null,null,null,null,null,null,null,null,null,null,null,null,null,null,null,null,null,null,null,null,null,null,null,null,null,null,null,null,null,null,null,null,null,null,null,null,null,null,null,null,null,"VETERANSD2NORD",{"$f":"$N$10","v":"Liberté Dettwiller 2"},"Jeudi","20H00",null,null,null,null,null,null,null,null,null,null,null,null,null,null,null,null,null,null,null,null,null,null,null,null,null,null,null,"VETERANSD2NORDLiberté Dettwiller 2","VETERANSD2NORD",{"$f":"$N$10","v":"Liberté Dettwiller 2"},"Jeudi","20H00"]
[null,null,null,null,null,null,null,null,null,null,null,null,null,null,null,null,null,null,null,null,null,null,null,null,null,null,null,null,null,null,null,null,null,null,null,null,null,null,null,null,null,null,null,null,null,null,null,null,null,null,null,null,null,null,null,null,null,null,null,null,null,null,null,null,null,null,null,null,null,null,null,null,null,null,null,null,null,null,null,null,null,null,null,null,null,null,null,null,null,null,null,null,null,null,null,null,null,null,{"$f":"$G$5","v":"MIXTESD1STRASBOURG"},{"$f":"$R$3","v":"UT AURORA Schilt.-B. 1"},"Lundi","20H00",null,null,null,null,null,null,null,null,null,null,null,null,null,null,null,null,null,null,null,null,null,null,null,null,null,null,null,"MIXTESD1STRASBOURGUT AURORA Schilt.-B. 1",{"$f":"$G$5","v":"MIXTESD1STRASBOURG"},{"$f":"$R$3","v":"UT AURORA Schilt.-B. 1"},"Lundi","20H00"]
[null,null,null,null,null,null,null,null,null,null,null,null,null,null,null,null,null,null,null,null,null,null,null,null,null,null,null,null,null,null,null,null,null,null,null,null,null,null,null,null,null,null,null,null,null,null,null,null,null,null,null,null,null,null,null,null,null,null,null,null,null,null,null,null,null,null,null,null,null,null,null,null,null,null,null,null,null,null,null,null,null,null,null,null,null,null,null,null,null,null,null,null,null,null,null,null,null,null,{"$f":"$G$5","v":"MIXTESD1STRASBOURG"},{"$f":"$R$4","v":"Amitié Lingolsheim 1"},"Vendredi","20H00",null,null,null,null,null,null,null,null,null,null,null,null,null,null,null,null,null,null,null,null,null,null,null,null,null,null,null,"MIXTESD1STRASBOURGAmitié Lingolsheim 1",{"$f":"$G$5","v":"MIXTESD1STRASBOURG"},{"$f":"$R$4","v":"Amitié Lingolsheim 1"},"Vendredi","20H00"]
[null,null,null,null,null,null,null,null,null,null,null,null,null,null,null,null,null,null,null,null,null,null,null,null,null,null,null,null,null,null,null,null,null,null,null,null,null,null,null,null,null,null,null,null,null,null,null,null,null,null,null,null,null,null,null,null,null,null,null,null,null,null,null,null,null,null,null,null,null,null,null,null,null,null,null,null,null,null,null,null,null,null,null,null,null,null,null,null,null,null,null,null,null,null,null,null,null,null,"MIXTESD1STRASBOURG",{"$f":"$R$5","v":"Amitié Lingolsheim 2"},"Lundi","20H00",null,null,null,null,null,null,null,null,null,null,null,null,null,null,null,null,null,null,null,null,null,null,null,null,null,null,null,{"$f":"EA68&EB68","v":"MIXTESD1STRASBOURGAmitié Lingolsheim 2"},"MIXTESD1STRASBOURG",{"$f":"$R$5","v":"Amitié Lingolsheim 2"},"Lundi","20H00"]
[null,null,null,null,null,null,null,null,null,null,null,null,null,null,null,null,null,null,null,null,null,null,null,null,null,null,null,null,null,null,null,null,null,null,null,null,null,null,null,null,null,null,null,null,null,null,null,null,null,null,null,null,null,null,null,null,null,null,null,null,null,null,null,null,null,null,null,null,null,null,null,null,null,null,null,null,null,null,null,null,null,null,null,null,null,null,null,null,null,null,null,null,null,null,null,null,null,null,"MIXTESD1STRASBOURG",{"$f":"$R$6","v":"Amitié Lingolsheim 3"},"Vendredi","20H00",null,null,null,null,null,null,null,null,null,null,null,null,null,null,null,null,null,null,null,null,null,null,null,null,null,null,null,"MIXTESD1STRASBOURGAmitié Lingolsheim 3","MIXTESD1STRASBOURG",{"$f":"$R$6","v":"Amitié Lingolsheim 3"},"Vendredi","20H00"]
[null,null,null,null,null,null,null,null,null,null,null,null,null,null,null,null,null,null,null,null,null,null,null,null,null,null,null,null,null,null,null,null,null,null,null,null,null,null,null,null,null,null,null,null,null,null,null,null,null,null,null,null,null,null,null,null,null,null,null,null,null,null,null,null,null,null,null,null,null,null,null,null,null,null,null,null,null,null,null,null,null,null,null,null,null,null,null,null,null,null,null,null,null,null,null,null,null,null,"MIXTESD1STRASBOURG",{"$f":"$R$7","v":"AS Electricité Strasbourg 1"},"Lundi","20H00",null,null,null,null,null,null,null,null,null,null,null,null,null,null,null,null,null,null,null,null,null,null,null,null,null,null,null,"MIXTESD1STRASBOURGAS Electricité Strasbourg 1","MIXTESD1STRASBOURG",{"$f":"$R$7","v":"AS Electricité Strasbourg 1"},"Lundi","20H00"]
[null,null,null,null,null,null,null,null,null,null,null,null,null,null,null,null,null,null,null,null,null,null,null,null,null,null,null,null,null,null,null,null,null,null,null,null,null,null,null,null,null,null,null,null,null,null,null,null,null,null,null,null,null,null,null,null,null,null,null,null,null,null,null,null,null,null,null,null,null,null,null,null,null,null,null,null,null,null,null,null,null,null,null,null,null,null,null,null,null,null,null,null,null,null,null,null,null,null,{"$f":"$G$5","v":"MIXTESD1STRASBOURG"},{"$f":"$R$8","v":0},"Vendredi","20H00",null,null,null,null,null,null,null,null,null,null,null,null,null,null,null,null,null,null,null,null,null,null,null,null,null,null,null,"MIXTESD1STRASBOURG0",{"$f":"$G$5","v":"MIXTESD1STRASBOURG"},{"$f":"$R$8","v":0},"Vendredi","20H00"]
[null,null,null,null,null,null,null,null,null,null,null,null,null,null,null,null,null,null,null,null,null,null,null,null,null,null,null,null,null,null,null,null,null,null,null,null,null,null,null,null,null,null,null,null,null,null,null,null,null,null,null,null,null,null,null,null,null,null,null,null,null,null,null,null,null,null,null,null,null,null,null,null,null,null,null,null,null,null,null,null,null,null,null,null,null,null,null,null,null,null,null,null,null,null,null,null,null,null,{"$f":"$G$11","v":"MIXTESD1NORD"},{"$f":"$Q$3","v":"CLTT Menchhoffen 1"},"Jeudi","20H00",null,null,null,null,null,null,null,null,null,null,null,null,null,null,null,null,null,null,null,null,null,null,null,null,null,null,null,"MIXTESD1NORDCLTT Menchhoffen 1",{"$f":"$G$11","v":"MIXTESD1NORD"},{"$f":"$Q$3","v":"CLTT Menchhoffen 1"},"Jeudi","20H00"]
[null,null,null,null,null,null,null,null,null,null,null,null,null,null,null,null,null,null,null,null,null,null,null,null,null,null,null,null,null,null,null,null,null,null,null,null,null,null,null,null,null,null,null,null,null,null,null,null,null,null,null,null,null,null,null,null,null,null,null,null,null,null,null,null,null,null,null,null,null,null,null,null,null,null,null,null,null,null,null,null,null,null,null,null,null,null,null,null,null,null,null,null,null,null,null,null,null,null,{"$f":"$G$11","v":"MIXTESD1NORD"},{"$f":"$Q$4","v":"CLTT Menchhoffen 2"},"Mardi","20H00",null,null,null,null,null,null,null,null,null,null,null,null,null,null,null,null,null,null,null,null,null,null,null,null,null,null,null,"MIXTESD1NORDCLTT Menchhoffen 2",{"$f":"$G$11","v":"MIXTESD1NORD"},{"$f":"$Q$4","v":"CLTT Menchhoffen 2"},"Mardi","20H00"]
[null,null,null,null,null,null,null,null,null,null,null,null,null,null,null,null,null,null,null,null,null,null,null,null,null,null,null,null,null,null,null,null,null,null,null,null,null,null,null,null,null,null,null,null,null,null,null,null,null,null,null,null,null,null,null,null,null,null,null,null,null,null,null,null,null,null,null,null,null,null,null,null,null,null,null,null,null,null,null,null,null,null,null,null,null,null,null,null,null,null,null,null,null,null,null,null,null,null,"MIXTESD1NORD",{"$f":"$Q$5","v":0},"Vendredi","20H00",null,null,null,null,null,null,null,null,null,null,null,null,null,null,null,null,null,null,null,null,null,null,null,null,null,null,null,"MIXTESD1NORD0","MIXTESD1NORD",{"$f":"$Q$5","v":0},"Vendredi","20H00"]
[null,null,null,null,null,null,null,null,null,null,null,null,null,null,null,null,null,null,null,null,null,null,null,null,null,null,null,null,null,null,null,null,null,null,null,null,null,null,null,null,null,null,null,null,null,null,null,null,null,null,null,null,null,null,null,null,null,null,null,null,null,null,null,null,null,null,null,null,null,null,null,null,null,null,null,null,null,null,null,null,null,null,null,null,null,null,null,null,null,null,null,null,null,null,null,null,null,null,"MIXTESD1NORD",{"$f":"$Q$6","v":0},"Vendredi","20H00",null,null,null,null,null,null,null,null,null,null,null,null,null,null,null,null,null,null,null,null,null,null,null,null,null,null,null,"MIXTESD1NORD0","MIXTESD1NORD",{"$f":"$Q$6","v":0},"Vendredi","20H00"]
[null,null,null,null,null,null,null,null,null,null,null,null,null,null,null,null,null,null,null,null,null,null,null,null,null,null,null,null,null,null,null,null,null,null,null,null,null,null,null,null,null,null,null,null,null,null,null,null,null,null,null,null,null,null,null,null,null,null,null,null,null,null,null,null,null,null,null,null,null,null,null,null,null,null,null,null,null,null,null,null,null,null,null,null,null,null,null,null,null,null,null,null,null,null,null,null,null,null,{"$f":"G13","v":"JUNIORS"},{"$f":"$J$19","v":0},"samedi","08h30","J1 Hanau au plus tard 9 mars 2023",null,null,null,null,null,null,null,null,null,null,null,null,null,null,null,null,null,null,null,null,null,null,null,null,null,null,"JUNIORS0",{"$f":"$G$13","v":"JUNIORS"},{"$f":"$J$19","v":0},"samedi","08h30"]
[null,null,null,null,null,null,null,null,null,null,null,null,null,null,null,null,null,null,null,null,null,null,null,null,null,null,null,null,null,null,null,null,null,null,null,null,null,null,null,null,null,null,null,null,null,null,null,null,null,null,null,null,null,null,null,null,null,null,null,null,null,null,null,null,null,null,null,null,null,null,null,null,null,null,null,null,null,null,null,null,null,null,null,null,null,null,null,null,null,null,null,null,null,null,null,null,null,null,{"$f":"G$13","v":"JUNIORS"},{"$f":"$J$20","v":0},"samedi","08h30","J2 Val de Moder au plus tard 11 mai 2024",null,null,null,null,null,null,null,null,null,null,null,null,null,null,null,null,null,null,null,null,null,null,null,null,null,null,"JUNIORS0",{"$f":"$G$13","v":"JUNIORS"},{"$f":"$J$20","v":0},"samedi","08h30"]
[null,null,null,null,null,null,null,null,null,null,null,null,null,null,null,null,null,null,null,null,null,null,null,null,null,null,null,null,null,null,null,null,null,null,null,null,null,null,null,null,null,null,null,null,null,null,null,null,null,null,null,null,null,null,null,null,null,null,null,null,null,null,null,null,null,null,null,null,null,null,null,null,null,null,null,null,null,null,null,null,null,null,null,null,null,null,null,null,null,null,null,null,null,null,null,null,null,null,{"$f":"G$13","v":"JUNIORS"},{"$f":"$J$21","v":0},"Dimanche","08h30",null,null,null,null,null,null,null,null,null,null,null,null,null,null,null,null,null,null,null,null,null,null,null,null,null,null,null,"JUNIORS0","JUNIORS",{"$f":"$J$21","v":0},"Dimanche","08h30"]
[null,null,null,null,null,null,null,null,null,null,null,null,null,null,null,null,null,null,null,null,null,null,null,null,null,null,null,null,null,null,null,null,null,null,null,null,null,null,null,null,null,null,null,null,null,null,null,null,null,null,null,null,null,null,null,null,null,null,null,null,null,null,null,null,null,null,null,null,null,null,null,null,null,null,null,null,null,null,null,null,null,null,null,null,null,null,null,null,null,null,null,null,null,null,null,null,null,null,"JUNIORS",{"$f":"$J$22","v":0},"Dimanche","08h30",null,null,null,null,null,null,null,null,null,null,null,null,null,null,null,null,null,null,null,null,null,null,null,null,null,null,null,"JUNIORS0","JUNIORS",{"$f":"$J$22","v":0},"Dimanche","08h30"]
[null,null,null,null,null,null,null,null,null,null,null,null,null,null,null,null,null,null,null,null,null,null,null,null,null,null,null,null,null,null,null,null,null,null,null,null,null,null,null,null,null,null,null,null,null,null,null,null,null,null,null,null,null,null,null,null,null,null,null,null,null,null,null,null,null,null,null,null,null,null,null,null,null,null,null,null,null,null,null,null,null,null,null,null,null,null,null,null,null,null,null,null,null,null,null,null,null,null,{"$f":"G$14","v":"CADETS"},{"$f":"$K19","v":0},"Dimanche","08h30",null,null,null,null,null,null,null,null,null,null,null,null,null,null,null,null,null,null,null,null,null,null,null,null,null,null,null,"CADETS0",{"$f":"$G$14","v":"CADETS"},{"$f":"$K19","v":0},"Dimanche","08h30"]
[null,null,null,null,null,null,null,null,null,null,null,null,null,null,null,null,null,null,null,null,null,null,null,null,null,null,null,null,null,null,null,null,null,null,null,null,null,null,null,null,null,null,null,null,null,null,null,null,null,null,null,null,null,null,null,null,null,null,null,null,null,null,null,null,null,null,null,null,null,null,null,null,null,null,null,null,null,null,null,null,null,null,null,null,null,null,null,null,null,null,null,null,null,null,null,null,null,null,{"$f":"G$14","v":"CADETS"},{"$f":"$K20","v":0},"samedi","08h30",null,null,null,null,null,null,null,null,null,null,null,null,null,null,null,null,null,null,null,null,null,null,null,null,null,null,null,"CADETS0",{"$f":"$G$14","v":"CADETS"},{"$f":"$K20","v":0},"samedi","08h30"]
[null,null,null,null,null,null,null,null,null,null,null,null,null,null,null,null,null,null,null,null,null,null,null,null,null,null,null,null,null,null,null,null,null,null,null,null,null,null,null,null,null,null,null,null,null,null,null,null,null,null,null,null,null,null,null,null,null,null,null,null,null,null,null,null,null,null,null,null,null,null,null,null,null,null,null,null,null,null,null,null,null,null,null,null,null,null,null,null,null,null,null,null,null,null,null,null,null,null,{"$f":"G$14","v":"CADETS"},0,"samedi","08h30",null,null,null,null,null,null,null,null,null,null,null,null,null,null,null,null,null,null,null,null,null,null,null,null,null,null,null,"CADETS0","CADETS",0,"samedi","08h30"]
[null,null,null,null,null,null,null,null,null,null,null,null,null,null,null,null,null,null,null,null,null,null,null,null,null,null,null,null,null,null,null,null,null,null,null,null,null,null,null,null,null,null,null,null,null,null,null,null,null,null,null,null,null,null,null,null,null,null,null,null,null,null,null,null,null,null,null,null,null,null,null,null,null,null,null,null,null,null,null,null,null,null,null,null,null,null,null,null,null,null,null,null,null,null,null,null,null,null,{"$f":"G$14","v":"CADETS"},0,"Dimanche","08h30",null,null,null,null,null,null,null,null,null,null,null,null,null,null,null,null,null,null,null,null,null,null,null,null,null,null,null,"CADETS0","CADETS",0,"Dimanche","08h30"]
[null,null,null,null,null,null,null,null,null,null,null,null,null,null,null,null,null,null,null,null,null,null,null,null,null,null,null,null,null,null,null,null,null,null,null,null,null,null,null,null,null,null,null,null,null,null,null,null,null,null,null,null,null,null,null,null,null,null,null,null,null,null,null,null,null,null,null,null,null,null,null,null,null,null,null,null,null,null,null,null,null,null,null,null,null,null,null,null,null,null,null,null,null,null,null,null,null,null,{"$f":"G$15","v":"MINIMESBENJAMINSPOUSSINS"},{"$f":"$L19","v":0},"samedi","08h30",null,null,null,null,null,null,null,null,null,null,null,null,null,null,null,null,null,null,null,null,null,null,null,null,null,null,null,"MINIMESBENJAMINSPOUSSINS0",{"$f":"$G$15","v":"MINIMESBENJAMINSPOUSSINS"},{"$f":"$L19","v":0},"samedi","08h30"]
[null,null,null,null,null,null,null,null,null,null,null,null,null,null,null,null,null,null,null,null,null,null,null,null,null,null,null,null,null,null,null,null,null,null,null,null,null,null,null,null,null,null,null,null,null,null,null,null,null,null,null,null,null,null,null,null,null,null,null,null,null,null,null,null,null,null,null,null,null,null,null,null,null,null,null,null,null,null,null,null,null,null,null,null,null,null,null,null,null,null,null,null,null,null,null,null,null,null,{"$f":"G$15","v":"MINIMESBENJAMINSPOUSSINS"},{"$f":"$L20","v":0},"samedi","08h30",null,null,null,null,null,null,null,null,null,null,null,null,null,null,null,null,null,null,null,null,null,null,null,null,null,null,null,"MINIMESBENJAMINSPOUSSINS0",{"$f":"$G$15","v":"MINIMESBENJAMINSPOUSSINS"},{"$f":"$L20","v":0},"samedi","08h30"]
[null,null,null,null,null,null,null,null,null,null,null,null,null,null,null,null,null,null,null,null,null,null,null,null,null,null,null,null,null,null,null,null,null,null,null,null,null,null,null,null,null,null,null,null,null,null,null,null,null,null,null,null,null,null,null,null,null,null,null,null,null,null,null,null,null,null,null,null,null,null,null,null,null,null,null,null,null,null,null,null,null,null,null,null,null,null,null,null,null,null,null,null,null,null,null,null,null,null,"MINIMESBENJAMINSPOUSSINS",0,"Dimanche","08h30",null,null,null,null,null,null,null,null,null,null,null,null,null,null,null,null,null,null,null,null,null,null,null,null,null,null,null,"MINIMESBENJAMINSPOUSSINS0","MINIMESBENJAMINSPOUSSINS",0,"Dimanche","08h30"]
[null,null,null,null,null,null,null,null,null,null,null,null,null,null,null,null,null,null,null,null,null,null,null,null,null,null,null,null,null,null,null,null,null,null,null,null,null,null,null,null,null,null,null,null,null,null,null,null,null,null,null,null,null,null,null,null,null,null,null,null,null,null,null,null,null,null,null,null,null,null,null,null,null,null,null,null,null,null,null,null,null,null,null,null,null,null,null,null,null,null,null,null,null,null,null,null,null,null,"MINIMESBENJAMINSPOUSSINS",0,"Dimanche","08h30",null,null,null,null,null,null,null,null,null,null,null,null,null,null,null,null,null,null,null,null,null,null,null,null,null,null,null,"MINIMESBENJAMINSPOUSSINS0","MINIMESBENJAMINSPOUSSINS",0,"Dimanche","08h30"]
[null,null,null,null,null,null,null,null,null,null,null,null,null,null,null,null,null,null,null,null,null,null,null,null,null,null,null,null,null,null,null,null,null,null,null,null,null,null,null,null,null,null,null,null,null,null,null,null,null,null,null,null,null,null,null,null,null,null,null,null,null,null,null,null,null,null,null,null,null,null,null,null,null,null,null,null,null,null,null,null,null,null,null,null,null,null,null,null,null,null,null,null,null,null,null,null,null,null,{"$f":"G28","v":"PROMOTIONFINALE"},null,"jeudi","20h00","FINALESDEPARTEMENTALES 23/05/2024",null,null,null,null,null,null,null,null,null,null,null,null,null,null,null,null,null,null,null,null,null,null,null,null,null,null,"PROMOTIONFINALEEquipe1NordPromotion",{"$f":"$G28","v":"PROMOTIONFINALE"},{"$f":"IF('Feuille de match'!$K$5=\"PROMOTIONFINALE\", 'Feuille de match'!$A$8,\"Equipe1NordPromotion\")","v":"Equipe1NordPromotion"},"jeudi","20H00"]
[null,null,null,null,null,null,null,null,null,null,null,null,null,null,null,null,null,null,null,null,null,null,null,null,null,null,null,null,null,null,null,null,null,null,null,null,null,null,null,null,null,null,null,null,null,null,null,null,null,null,null,null,null,null,null,null,null,null,null,null,null,null,null,null,null,null,null,null,null,null,null,null,null,null,null,null,null,null,null,null,null,null,null,null,null,null,null,null,null,null,null,null,null,null,null,null,null,null,{"$f":"G29","v":"MIXTESD1FINALE"},null,"jeudi","20h00",null,null,null,null,null,null,null,null,null,null,null,null,null,null,null,null,null,null,null,null,null,null,null,null,null,null,null,"MIXTESD1FINALEEquipe1NordMixtes",{"$f":"$G29","v":"MIXTESD1FINALE"},{"$f":"IF('Feuille de match'!$K$5=\"MIXTESD1FINALE\", 'Feuille de match'!$A$8,\"Equipe1NordMixtes\")","v":"Equipe1NordMixtes"},"jeudi","20H00"]
[null,null,null,null,null,null,null,null,null,null,null,null,null,null,null,null,null,null,null,null,null,null,null,null,null,null,null,null,null,null,null,null,null,null,null,null,null,null,null,null,null,null,null,null,null,null,null,null,null,null,null,null,null,null,null,null,null,null,null,null,null,null,null,null,null,null,null,null,null,null,null,null,null,null,null,null,null,null,null,null,null,null,null,null,null,null,null,null,null,null,null,null,null,null,null,null,null,null,"VETERANSD1FINALE",null,"jeudi","20h00",null,null,null,null,null,null,null,null,null,null,null,null,null,null,null,null,null,null,null,null,null,null,null,null,null,null,null,"VETERANSD1FINALEEquipe1NordVétéransD1","VETERANSD1FINALE",{"$f":"IF('Feuille de match'!$K$5=\"VETERANSD1FINALE\", 'Feuille de match'!$A$8,\"Equipe1NordVétéransD1\")","v":"Equipe1NordVétéransD1"},"jeudi","20H00"]
[null,null,null,null,null,null,null,null,null,null,null,null,null,null,null,null,null,null,null,null,null,null,null,null,null,null,null,null,null,null,null,null,null,null,null,null,null,null,null,null,null,null,null,null,null,null,null,null,null,null,null,null,null,null,null,null,null,null,null,null,null,null,null,null,null,null,null,null,null,null,null,null,null,null,null,null,null,null,null,null,null,null,null,null,null,null,null,null,null,null,null,null,null,null,null,null,null,null,"VETERANSD2FINALE",null,"jeudi","20h00",null,null,null,null,null,null,null,null,null,null,null,null,null,null,null,null,null,null,null,null,null,null,null,null,null,null,null,"VETERANSD2FINALEEquipe1NordVétéransD2","VETERANSD2FINALE",{"$f":"IF('Feuille de match'!$K$5=\"VETERANSD2FINALE\", 'Feuille de match'!$A$8,\"Equipe1NordVétéransD2\")","v":"Equipe1NordVétéransD2"},"jeudi","20H00"]
[null,null,null,null,null,null,null,null,null,null,null,null,null,null,null,null,null,null,null,null,null,null,null,null,null,null,null,null,null,null,null,null,null,null,null,null,null,null,null,null,null,null,null,null,null,null,null,null,null,null,null,null,null,null,null,null,null,null,null,null,null,null,null,null,null,null,null,null,null,null,null,null,null,null,null,null,null,null,null,null,null,null,null,null,null,null,null,null,null,null,null,null,null,null,null,null,null,null,"JUNIORSFINALE",null,"jeudi","20h00",null,null,null,null,null,null,null,null,null,null,null,null,null,null,null,null,null,null,null,null,null,null,null,null,null,null,null,"JUNIORSFINALEEquipe1NordJuniors","JUNIORSFINALE",{"$f":"IF('Feuille de match'!$K$5=\"JUNIORSFINALE\", 'Feuille de match'!$A$8,\"Equipe1NordJuniors\")","v":"Equipe1NordJuniors"},"jeudi","18h00"]
[null,null,null,null,null,null,null,null,null,null,null,null,null,null,null,null,null,null,null,null,null,null,null,null,null,null,null,null,null,null,null,null,null,null,null,null,null,null,null,null,null,null,null,null,null,null,null,null,null,null,null,null,null,null,null,null,null,null,null,null,null,null,null,null,null,null,null,null,null,null,null,null,null,null,null,null,null,null,null,null,null,null,null,null,null,null,null,null,null,null,null,null,null,null,null,null,null,null,"CADETSFINALE",null,"jeudi","20h00",null,null,null,null,null,null,null,null,null,null,null,null,null,null,null,null,null,null,null,null,null,null,null,null,null,null,null,"CADETSFINALEEquipe1NordCadets","CADETSFINALE",{"$f":"IF('Feuille de match'!$K$5=\"CADETSFINALE\", 'Feuille de match'!$A$8,\"Equipe1NordCadets\")","v":"Equipe1NordCadets"},"jeudi","18h00"]
[null,null,null,null,null,null,null,null,null,null,null,null,null,null,null,null,null,null,null,null,null,null,null,null,null,null,null,null,null,null,null,null,null,null,null,null,null,null,null,null,null,null,null,null,null,null,null,null,null,null,null,null,null,null,null,null,null,null,null,null,null,null,null,null,null,null,null,null,null,null,null,null,null,null,null,null,null,null,null,null,null,null,null,null,null,null,null,null,null,null,null,null,null,null,null,null,null,null,"MINIMESBENJAMINSPOUSSINSFINALE",null,"jeudi","20h00",null,null,null,null,null,null,null,null,null,null,null,null,null,null,null,null,null,null,null,null,null,null,null,null,null,null,null,"MINIMESBENJAMINSPOUSSINSFINALEEquipe1NordMinimesBenjaminsPoussins","MINIMESBENJAMINSPOUSSINSFINALE",{"$f":"IF('Feuille de match'!$K$5=\"MINIMESBENJAMINSPOUSSINSFINALE\", 'Feuille de match'!$A$8,\"Equipe1NordMinimesBenjaminsPoussins\")","v":"Equipe1NordMinimesBenjaminsPoussins"},"jeudi","18h00"]

{"sheet":"resultats a exporter","index":3,"n_rows":57,"n_cols":216,"rows_kept":57,"cut":false,"hidden":false,"merged":[[25,89,25,90],[25,91,25,92],[27,89,27,90],[27,91,27,92],[29,89,29,90],[29,91,29,92],[31,89,31,90],[31,91,31,92],[33,89,33,90],[33,91,33,92],[27,80,27,81],[29,78,29,79],[29,80,29,81],[31,78,31,79],[41,80,41,81],[35,89,35,90],[35,91,35,92],[37,89,37,90],[37,91,37,92],[47,89,47,90],[47,91,47,92],[49,89,49,90],[49,91,49,92],[51,89,51,90],[51,91,51,92],[53,89,53,90],[53,91,53,92],[41,89,41,90],[41,91,41,92],[43,89,43,90],[43,91,43,92],[45,89,45,90],[45,91,45,92],[71,91,71,92],[73,89,73,90],[73,91,73,92],[55,89,55,90],[55,91,55,92],[59,89,59,90],[59,91,59,92],[61,89,61,90],[61,91,61,92],[63,89,63,90],[63,91,63,92],[67,89,67,90],[67,91,67,92],[69,89,69,90],[69,91,69,92],[65,89,65,90],[65,91,65,92],[71,80,71,81],[73,78,73,79],[73,80,73,81],[5,89,5,90],[5,91,5,92],[7,89,7,90],[7,91,7,92],[9,89,9,90],[9,91,9,92],[11,89,11,90],[11,91,11,92],[13,89,13,90],[13,91,13,92],[15,89,15,90],[15,91,15,92],[17,89,17,90],[17,91,17,92],[19,89,19,90],[19,91,19,92],[23,89,23,90],[23,91,23,92],[37,80,37,81],[41,78,41,79],[71,89,71,90],[47,78,47,79],[47,80,47,81],[31,80,31,81],[67,78,67,79],[67,80,67,81],[33,78,33,79],[33,80,33,81],[35,78,35,79],[35,80,35,81],[43,78,43,79],[43,80,43,81],[45,78,45,79],[45,80,45,81],[69,80,69,81],[49,80,49,81],[51,78,51,79],[51,80,51,81],[53,78,53,79],[53,80,53,81],[55,78,55,79],[55,80,55,81],[59,78,59,79],[59,80,59,81],[61,80,61,81],[63,78,63,79],[63,80,63,81],[65,78,65,79],[65,80,65,81],[15,80,15,81],[17,78,17,79],[17,80,17,81],[19,78,19,79],[19,80,19,81],[23,78,23,79],[23,80,23,81],[25,78,25,79],[25,80,25,81],[5,80,5,81],[7,78,7,79],[7,80,7,81],[9,78,9,79],[9,80,9,81],[11,78,11,79],[11,80,11,81],[13,78,13,79],[13,80,13,81],[67,67,67,68],[67,69,67,70],[69,67,69,68],[69,69,69,70],[71,67,71,68],[71,69,71,70],[73,67,73,68],[73,69,73,70],[5,78,5,79],[15,78,15,79],[27,78,27,79],[37,78,37,79],[49,78,49,79],[61,78,61,79],[71,78,71,79],[55,67,55,68],[55,69,55,70],[59,67,59,68],[59,69,59,70],[61,67,61,68],[61,69,61,70],[63,67,63,68],[63,69,63,70],[69,78,69,79],[35,67,35,68],[35,69,35,70],[37,67,37,68],[37,69,37,70],[41,67,41,68],[41,69,41,70],[43,67,43,68],[43,69,43,70],[65,67,65,68],[65,69,65,70],[45,67,45,68],[45,69,45,70],[47,67,47,68],[47,69,47,70],[49,67,49,68],[49,69,49,70],[51,67,51,68],[51,69,51,70],[53,67,53,68],[53,69,53,70],[25,67,25,68],[25,69,25,70],[27,67,27,68],[27,69,27,70],[29,67,29,68],[29,69,29,70],[31,67,31,68],[31,69,31,70],[33,67,33,68],[33,69,33,70],[37,45,37,46],[37,47,37,48],[41,45,41,46],[41,47,41,48],[43,45,43,46],[43,47,43,48],[5,67,5,68],[5,69,5,70],[7,67,7,68],[7,69,7,70],[9,67,9,68],[9,69,9,70],[11,67,11,68],[11,69,11,70],[13,67,13,68],[13,69,13,70],[15,67,15,68],[15,69,15,70],[17,67,17,68],[17,69,17,70],[19,67,19,68],[19,69,19,70],[23,67,23,68],[23,69,23,70],[53,47,53,48],[55,45,55,46],[55,47,55,48],[45,47,45,48],[47,45,47,46],[47,47,47,48],[15,45,15,46],[15,47,15,48],[17,45,17,46],[17,47,17,48],[19,45,19,46],[19,47,19,48],[23,45,23,46],[23,47,23,48],[25,45,25,46],[25,47,25,48],[29,45,29,46],[29,47,29,48],[31,45,31,46],[31,47,31,48],[33,45,33,46],[33,47,33,48],[35,45,35,46],[35,47,35,48],[27,45,27,46],[27,47,27,48],[73,45,73,46],[73,47,73,48],[59,45,59,46],[59,47,59,48],[61,45,61,46],[61,47,61,48],[63,45,63,46],[63,47,63,48],[65,45,65,46],[65,47,65,48],[67,45,67,46],[67,47,67,48],[69,45,69,46],[69,47,69,48],[71,45,71,46],[71,47,71,48],[45,45,45,46],[49,45,49,46],[49,47,49,48],[51,45,51,46],[51,47,51,48],[53,45,53,46],[55,36,55,37],[55,34,55,35],[73,34,73,35],[73,36,73,37],[59,34,59,35],[61,34,61,35],[63,34,63,35],[65,34,65,35],[67,34,67,35],[69,34,69,35],[71,34,71,35],[59,36,59,37],[61,36,61,37],[63,36,63,37],[65,36,65,37],[67,36,67,37],[69,36,69,37],[71,36,71,37],[41,34,41,35],[43,34,43,35],[45,34,45,35],[47,34,47,35],[49,34,49,35],[51,34,51,35],[53,34,53,35],[41,36,41,37],[43,36,43,37],[45,36,45,37],[47,36,47,37],[49,36,49,37],[51,36,51,37],[53,36,53,37],[29,34,29,35],[31,34,31,35],[33,34,33,35],[35,34,35,35],[23,36,23,37],[25,36,25,37],[27,36,27,37],[29,36,29,37],[31,36,31,37],[33,36,33,37],[35,36,35,37],[17,34,17,35],[17,36,17,37],[23,34,23,35],[25,34,25,35],[19,34,19,35],[19,36,19,37],[19,23,19,24],[19,25,19,26],[27,34,27,35],[45,23,45,24],[45,25,45,26],[43,23,43,24],[43,25,43,26],[41,23,41,24],[41,25,41,26],[37,23,37,24],[37,25,37,26],[35,25,35,26],[35,23,35,24],[55,25,55,26],[55,23,55,24],[53,23,53,24],[53,25,53,26],[51,23,51,24],[51,25,51,26],[49,23,49,24],[49,25,49,26],[47,23,47,24],[47,25,47,26],[73,25,73,26],[73,23,73,24],[59,23,59,24],[61,23,61,24],[63,23,63,24],[65,23,65,24],[67,23,67,24],[69,23,69,24],[71,23,71,24],[59,25,59,26],[61,25,61,26],[63,25,63,26],[65,25,65,26],[67,25,67,26],[69,25,69,26],[71,25,71,26],[37,34,37,35],[37,36,37,37],[5,23,5,24],[7,23,7,24],[9,23,9,24],[11,23,11,24],[13,23,13,24],[15,23,15,24],[17,23,17,24],[5,25,5,26],[7,25,7,26],[9,25,9,26],[11,25,11,26],[13,25,13,26],[15,25,15,26],[17,25,17,26],[33,23,33,24],[33,25,33,26],[31,23,31,24],[31,25,31,26],[29,23,29,24],[29,25,29,26],[27,23,27,24],[27,25,27,26],[4,0,4,1],[4,2,4,3],[4,6,4,7],[4,8,4,9],[13,12,13,13],[19,8,19,9],[11,8,11,9],[13,6,13,7],[13,8,13,9],[15,6,15,7],[15,8,15,9],[17,6,17,7],[17,8,17,9],[17,0,17,1],[17,2,17,3],[19,2,19,3],[5,6,5,7],[5,8,5,9],[7,6,7,7],[7,8,7,9],[9,6,9,7],[9,8,9,9],[11,6,11,7],[11,0,11,1],[69,12,69,13],[69,14,69,15],[71,12,71,13],[71,14,71,15],[73,14,73,15],[73,12,73,13],[63,12,63,13],[63,14,63,15],[65,12,65,13],[65,14,65,15],[67,12,67,13],[67,14,67,15],[55,14,55,15],[59,12,59,13],[59,14,59,15],[61,12,61,13],[61,14,61,15],[55,12,55,13],[49,12,49,13],[49,14,49,15],[51,12,51,13],[51,14,51,15],[53,12,53,13],[53,14,53,15],[43,12,43,13],[43,14,43,15],[45,12,45,13],[45,14,45,15],[47,12,47,13],[47,14,47,15],[41,12,41,13],[41,14,41,15],[17,14,17,15],[35,12,35,13],[35,14,35,15],[37,14,37,15],[37,12,37,13],[19,12,19,13],[29,12,29,13],[29,14,29,15],[31,12,31,13],[31,14,31,15],[33,12,33,13],[33,14,33,15],[23,12,23,13],[23,14,23,15],[25,12,25,13],[25,14,25,15],[5,0,5,1],[5,2,5,3],[7,0,7,1],[7,2,7,3],[9,0,9,1],[9,2,9,3],[5,12,5,13],[5,14,5,15],[7,12,7,13],[7,14,7,15],[9,12,9,13],[9,14,9,15],[13,45,13,46],[13,47,13,48],[27,12,27,13],[27,14,27,15],[19,14,19,15],[11,2,11,3],[13,0,13,1],[13,2,13,3],[15,0,15,1],[15,2,15,3],[13,14,13,15],[15,12,15,13],[15,14,15,15],[17,12,17,13],[25,25,25,26],[25,23,25,24],[23,23,23,24],[23,25,23,26],[11,34,11,35],[11,36,11,37],[13,34,13,35],[13,36,13,37],[15,34,15,35],[15,36,15,37],[11,12,11,13],[11,14,11,15],[5,45,5,46],[5,47,5,48],[7,45,7,46],[7,47,7,48],[9,45,9,46],[9,47,9,48],[11,45,11,46],[11,47,11,48],[5,34,5,35],[5,36,5,37],[7,34,7,35],[7,36,7,37],[9,34,9,35],[9,36,9,37],[5,58,5,59],[7,56,7,57],[7,58,7,59],[9,56,9,57],[9,58,9,59],[11,56,11,57],[11,58,11,59],[13,56,13,57],[13,58,13,59],[5,56,5,57],[15,58,15,59],[17,56,17,57],[17,58,17,59],[19,56,19,57],[19,58,19,59],[23,56,23,57],[23,58,23,59],[25,56,25,57],[25,58,25,59],[15,56,15,57],[27,56,27,57],[27,58,27,59],[29,56,29,57],[29,58,29,59],[31,56,31,57],[31,58,31,59],[33,56,33,57],[33,58,33,59],[35,56,35,57],[35,58,35,59],[73,56,73,57],[73,58,73,59],[63,56,63,57],[63,58,63,59],[65,56,65,57],[65,58,65,59],[67,56,67,57],[67,58,67,59],[69,56,69,57],[69,58,69,59],[71,56,71,57],[71,58,71,59],[37,56,37,57],[37,58,37,59],[41,56,41,57],[41,58,41,59],[43,56,43,57],[43,58,43,59],[45,56,45,57],[61,56,61,57],[61,58,61,59],[45,58,45,59],[59,56,59,57],[59,58,59,59],[47,56,47,57],[47,58,47,59],[49,56,49,57],[49,58,49,59],[51,56,51,57],[51,58,51,59],[53,56,53,57],[53,58,53,59],[55,56,55,57],[55,58,55,59]]}
["DOUBLE 1 équipe recevante",{"$f":" 'Feuille de match'!$K$5","v":0},{"$f":"\"Journée\" &\" \" & 'Feuille de match'!$Q$5","v":"Journée "},{"$f":" 'Feuille de match'!$A$8","v":0},"CONTRE",{"$f":" 'Feuille de match'!$N$8","v":0},"DOUBLE 2 équipe recevante",null,null,null,"CONTRE",null,"JOUEUR A",{"$f":" 'Feuille de match'!$A$8","v":0},null,"licence",null,"contre",{"$f":" 'Feuille de match'!$N$8","v":0},{"$f":" 'Feuille de match'!$K$5","v":0},{"$f":"\"Journée\" &\" \" & 'Feuille de match'!$Q$5","v":"Journée "},null,null,"JOUEUR B",{"$f":" 'Feuille de match'!$A$8","v":0},null,"licence",null,null,"contre",{"$f":" 'Feuille de match'!$N$8","v":0},{"$f":" 'Feuille de match'!$K$5","v":0},{"$f":" \"Journée\" &\" \" & 'Feuille de match'!$Q$5","v":"Journée "},null,"JOUEUR C",{"$f":" IF(AI2=\"\",\"\",'Feuille de match'!$A$8)","v":""},null,"licence",null,null,"contre",{"$f":"IF(AI2=\"\",\"\", 'Feuille de match'!$N$8)","v":""},{"$f":"IF(AI2=\"\",\"\", 'Feuille de match'!$K$5)","v":""},{"$f":"IF(AI2=\"\",\"\", \"Journée\" &\" \" & 'Feuille de match'!$Q$5)","v":""},null,"JOUEUR D",null,null,"licence",null,null,"contre",null,null,null,null,"JOUEUR W",{"$f":" 'Feuille de match'!$N$8","v":0},null,"licence",null,null,"contre",{"$f":" 'Feuille de match'!$A$8","v":0},{"$f":" 'Feuille de match'!$K$5","v":0},{"$f":" \"Journée\" &\" \" & 'Feuille de match'!$Q$5","v":"Journée "},null,"JOUEUR X",{"$f":" 'Feuille de match'!$N$8","v":0},null,"licence",null,null,"contre",{"$f":" 'Feuille de match'!$A$8","v":0},{"$f":" 'Feuille de match'!$K$5","v":0},{"$f":" \"Journée\" &\" \" & 'Feuille de match'!$Q$5","v":"Journée "},null,"JOUEUR Y",{"$f":" IF(CA2=\"\",\"\",'Feuille de match'!$N$8)","v":""},null,"licence",null,null,"contre",{"$f":" IF(CA2=\"\",\"\",'Feuille de match'!$A$8)","v":""},{"$f":"IF(CA2=\"\",\"\", 'Feuille de match'!$K$5)","v":""},{"$f":" IF(CA2=\"\",\"\",\"Journée\" &\" \" & 'Feuille de match'!$Q$5)","v":""},null,"JOUEUR Z",null,null,"licence",null,null,"contre",null,null,null,null,"SYNTHESE DE LA RECONTRE",null,null,null,null,null,null,"RESULTATS DES EQUIPES LORS D'UNE RENCONTRE",null,null,null,null,null,null,null,null,null,null,null,null,null,null,null,null,null,null,null,null,null,null,null,null,null,null,null,null,null,null,null,null,null,null,null,"PALMARES DES EQUIPES",null,null,null,null,null,null,null,null,null,null,null,null,null,null,null,null,null,null,"CLASSEMENT INDIVIDUEL",null,null,null,null,null,null,null,null,null,null,null,null,null,null,"Classement","PALMARES INDIVIDUEL",null,null,null,null,null,null,null,null,null,null,null,null,null,null,null,null,null,null,null,null,null,null,null,null,null,null,null,null,"Palmares des doubles"]
[{"$f":"IF(OR('Feuille de match'!$K$5=\"EXCELLENCE\",'Feuille de match'!$K$5=\"HONNEUR\",'Feuille de match'!$K$5=\"PROMOTIONSTRASBOURG\",'Feuille de match'!$K$5=\"PROMOTIONNORD\",'Feuille de match'!$K$5=\"ADULTESDIVISION1NORD\"),'Feuille de match'!D23,IF(OR('Feuille de match'!$K$5=\"MIXTESD1STRASBOURG\",'Feuille de match'!$K$5=\"MIXTESD1NORD\",'Feuille de match'!$K$5=\"VETERANSD1STRASBOURG\",'Feuille de match'!$K$5=\"VETERANSD2STRASBOURG\",'Feuille de match'!$K$5=\"VETERANSD1NORD\",'Feuille de match'!$K$5=\"VETERANSD2NORD\",'Feuille de match'!$K$5=\"JUNIORS\",'Feuille de match'!$K$5=\"CADETS\",'Feuille de match'!$K$5=\"MINIMESBENJAMINSPOUSSINS\"),'Feuille de match'!D19,\"\"))","v":""},null,"CONTRE",{"$f":"C5","v":""},null,null,null,null,"CONTRE",null,null,null,{"$f":"'Feuille de match'!$D$10","v":""},null,{"$f":"'Feuille de match'!$K$10","v":""},{"$f":"'Feuille de match'!$J$10","v":0},null,null,null,null,null,null,null,{"$f":"'Feuille de match'!$D$11","v":""},null,{"$f":"'Feuille de match'!$K$11","v":""},{"$f":"'Feuille de match'!$J$11","v":0},null,null,null,null,null,null,null,{"$f":"IF('Feuille de match'!$D$12=\"\",\"\",'Feuille de match'!$D$12)","v":""},null,{"$f":"IF('Feuille de match'!$K$12=\"\",\"\",'Feuille de match'!$K$12)","v":""},{"$f":"IF('Feuille de match'!$J$12=\"\",\"\",'Feuille de match'!$J$12)","v":""},null,null,null,null,null,null,null,null,null,null,null,null,null,null,null,null,null,null,{"$f":"'Feuille de match'!$O$10","v":""},null,{"$f":"'Feuille de match'!$W$10","v":""},{"$f":"'Feuille de match'!$U$10","v":0},null,null,null,null,null,null,null,{"$f":"'Feuille de match'!$O$11","v":""},null,{"$f":"'Feuille de match'!$W$11","v":""},{"$f":"'Feuille de match'!$U$11","v":0},null,null,null,null,null,null,null,{"$f":"IF('Feuille de match'!$O$12=\"\",\"\",'Feuille de match'!$O$12)","v":""},null,{"$f":"IF('Feuille de match'!$W$12=\"\",\"\",'Feuille de match'!$W$12)","v":""},{"$f":"IF('Feuille de match'!$U$12=\"\",\"\",'Feuille de match'!$U$12)","v":""},null,null,null,null,null,null,null,null,null,null,null,null,null,null,null,null,null,null,"JOURNEE","DIVISION","EQUIPE RECEVANTE","EQUIPE VISITEUSE","RESULTAT DE LA RECONTRE",null,"DATE",{"$f":" 'Feuille de match'!$A$8","v":0},null,null,null,null,null,null,null,null,null,null,null,null,null,null,null,null,null,{"$f":" 'Feuille de match'!$N$8","v":0},null,null,null,null,null,null,null,null,null,null,null,null,null,null,null,null,null,"EN DIVISION",null,null,null,null,null,null,null,null,null,null,null,null,null,null,null,null,null,null,"EN DIVISION",null,null,null,null,null,null,null,null,null,null,null,null,null,null,"joueur","POINTS DE CLASSEMENT",null,null,null,null,null,null,null,null,null,null,null,null,null,null,null,null,null,null,null,null,null,null,null,null,null,null,null,null,"JOURNEE","DIVISION","EQUIPE","MATCHS GAGNES ","MATCHS PERDUS","MANCHES GAGNEES","MANCHES PERDUES","POINTS GAGNES","POINTS PERDUS"]
["Points gagnés","Points perdus","Manches gagnées","Manches perdus","Matchs gagnés ","Matchs perdus","Points gagnés","Points perdus","Manches gagnées","Manches perdus","Matchs gagnés ","Matchs perdus","Points gagnés","Points perdus","Manches gagnées","Manches perdues","Matchs gagnés","Matchs perdus","Nb performances","Nb contreperformances","Points classement gagnés","Points classement perdus","Brulage","Points gagnés","Points perdus","Manches gagnées","Manches perdues","Matchs gagnés","Matchs perdus","Nb performances","Nb contreperformances","Points classement gagnés","Points classement perdus","Brulage","Points gagnés","Points perdus","Manches gagnées","Manches perdues","Matchs gagnés","Matchs perdus","Nb performances","Nb contreperformances","Points classement gagnés","Points classement perdus","Brulage","Points gagnés","Points perdus","Manches gagnées","Manches perdues","Matchs gagnés","Matchs perdus","Nb performances","Nb contreperformances","Points classement gagnés","Points classement perdus","Brulage","Points gagnés","Points perdus","Manches gagnées","Manches perdues","Matchs gagnés","Matchs perdus","Nb performances","Nb contreperformances","Points classement gagnés","Points classement perdus","Brulage","Points gagnés","Points perdus","Manches gagnées","Manches perdues","Matchs gagnés","Matchs perdus","Nb performances","Nb contreperformances","Points classement gagnés","Points classement perdus","Brulage","Points gagnés","Points perdus","Manches gagnées","Manches perdues","Matchs gagnés","Matchs perdus","Nb performances","Nb contreperformances","Points classement gagnés","Points classement perdus","Brulage","Points gagnés","Points perdus","Manches gagnées","Manches perdues","Matchs gagnés","Matchs perdus","Nb performances","Nb contreperformances","Points classement gagnés","Points classement perdus","Brulage",null,null,null,null,null,null,null,"JOURNEE","DIVISION","EQUIPE","POINTS CHAMPIONNAT","VICTOIRES","NUL","DEFAITE","FORFAIT","JOUEE","PARTIES GAGNEES","PARTIES PERDUS","DIFFERENCE PARTIES","MANCHES GAGNEES","MANCHES PERDUES ","DIFFERENCE MANCHES","POINTS GAGNES","POINTS PERDUS","DIFFERENCE POINTS","JOURNEE","DIVISION","EQUIPE","POINTS CHAMPIONNAT","VICTOIRES","NUL","DEFAITE","FORFAIT","JOUEE","PARTIES GAGNEES","PARTIES PERDUS","DIFFERENCE PARTIES","MANCHES GAGNEES","MANCHES PERDUES ","DIFFERENCE MANCHES","POINTS GAGNES","POINTS PERDUS","DIFFERENCE POINTS","JOURNEE","DIVISION","MATCHS JOUES","EQUIPE","POINTS CHAMPIONNAT","VICTOIRES","NUL","DEFAITE","FORFAIT","JOUEE","PARTIES GAGNEES","PARTIES PERDUS","DIFFERENCE PARTIES","MANCHES GAGNEES","MANCHES PERDUES ","DIFFERENCE MANCHES","POINTS GAGNES","POINTS PERDUS","DIFFERENCE POINTS","LICENCE","NOM","JOURNEE","DIVISION","EQUIPE","MATCH JOUE","PARTIES GAGNEES","PARTIES PERDUES","DIFFERENCE PARTIES","MANCHES GAGNEES","MANCHES PERDUES","DIFFERENCE MANCHES","POINTS GAGNES","POINTS PERDUS ","DIFFERENCE POINTS","CLS","N° LICENCE","JOUEUR","CLS","EQUIPE","DIVISION","JOURNEE","VICTOIRE CONTRE","N° LICENCE","JOUEUR","CLS","EQUIPE","N° PERFORMANCES","POINTS CLASSEMENT GLOBAL GAGNES","DEFAITE CONTRE","N° LICENCE","JOUEUR","CLS","EQUIPE","N° CONTREPERFORMANCES","POINTS CLASSEMENT GLOBAL PERDUS","N° MATCH",null,null,null,null,null,null,null,null,{"$f":"'Feuille de match'!Q5","v":0},{"$f":"B1","v":0},{"$f":"D1","v":0},{"$f":"E4","v":0},{"$f":"F4","v":0},{"$f":"C4","v":0},{"$f":"D4","v":0},{"$f":"A4","v":0},{"$f":"B4","v":0}]
[{"$f":"SUM($A$7+$A$9+$A$11+$A$13+$A$15+$A$17+$A$19)","v":0},{"$f":"SUM($B$7+$B$9+$B$11+$B$13+$B$15+$B$17+$B$19)","v":0},{"$f":"$C$21","v":0},{"$f":"$D$21","v":0},{"$f":"IF($C$4>$D$4,1,0)","v":0},{"$f":"IF($C$4<$D$4,1,0)","v":0},null,null,null,null,null,null,{"$f":"SUM($M$7+$M$9+$M$11+$M$13+$M$15+$M$17+$M$19+$M$25+$M$27+$M$29+$M$31+$M$33+$M$35+$M$37+$M$43+$M$45+$M$47+$M$49+$M$51+$M$53+$M$55)","v":0},{"$f":"SUM($N$7+$N$9+$N$11+$N$13+$N$15+$N$17+$N$19+$N$25+$N$27+$N$29+$N$31+$N$33+$N$35+$N$37+$N$43+$N$45+$N$47+$N$49+$N$51+$N$53+$N$55)","v":0},{"$f":"SUM($O$21+$O$39+$O$57)","v":0},{"$f":"SUM($P$21+$P$39+$P$57)","v":0},{"$f":"SUM($Q$5+$Q$23+$Q$41)","v":0},{"$f":"SUM($R$5+$R$23+$R$41)","v":0},{"$f":"SUM($S$5+$S$23+$S$41)","v":0},{"$f":"SUM($T$5+$T$23+$T$41)","v":0},{"$f":"SUM($U$5+$U$23+$U$41)","v":0},{"$f":"SUM($V$5+$V$23+$V$41)","v":0},{"$f":"$N$1","v":0},{"$f":"IFERROR(SUM($X$7+$X$9+$X$11+$X$13+$X$15+$X$17+$X$19+$X$25+$X$27+$X$29+$X$31+$X$33+$X$35+$X$37+$X$43+$X$45+$X$47+$X$49+$X$51+$X$53+$X$55),0)","v":0},{"$f":"IFERROR(SUM($Y$7+$Y$9+$Y$11+$Y$13+$Y$15+$Y$17+$Y$19+$Y$25+$Y$27+$Y$29+$Y$31+$Y$33+$Y$35+$Y$37+$Y$43+$Y$45+$Y$47+$Y$49+$Y$51+$Y$53+$Y$55),0)","v":0},{"$f":"IFERROR(SUM($Z$21+$Z$39+$Z$57),0)","v":0},{"$f":"IFERROR(SUM($AA$21+$AA$39+$AA$57),0)","v":0},{"$f":"$AB$5+$AB$23+$AB$41","v":0},{"$f":"$AC$5+$AC$23+$AC$41","v":0},{"$f":"$AD$5+$AD$23+$AD$41","v":0},{"$f":"$AE$5+$AE$23+$AE$41","v":0},{"$f":"$AF$5+$AF$23+$AF$41","v":0},{"$f":"$AG$5+$AG$23+$AG$41","v":0},{"$f":"$Y$1","v":0},{"$f":"IFERROR(SUM($AI$7+$AI$9+$AI$11+$AI$13+$AI$15+$AI$17+$AI$19+$AI$25+$AI$27+$AI$29+$AI$31+$AI$33+$AI$35+$AI$37+$AI$43+$AI$45+$AI$47+$AI$49+$AI$51+$AI$53+$AI$55),0)","v":0},{"$f":"IFERROR(SUM($AJ$7+$AJ$9+$AJ$11+$AJ$13+$AJ$15+$AJ$17+$AJ$19+$AJ$25+$AJ$27+$AJ$29+$AJ$31+$AJ$33+$AJ$35+$AJ$37+$AJ$43+$AJ$45+$AJ$47+$AJ$49+$AJ$51+$AJ$53+$AJ$55),0)","v":0},{"$f":"IFERROR(SUM($AK$21+$AK$39+$AK$57),0)","v":0},{"$f":"IFERROR(SUM($AL$21+$AL$39+$AL$57),0)","v":0},{"$f":"$AM$5+$AM$23+$AM$41","v":0},{"$f":"$AN$5+$AN$23+$AN$41","v":0},{"$f":"$AO$5+$AO$23+$AO$41","v":0},{"$f":"$AP$5+$AP$23+$AP$41","v":0},{"$f":"$AQ$5+$AQ$23+$AQ$41","v":0},{"$f":"$AR$5+$AR$23+$AR$41","v":0},{"$f":"$AJ$1","v":""},null,null,null,null,null,null,null,null,null,null,null,{"$f":"IFERROR(SUM($BE$7+$BE$9+$BE$11+$BE$13+$BE$15+$BE$17+$BE$19+$BE$25+$BE$27+$BE$29+$BE$31+$BE$33+$BE$35+$BE$37+$BE$43+$BE$45+$BE$47+$BE$49+$BE$51+$BE$53+$BE$55),0)","v":0},{"$f":"IFERROR(SUM($BF$7+$BF$9+$BF$11+$BF$13+$BF$15+$BF$17+$BF$19+$BF$25+$BF$27+$BF$29+$BF$31+$BF$33+$BF$35+$BF$37+$BF$43+$BF$45+$BF$47+$BF$49+$BF$51+$BF$53+$BF$55),0)","v":0},{"$f":"IFERROR(SUM($BG$21+$BG$39+$BG$57),0)","v":0},{"$f":"IFERROR(SUM($BH$21+$BH$39+$BH$57),0)","v":0},{"$f":"$BI$5+$BI$23+$BI$41","v":0},{"$f":"$BJ$5+$BJ$23+$BJ$41","v":0},{"$f":"$BK$5+$BK$23+$BK$41","v":0},{"$f":"$BL$5+$BL$23+$BL$41","v":0},{"$f":"$BM$5+$BM$23+$BM$41","v":0},{"$f":"$BN$5+$BN$23+$BN$41","v":0},{"$f":"$BF$1","v":0},{"$f":"IFERROR(SUM($BP$7+$BP$9+$BP$11+$BP$13+$BP$15+$BP$17+$BP$19+$BP$25+$BP$27+$BP$29+$BP$31+$BP$33+$BP$35+$BP$37+$BP$43+$BP$45+$BP$47+$BP$49+$BP$51+$BP$53+$BP$55),0)","v":0},{"$f":"IFERROR(SUM($BQ$7+$BQ$9+$BQ$11+$BQ$13+$BQ$15+$BQ$17+$BQ$19+$BQ$25+$BQ$27+$BQ$29+$BQ$31+$BQ$33+$BQ$35+$BQ$37+$BQ$43+$BQ$45+$BQ$47+$BQ$49+$BQ$51+$BQ$53+$BQ$55),0)","v":0},{"$f":"IFERROR(SUM($BR$21+$BR$39+$BR$57),0)","v":0},{"$f":"IFERROR(SUM($BS$21+$BS$39+$BS$57),0)","v":0},{"$f":"$BT$5+$BT$23+$BT$41","v":0},{"$f":"$BU$5+$BU$23+$BU$41","v":0},{"$f":"$BV$5+$BV$23+$BV$41","v":0},{"$f":"$BW$5+$BW$23+$BW$41","v":0},{"$f":"$BX$5+$BX$23+$BX$41","v":0},{"$f":"$BY$5+$BY$23+$BY$41","v":0},{"$f":"$BQ$1","v":0},{"$f":"IFERROR(SUM($CA$7+$CA$9+$CA$11+$CA$13+$CA$15+$CA$17+$CA$19+$CA$25+$CA$27+$CA$29+$CA$31+$CA$33+$CA$35+$CA$37+$CA$43+$CA$45+$CA$47+$CA$49+$CA$51+$CA$53+$CA$55),0)","v":0},{"$f":"IFERROR(SUM($CB$7+$CB$9+$CB$11+$CB$13+$CB$15+$CB$17+$CB$19+$CB$25+$CB$27+$CB$29+$CB$31+$CB$33+$CB$35+$CB$37+$CB$43+$CB$45+$CB$47+$CB$49+$CB$51+$CB$53+$CB$55),0)","v":0},{"$f":"IFERROR(SUM($CC$21+$CC$39+$CC$57),0)","v":0},{"$f":"IFERROR(SUM($CD$21+$CD$39+$CD$57),0)","v":0},{"$f":"$CE$5+$CE$23+$CE$41","v":0},{"$f":"$CF$5+$CF$23+$CF$41","v":0},{"$f":"$CG$5+$CG$23+$CG$41","v":0},{"$f":"$CH$5+$CH$23+$CH$41","v":0},{"$f":"$CI$5+$CI$23+$CI$41","v":0},{"$f":"$CJ$5+$CJ$23+$CJ$41","v":0},{"$f":"$CB$1","v":""},null,null,null,null,null,null,null,null,null,null,null,{"$f":" 'Feuille de match'!$Q$5","v":0},{"$f":" 'Feuille de match'!$K$5","v":0},{"$f":" 'Feuille de match'!$A$8","v":0},{"$f":" 'Feuille de match'!$N$8","v":0},{"$f":" 'Feuille de match'!$U$35","v":0},{"$f":" 'Feuille de match'!$V$35","v":0},{"$f":" IF('Feuille de match'!$S$5=\"\",\"\",'Feuille de match'!$S$5)","v":""},{"$f":"CW4","v":0},{"$f":"CX4","v":0},{"$f":"CY4","v":0},{"$f":"IF(AND($EC$4=1,$DK$4=1),0,IF(AND($DK$4=0,$EC$4=1),3,IF(AND($DK$4=1,$EC$4=0),0,IF($DH$4=1,3,IF($DI$4=1,2,IF($DJ$4=1,1,0))))))","v":0},{"$f":"IF(AND($EC$4=1,$DK$4=1),0,IF(AND($DK$4=0,$EC$4=1),1,IF(AND($DK$4=1,$EC$4=0),0,IF($DM$4>$DN$4,1,0))))","v":0},{"$f":"IF(AND($DM$4=0,$DN$4=0),0,IF($DM$4=$DN$4,1,0))","v":0},{"$f":"IF(AND($EC$4=1,$DK$4=1),0,IF(AND($DK$4=0,$EC$4=1),0,IF(AND($DK$4=1,$EC$4=0),1,IF($DM$4<$DN$4,1,0))))","v":0},{"$f":"IF('Feuille de match'!$J$7=\"FORFAIT\",1,0)","v":0},{"$f":"IF($EC$4=1,0,IF($DK$4=1,0,IF(AND($DA$4>0,$DB$4>0),1,IF(AND($DA$4=0,$DB$4>0),1,IF(AND($DA$4>0,$DB$4=0),1,IF(AND($DA$4=0,$DB$4=0),0,0))))))","v":0},{"$f":"SUM($E$4+$Q$4+$AB$4+$AM$4)","v":0},{"$f":"SUM($F$4+$R$4+$AC$4+$AN$4)","v":0},{"$f":"$DM$4-$DN$4","v":0},{"$f":"SUM($C$4+$O$4+$Z$4+$AK$4)","v":0},{"$f":"SUM($D$4+$P$4+$AA$4+$AL$4)","v":0},{"$f":"$DP$4-$DQ$4","v":0},{"$f":"SUM($A$4+$M$4+$X$4+$AI$4)","v":0},{"$f":"SUM($B$4+$N$4+$Y$4+$AJ$4)","v":0},{"$f":"$DS$4-$DT$4","v":0},{"$f":"CW4","v":0},{"$f":"CX4","v":0},{"$f":"CZ4","v":0},{"$f":"IF(AND($EC$4=1,$DK$4=1),0,IF(AND($DK$4=1,$EC$4=0),3,IF(AND($EC$4=1,$DK$4=0),0,IF($DZ$4=1,3,IF($EA$4=1,2,IF($EB$4=1,1,0))))))","v":0},{"$f":"IF(AND($EC$4=1,$DK$4=1),0,IF(AND($DK$4=1,$EC$4=0),1,IF(AND($DK$4=0,$EC$4=1),0,IF($EE$4>$EF$4,1,0))))","v":0},{"$f":"IF(AND($EE$4=0,$EF$4=0),0,IF($EE$4=$EF$4,1,0))","v":0},{"$f":"IF(AND($EC$4=1,$DK$4=1),0,IF(AND($DK$4=1,$EC$4=0),0,IF(AND($DK$4=0,$EC$4=1),1,IF($EE$4<$EF$4,1,0))))","v":0},{"$f":"IF('Feuille de match'!$U$7=\"FORFAIT\",1,0)","v":0},{"$f":"IF($DK$4=1,0,IF($EC$4=1,0,IF(AND($DA$4>0,$DB$4>0),1,IF(AND($DA$4=0,$DB$4>0),1,IF(AND($DA$4>0,$DB$4=0),1,IF(AND($DA$4=0,$DB$4=0),0,0))))))","v":0},{"$f":"SUM($F$4+$BI$4+$BT$4+$CE$4)","v":0},{"$f":"SUM($E$4+$BJ$4+$BU$4+$CF$4)","v":0},{"$f":"$EE$4-$EF$4","v":0},{"$f":"SUM($D$4+$BG$4+$BR$4+$CC$4)","v":0},{"$f":"SUM($C$4+$BH$4+$BS$4+$CD$4)","v":0},{"$f":"$EH$4-$EI$4","v":0},{"$f":"SUM($B$4+$BE$4+$BP$4+$CA$4)","v":0},{"$f":"SUM($A$4+$BF$4+$BQ$4+$CB$4)","v":0},{"$f":"$EK$4-$EL$4","v":0},{"$f":"DD4","v":0},{"$f":"DE4","v":0},{"$f":"DL4","v":0},{"$f":"DF4","v":0},0,0,0,0,0,0,0,0,0,0,0,0,0,0,0,{"$f":"IF(P2=\"\",\"-\",P2)","v":0},{"$f":"M2","v":""},{"$f":"IF(FG4=\"-\",\"\",CW$4)","v":0},{"$f":"T1","v":0},{"$f":"N1","v":0},{"$f":"IF(FG4=\"\",\"\",IF(FG4=\"-\",0,1))","v":1},{"$f":"Q4","v":0},{"$f":"R4","v":0},{"$f":"FM4-FN4","v":0},{"$f":"O4","v":0},{"$f":"P4","v":0},{"$f":"FP4-FQ4","v":0},{"$f":"M4","v":0},{"$f":"N4","v":0},{"$f":"FS4-FT4","v":0},{"$f":"O2","v":""},{"$f":"IF(OR(CX4=\"EXCELLENCE\",CX4=\"HONNEUR\",CX4=\"PROMOTIONNORD\",CX4=\"ADULTESDIVISION1NORD\",CX4=\"PROMOTIONSTRASBOURG\",CX4=\"PROMOTIONFINALE\"),P2,IF(OR(CX4=\"MIXTESD1NORD\",CX4=\"MIXTESD1STRASBOURG\",CX4=\"VETERANSD1STRASBOURG\",CX4=\"VETERANSD2STRASBOURG\",CX4=\"VETERANSD1NORD\",CX4=\"VETERANSD2NORD\",CX4=\"JUNIORS\",CX4=\"CADETS\",CX4=\"MINIMESBENJAMINSPOUSSINS\",CX4=\"MIXTESD1FINALE\",CX4=\"VETERANSD1FINALE\",CX4=\"VETERANSD2FINALE\",CX4=\"JUNIORSFINALE\",CX4=\"CADETSFINALE\",CX4=\"MINIMESBENJAMINSPOUSSINSFINALE\"),P2,\"\"))","v":""},{"$f":"IF(OR(CX4=\"EXCELLENCE\",CX4=\"HONNEUR\",CX4=\"PROMOTIONNORD\",CX4=\"ADULTESDIVISION1NORD\",CX4=\"PROMOTIONSTRASBOURG\",CX4=\"PROMOTIONFINALE\"),M2,IF(OR(CX4=\"MIXTESD1NORD\",CX4=\"MIXTESD1STRASBOURG\",CX4=\"VETERANSD1STRASBOURG\",CX4=\"VETERANSD2STRASBOURG\",CX4=\"VETERANSD1NORD\",CX4=\"VETERANSD2NORD\",CX4=\"JUNIORS\",CX4=\"CADETS\",CX4=\"MINIMESBENJAMINSPOUSSINS\",CX4=\"MIXTESD1FINALE\",CX4=\"VETERANSD1FINALE\",CX4=\"VETERANSD2FINALE\",CX4=\"JUNIORSFINALE\",CX4=\"CADETSFINALE\",CX4=\"MINIMESBENJAMINSPOUSSINSFINALE\"),M2,\"\"))","v":""},{"$f":"IF(OR(CX4=\"EXCELLENCE\",CX4=\"HONNEUR\",CX4=\"PROMOTIONNORD\",CX4=\"ADULTESDIVISION1NORD\",CX4=\"PROMOTIONSTRASBOURG\",CX4=\"PROMOTIONFINALE\"),O2,IF(OR(CX4=\"MIXTESD1NORD\",CX4=\"MIXTESD1STRASBOURG\",CX4=\"VETERANSD1STRASBOURG\",CX4=\"VETERANSD2STRASBOURG\",CX4=\"VETERANSD1NORD\",CX4=\"VETERANSD2NORD\",CX4=\"JUNIORS\",CX4=\"CADETS\",CX4=\"MINIMESBENJAMINSPOUSSINS\",CX4=\"MIXTESD1FINALE\",CX4=\"VETERANSD1FINALE\",CX4=\"VETERANSD2FINALE\",CX4=\"JUNIORSFINALE\",CX4=\"CADETSFINALE\",CX4=\"MINIMESBENJAMINSPOUSSINSFINALE\"),O2,\"\"))","v":""},{"$f":"IF(OR(CX4=\"EXCELLENCE\",CX4=\"HONNEUR\",CX4=\"PROMOTIONNORD\",CX4=\"ADULTESDIVISION1NORD\",CX4=\"PROMOTIONSTRASBOURG\",CX4=\"PROMOTIONFINALE\"),N1,IF(OR(CX4=\"MIXTESD1NORD\",CX4=\"MIXTESD1STRASBOURG\",CX4=\"VETERANSD1STRASBOURG\",CX4=\"VETERANSD2STRASBOURG\",CX4=\"VETERANSD1NORD\",CX4=\"VETERANSD2NORD\",CX4=\"JUNIORS\",CX4=\"CADETS\",CX4=\"MINIMESBENJAMINSPOUSSINS\",CX4=\"MIXTESD1FINALE\",CX4=\"VETERANSD1FINALE\",CX4=\"VETERANSD2FINALE\",CX4=\"JUNIORSFINALE\",CX4=\"CADETSFINALE\",CX4=\"MINIMESBENJAMINSPOUSSINSFINALE\"),N1,\"\"))","v":""},{"$f":"IF(OR(CX4=\"EXCELLENCE\",CX4=\"HONNEUR\",CX4=\"PROMOTIONNORD\",CX4=\"ADULTESDIVISION1NORD\",CX4=\"PROMOTIONSTRASBOURG\",CX4=\"PROMOTIONFINALE\"),CX4,IF(OR(CX4=\"MIXTESD1NORD\",CX4=\"MIXTESD1STRASBOURG\",CX4=\"VETERANSD1STRASBOURG\",CX4=\"VETERANSD2STRASBOURG\",CX4=\"VETERANSD1NORD\",CX4=\"VETERANSD2NORD\",CX4=\"JUNIORS\",CX4=\"CADETS\",CX4=\"MINIMESBENJAMINSPOUSSINS\",CX4=\"MIXTESD1FINALE\",CX4=\"VETERANSD1FINALE\",CX4=\"VETERANSD2FINALE\",CX4=\"JUNIORSFINALE\",CX4=\"CADETSFINALE\",CX4=\"MINIMESBENJAMINSPOUSSINSFINALE\"),CX4,\"\"))","v":""},{"$f":"IF(OR(CX4=\"EXCELLENCE\",CX4=\"HONNEUR\",CX4=\"PROMOTIONNORD\",CX4=\"ADULTESDIVISION1NORD\",CX4=\"PROMOTIONSTRASBOURG\",CX4=\"PROMOTIONFINALE\"),CW4,IF(OR(CX4=\"MIXTESD1NORD\",CX4=\"MIXTESD1STRASBOURG\",CX4=\"VETERANSD1STRASBOURG\",CX4=\"VETERANSD2STRASBOURG\",CX4=\"VETERANSD1NORD\",CX4=\"VETERANSD2NORD\",CX4=\"JUNIORS\",CX4=\"CADETS\",CX4=\"MINIMESBENJAMINSPOUSSINS\",CX4=\"MIXTESD1FINALE\",CX4=\"VETERANSD1FINALE\",CX4=\"VETERANSD2FINALE\",CX4=\"JUNIORSFINALE\",CX4=\"CADETSFINALE\",CX4=\"MINIMESBENJAMINSPOUSSINSFINALE\"),CW4,\"\"))","v":""},"VICTOIRE CONTRE",{"$f":"IF(Q5<R5,\"\",IF(AND(CX4=\"EXCELLENCE\",Q5>R5),N5,IF(AND(CX4=\"HONNEUR\",Q5>R5),N5,IF(AND(CX4=\"PROMOTIONNORD\",Q5>R5),N5,IF(AND(CX4=\"ADULTESDIVISION1NORD\",Q5>R5),N5,IF(AND(CX4=\"PROMOTIONSTRASBOURG\",Q5>R5),N5,IF(AND(CX4=\"PROMOTIONFINALE\",Q5>R5),N5,IF(AND(CX4=\"MIXTESD1NORD\",Q5>R5),N5,IF(AND(CX4=\"MIXTESD1STRASBOURG\",Q5>R5),N5,IF(AND(CX4=\"VETERANSD1STRASBOURG\",Q5>R5),N5,IF(AND(CX4=\"VETERANSD2STRASBOURG\",Q5>R5),N5,IF(AND(CX4=\"VETERANSD1NORD\",Q5>R5),N5,IF(AND(CX4=\"VETERANSD2NORD\",Q5>R5),N5,IF(AND(CX4=\"JUNIORS\",Q5>R5),N5,IF(AND(CX4=\"CADETS\",Q5>R5),N5,IF(AND(CX4=\"MINIMESBENJAMINSPOUSSINS\",Q5>R5),N5,IF(AND(CX4=\"MIXTESD1FINALE\",Q5>R5),N5,IF(AND(CX4=\"VETERANSD1FINALE\",Q5>R5),N5,IF(AND(CX4=\"VETERANSD2FINALE\",Q5>R5),N5,IF(AND(CX4=\"JUNIORSFINALE\",Q5>R5),N5,IF(AND(CX4=\"CADETSFINALE\",Q5>R5),N5,IF(AND(CX4=\"MINIMESBENJAMINSPOUSSINSFINALE\",Q5>R5),N5,\"\"))))))))))))))))))))))","v":""},{"$f":"IF(Q5<R5,\"\",IF(AND(CX4=\"EXCELLENCE\",Q5>R5),O5,IF(AND(CX4=\"HONNEUR\",Q5>R5),O5,IF(AND(CX4=\"PROMOTIONNORD\",Q5>R5),O5,IF(AND(CX4=\"ADULTESDIVISION1NORD\",Q5>R5),O5,IF(AND(CX4=\"PROMOTIONSTRASBOURG\",Q5>R5),O5,IF(AND(CX4=\"PROMOTIONFINALE\",Q5>R5),O5,IF(AND(CX4=\"MIXTESD1NORD\",Q5>R5),O5,IF(AND(CX4=\"MIXTESD1STRASBOURG\",Q5>R5),O5,IF(AND(CX4=\"VETERANSD1STRASBOURG\",Q5>R5),O5,IF(AND(CX4=\"VETERANSD2STRASBOURG\",Q5>R5),O5,IF(AND(CX4=\"VETERANSD1NORD\",Q5>R5),O5,IF(AND(CX4=\"VETERANSD2NORD\",Q5>R5),O5,IF(AND(CX4=\"JUNIORS\",Q5>R5),O5,IF(AND(CX4=\"CADETS\",Q5>R5),O5,IF(AND(CX4=\"MINIMESBENJAMINSPOUSSINS\",Q5>R5),O5,IF(AND(CX4=\"MIXTESD1FINALE\",Q5>R5),O5,IF(AND(CX4=\"VETERANSD1FINALE\",Q5>R5),O5,IF(AND(CX4=\"VETERANSD2FINALE\",Q5>R5),O5,IF(AND(CX4=\"JUNIORSFINALE\",Q5>R5),O5,IF(AND(CX4=\"CADETSFINALE\",Q5>R5),O5,IF(AND(CX4=\"MINIMESBENJAMINSPOUSSINSFINALE\",Q5>R5),O5,\"\"))))))))))))))))))))))","v":""},{"$f":"IF(Q5<R5,\"\",IF(AND(CX4=\"EXCELLENCE\",Q5>R5),P5,IF(AND(CX4=\"HONNEUR\",Q5>R5),P5,IF(AND(CX4=\"PROMOTIONNORD\",Q5>R5),P5,IF(AND(CX4=\"ADULTESDIVISION1NORD\",Q5>R5),P5,IF(AND(CX4=\"PROMOTIONSTRASBOURG\",Q5>R5),P5,IF(AND(CX4=\"PROMOTIONFINALE\",Q5>R5),P5,IF(AND(CX4=\"MIXTESD1NORD\",Q5>R5),P5,IF(AND(CX4=\"MIXTESD1STRASBOURG\",Q5>R5),P5,IF(AND(CX4=\"VETERANSD1STRASBOURG\",Q5>R5),P5,IF(AND(CX4=\"VETERANSD2STRASBOURG\",Q5>R5),P5,IF(AND(CX4=\"VETERANSD1NORD\",Q5>R5),P5,IF(AND(CX4=\"VETERANSD2NORD\",Q5>R5),P5,IF(AND(CX4=\"JUNIORS\",Q5>R5),P5,IF(AND(CX4=\"CADETS\",Q5>R5),P5,IF(AND(CX4=\"MINIMESBENJAMINSPOUSSINS\",Q5>R5),P5,IF(AND(CX4=\"MIXTESD1FINALE\",Q5>R5),P5,IF(AND(CX4=\"VETERANSD1FINALE\",Q5>R5),P5,IF(AND(CX4=\"VETERANSD2FINALE\",Q5>R5),P5,IF(AND(CX4=\"JUNIORSFINALE\",Q5>R5),P5,IF(AND(CX4=\"CADETSFINALE\",Q5>R5),P5,IF(AND(CX4=\"MINIMESBENJAMINSPOUSSINSFINALE\",Q5>R5),P5,\"\"))))))))))))))))))))))","v":""},{"$f":"IF(Q5<R5,\"\",IF(AND(CX4=\"EXCELLENCE\",Q5>R5),S1,IF(AND(CX4=\"HONNEUR\",Q5>R5),S1,IF(AND(CX4=\"PROMOTIONNORD\",Q5>R5),S1,IF(AND(CX4=\"ADULTESDIVISION1NORD\",Q5>R5),S1,IF(AND(CX4=\"PROMOTIONSTRASBOURG\",Q5>R5),S1,IF(AND(CX4=\"PROMOTIONFINALE\",Q5>R5),S1,IF(AND(CX4=\"MIXTESD1NORD\",Q5>R5),S1,IF(AND(CX4=\"MIXTESD1STRASBOURG\",Q5>R5),S1,IF(AND(CX4=\"VETERANSD1STRASBOURG\",Q5>R5),S1,IF(AND(CX4=\"VETERANSD2STRASBOURG\",Q5>R5),S1,IF(AND(CX4=\"VETERANSD1NORD\",Q5>R5),S1,IF(AND(CX4=\"VETERANSD2NORD\",Q5>R5),S1,IF(AND(CX4=\"JUNIORS\",Q5>R5),S1,IF(AND(CX4=\"CADETS\",Q5>R5),S1,IF(AND(CX4=\"MINIMESBENJAMINSPOUSSINS\",Q5>R5),S1,IF(AND(CX4=\"MIXTESD1FINALE\",Q5>R5),S1,IF(AND(CX4=\"VETERANSD1FINALE\",Q5>R5),S1,IF(AND(CX4=\"VETERANSD2FINALE\",Q5>R5),S1,IF(AND(CX4=\"JUNIORSFINALE\",Q5>R5),S1,IF(AND(CX4=\"CADETSFINALE\",Q5>R5),S1,IF(AND(CX4=\"MINIMESBENJAMINSPOUSSINSFINALE\",Q5>R5),S1,\"\"))))))))))))))))))))))","v":""},{"$f":"IF(Q5<R5,\"\",IF(AND(CX4=\"EXCELLENCE\",Q5>R5),S5,IF(AND(CX4=\"HONNEUR\",Q5>R5),S5,IF(AND(CX4=\"PROMOTIONNORD\",Q5>R5),S5,IF(AND(CX4=\"ADULTESDIVISION1NORD\",Q5>R5),S5,IF(AND(CX4=\"PROMOTIONSTRASBOURG\",Q5>R5),S5,IF(AND(CX4=\"PROMOTIONFINALE\",Q5>R5),S5,IF(AND(CX4=\"MIXTESD1NORD\",Q5>R5),S5,IF(AND(CX4=\"MIXTESD1STRASBOURG\",Q5>R5),S5,IF(AND(CX4=\"VETERANSD1STRASBOURG\",Q5>R5),S5,IF(AND(CX4=\"VETERANSD2STRASBOURG\",Q5>R5),S5,IF(AND(CX4=\"VETERANSD1NORD\",Q5>R5),S5,IF(AND(CX4=\"VETERANSD2NORD\",Q5>R5),S5,IF(AND(CX4=\"JUNIORS\",Q5>R5),S5,IF(AND(CX4=\"CADETS\",Q5>R5),S5,IF(AND(CX4=\"MINIMESBENJAMINSPOUSSINS\",Q5>R5),S5,IF(AND(CX4=\"MIXTESD1FINALE\",Q5>R5),S5,IF(AND(CX4=\"VETERANSD1FINALE\",Q5>R5),S5,IF(AND(CX4=\"VETERANSD2FINALE\",Q5>R5),S5,IF(AND(CX4=\"JUNIORSFINALE\",Q5>R5),S5,IF(AND(CX4=\"CADETSFINALE\",Q5>R5),S5,IF(AND(CX4=\"MINIMESBENJAMINSPOUSSINSFINALE\",Q5>R5),S5,\"\"))))))))))))))))))))))","v":""},{"$f":"IF(Q5<R5,\"\",IF(AND(CX4=\"EXCELLENCE\",Q5>R5),U5,IF(AND(CX4=\"HONNEUR\",Q5>R5),U5,IF(AND(CX4=\"PROMOTIONNORD\",Q5>R5),U5,IF(AND(CX4=\"ADULTESDIVISION1NORD\",Q5>R5),U5,IF(AND(CX4=\"PROMOTIONSTRASBOURG\",Q5>R5),U5,IF(AND(CX4=\"PROMOTIONFINALE\",Q5>R5),U5,IF(AND(CX4=\"MIXTESD1NORD\",Q5>R5),U5,IF(AND(CX4=\"MIXTESD1STRASBOURG\",Q5>R5),U5,IF(AND(CX4=\"VETERANSD1STRASBOURG\",Q5>R5),U5,IF(AND(CX4=\"VETERANSD2STRASBOURG\",Q5>R5),U5,IF(AND(CX4=\"VETERANSD1NORD\",Q5>R5),U5,IF(AND(CX4=\"VETERANSD2NORD\",Q5>R5),U5,IF(AND(CX4=\"JUNIORS\",Q5>R5),U5,IF(AND(CX4=\"CADETS\",Q5>R5),U5,IF(AND(CX4=\"MINIMESBENJAMINSPOUSSINS\",Q5>R5),U5,IF(AND(CX4=\"MIXTESD1FINALE\",Q5>R5),U5,IF(AND(CX4=\"VETERANSD1FINALE\",Q5>R5),U5,IF(AND(CX4=\"VETERANSD2FINALE\",Q5>R5),U5,IF(AND(CX4=\"JUNIORSFINALE\",Q5>R5),U5,IF(AND(CX4=\"CADETSFINALE\",Q5>R5),U5,IF(AND(CX4=\"MINIMESBENJAMINSPOUSSINSFINALE\",Q5>R5),U5,\"\"))))))))))))))))))))))","v":""},"DEFAITE CONTRE",{"$f":"IF(Q5>R5,\"\",IF(AND(CX4=\"EXCELLENCE\",Q5<R5),N5,IF(AND(CX4=\"HONNEUR\",Q5<R5),N5,IF(AND(CX4=\"PROMOTIONNORD\",Q5<R5),N5,IF(AND(CX4=\"ADULTESDIVISION1NORD\",Q5<R5),N5,IF(AND(CX4=\"PROMOTIONSTRASBOURG\",Q5<R5),N5,IF(AND(CX4=\"MIXTESD1NORD\",Q5<R5),N5,IF(AND(CX4=\"MIXTESD1STRASBOURG\",Q5<R5),N5,IF(AND(CX4=\"VETERANSD1STRASBOURG\",Q5<R5),N5,IF(AND(CX4=\"VETERANSD2STRASBOURG\",Q5<R5),N5,IF(AND(CX4=\"VETERANSD1NORD\",Q5<R5),N5,IF(AND(CX4=\"VETERANSD2NORD\",Q5<R5),N5,IF(AND(CX4=\"JUNIORS\",Q5<R5),N5,IF(AND(CX4=\"CADETS\",Q5<R5),N5,IF(AND(CX4=\"MINIMESBENJAMINSPOUSSINS\",Q5<R5),N5,IF(AND(CX4=\"PROMOTIONFINALE\",Q5<R5),N5,IF(AND(CX4=\"MIXTESD1FINALE\",Q5<R5),N5,IF(AND(CX4=\"VETERANSD1FINALE\",Q5<R5),N5,IF(AND(CX4=\"VETERANSD2FINALE\",Q5<R5),N5,IF(AND(CX4=\"JUNIORSFINALE\",Q5<R5),N5,IF(AND(CX4=\"CADETSFINALE\",Q5<R5),N5,IF(AND(CX4=\"MINIMESBENJAMINSPOUSSINSFINALE\",Q5<R5),N5,\"\"))))))))))))))))))))))","v":""},{"$f":"IF(Q5>R5,\"\",IF(AND(CX4=\"EXCELLENCE\",Q5<R5),O5,IF(AND(CX4=\"HONNEUR\",Q5<R5),O5,IF(AND(CX4=\"PROMOTIONNORD\",Q5<R5),O5,IF(AND(CX4=\"ADULTESDIVISION1NORD\",Q5<R5),O5,IF(AND(CX4=\"PROMOTIONSTRASBOURG\",Q5<R5),O5,IF(AND(CX4=\"MIXTESD1NORD\",Q5<R5),O5,IF(AND(CX4=\"MIXTESD1STRASBOURG\",Q5<R5),O5,IF(AND(CX4=\"VETERANSD1STRASBOURG\",Q5<R5),O5,IF(AND(CX4=\"VETERANSD2STRASBOURG\",Q5<R5),O5,IF(AND(CX4=\"VETERANSD1NORD\",Q5<R5),O5,IF(AND(CX4=\"VETERANSD2NORD\",Q5<R5),O5,IF(AND(CX4=\"JUNIORS\",Q5<R5),O5,IF(AND(CX4=\"CADETS\",Q5<R5),O5,IF(AND(CX4=\"MINIMESBENJAMINSPOUSSINS\",Q5<R5),O5,IF(AND(CX4=\"PROMOTIONFINALE\",Q5<R5),O5,IF(AND(CX4=\"MIXTESD1FINALE\",Q5<R5),O5,IF(AND(CX4=\"VETERANSD1FINALE\",Q5<R5),O5,IF(AND(CX4=\"VETERANSD2FINALE\",Q5<R5),O5,IF(AND(CX4=\"JUNIORSFINALE\",Q5<R5),O5,IF(AND(CX4=\"CADETSFINALE\",Q5<R5),O5,IF(AND(CX4=\"MINIMESBENJAMINSPOUSSINSFINALE\",Q5<R5),O5,\"\"))))))))))))))))))))))","v":""},{"$f":"IF(Q5>R5,\"\",IF(AND(CX4=\"EXCELLENCE\",Q5<R5),P5,IF(AND(CX4=\"HONNEUR\",Q5<R5),P5,IF(AND(CX4=\"PROMOTIONNORD\",Q5<R5),P5,IF(AND(CX4=\"ADULTESDIVISION1NORD\",Q5<R5),P5,IF(AND(CX4=\"PROMOTIONSTRASBOURG\",Q5<R5),P5,IF(AND(CX4=\"MIXTESD1NORD\",Q5<R5),P5,IF(AND(CX4=\"MIXTESD1STRASBOURG\",Q5<R5),P5,IF(AND(CX4=\"VETERANSD1STRASBOURG\",Q5<R5),P5,IF(AND(CX4=\"VETERANSD2STRASBOURG\",Q5<R5),P5,IF(AND(CX4=\"VETERANSD1NORD\",Q5<R5),P5,IF(AND(CX4=\"VETERANSD2NORD\",Q5<R5),P5,IF(AND(CX4=\"JUNIORS\",Q5<R5),P5,IF(AND(CX4=\"CADETS\",Q5<R5),P5,IF(AND(CX4=\"MINIMESBENJAMINSPOUSSINS\",Q5<R5),P5,IF(AND(CX4=\"PROMOTIONFINALE\",Q5<R5),P5,IF(AND(CX4=\"MIXTESD1FINALE\",Q5<R5),P5,IF(AND(CX4=\"VETERANSD1FINALE\",Q5<R5),P5,IF(AND(CX4=\"VETERANSD2FINALE\",Q5<R5),P5,IF(AND(CX4=\"JUNIORSFINALE\",Q5<R5),P5,IF(AND(CX4=\"CADETSFINALE\",Q5<R5),P5,IF(AND(CX4=\"MINIMESBENJAMINSPOUSSINSFINALE\",Q5<R5),P5,\"\"))))))))))))))))))))))","v":""},{"$f":"IF(Q5>R5,\"\",IF(AND(CX4=\"EXCELLENCE\",Q5<R5),S1,IF(AND(CX4=\"HONNEUR\",Q5<R5),S1,IF(AND(CX4=\"PROMOTIONNORD\",Q5<R5),S1,IF(AND(CX4=\"ADULTESDIVISION1NORD\",Q5<R5),S1,IF(AND(CX4=\"PROMOTIONSTRASBOURG\",Q5<R5),S1,IF(AND(CX4=\"MIXTESD1NORD\",Q5<R5),S1,IF(AND(CX4=\"MIXTESD1STRASBOURG\",Q5<R5),S1,IF(AND(CX4=\"VETERANSD1STRASBOURG\",Q5<R5),S1,IF(AND(CX4=\"VETERANSD2STRASBOURG\",Q5<R5),S1,IF(AND(CX4=\"VETERANSD1NORD\",Q5<R5),S1,IF(AND(CX4=\"VETERANSD2NORD\",Q5<R5),S1,IF(AND(CX4=\"JUNIORS\",Q5<R5),S1,IF(AND(CX4=\"CADETS\",Q5<R5),S1,IF(AND(CX4=\"MINIMESBENJAMINSPOUSSINS\",Q5<R5),S1,IF(AND(CX4=\"PROMOTIONFINALE\",Q5<R5),S1,IF(AND(CX4=\"MIXTESD1FINALE\",Q5<R5),S1,IF(AND(CX4=\"VETERANSD1FINALE\",Q5<R5),S1,IF(AND(CX4=\"VETERANSD2FINALE\",Q5<R5),S1,IF(AND(CX4=\"JUNIORSFINALE\",Q5<R5),S1,IF(AND(CX4=\"CADETSFINALE\",Q5<R5),S1,IF(AND(CX4=\"MINIMESBENJAMINSPOUSSINSFINALE\",Q5<R5),S1,\"\"))))))))))))))))))))))","v":""},{"$f":"IF(Q5>R5,\"\",IF(AND(CX4=\"EXCELLENCE\",Q5<R5),T5,IF(AND(CX4=\"HONNEUR\",Q5<R5),T5,IF(AND(CX4=\"PROMOTIONNORD\",Q5<R5),T5,IF(AND(CX4=\"ADULTESDIVISION1NORD\",Q5<R5),T5,IF(AND(CX4=\"PROMOTIONSTRASBOURG\",Q5<R5),T5,IF(AND(CX4=\"MIXTESD1NORD\",Q5<R5),T5,IF(AND(CX4=\"MIXTESD1STRASBOURG\",Q5<R5),T5,IF(AND(CX4=\"VETERANSD1STRASBOURG\",Q5<R5),T5,IF(AND(CX4=\"VETERANSD2STRASBOURG\",Q5<R5),T5,IF(AND(CX4=\"VETERANSD1NORD\",Q5<R5),T5,IF(AND(CX4=\"VETERANSD2NORD\",Q5<R5),T5,IF(AND(CX4=\"JUNIORS\",Q5<R5),T5,IF(AND(CX4=\"CADETS\",Q5<R5),T5,IF(AND(CX4=\"MINIMESBENJAMINSPOUSSINS\",Q5<R5),T5,IF(AND(CX4=\"PROMOTIONFINALE\",Q5<R5),T5,IF(AND(CX4=\"MIXTESD1FINALE\",Q5<R5),T5,IF(AND(CX4=\"VETERANSD1FINALE\",Q5<R5),T5,IF(AND(CX4=\"VETERANSD2FINALE\",Q5<R5),T5,IF(AND(CX4=\"JUNIORSFINALE\",Q5<R5),T5,IF(AND(CX4=\"CADETSFINALE\",Q5<R5),T5,IF(AND(CX4=\"MINIMESBENJAMINSPOUSSINSFINALE\",Q5<R5),T5,\"\"))))))))))))))))))))))","v":""},{"$f":"IF(Q5>R5,\"\",IF(AND(CX4=\"EXCELLENCE\",Q5<R5),V5,IF(AND(CX4=\"HONNEUR\",Q5<R5),V5,IF(AND(CX4=\"PROMOTIONNORD\",Q5<R5),V5,IF(AND(CX4=\"ADULTESDIVISION1NORD\",Q5<R5),V5,IF(AND(CX4=\"PROMOTIONSTRASBOURG\",Q5<R5),V5,IF(AND(CX4=\"MIXTESD1NORD\",Q5<R5),V5,IF(AND(CX4=\"MIXTESD1STRASBOURG\",Q5<R5),V5,IF(AND(CX4=\"VETERANSD1STRASBOURG\",Q5<R5),V5,IF(AND(CX4=\"VETERANSD2STRASBOURG\",Q5<R5),V5,IF(AND(CX4=\"VETERANSD1NORD\",Q5<R5),V5,IF(AND(CX4=\"VETERANSD2NORD\",Q5<R5),V5,IF(AND(CX4=\"JUNIORS\",Q5<R5),V5,IF(AND(CX4=\"CADETS\",Q5<R5),V5,IF(AND(CX4=\"MINIMESBENJAMINSPOUSSINS\",Q5<R5),V5,IF(AND(CX4=\"PROMOTIONFINALE\",Q5<R5),V5,IF(AND(CX4=\"MIXTESD1FINALE\",Q5<R5),V5,IF(AND(CX4=\"VETERANSD1FINALE\",Q5<R5),V5,IF(AND(CX4=\"VETERANSD2FINALE\",Q5<R5),V5,IF(AND(CX4=\"JUNIORSFINALE\",Q5<R5),V5,IF(AND(CX4=\"CADETSFINALE\",Q5<R5),V5,IF(AND(CX4=\"MINIMESBENJAMINSPOUSSINSFINALE\",Q5<R5),V5,\"\"))))))))))))))))))))))","v":""},1,null,null,null,null,null,null,null,null,{"$f":"'Feuille de match'!Q5","v":0},{"$f":"B1","v":0},{"$f":"F1","v":0},{"$f":"F4","v":0},{"$f":"E4","v":0},{"$f":"D4","v":0},{"$f":"C4","v":0},{"$f":"B4","v":0},{"$f":"A4","v":0}]
["Match contre",null,{"$f":"IF(OR('Feuille de match'!$K$5=\"EXCELLENCE\",'Feuille de match'!$K$5=\"HONNEUR\",'Feuille de match'!$K$5=\"PROMOTIONSTRASBOURG\",'Feuille de match'!$K$5=\"PROMOTIONNORD\",'Feuille de match'!$K$5=\"PROMOTIONFINALE\",'Feuille de match'!$K$5=\"ADULTESDIVISION1NORD\"),'Feuille de match'!J23,IF(OR('Feuille de match'!$K$5=\"MIXTESD1STRASBOURG\",'Feuille de match'!$K$5=\"MIXTESD1NORD\",'Feuille de match'!$K$5=\"VETERANSD1STRASBOURG\",'Feuille de match'!$K$5=\"VETERANSD2STRASBOURG\",'Feuille de match'!$K$5=\"VETERANSD1NORD\",'Feuille de match'!$K$5=\"VETERANSD2NORD\",'Feuille de match'!$K$5=\"JUNIORS\",'Feuille de match'!$K$5=\"CADETS\",'Feuille de match'!$K$5=\"MINIMESBENJAMINSPOUSSINS\",'Feuille de match'!$K$5=\"MIXTESD1FINALE\",'Feuille de match'!$K$5=\"VETERANSD1FINALE\",'Feuille de match'!$K$5=\"VETERANSD2FINALE\",'Feuille de match'!$K$5=\"JUNIORSFINALE\",'Feuille de match'!$K$5=\"CADETSFINALE\",'Feuille de match'!$K$5=\"MINIMESBENJAMINSPOUSSINSFINALE\"),'Feuille de match'!J19,\"\"))","v":""},null,null,null,null,null,null,null,null,null,"Match 1 contre",{"$f":"IF(OR('Feuille de match'!$K$5=\"EXCELLENCE\",'Feuille de match'!$K$5=\"HONNEUR\",'Feuille de match'!$K$5=\"PROMOTIONNORD\",'Feuille de match'!$K$5=\"ADULTESDIVISION1NORD\",'Feuille de match'!$K$5=\"PROMOTIONSTRASBOURG\",'Feuille de match'!$K$5=\"PROMOTIONFINALE\"),'Feuille de match'!U10,IF(OR('Feuille de match'!$K$5=\"MIXTESD1NORD\",'Feuille de match'!$K$5=\"MIXTESD1STRASBOURG\",'Feuille de match'!$K$5=\"VETERANSD1STRASBOURG\",'Feuille de match'!$K$5=\"VETERANSD2STRASBOURG\",'Feuille de match'!$K$5=\"VETERANSD1NORD\",'Feuille de match'!$K$5=\"VETERANSD2NORD\",'Feuille de match'!$K$5=\"JUNIORS\",'Feuille de match'!$K$5=\"CADETS\",'Feuille de match'!$K$5=\"MINIMESBENJAMINSPOUSSINS\",'Feuille de match'!$K$5=\"MIXTESD1FINALE\",'Feuille de match'!$K$5=\"VETERANSD1FINALE\",'Feuille de match'!$K$5=\"VETERANSD2FINALE\",'Feuille de match'!$K$5=\"JUNIORSFINALE\",'Feuille de match'!$K$5=\"CADETSFINALE\",'Feuille de match'!$K$5=\"MINIMESBENJAMINSPOUSSINSFINALE\"),'Feuille de match'!$U$10,\"\"))","v":""},{"$f":"IF(OR('Feuille de match'!$K$5=\"EXCELLENCE\",'Feuille de match'!$K$5=\"HONNEUR\",'Feuille de match'!$K$5=\"PROMOTIONNORD\",'Feuille de match'!$K$5=\"ADULTESDIVISION1NORD\",'Feuille de match'!$K$5=\"PROMOTIONSTRASBOURG\",'Feuille de match'!$K$5=\"PROMOTIONFINALE\"),'Feuille de match'!$O$10,IF(OR('Feuille de match'!$K$5=\"MIXTESD1NORD\",'Feuille de match'!$K$5=\"MIXTESD1STRASBOURG\",'Feuille de match'!$K$5=\"VETERANSD1STRASBOURG\",'Feuille de match'!$K$5=\"VETERANSD2STRASBOURG\",'Feuille de match'!$K$5=\"VETERANSD1NORD\",'Feuille de match'!$K$5=\"VETERANSD2NORD\",'Feuille de match'!$K$5=\"JUNIORS\",'Feuille de match'!$K$5=\"CADETS\",'Feuille de match'!$K$5=\"MINIMESBENJAMINSPOUSSINS\",'Feuille de match'!$K$5=\"MIXTESD1FINALE\",'Feuille de match'!$K$5=\"VETERANSD1FINALE\",'Feuille de match'!$K$5=\"VETERANSD2FINALE\",'Feuille de match'!$K$5=\"JUNIORSFINALE\",'Feuille de match'!$K$5=\"CADETSFINALE\",'Feuille de match'!$K$5=\"MINIMESBENJAMINSPOUSSINSFINALE\"),'Feuille de match'!$O$10,\"\"))","v":""},{"$f":"IF(OR('Feuille de match'!$K$5=\"EXCELLENCE\",'Feuille de match'!$K$5=\"HONNEUR\",'Feuille de match'!$K$5=\"PROMOTIONNORD\",'Feuille de match'!$K$5=\"ADULTESDIVISION1NORD\",'Feuille de match'!$K$5=\"PROMOTIONSTRASBOURG\",'Feuille de match'!$K$5=\"PROMOTIONFINALE\"),'Feuille de match'!$W$10,IF(OR('Feuille de match'!$K$5=\"MIXTESD1NORD\",'Feuille de match'!$K$5=\"MIXTESD1STRASBOURG\",'Feuille de match'!$K$5=\"VETERANSD1STRASBOURG\",'Feuille de match'!$K$5=\"VETERANSD2STRASBOURG\",'Feuille de match'!$K$5=\"VETERANSD1NORD\",'Feuille de match'!$K$5=\"VETERANSD2NORD\",'Feuille de match'!$K$5=\"JUNIORS\",'Feuille de match'!$K$5=\"CADETS\",'Feuille de match'!$K$5=\"MINIMESBENJAMINSPOUSSINS\",'Feuille de match'!$K$5=\"MIXTESD1FINALE\",'Feuille de match'!$K$5=\"VETERANSD1FINALE\",'Feuille de match'!$K$5=\"VETERANSD2FINALE\",'Feuille de match'!$K$5=\"JUNIORSFINALE\",'Feuille de match'!$K$5=\"CADETSFINALE\",'Feuille de match'!$K$5=\"MINIMESBENJAMINSPOUSSINSFINALE\"),'Feuille de match'!$W$10,\"\"))","v":""},{"$f":"IF($O$21>$P$21,1,0)","v":0},{"$f":"IF($O$21<$P$21,1,0)","v":0},{"$f":"IF($Q$5=0,0,IF(AND($Q$5=1,$O$2>$P$5),1,0))","v":0},{"$f":"IF($R$5=0,0,IF(AND($R$5=1,$O$2<$P$5),1,0))","v":0},{"$f":"IF($O$2=0,0,IF($Q$5=0,0,IF(AND($Q$5=1,$O$2<$P$5-5),0,IF(AND($Q$5=1,$O$2=$P$5-5),1,IF(AND($Q$5=1,$O$2=$P$5),2,IF(AND($Q$5=1,$O$2=$P$5+5),3,IF(AND($Q$5=1,$O$2>$P$5+5),4)))))))","v":0},{"$f":"IF($O$2=0,0,IF($R$5=0,0,IF(AND($R$5=1,$O$2>$P$5),0,IF(AND($R$5=1,$O$2=$P$5),2,IF(AND($R$5=1,$O$2=$P$5-5),3,IF(AND($R$5=1,$O$2<$P$5-5),4))))))","v":0},null,"Match 1 contre",{"$f":"IF(OR('Feuille de match'!$K$5=\"EXCELLENCE\",'Feuille de match'!$K$5=\"HONNEUR\",'Feuille de match'!$K$5=\"PROMOTIONNORD\",'Feuille de match'!$K$5=\"ADULTESDIVISION1NORD\",'Feuille de match'!$K$5=\"PROMOTIONSTRASBOURG\",'Feuille de match'!$K$5=\"PROMOTIONFINALE\"),'Feuille de match'!$U$11,IF(OR('Feuille de match'!$K$5=\"MIXTESD1NORD\",'Feuille de match'!$K$5=\"MIXTESD1STRASBOURG\",'Feuille de match'!$K$5=\"VETERANSD1STRASBOURG\",'Feuille de match'!$K$5=\"VETERANSD2STRASBOURG\",'Feuille de match'!$K$5=\"VETERANSD1NORD\",'Feuille de match'!$K$5=\"VETERANSD2NORD\",'Feuille de match'!$K$5=\"JUNIORS\",'Feuille de match'!$K$5=\"CADETS\",'Feuille de match'!$K$5=\"MINIMESBENJAMINSPOUSSINS\",'Feuille de match'!$K$5=\"MIXTESD1FINALE\",'Feuille de match'!$K$5=\"VETERANSD1FINALE\",'Feuille de match'!$K$5=\"VETERANSD2FINALE\",'Feuille de match'!$K$5=\"JUNIORSFINALE\",'Feuille de match'!$K$5=\"CADETSFINALE\",'Feuille de match'!$K$5=\"MINIMESBENJAMINSPOUSSINSFINALE\"),'Feuille de match'!$U$11,\"\"))","v":""},{"$f":"IF(OR('Feuille de match'!$K$5=\"EXCELLENCE\",'Feuille de match'!$K$5=\"HONNEUR\",'Feuille de match'!$K$5=\"PROMOTIONNORD\",'Feuille de match'!$K$5=\"ADULTESDIVISION1NORD\",'Feuille de match'!$K$5=\"PROMOTIONSTRASBOURG\",'Feuille de match'!$K$5=\"PROMOTIONFINALE\"),'Feuille de match'!$O$11,IF(OR('Feuille de match'!$K$5=\"MIXTESD1NORD\",'Feuille de match'!$K$5=\"MIXTESD1STRASBOURG\",'Feuille de match'!$K$5=\"VETERANSD1STRASBOURG\",'Feuille de match'!$K$5=\"VETERANSD2STRASBOURG\",'Feuille de match'!$K$5=\"VETERANSD1NORD\",'Feuille de match'!$K$5=\"VETERANSD2NORD\",'Feuille de match'!$K$5=\"JUNIORS\",'Feuille de match'!$K$5=\"CADETS\",'Feuille de match'!$K$5=\"MINIMESBENJAMINSPOUSSINS\",'Feuille de match'!$K$5=\"MIXTESD1FINALE\",'Feuille de match'!$K$5=\"VETERANSD1FINALE\",'Feuille de match'!$K$5=\"VETERANSD2FINALE\",'Feuille de match'!$K$5=\"JUNIORSFINALE\",'Feuille de match'!$K$5=\"CADETSFINALE\",'Feuille de match'!$K$5=\"MINIMESBENJAMINSPOUSSINSFINALE\"),'Feuille de match'!$O$11,\"\"))","v":""},{"$f":"IF(OR('Feuille de match'!$K$5=\"EXCELLENCE\",'Feuille de match'!$K$5=\"HONNEUR\",'Feuille de match'!$K$5=\"PROMOTIONNORD\",'Feuille de match'!$K$5=\"ADULTESDIVISION1NORD\",'Feuille de match'!$K$5=\"PROMOTIONSTRASBOURG\",'Feuille de match'!$K$5=\"PROMOTIONFINALE\"),'Feuille de match'!$W$11,IF(OR('Feuille de match'!$K$5=\"MIXTESD1NORD\",'Feuille de match'!$K$5=\"MIXTESD1STRASBOURG\",'Feuille de match'!$K$5=\"VETERANSD1STRASBOURG\",'Feuille de match'!$K$5=\"VETERANSD2STRASBOURG\",'Feuille de match'!$K$5=\"VETERANSD1NORD\",'Feuille de match'!$K$5=\"VETERANSD2NORD\",'Feuille de match'!$K$5=\"JUNIORS\",'Feuille de match'!$K$5=\"CADETS\",'Feuille de match'!$K$5=\"MINIMESBENJAMINSPOUSSINS\",'Feuille de match'!$K$5=\"MIXTESD1FINALE\",'Feuille de match'!$K$5=\"VETERANSD1FINALE\",'Feuille de match'!$K$5=\"VETERANSD2FINALE\",'Feuille de match'!$K$5=\"JUNIORSFINALE\",'Feuille de match'!$K$5=\"CADETSFINALE\",'Feuille de match'!$K$5=\"MINIMESBENJAMINSPOUSSINSFINALE\"),'Feuille de match'!$W$11,\"\"))","v":""},{"$f":"IF($Z$21>$AA$21,1,0)","v":0},{"$f":"IF($Z$21<$AA$21,1,0)","v":0},{"$f":"IF($AB$5=0,0,IF(AND($AB$5=1,$Z$2>$AA$5),1,0))","v":0},{"$f":"IF($AC$5=0,0,IF(AND($AC$5=1,$Z$2<$AA$5),1,0))","v":0},{"$f":"IF($Z$2=0,0,IF($AB$5=0,0,IF(AND($AB$5=1,$Z$2<$AA$5-5),0,IF(AND($AB$5=1,$Z$2=$AA$5-5),1,IF(AND($AB$5=1,$Z$2=$AA$5),2,IF(AND($AB$5=1,$Z$2=$AA$5+5),3,IF(AND($AB$5=1,$Z$2>$AA$5+5),4)))))))","v":0},{"$f":"IF($Z$2=0,0,IF($AC$5=0,0,IF(AND($AC$5=1,$Z$2>$AA$5),0,IF(AND($AC$5=1,$Z$2=$AA$5),2,IF(AND($AC$5=1,$Z$2=$AA$5-5),3,IF(AND($AC$5=1,$Z$2<$AA$5-5),4))))))","v":0},null,"Match 1 contre",{"$f":"IF(OR('Feuille de match'!$K$5=\"EXCELLENCE\",'Feuille de match'!$K$5=\"HONNEUR\",'Feuille de match'!$K$5=\"PROMOTIONNORD\",'Feuille de match'!$K$5=\"ADULTESDIVISION1NORD\",'Feuille de match'!$K$5=\"PROMOTIONSTRASBOURG\",'Feuille de match'!$K$5=\"PROMOTIONFINALE\"),'Feuille de match'!$U$12,IF(OR('Feuille de match'!$K$5=\"MIXTESD1NORD\",'Feuille de match'!$K$5=\"MIXTESD1STRASBOURG\",'Feuille de match'!$K$5=\"VETERANSD1STRASBOURG\",'Feuille de match'!$K$5=\"VETERANSD2STRASBOURG\",'Feuille de match'!$K$5=\"VETERANSD1NORD\",'Feuille de match'!$K$5=\"VETERANSD2NORD\",'Feuille de match'!$K$5=\"JUNIORS\",'Feuille de match'!$K$5=\"CADETS\",'Feuille de match'!$K$5=\"MINIMESBENJAMINSPOUSSINS\",'Feuille de match'!$K$5=\"MIXTESD1FINALE\",'Feuille de match'!$K$5=\"VETERANSD1FINALE\",'Feuille de match'!$K$5=\"VETERANSD2FINALE\",'Feuille de match'!$K$5=\"JUNIORSFINALE\",'Feuille de match'!$K$5=\"CADETSFINALE\",'Feuille de match'!$K$5=\"MINIMESBENJAMINSPOUSSINSFINALE\"),\"\",\"\"))","v":""},{"$f":"IF(OR('Feuille de match'!$K$5=\"EXCELLENCE\",'Feuille de match'!$K$5=\"HONNEUR\",'Feuille de match'!$K$5=\"PROMOTIONNORD\",'Feuille de match'!$K$5=\"ADULTESDIVISION1NORD\",'Feuille de match'!$K$5=\"PROMOTIONSTRASBOURG\",'Feuille de match'!$K$5=\"PROMOTIONFINALE\"),'Feuille de match'!$O$12,IF(OR('Feuille de match'!$K$5=\"MIXTESD1NORD\",'Feuille de match'!$K$5=\"MIXTESD1STRASBOURG\",'Feuille de match'!$K$5=\"VETERANSD1STRASBOURG\",'Feuille de match'!$K$5=\"VETERANSD2STRASBOURG\",'Feuille de match'!$K$5=\"VETERANSD1NORD\",'Feuille de match'!$K$5=\"VETERANSD2NORD\",'Feuille de match'!$K$5=\"JUNIORS\",'Feuille de match'!$K$5=\"CADETS\",'Feuille de match'!$K$5=\"MINIMESBENJAMINSPOUSSINS\",'Feuille de match'!$K$5=\"MIXTESD1FINALE\",'Feuille de match'!$K$5=\"VETERANSD1FINALE\",'Feuille de match'!$K$5=\"VETERANSD2FINALE\",'Feuille de match'!$K$5=\"JUNIORSFINALE\",'Feuille de match'!$K$5=\"CADETSFINALE\",'Feuille de match'!$K$5=\"MINIMESBENJAMINSPOUSSINSFINALE\"),\"\",\"\"))","v":""},{"$f":"IF(OR('Feuille de match'!$K$5=\"EXCELLENCE\",'Feuille de match'!$K$5=\"HONNEUR\",'Feuille de match'!$K$5=\"PROMOTIONNORD\",'Feuille de match'!$K$5=\"ADULTESDIVISION1NORD\",'Feuille de match'!$K$5=\"PROMOTIONSTRASBOURG\",'Feuille de match'!$K$5=\"PROMOTIONFINALE\"),'Feuille de match'!$W$12,IF(OR('Feuille de match'!$K$5=\"MIXTESD1NORD\",'Feuille de match'!$K$5=\"MIXTESD1STRASBOURG\",'Feuille de match'!$K$5=\"VETERANSD1STRASBOURG\",'Feuille de match'!$K$5=\"VETERANSD2STRASBOURG\",'Feuille de match'!$K$5=\"VETERANSD1NORD\",'Feuille de match'!$K$5=\"VETERANSD2NORD\",'Feuille de match'!$K$5=\"JUNIORS\",'Feuille de match'!$K$5=\"CADETS\",'Feuille de match'!$K$5=\"MINIMESBENJAMINSPOUSSINS\",'Feuille de match'!$K$5=\"MIXTESD1FINALE\",'Feuille de match'!$K$5=\"VETERANSD1FINALE\",'Feuille de match'!$K$5=\"VETERANSD2FINALE\",'Feuille de match'!$K$5=\"JUNIORSFINALE\",'Feuille de match'!$K$5=\"CADETSFINALE\",'Feuille de match'!$K$5=\"MINIMESBENJAMINSPOUSSINSFINALE\"),\"\",\"\"))","v":""},{"$f":"IF($AK$21>$AL$21,1,0)","v":0},{"$f":"IF($AK$21<$AL$21,1,0)","v":0},{"$f":"IF($AM$5=0,0,IF(AND($AM$5=1,$AK$2>$AL$5),1,0))","v":0},{"$f":"IF($AN$5=0,0,IF(AND($AN$5=1,$AK$2<$AL$5),1,0))","v":0},{"$f":"IF($AK$2=0,0,IF($AM$5=0,0,IF(AND($AM$5=1,$AK$2<$AL$5-5),0,IF(AND($AM$5=1,$AK$2=$AL$5-5),1,IF(AND($AM$5=1,$AK$2=$AL$5),2,IF(AND($AM$5=1,$AK$2=$AL$5+5),3,IF(AND($AM$5=1,$AK$2>$AL$5+5),4)))))))","v":0},{"$f":"IF($AK$2=0,0,IF($AN$5=0,0,IF(AND($AN$5=1,$AK$2>$AL$5),0,IF(AND($AN$5=1,$AK$2=$AL$5),2,IF(AND($AN$5=1,$AK$2=$AL$5-5),3,IF(AND($AN$5=1,$AK$2<$AL$5-5),4))))))","v":0},null,null,null,null,null,null,null,null,null,null,null,null,"Match 1 contre",{"$f":"IF(OR('Feuille de match'!$K$5=\"EXCELLENCE\",'Feuille de match'!$K$5=\"HONNEUR\",'Feuille de match'!$K$5=\"PROMOTIONNORD\",'Feuille de match'!$K$5=\"ADULTESDIVISION1NORD\",'Feuille de match'!$K$5=\"PROMOTIONSTRASBOURG\",'Feuille de match'!$K$5=\"PROMOTIONFINALE\"),'Feuille de match'!$J$10,IF(OR('Feuille de match'!$K$5=\"MIXTESD1NORD\",'Feuille de match'!$K$5=\"MIXTESD1STRASBOURG\",'Feuille de match'!$K$5=\"VETERANSD1STRASBOURG\",'Feuille de match'!$K$5=\"VETERANSD2STRASBOURG\",'Feuille de match'!$K$5=\"VETERANSD1NORD\",'Feuille de match'!$K$5=\"VETERANSD2NORD\",'Feuille de match'!$K$5=\"JUNIORS\",'Feuille de match'!$K$5=\"CADETS\",'Feuille de match'!$K$5=\"MINIMESBENJAMINSPOUSSINS\",'Feuille de match'!$K$5=\"MIXTESD1FINALE\",'Feuille de match'!$K$5=\"VETERANSD1FINALE\",'Feuille de match'!$K$5=\"VETERANSD2FINALE\",'Feuille de match'!$K$5=\"JUNIORSFINALE\",'Feuille de match'!$K$5=\"CADETSFINALE\",'Feuille de match'!$K$5=\"MINIMESBENJAMINSPOUSSINSFINALE\"),'Feuille de match'!$J$10,\"\"))","v":""},{"$f":"IF(OR('Feuille de match'!$K$5=\"EXCELLENCE\",'Feuille de match'!$K$5=\"HONNEUR\",'Feuille de match'!$K$5=\"PROMOTIONNORD\",'Feuille de match'!$K$5=\"ADULTESDIVISION1NORD\",'Feuille de match'!$K$5=\"PROMOTIONSTRASBOURG\",'Feuille de match'!$K$5=\"PROMOTIONFINALE\"),'Feuille de match'!$D$10,IF(OR('Feuille de match'!$K$5=\"MIXTESD1NORD\",'Feuille de match'!$K$5=\"MIXTESD1STRASBOURG\",'Feuille de match'!$K$5=\"VETERANSD1STRASBOURG\",'Feuille de match'!$K$5=\"VETERANSD2STRASBOURG\",'Feuille de match'!$K$5=\"VETERANSD1NORD\",'Feuille de match'!$K$5=\"VETERANSD2NORD\",'Feuille de match'!$K$5=\"JUNIORS\",'Feuille de match'!$K$5=\"CADETS\",'Feuille de match'!$K$5=\"MINIMESBENJAMINSPOUSSINS\",'Feuille de match'!$K$5=\"MIXTESD1FINALE\",'Feuille de match'!$K$5=\"VETERANSD1FINALE\",'Feuille de match'!$K$5=\"VETERANSD2FINALE\",'Feuille de match'!$K$5=\"JUNIORSFINALE\",'Feuille de match'!$K$5=\"CADETSFINALE\",'Feuille de match'!$K$5=\"MINIMESBENJAMINSPOUSSINSFINALE\"),'Feuille de match'!$D$10,\"\"))","v":""},{"$f":"IF(OR('Feuille de match'!$K$5=\"EXCELLENCE\",'Feuille de match'!$K$5=\"HONNEUR\",'Feuille de match'!$K$5=\"PROMOTIONNORD\",'Feuille de match'!$K$5=\"ADULTESDIVISION1NORD\",'Feuille de match'!$K$5=\"PROMOTIONSTRASBOURG\",'Feuille de match'!$K$5=\"PROMOTIONFINALE\"),'Feuille de match'!$K$10,IF(OR('Feuille de match'!$K$5=\"MIXTESD1NORD\",'Feuille de match'!$K$5=\"MIXTESD1STRASBOURG\",'Feuille de match'!$K$5=\"VETERANSD1STRASBOURG\",'Feuille de match'!$K$5=\"VETERANSD2STRASBOURG\",'Feuille de match'!$K$5=\"VETERANSD1NORD\",'Feuille de match'!$K$5=\"VETERANSD2NORD\",'Feuille de match'!$K$5=\"JUNIORS\",'Feuille de match'!$K$5=\"CADETS\",'Feuille de match'!$K$5=\"MINIMESBENJAMINSPOUSSINS\",'Feuille de match'!$K$5=\"MIXTESD1FINALE\",'Feuille de match'!$K$5=\"VETERANSD1FINALE\",'Feuille de match'!$K$5=\"VETERANSD2FINALE\",'Feuille de match'!$K$5=\"JUNIORSFINALE\",'Feuille de match'!$K$5=\"CADETSFINALE\",'Feuille de match'!$K$5=\"MINIMESBENJAMINSPOUSSINSFINALE\"),'Feuille de match'!$K$10,\"\"))","v":""},{"$f":"IF($BG$21>$BH$21,1,0)","v":0},{"$f":"IF($BG$21<$BH$21,1,0)","v":0},{"$f":"IF($BI$5=0,0,IF(AND($BI$5=1,$BG$2>$BH$5),1,0))","v":0},{"$f":"IF($BJ$5=0,0,IF(AND($BJ$5=1,$BG$2<$BH$5),1,0))","v":0},{"$f":"IF($BG$2=0,0,IF($BI$5=0,0,IF(AND($BI$5=1,$BG$2<$BH$5-5),0,IF(AND($BI$5=1,$BG$2=$BH$5-5),1,IF(AND($BI$5=1,$BG$2=$BH$5),2,IF(AND($BI$5=1,$BG$2=$BH$5+5),3,IF(AND($BI$5=1,$BG$2>$BH$5+5),4)))))))","v":0},{"$f":"IF($BG$2=0,0,IF($BJ$5=0,0,IF(AND($BJ$5=1,$BG$2>$BH$5),0,IF(AND($BJ$5=1,$BG$2=$BH$5),2,IF(AND($BJ$5=1,$BG$2=$BH$5-5),3,IF(AND($BJ$5=1,$BG$2<$BH$5-5),4))))))","v":0},null,"Match 1 contre",{"$f":"IF(OR('Feuille de match'!$K$5=\"EXCELLENCE\",'Feuille de match'!$K$5=\"HONNEUR\",'Feuille de match'!$K$5=\"PROMOTIONNORD\",'Feuille de match'!$K$5=\"ADULTESDIVISION1NORD\",'Feuille de match'!$K$5=\"PROMOTIONSTRASBOURG\",'Feuille de match'!$K$5=\"PROMOTIONFINALE\"),'Feuille de match'!$J$11,IF(OR('Feuille de match'!$K$5=\"MIXTESD1NORD\",'Feuille de match'!$K$5=\"MIXTESD1STRASBOURG\",'Feuille de match'!$K$5=\"VETERANSD1STRASBOURG\",'Feuille de match'!$K$5=\"VETERANSD2STRASBOURG\",'Feuille de match'!$K$5=\"VETERANSD1NORD\",'Feuille de match'!$K$5=\"VETERANSD2NORD\",'Feuille de match'!$K$5=\"JUNIORS\",'Feuille de match'!$K$5=\"CADETS\",'Feuille de match'!$K$5=\"MINIMESBENJAMINSPOUSSINS\",'Feuille de match'!$K$5=\"MIXTESD1FINALE\",'Feuille de match'!$K$5=\"VETERANSD1FINALE\",'Feuille de match'!$K$5=\"VETERANSD2FINALE\",'Feuille de match'!$K$5=\"JUNIORSFINALE\",'Feuille de match'!$K$5=\"CADETSFINALE\",'Feuille de match'!$K$5=\"MINIMESBENJAMINSPOUSSINSFINALE\"),'Feuille de match'!$J$11,\"\"))","v":""},{"$f":"IF(OR('Feuille de match'!$K$5=\"EXCELLENCE\",'Feuille de match'!$K$5=\"HONNEUR\",'Feuille de match'!$K$5=\"PROMOTIONNORD\",'Feuille de match'!$K$5=\"ADULTESDIVISION1NORD\",'Feuille de match'!$K$5=\"PROMOTIONSTRASBOURG\",'Feuille de match'!$K$5=\"PROMOTIONFINALE\"),'Feuille de match'!$D$11,IF(OR('Feuille de match'!$K$5=\"MIXTESD1NORD\",'Feuille de match'!$K$5=\"MIXTESD1STRASBOURG\",'Feuille de match'!$K$5=\"VETERANSD1STRASBOURG\",'Feuille de match'!$K$5=\"VETERANSD2STRASBOURG\",'Feuille de match'!$K$5=\"VETERANSD1NORD\",'Feuille de match'!$K$5=\"VETERANSD2NORD\",'Feuille de match'!$K$5=\"JUNIORS\",'Feuille de match'!$K$5=\"CADETS\",'Feuille de match'!$K$5=\"MINIMESBENJAMINSPOUSSINS\",'Feuille de match'!$K$5=\"MIXTESD1FINALE\",'Feuille de match'!$K$5=\"VETERANSD1FINALE\",'Feuille de match'!$K$5=\"VETERANSD2FINALE\",'Feuille de match'!$K$5=\"JUNIORSFINALE\",'Feuille de match'!$K$5=\"CADETSFINALE\",'Feuille de match'!$K$5=\"MINIMESBENJAMINSPOUSSINSFINALE\"),'Feuille de match'!$D$11,\"\"))","v":""},{"$f":"IF(OR('Feuille de match'!$K$5=\"EXCELLENCE\",'Feuille de match'!$K$5=\"HONNEUR\",'Feuille de match'!$K$5=\"PROMOTIONNORD\",'Feuille de match'!$K$5=\"ADULTESDIVISION1NORD\",'Feuille de match'!$K$5=\"PROMOTIONSTRASBOURG\",'Feuille de match'!$K$5=\"PROMOTIONFINALE\"),'Feuille de match'!$K$11,IF(OR('Feuille de match'!$K$5=\"MIXTESD1NORD\",'Feuille de match'!$K$5=\"MIXTESD1STRASBOURG\",'Feuille de match'!$K$5=\"VETERANSD1STRASBOURG\",'Feuille de match'!$K$5=\"VETERANSD2STRASBOURG\",'Feuille de match'!$K$5=\"VETERANSD1NORD\",'Feuille de match'!$K$5=\"VETERANSD2NORD\",'Feuille de match'!$K$5=\"JUNIORS\",'Feuille de match'!$K$5=\"CADETS\",'Feuille de match'!$K$5=\"MINIMESBENJAMINSPOUSSINS\",'Feuille de match'!$K$5=\"MIXTESD1FINALE\",'Feuille de match'!$K$5=\"VETERANSD1FINALE\",'Feuille de match'!$K$5=\"VETERANSD2FINALE\",'Feuille de match'!$K$5=\"JUNIORSFINALE\",'Feuille de match'!$K$5=\"CADETSFINALE\",'Feuille de match'!$K$5=\"MINIMESBENJAMINSPOUSSINSFINALE\"),'Feuille de match'!$K$11,\"\"))","v":""},{"$f":"IF($BR$21>$BS$21,1,0)","v":0},{"$f":"IF($BR$21<$BS$21,1,0)","v":0},{"$f":"IF($BT$5=0,0,IF(AND($BT$5=1,$BR$2>$BS$5),1,0))","v":0},{"$f":"IF($BU$5=0,0,IF(AND($BU$5=1,$BR$2<$BS$5),1,0))","v":0},{"$f":"IF($BR$2=0,0,IF($BT$5=0,0,IF(AND($BT$5=1,$BR$2<$BS$5-5),0,IF(AND($BT$5=1,$BR$2=$BS$5-5),1,IF(AND($BT$5=1,$BR$2=$BS$5),2,IF(AND($BT$5=1,$BR$2=$BS$5+5),3,IF(AND($BT$5=1,$BR$2>$BS$5+5),4)))))))","v":0},{"$f":"IF($BR$2=0,0,IF($BU$5=0,0,IF(AND($BU$5=1,$BR$2>$BS$5),0,IF(AND($BU$5=1,$BR$2=$BS$5),2,IF(AND($BU$5=1,$BR$2=$BS$5-5),3,IF(AND($BU$5=1,$BR$2<$BS$5-5),4))))))","v":0},null,"Match 1 contre",{"$f":"IF(OR('Feuille de match'!$K$5=\"EXCELLENCE\",'Feuille de match'!$K$5=\"HONNEUR\",'Feuille de match'!$K$5=\"PROMOTIONNORD\",'Feuille de match'!$K$5=\"ADULTESDIVISION1NORD\",'Feuille de match'!$K$5=\"PROMOTIONSTRASBOURG\",'Feuille de match'!$K$5=\"PROMOTIONFINALE\"),'Feuille de match'!$J$12,IF(OR('Feuille de match'!$K$5=\"MIXTESD1NORD\",'Feuille de match'!$K$5=\"MIXTESD1STRASBOURG\",'Feuille de match'!$K$5=\"VETERANSD1STRASBOURG\",'Feuille de match'!$K$5=\"VETERANSD2STRASBOURG\",'Feuille de match'!$K$5=\"VETERANSD1NORD\",'Feuille de match'!$K$5=\"VETERANSD2NORD\",'Feuille de match'!$K$5=\"JUNIORS\",'Feuille de match'!$K$5=\"CADETS\",'Feuille de match'!$K$5=\"MINIMESBENJAMINSPOUSSINS\",'Feuille de match'!$K$5=\"MIXTESD1FINALE\",'Feuille de match'!$K$5=\"VETERANSD1FINALE\",'Feuille de match'!$K$5=\"VETERANSD2FINALE\",'Feuille de match'!$K$5=\"JUNIORSFINALE\",'Feuille de match'!$K$5=\"CADETSFINALE\",'Feuille de match'!$K$5=\"MINIMESBENJAMINSPOUSSINSFINALE\"),\"\",\"\"))","v":""},{"$f":"IF(OR('Feuille de match'!$K$5=\"EXCELLENCE\",'Feuille de match'!$K$5=\"HONNEUR\",'Feuille de match'!$K$5=\"PROMOTIONNORD\",'Feuille de match'!$K$5=\"ADULTESDIVISION1NORD\",'Feuille de match'!$K$5=\"PROMOTIONSTRASBOURG\",'Feuille de match'!$K$5=\"PROMOTIONFINALE\"),'Feuille de match'!$D$12,IF(OR('Feuille de match'!$K$5=\"MIXTESD1NORD\",'Feuille de match'!$K$5=\"MIXTESD1STRASBOURG\",'Feuille de match'!$K$5=\"VETERANSD1STRASBOURG\",'Feuille de match'!$K$5=\"VETERANSD2STRASBOURG\",'Feuille de match'!$K$5=\"VETERANSD1NORD\",'Feuille de match'!$K$5=\"VETERANSD2NORD\",'Feuille de match'!$K$5=\"JUNIORS\",'Feuille de match'!$K$5=\"CADETS\",'Feuille de match'!$K$5=\"MINIMESBENJAMINSPOUSSINS\",'Feuille de match'!$K$5=\"MIXTESD1FINALE\",'Feuille de match'!$K$5=\"VETERANSD1FINALE\",'Feuille de match'!$K$5=\"VETERANSD2FINALE\",'Feuille de match'!$K$5=\"JUNIORSFINALE\",'Feuille de match'!$K$5=\"CADETSFINALE\",'Feuille de match'!$K$5=\"MINIMESBENJAMINSPOUSSINSFINALE\"),\"\",\"\"))","v":""},{"$f":"IF(OR('Feuille de match'!$K$5=\"EXCELLENCE\",'Feuille de match'!$K$5=\"HONNEUR\",'Feuille de match'!$K$5=\"PROMOTIONNORD\",'Feuille de match'!$K$5=\"ADULTESDIVISION1NORD\",'Feuille de match'!$K$5=\"PROMOTIONSTRASBOURG\",'Feuille de match'!$K$5=\"PROMOTIONFINALE\"),'Feuille de match'!$K$12,IF(OR('Feuille de match'!$K$5=\"MIXTESD1NORD\",'Feuille de match'!$K$5=\"MIXTESD1STRASBOURG\",'Feuille de match'!$K$5=\"VETERANSD1STRASBOURG\",'Feuille de match'!$K$5=\"VETERANSD2STRASBOURG\",'Feuille de match'!$K$5=\"VETERANSD1NORD\",'Feuille de match'!$K$5=\"VETERANSD2NORD\",'Feuille de match'!$K$5=\"JUNIORS\",'Feuille de match'!$K$5=\"CADETS\",'Feuille de match'!$K$5=\"MINIMESBENJAMINSPOUSSINS\",'Feuille de match'!$K$5=\"MIXTESD1FINALE\",'Feuille de match'!$K$5=\"VETERANSD1FINALE\",'Feuille de match'!$K$5=\"VETERANSD2FINALE\",'Feuille de match'!$K$5=\"JUNIORSFINALE\",'Feuille de match'!$K$5=\"CADETSFINALE\",'Feuille de match'!$K$5=\"MINIMESBENJAMINSPOUSSINSFINALE\"),\"\",\"\"))","v":""},{"$f":"IF($CC$21>$CD$21,1,0)","v":0},{"$f":"IF($CC$21<$CD$21,1,0)","v":0},{"$f":"IF($CE$5=0,0,IF(AND($CE$5=1,$CC$2>$CD$5),1,0))","v":0},{"$f":"IF($CF$5=0,0,IF(AND($CF$5=1,$CC$2<$CD$5),1,0))","v":0},{"$f":"IF($CC$2=0,0,IF($CE$5=0,0,IF(AND($CE$5=1,$CC$2<$CD$5-5),0,IF(AND($CE$5=1,$CC$2=$CD$5-5),1,IF(AND($CE$5=1,$CC$2=$CD$5),2,IF(AND($CE$5=1,$CC$2=$CD$5+5),3,IF(AND($CE$5=1,$CC$2>$CD$5+5),4)))))))","v":0},{"$f":"IF($CC$2=0,0,IF($CF$5=0,0,IF(AND($CF$5=1,$CC$2>$CD$5),0,IF(AND($CF$5=1,$CC$2=$CD$5),2,IF(AND($CF$5=1,$CC$2=$CD$5-5),3,IF(AND($CF$5=1,$CC$2<$CD$5-5),4))))))","v":0},null,null,null,null,null,null,null,null,null,null,null,null,null,null,null,null,null,null,null,null,null,null,null,null,null,null,null,null,null,null,null,null,null,null,null,null,null,null,null,null,null,null,null,null,null,null,null,null,null,null,null,null,null,null,null,{"$f":"DV4","v":0},{"$f":"DW4","v":0},{"$f":"ED4","v":0},{"$f":"DX4","v":0},0,0,0,0,0,0,0,0,0,0,0,0,0,0,0,{"$f":"IF(AA2=\"\",\"-\",AA2)","v":0},{"$f":"X2","v":""},{"$f":"IF(FG5=\"-\",\"\",CW$4)","v":0},{"$f":"AF1","v":0},{"$f":"Y1","v":0},{"$f":"IF(FG5=\"\",\"\",IF(FG5=\"-\",0,1))","v":1},{"$f":"AB4","v":0},{"$f":"AC4","v":0},0,{"$f":"Z4","v":0},{"$f":"AA4","v":0},0,{"$f":"X4","v":0},{"$f":"Y4","v":0},0,{"$f":"Z2","v":""},{"$f":"IF(OR(CX4=\"EXCELLENCE\",CX4=\"HONNEUR\",CX4=\"PROMOTIONNORD\",CX4=\"ADULTESDIVISION1NORD\",CX4=\"PROMOTIONSTRASBOURG\",CX4=\"PROMOTIONFINALE\"),P2,IF(OR(CX4=\"MIXTESD1NORD\",CX4=\"MIXTESD1STRASBOURG\",CX4=\"VETERANSD1STRASBOURG\",CX4=\"VETERANSD2STRASBOURG\",CX4=\"VETERANSD1NORD\",CX4=\"VETERANSD2NORD\",CX4=\"JUNIORS\",CX4=\"CADETS\",CX4=\"MINIMESBENJAMINSPOUSSINS\",CX4=\"MIXTESD1FINALE\",CX4=\"VETERANSD1FINALE\",CX4=\"VETERANSD2FINALE\",CX4=\"JUNIORSFINALE\",CX4=\"CADETSFINALE\",CX4=\"MINIMESBENJAMINSPOUSSINSFINALE\"),P2,\"\"))","v":""},{"$f":"IF(OR(CX4=\"EXCELLENCE\",CX4=\"HONNEUR\",CX4=\"PROMOTIONNORD\",CX4=\"ADULTESDIVISION1NORD\",CX4=\"PROMOTIONSTRASBOURG\",CX4=\"PROMOTIONFINALE\"),M2,IF(OR(CX4=\"MIXTESD1NORD\",CX4=\"MIXTESD1STRASBOURG\",CX4=\"VETERANSD1STRASBOURG\",CX4=\"VETERANSD2STRASBOURG\",CX4=\"VETERANSD1NORD\",CX4=\"VETERANSD2NORD\",CX4=\"JUNIORS\",CX4=\"CADETS\",CX4=\"MINIMESBENJAMINSPOUSSINS\",CX4=\"MIXTESD1FINALE\",CX4=\"VETERANSD1FINALE\",CX4=\"VETERANSD2FINALE\",CX4=\"JUNIORSFINALE\",CX4=\"CADETSFINALE\",CX4=\"MINIMESBENJAMINSPOUSSINSFINALE\"),M2,\"\"))","v":""},{"$f":"IF(OR(CX4=\"EXCELLENCE\",CX4=\"HONNEUR\",CX4=\"PROMOTIONNORD\",CX4=\"ADULTESDIVISION1NORD\",CX4=\"PROMOTIONSTRASBOURG\",CX4=\"PROMOTIONFINALE\"),O2,IF(OR(CX4=\"MIXTESD1NORD\",CX4=\"MIXTESD1STRASBOURG\",CX4=\"VETERANSD1STRASBOURG\",CX4=\"VETERANSD2STRASBOURG\",CX4=\"VETERANSD1NORD\",CX4=\"VETERANSD2NORD\",CX4=\"JUNIORS\",CX4=\"CADETS\",CX4=\"MINIMESBENJAMINSPOUSSINS\",CX4=\"MIXTESD1FINALE\",CX4=\"VETERANSD1FINALE\",CX4=\"VETERANSD2FINALE\",CX4=\"JUNIORSFINALE\",CX4=\"CADETSFINALE\",CX4=\"MINIMESBENJAMINSPOUSSINSFINALE\"),O2,\"\"))","v":""},{"$f":"IF(OR(CX4=\"EXCELLENCE\",CX4=\"HONNEUR\",CX4=\"PROMOTIONNORD\",CX4=\"ADULTESDIVISION1NORD\",CX4=\"PROMOTIONSTRASBOURG\",CX4=\"PROMOTIONFINALE\"),N1,IF(OR(CX4=\"MIXTESD1NORD\",CX4=\"MIXTESD1STRASBOURG\",CX4=\"VETERANSD1STRASBOURG\",CX4=\"VETERANSD2STRASBOURG\",CX4=\"VETERANSD1NORD\",CX4=\"VETERANSD2NORD\",CX4=\"JUNIORS\",CX4=\"CADETS\",CX4=\"MINIMESBENJAMINSPOUSSINS\",CX4=\"MIXTESD1FINALE\",CX4=\"VETERANSD1FINALE\",CX4=\"VETERANSD2FINALE\",CX4=\"JUNIORSFINALE\",CX4=\"CADETSFINALE\",CX4=\"MINIMESBENJAMINSPOUSSINSFINALE\"),N1,\"\"))","v":""},{"$f":"IF(OR(CX4=\"EXCELLENCE\",CX4=\"HONNEUR\",CX4=\"PROMOTIONNORD\",CX4=\"ADULTESDIVISION1NORD\",CX4=\"PROMOTIONSTRASBOURG\",CX4=\"PROMOTIONFINALE\"),CX4,IF(OR(CX4=\"MIXTESD1NORD\",CX4=\"MIXTESD1STRASBOURG\",CX4=\"VETERANSD1STRASBOURG\",CX4=\"VETERANSD2STRASBOURG\",CX4=\"VETERANSD1NORD\",CX4=\"VETERANSD2NORD\",CX4=\"JUNIORS\",CX4=\"CADETS\",CX4=\"MINIMESBENJAMINSPOUSSINS\",CX4=\"MIXTESD1FINALE\",CX4=\"VETERANSD1FINALE\",CX4=\"VETERANSD2FINALE\",CX4=\"JUNIORSFINALE\",CX4=\"CADETSFINALE\",CX4=\"MINIMESBENJAMINSPOUSSINSFINALE\"),CX4,\"\"))","v":""},{"$f":"IF(OR(CX4=\"EXCELLENCE\",CX4=\"HONNEUR\",CX4=\"PROMOTIONNORD\",CX4=\"ADULTESDIVISION1NORD\",CX4=\"PROMOTIONSTRASBOURG\",CX4=\"PROMOTIONFINALE\"),CW4,IF(OR(CX4=\"MIXTESD1NORD\",CX4=\"MIXTESD1STRASBOURG\",CX4=\"VETERANSD1STRASBOURG\",CX4=\"VETERANSD2STRASBOURG\",CX4=\"VETERANSD1NORD\",CX4=\"VETERANSD2NORD\",CX4=\"JUNIORS\",CX4=\"CADETS\",CX4=\"MINIMESBENJAMINSPOUSSINS\",CX4=\"MIXTESD1FINALE\",CX4=\"VETERANSD1FINALE\",CX4=\"VETERANSD2FINALE\",CX4=\"JUNIORSFINALE\",CX4=\"CADETSFINALE\",CX4=\"MINIMESBENJAMINSPOUSSINSFINALE\"),CW4,\"\"))","v":""},"VICTOIRE CONTRE",{"$f":"IF(Q23<R23,\"\",IF(AND(CX4=\"EXCELLENCE\",Q23>R23),N23,IF(AND(CX4=\"HONNEUR\",Q23>R23),N23,IF(AND(CX4=\"PROMOTIONNORD\",Q23>R23),N23,IF(AND(CX4=\"ADULTESDIVISION1NORD\",Q23>R23),N23,IF(AND(CX4=\"PROMOTIONSTRASBOURG\",Q23>R23),N23,IF(AND(CX4=\"PROMOTIONFINALE\",Q23>R23),N23,IF(AND(CX4=\"MIXTESD1NORD\",Q23>R23),N23,IF(AND(CX4=\"MIXTESD1STRASBOURG\",Q23>R23),N23,IF(AND(CX4=\"VETERANSD1STRASBOURG\",Q23>R23),N23,IF(AND(CX4=\"VETERANSD2STRASBOURG\",Q23>R23),N23,IF(AND(CX4=\"VETERANSD1NORD\",Q23>R23),N23,IF(AND(CX4=\"VETERANSD2NORD\",Q23>R23),N23,IF(AND(CX4=\"JUNIORS\",Q23>R23),N23,IF(AND(CX4=\"CADETS\",Q23>R23),N23,IF(AND(CX4=\"MINIMESBENJAMINSPOUSSINS\",Q23>R23),N23,IF(AND(CX4=\"MIXTESD1FINALE\",Q23>R23),N23,IF(AND(CX4=\"VETERANSD1FINALE\",Q23>R23),N23,IF(AND(CX4=\"VETERANSD2FINALE\",Q23>R23),N23,IF(AND(CX4=\"JUNIORSFINALE\",Q23>R23),N23,IF(AND(CX4=\"CADETSFINALE\",Q23>R23),N23,IF(AND(CX4=\"MINIMESBENJAMINSPOUSSINSFINALE\",Q23>R23),N23,\"\"))))))))))))))))))))))","v":""},{"$f":"IF(Q23<R23,\"\",IF(AND(CX4=\"EXCELLENCE\",Q23>R23),O23,IF(AND(CX4=\"HONNEUR\",Q23>R23),O23,IF(AND(CX4=\"PROMOTIONNORD\",Q23>R23),O23,IF(AND(CX4=\"ADULTESDIVISION1NORD\",Q23>R23),O23,IF(AND(CX4=\"PROMOTIONSTRASBOURG\",Q23>R23),O23,IF(AND(CX4=\"PROMOTIONFINALE\",Q23>R23),O23,IF(AND(CX4=\"MIXTESD1NORD\",Q23>R23),O23,IF(AND(CX4=\"MIXTESD1STRASBOURG\",Q23>R23),O23,IF(AND(CX4=\"VETERANSD1STRASBOURG\",Q23>R23),O23,IF(AND(CX4=\"VETERANSD2STRASBOURG\",Q23>R23),O23,IF(AND(CX4=\"VETERANSD1NORD\",Q23>R23),O23,IF(AND(CX4=\"VETERANSD2NORD\",Q23>R23),O23,IF(AND(CX4=\"JUNIORS\",Q23>R23),O23,IF(AND(CX4=\"CADETS\",Q23>R23),O23,IF(AND(CX4=\"MINIMESBENJAMINSPOUSSINS\",Q23>R23),O23,IF(AND(CX4=\"MIXTESD1FINALE\",Q23>R23),O23,IF(AND(CX4=\"VETERANSD1FINALE\",Q23>R23),O23,IF(AND(CX4=\"VETERANSD2FINALE\",Q23>R23),O23,IF(AND(CX4=\"JUNIORSFINALE\",Q23>R23),O23,IF(AND(CX4=\"CADETSFINALE\",Q23>R23),O23,IF(AND(CX4=\"MINIMESBENJAMINSPOUSSINSFINALE\",Q23>R23),O23,\"\"))))))))))))))))))))))","v":""},{"$f":"IF(Q23<R23,\"\",IF(AND(CX4=\"EXCELLENCE\",Q23>R23),P23,IF(AND(CX4=\"HONNEUR\",Q23>R23),P23,IF(AND(CX4=\"PROMOTIONNORD\",Q23>R23),P23,IF(AND(CX4=\"ADULTESDIVISION1NORD\",Q23>R23),P23,IF(AND(CX4=\"PROMOTIONSTRASBOURG\",Q23>R23),P23,IF(AND(CX4=\"PROMOTIONFINALE\",Q23>R23),P23,IF(AND(CX4=\"MIXTESD1NORD\",Q23>R23),P23,IF(AND(CX4=\"MIXTESD1STRASBOURG\",Q23>R23),P23,IF(AND(CX4=\"VETERANSD1STRASBOURG\",Q23>R23),P23,IF(AND(CX4=\"VETERANSD2STRASBOURG\",Q23>R23),P23,IF(AND(CX4=\"VETERANSD1NORD\",Q23>R23),P23,IF(AND(CX4=\"VETERANSD2NORD\",Q23>R23),P23,IF(AND(CX4=\"JUNIORS\",Q23>R23),P23,IF(AND(CX4=\"CADETS\",Q23>R23),P23,IF(AND(CX4=\"MINIMESBENJAMINSPOUSSINS\",Q23>R23),P23,IF(AND(CX4=\"MIXTESD1FINALE\",Q23>R23),P23,IF(AND(CX4=\"VETERANSD1FINALE\",Q23>R23),P23,IF(AND(CX4=\"VETERANSD2FINALE\",Q23>R23),P23,IF(AND(CX4=\"JUNIORSFINALE\",Q23>R23),P23,IF(AND(CX4=\"CADETSFINALE\",Q23>R23),P23,IF(AND(CX4=\"MINIMESBENJAMINSPOUSSINSFINALE\",Q23>R23),P23,\"\"))))))))))))))))))))))","v":""},{"$f":"IF(Q23<R23,\"\",IF(AND(CX4=\"EXCELLENCE\",Q23>R23),S1,IF(AND(CX4=\"HONNEUR\",Q23>R23),S1,IF(AND(CX4=\"PROMOTIONNORD\",Q23>R23),S1,IF(AND(CX4=\"ADULTESDIVISION1NORD\",Q23>R23),S1,IF(AND(CX4=\"PROMOTIONSTRASBOURG\",Q23>R23),S1,IF(AND(CX4=\"PROMOTIONFINALE\",Q23>R23),S1,IF(AND(CX4=\"MIXTESD1NORD\",Q23>R23),S1,IF(AND(CX4=\"MIXTESD1STRASBOURG\",Q23>R23),S1,IF(AND(CX4=\"VETERANSD1STRASBOURG\",Q23>R23),S1,IF(AND(CX4=\"VETERANSD2STRASBOURG\",Q23>R23),S1,IF(AND(CX4=\"VETERANSD1NORD\",Q23>R23),S1,IF(AND(CX4=\"VETERANSD2NORD\",Q23>R23),S1,IF(AND(CX4=\"JUNIORS\",Q23>R23),S1,IF(AND(CX4=\"CADETS\",Q23>R23),S1,IF(AND(CX4=\"MINIMESBENJAMINSPOUSSINS\",Q23>R23),S1,IF(AND(CX4=\"MIXTESD1FINALE\",Q23>R23),S1,IF(AND(CX4=\"VETERANSD1FINALE\",Q23>R23),S1,IF(AND(CX4=\"VETERANSD2FINALE\",Q23>R23),S1,IF(AND(CX4=\"JUNIORSFINALE\",Q23>R23),S1,IF(AND(CX4=\"CADETSFINALE\",Q23>R23),S1,IF(AND(CX4=\"MINIMESBENJAMINSPOUSSINSFINALE\",Q23>R23),S1,\"\"))))))))))))))))))))))","v":""},{"$f":"IF(Q23<R23,\"\",IF(AND(CX4=\"EXCELLENCE\",Q23>R23),S23,IF(AND(CX4=\"HONNEUR\",Q23>R23),S23,IF(AND(CX4=\"PROMOTIONNORD\",Q23>R23),S23,IF(AND(CX4=\"ADULTESDIVISION1NORD\",Q23>R23),S23,IF(AND(CX4=\"PROMOTIONSTRASBOURG\",Q23>R23),S23,IF(AND(CX4=\"PROMOTIONFINALE\",Q23>R23),S23,IF(AND(CX4=\"MIXTESD1NORD\",Q23>R23),S23,IF(AND(CX4=\"MIXTESD1STRASBOURG\",Q23>R23),S23,IF(AND(CX4=\"VETERANSD1STRASBOURG\",Q23>R23),S23,IF(AND(CX4=\"VETERANSD2STRASBOURG\",Q23>R23),S23,IF(AND(CX4=\"VETERANSD1NORD\",Q23>R23),S23,IF(AND(CX4=\"VETERANSD2NORD\",Q23>R23),S23,IF(AND(CX4=\"JUNIORS\",Q23>R23),S23,IF(AND(CX4=\"CADETS\",Q23>R23),S23,IF(AND(CX4=\"MINIMESBENJAMINSPOUSSINS\",Q23>R23),S23,IF(AND(CX4=\"MIXTESD1FINALE\",Q23>R23),S23,IF(AND(CX4=\"VETERANSD1FINALE\",Q23>R23),S23,IF(AND(CX4=\"VETERANSD2FINALE\",Q23>R23),S23,IF(AND(CX4=\"JUNIORSFINALE\",Q23>R23),S23,IF(AND(CX4=\"CADETSFINALE\",Q23>R23),S23,IF(AND(CX4=\"MINIMESBENJAMINSPOUSSINSFINALE\",Q23>R23),S23,\"\"))))))))))))))))))))))","v":""},{"$f":"IF(Q23<R23,\"\",IF(AND(CX4=\"EXCELLENCE\",Q23>R23),U23,IF(AND(CX4=\"HONNEUR\",Q23>R23),U23,IF(AND(CX4=\"PROMOTIONNORD\",Q23>R23),U23,IF(AND(CX4=\"ADULTESDIVISION1NORD\",Q23>R23),U23,IF(AND(CX4=\"PROMOTIONSTRASBOURG\",Q23>R23),U23,IF(AND(CX4=\"PROMOTIONFINALE\",Q23>R23),U23,IF(AND(CX4=\"MIXTESD1NORD\",Q23>R23),U23,IF(AND(CX4=\"MIXTESD1STRASBOURG\",Q23>R23),U23,IF(AND(CX4=\"VETERANSD1STRASBOURG\",Q23>R23),U23,IF(AND(CX4=\"VETERANSD2STRASBOURG\",Q23>R23),U23,IF(AND(CX4=\"VETERANSD1NORD\",Q23>R23),U23,IF(AND(CX4=\"VETERANSD2NORD\",Q23>R23),U23,IF(AND(CX4=\"JUNIORS\",Q23>R23),U23,IF(AND(CX4=\"CADETS\",Q23>R23),U23,IF(AND(CX4=\"MINIMESBENJAMINSPOUSSINS\",Q23>R23),U23,IF(AND(CX4=\"MIXTESD1FINALE\",Q23>R23),U23,IF(AND(CX4=\"VETERANSD1FINALE\",Q23>R23),U23,IF(AND(CX4=\"VETERANSD2FINALE\",Q23>R23),U23,IF(AND(CX4=\"JUNIORSFINALE\",Q23>R23),U23,IF(AND(CX4=\"CADETSFINALE\",Q23>R23),U23,IF(AND(CX4=\"MINIMESBENJAMINSPOUSSINSFINALE\",Q23>R23),U23,\"\"))))))))))))))))))))))","v":""},"DEFAITE CONTRE",{"$f":"IF(Q23>R23,\"\",IF(AND(CX4=\"EXCELLENCE\",Q23<R23),N23,IF(AND(CX4=\"HONNEUR\",Q23<R23),N23,IF(AND(CX4=\"PROMOTIONNORD\",Q23<R23),N23,IF(AND(CX4=\"ADULTESDIVISION1NORD\",Q23<R23),N23,IF(AND(CX4=\"PROMOTIONSTRASBOURG\",Q23<R23),N23,IF(AND(CX4=\"MIXTESD1NORD\",Q23<R23),N23,IF(AND(CX4=\"MIXTESD1STRASBOURG\",Q23<R23),N23,IF(AND(CX4=\"VETERANSD1STRASBOURG\",Q23<R23),N23,IF(AND(CX4=\"VETERANSD2STRASBOURG\",Q23<R23),N23,IF(AND(CX4=\"VETERANSD1NORD\",Q23<R23),N23,IF(AND(CX4=\"VETERANSD2NORD\",Q23<R23),N23,IF(AND(CX4=\"JUNIORS\",Q23<R23),N23,IF(AND(CX4=\"CADETS\",Q23<R23),N23,IF(AND(CX4=\"MINIMESBENJAMINSPOUSSINS\",Q23<R23),N23,IF(AND(CX4=\"PROMOTIONFINALE\",Q23<R23),N23,IF(AND(CX4=\"MIXTESD1FINALE\",Q23<R23),N23,IF(AND(CX4=\"VETERANSD1FINALE\",Q23<R23),N23,IF(AND(CX4=\"VETERANSD2FINALE\",Q23<R23),N23,IF(AND(CX4=\"JUNIORSFINALE\",Q23<R23),N23,IF(AND(CX4=\"CADETSFINALE\",Q23<R23),N23,IF(AND(CX4=\"MINIMESBENJAMINSPOUSSINSFINALE\",Q23<R23),N23,\"\"))))))))))))))))))))))","v":""},{"$f":"IF(Q23>R23,\"\",IF(AND(CX4=\"EXCELLENCE\",Q23<R23),O23,IF(AND(CX4=\"HONNEUR\",Q23<R23),O23,IF(AND(CX4=\"PROMOTIONNORD\",Q23<R23),O23,IF(AND(CX4=\"ADULTESDIVISION1NORD\",Q23<R23),O23,IF(AND(CX4=\"PROMOTIONSTRASBOURG\",Q23<R23),O23,IF(AND(CX4=\"MIXTESD1NORD\",Q23<R23),O23,IF(AND(CX4=\"MIXTESD1STRASBOURG\",Q23<R23),O23,IF(AND(CX4=\"VETERANSD1STRASBOURG\",Q23<R23),O23,IF(AND(CX4=\"VETERANSD2STRASBOURG\",Q23<R23),O23,IF(AND(CX4=\"VETERANSD1NORD\",Q23<R23),O23,IF(AND(CX4=\"VETERANSD2NORD\",Q23<R23),O23,IF(AND(CX4=\"JUNIORS\",Q23<R23),O23,IF(AND(CX4=\"CADETS\",Q23<R23),O23,IF(AND(CX4=\"MINIMESBENJAMINSPOUSSINS\",Q23<R23),O23,IF(AND(CX4=\"PROMOTIONFINALE\",Q23<R23),O23,IF(AND(CX4=\"MIXTESD1FINALE\",Q23<R23),O23,IF(AND(CX4=\"VETERANSD1FINALE\",Q23<R23),O23,IF(AND(CX4=\"VETERANSD2FINALE\",Q23<R23),O23,IF(AND(CX4=\"JUNIORSFINALE\",Q23<R23),O23,IF(AND(CX4=\"CADETSFINALE\",Q23<R23),O23,IF(AND(CX4=\"MINIMESBENJAMINSPOUSSINSFINALE\",Q23<R23),O23,\"\"))))))))))))))))))))))","v":""},{"$f":"IF(Q23>R23,\"\",IF(AND(CX4=\"EXCELLENCE\",Q23<R23),P23,IF(AND(CX4=\"HONNEUR\",Q23<R23),P23,IF(AND(CX4=\"PROMOTIONNORD\",Q23<R23),P23,IF(AND(CX4=\"ADULTESDIVISION1NORD\",Q23<R23),P23,IF(AND(CX4=\"PROMOTIONSTRASBOURG\",Q23<R23),P23,IF(AND(CX4=\"MIXTESD1NORD\",Q23<R23),P23,IF(AND(CX4=\"MIXTESD1STRASBOURG\",Q23<R23),P23,IF(AND(CX4=\"VETERANSD1STRASBOURG\",Q23<R23),P23,IF(AND(CX4=\"VETERANSD2STRASBOURG\",Q23<R23),P23,IF(AND(CX4=\"VETERANSD1NORD\",Q23<R23),P23,IF(AND(CX4=\"VETERANSD2NORD\",Q23<R23),P23,IF(AND(CX4=\"JUNIORS\",Q23<R23),P23,IF(AND(CX4=\"CADETS\",Q23<R23),P23,IF(AND(CX4=\"MINIMESBENJAMINSPOUSSINS\",Q23<R23),P23,IF(AND(CX4=\"PROMOTIONFINALE\",Q23<R23),P23,IF(AND(CX4=\"MIXTESD1FINALE\",Q23<R23),P23,IF(AND(CX4=\"VETERANSD1FINALE\",Q23<R23),P23,IF(AND(CX4=\"VETERANSD2FINALE\",Q23<R23),P23,IF(AND(CX4=\"JUNIORSFINALE\",Q23<R23),P23,IF(AND(CX4=\"CADETSFINALE\",Q23<R23),P23,IF(AND(CX4=\"MINIMESBENJAMINSPOUSSINSFINALE\",Q23<R23),P23,\"\"))))))))))))))))))))))","v":""},{"$f":"IF(Q23>R23,\"\",IF(AND(CX4=\"EXCELLENCE\",Q23<R23),S1,IF(AND(CX4=\"HONNEUR\",Q23<R23),S1,IF(AND(CX4=\"PROMOTIONNORD\",Q23<R23),S1,IF(AND(CX4=\"ADULTESDIVISION1NORD\",Q23<R23),S1,IF(AND(CX4=\"PROMOTIONSTRASBOURG\",Q23<R23),S1,IF(AND(CX4=\"MIXTESD1NORD\",Q23<R23),S1,IF(AND(CX4=\"MIXTESD1STRASBOURG\",Q23<R23),S1,IF(AND(CX4=\"VETERANSD1STRASBOURG\",Q23<R23),S1,IF(AND(CX4=\"VETERANSD2STRASBOURG\",Q23<R23),S1,IF(AND(CX4=\"VETERANSD1NORD\",Q23<R23),S1,IF(AND(CX4=\"VETERANSD2NORD\",Q23<R23),S1,IF(AND(CX4=\"JUNIORS\",Q23<R23),S1,IF(AND(CX4=\"CADETS\",Q23<R23),S1,IF(AND(CX4=\"MINIMESBENJAMINSPOUSSINS\",Q23<R23),S1,IF(AND(CX4=\"PROMOTIONFINALE\",Q23<R23),S1,IF(AND(CX4=\"MIXTESD1FINALE\",Q23<R23),S1,IF(AND(CX4=\"VETERANSD1FINALE\",Q23<R23),S1,IF(AND(CX4=\"VETERANSD2FINALE\",Q23<R23),S1,IF(AND(CX4=\"JUNIORSFINALE\",Q23<R23),S1,IF(AND(CX4=\"CADETSFINALE\",Q23<R23),S1,IF(AND(CX4=\"MINIMESBENJAMINSPOUSSINSFINALE\",Q23<R23),S1,\"\"))))))))))))))))))))))","v":""},{"$f":"IF(Q23>R23,\"\",IF(AND(CX4=\"EXCELLENCE\",Q23<R23),T23,IF(AND(CX4=\"HONNEUR\",Q23<R23),T23,IF(AND(CX4=\"PROMOTIONNORD\",Q23<R23),T23,IF(AND(CX4=\"ADULTESDIVISION1NORD\",Q23<R23),T23,IF(AND(CX4=\"PROMOTIONSTRASBOURG\",Q23<R23),T23,IF(AND(CX4=\"MIXTESD1NORD\",Q23<R23),T23,IF(AND(CX4=\"MIXTESD1STRASBOURG\",Q23<R23),T23,IF(AND(CX4=\"VETERANSD1STRASBOURG\",Q23<R23),T23,IF(AND(CX4=\"VETERANSD2STRASBOURG\",Q23<R23),T23,IF(AND(CX4=\"VETERANSD1NORD\",Q23<R23),T23,IF(AND(CX4=\"VETERANSD2NORD\",Q23<R23),T23,IF(AND(CX4=\"JUNIORS\",Q23<R23),T23,IF(AND(CX4=\"CADETS\",Q23<R23),T23,IF(AND(CX4=\"MINIMESBENJAMINSPOUSSINS\",Q23<R23),T23,IF(AND(CX4=\"PROMOTIONFINALE\",Q23<R23),T23,IF(AND(CX4=\"MIXTESD1FINALE\",Q23<R23),T23,IF(AND(CX4=\"VETERANSD1FINALE\",Q23<R23),T23,IF(AND(CX4=\"VETERANSD2FINALE\",Q23<R23),T23,IF(AND(CX4=\"JUNIORSFINALE\",Q23<R23),T23,IF(AND(CX4=\"CADETSFINALE\",Q23<R23),T23,IF(AND(CX4=\"MINIMESBENJAMINSPOUSSINSFINALE\",Q23<R23),T23,\"\"))))))))))))))))))))))","v":""},{"$f":"IF(Q23>R23,\"\",IF(AND(CX4=\"EXCELLENCE\",Q23<R23),V23,IF(AND(CX4=\"HONNEUR\",Q23<R23),V23,IF(AND(CX4=\"PROMOTIONNORD\",Q23<R23),V23,IF(AND(CX4=\"ADULTESDIVISION1NORD\",Q23<R23),V23,IF(AND(CX4=\"PROMOTIONSTRASBOURG\",Q23<R23),V23,IF(AND(CX4=\"MIXTESD1NORD\",Q23<R23),V23,IF(AND(CX4=\"MIXTESD1STRASBOURG\",Q23<R23),V23,IF(AND(CX4=\"VETERANSD1STRASBOURG\",Q23<R23),V23,IF(AND(CX4=\"VETERANSD2STRASBOURG\",Q23<R23),V23,IF(AND(CX4=\"VETERANSD1NORD\",Q23<R23),V23,IF(AND(CX4=\"VETERANSD2NORD\",Q23<R23),V23,IF(AND(CX4=\"JUNIORS\",Q23<R23),V23,IF(AND(CX4=\"CADETS\",Q23<R23),V23,IF(AND(CX4=\"MINIMESBENJAMINSPOUSSINS\",Q23<R23),V23,IF(AND(CX4=\"PROMOTIONFINALE\",Q23<R23),V23,IF(AND(CX4=\"MIXTESD1FINALE\",Q23<R23),V23,IF(AND(CX4=\"VETERANSD1FINALE\",Q23<R23),V23,IF(AND(CX4=\"VETERANSD2FINALE\",Q23<R23),V23,IF(AND(CX4=\"JUNIORSFINALE\",Q23<R23),V23,IF(AND(CX4=\"CADETSFINALE\",Q23<R23),V23,IF(AND(CX4=\"MINIMESBENJAMINSPOUSSINSFINALE\",Q23<R23),V23,\"\"))))))))))))))))))))))","v":""},2]
[" Manche 1",null,"Manche1",null,null,null,null,null,null,null,null,null,"Manche 1",null,"Manche 1",null,null,null,null,null,null,null,null,"Manche 1",null,"Manche 1",null,null,null,null,null,null,null,null,"Manche 1",null,"Manche 1",null,null,null,null,null,null,null,null,null,null,null,null,null,null,null,null,null,null,null,"Manche 1",null,"Manche 1",null,null,null,null,null,null,null,null,"Manche 1",null,"Manche 1",null,null,null,null,null,null,null,null,"Manche 1",null,"Manche 1",null,null,null,null,null,null,null,null,null,null,null,null,null,null,null,null,null,null,null,null,null,null,null,null,null,null,null,null,null,null,null,null,null,null,null,null,null,null,null,null,null,null,null,null,null,null,null,null,null,null,null,null,null,null,null,null,null,null,null,null,null,null,null,null,null,null,null,null,null,null,null,null,null,null,null,null,null,null,null,null,null,{"$f":"IF(AL2=\"\",\"-\",AL2)","v":"-"},{"$f":"AI2","v":""},{"$f":"IF(FG6=\"-\",\"\",CW$4)","v":""},{"$f":"AQ1","v":""},{"$f":"AJ1","v":""},{"$f":"IF(FG6=\"\",\"\",IF(FG6=\"-\",0,1))","v":0},{"$f":"AM4","v":0},{"$f":"AN4","v":0},{"$f":"FM6-FN6","v":0},{"$f":"AK4","v":0},{"$f":"AL4","v":0},{"$f":"FP6-FQ6","v":0},{"$f":"AI4","v":0},{"$f":"AJ4","v":0},{"$f":"FS6-FT6","v":0},{"$f":"AK2","v":""},{"$f":"IF(OR(CX4=\"EXCELLENCE\",CX4=\"HONNEUR\",CX4=\"PROMOTIONNORD\",CX4=\"ADULTESDIVISION1NORD\",CX4=\"PROMOTIONSTRASBOURG\",CX4=\"PROMOTIONFINALE\"),P2,IF(OR(CX4=\"MIXTESD1NORD\",CX4=\"MIXTESD1STRASBOURG\",CX4=\"VETERANSD1STRASBOURG\",CX4=\"VETERANSD2STRASBOURG\",CX4=\"VETERANSD1NORD\",CX4=\"VETERANSD2NORD\",CX4=\"JUNIORS\",CX4=\"CADETS\",CX4=\"MINIMESBENJAMINSPOUSSINS\",CX4=\"MIXTESD1FINALE\",CX4=\"VETERANSD1FINALE\",CX4=\"VETERANSD2FINALE\",CX4=\"JUNIORSFINALE\",CX4=\"CADETSFINALE\",CX4=\"MINIMESBENJAMINSPOUSSINSFINALE\"),\"-\",\"\"))","v":""},{"$f":"IF(OR(CX4=\"EXCELLENCE\",CX4=\"HONNEUR\",CX4=\"PROMOTIONNORD\",CX4=\"ADULTESDIVISION1NORD\",CX4=\"PROMOTIONSTRASBOURG\",CX4=\"PROMOTIONFINALE\"),M2,IF(OR(CX4=\"MIXTESD1NORD\",CX4=\"MIXTESD1STRASBOURG\",CX4=\"VETERANSD1STRASBOURG\",CX4=\"VETERANSD2STRASBOURG\",CX4=\"VETERANSD1NORD\",CX4=\"VETERANSD2NORD\",CX4=\"JUNIORS\",CX4=\"CADETS\",CX4=\"MINIMESBENJAMINSPOUSSINS\",CX4=\"MIXTESD1FINALE\",CX4=\"VETERANSD1FINALE\",CX4=\"VETERANSD2FINALE\",CX4=\"JUNIORSFINALE\",CX4=\"CADETSFINALE\",CX4=\"MINIMESBENJAMINSPOUSSINSFINALE\"),\"\",\"\"))","v":""},{"$f":"IF(OR(CX4=\"EXCELLENCE\",CX4=\"HONNEUR\",CX4=\"PROMOTIONNORD\",CX4=\"ADULTESDIVISION1NORD\",CX4=\"PROMOTIONSTRASBOURG\",CX4=\"PROMOTIONFINALE\"),O2,IF(OR(CX4=\"MIXTESD1NORD\",CX4=\"MIXTESD1STRASBOURG\",CX4=\"VETERANSD1STRASBOURG\",CX4=\"VETERANSD2STRASBOURG\",CX4=\"VETERANSD1NORD\",CX4=\"VETERANSD2NORD\",CX4=\"JUNIORS\",CX4=\"CADETS\",CX4=\"MINIMESBENJAMINSPOUSSINS\",CX4=\"MIXTESD1FINALE\",CX4=\"VETERANSD1FINALE\",CX4=\"VETERANSD2FINALE\",CX4=\"JUNIORSFINALE\",CX4=\"CADETSFINALE\",CX4=\"MINIMESBENJAMINSPOUSSINSFINALE\"),\"\",\"\"))","v":""},{"$f":"IF(OR(CX4=\"EXCELLENCE\",CX4=\"HONNEUR\",CX4=\"PROMOTIONNORD\",CX4=\"ADULTESDIVISION1NORD\",CX4=\"PROMOTIONSTRASBOURG\",CX4=\"PROMOTIONFINALE\"),N1,IF(OR(CX4=\"MIXTESD1NORD\",CX4=\"MIXTESD1STRASBOURG\",CX4=\"VETERANSD1STRASBOURG\",CX4=\"VETERANSD2STRASBOURG\",CX4=\"VETERANSD1NORD\",CX4=\"VETERANSD2NORD\",CX4=\"JUNIORS\",CX4=\"CADETS\",CX4=\"MINIMESBENJAMINSPOUSSINS\",CX4=\"MIXTESD1FINALE\",CX4=\"VETERANSD1FINALE\",CX4=\"VETERANSD2FINALE\",CX4=\"JUNIORSFINALE\",CX4=\"CADETSFINALE\",CX4=\"MINIMESBENJAMINSPOUSSINSFINALE\"),\"\",\"\"))","v":""},{"$f":"IF(OR(CX4=\"EXCELLENCE\",CX4=\"HONNEUR\",CX4=\"PROMOTIONNORD\",CX4=\"ADULTESDIVISION1NORD\",CX4=\"PROMOTIONSTRASBOURG\",CX4=\"PROMOTIONFINALE\"),CX4,IF(OR(CX4=\"MIXTESD1NORD\",CX4=\"MIXTESD1STRASBOURG\",CX4=\"VETERANSD1STRASBOURG\",CX4=\"VETERANSD2STRASBOURG\",CX4=\"VETERANSD1NORD\",CX4=\"VETERANSD2NORD\",CX4=\"JUNIORS\",CX4=\"CADETS\",CX4=\"MINIMESBENJAMINSPOUSSINS\",CX4=\"MIXTESD1FINALE\",CX4=\"VETERANSD1FINALE\",CX4=\"VETERANSD2FINALE\",CX4=\"JUNIORSFINALE\",CX4=\"CADETSFINALE\",CX4=\"MINIMESBENJAMINSPOUSSINSFINALE\"),\"\",\"\"))","v":""},{"$f":"IF(OR(CX4=\"EXCELLENCE\",CX4=\"HONNEUR\",CX4=\"PROMOTIONNORD\",CX4=\"ADULTESDIVISION1NORD\",CX4=\"PROMOTIONSTRASBOURG\",CX4=\"PROMOTIONFINALE\"),CW4,IF(OR(CX4=\"MIXTESD1NORD\",CX4=\"MIXTESD1STRASBOURG\",CX4=\"VETERANSD1STRASBOURG\",CX4=\"VETERANSD2STRASBOURG\",CX4=\"VETERANSD1NORD\",CX4=\"VETERANSD2NORD\",CX4=\"JUNIORS\",CX4=\"CADETS\",CX4=\"MINIMESBENJAMINSPOUSSINS\",CX4=\"MIXTESD1FINALE\",CX4=\"VETERANSD1FINALE\",CX4=\"VETERANSD2FINALE\",CX4=\"JUNIORSFINALE\",CX4=\"CADETSFINALE\",CX4=\"MINIMESBENJAMINSPOUSSINSFINALE\"),\"\",\"\"))","v":""},"VICTOIRE CONTRE",{"$f":"IF(Q41<R41,\"\",IF(AND(CX4=\"EXCELLENCE\",Q41>R41),N41,IF(AND(CX4=\"HONNEUR\",Q41>R41),N41,IF(AND(CX4=\"PROMOTIONNORD\",Q41>R41),N41,IF(AND(CX4=\"ADULTESDIVISION1NORD\",Q41>R41),N41,IF(AND(CX4=\"PROMOTIONSTRASBOURG\",Q41>R41),N41,IF(AND(CX4=\"PROMOTIONFINALE\",Q41>R41),N41,IF(OR(CX4=\"MIXTESD1NORD\",CX4=\"MIXTESD1STRASBOURG\",CX4=\"VETERANSD1STRASBOURG\",CX4=\"VETERANSD2STRASBOURG\",CX4=\"VETERANSD1NORD\",CX4=\"VETERANSD2NORD\",CX4=\"JUNIORS\",CX4=\"CADETS\",CX4=\"MINIMESBENJAMINSPOUSSINS\",CX4=\"MIXTESD1FINALE\",CX4=\"VETERANSD1FINALE\",CX4=\"VETERANSD2FINALE\",CX4=\"JUNIORSFINALE\",CX4=\"CADETSFINALE\",CX4=\"MINIMESBENJAMINSPOUSSINSFINALE\"),\"\",\"\"))))))))","v":""},{"$f":"IF(Q41<R41,\"\",IF(AND(CX4=\"EXCELLENCE\",Q41>R41),O41,IF(AND(CX4=\"HONNEUR\",Q41>R41),O41,IF(AND(CX4=\"PROMOTIONNORD\",Q41>R41),O41,IF(AND(CX4=\"ADULTESDIVISION1NORD\",Q41>R41),O41,IF(AND(CX4=\"PROMOTIONSTRASBOURG\",Q41>R41),O41,IF(AND(CX4=\"PROMOTIONFINALE\",Q41>R41),O41,IF(OR(CX4=\"MIXTESD1NORD\",CX4=\"MIXTESD1STRASBOURG\",CX4=\"VETERANSD1STRASBOURG\",CX4=\"VETERANSD2STRASBOURG\",CX4=\"VETERANSD1NORD\",CX4=\"VETERANSD2NORD\",CX4=\"JUNIORS\",CX4=\"CADETS\",CX4=\"MINIMESBENJAMINSPOUSSINS\",CX4=\"MIXTESD1FINALE\",CX4=\"VETERANSD1FINALE\",CX4=\"VETERANSD2FINALE\",CX4=\"JUNIORSFINALE\",CX4=\"CADETSFINALE\",CX4=\"MINIMESBENJAMINSPOUSSINSFINALE\"),\"\",\"\"))))))))","v":""},{"$f":"IF(Q41<R41,\"\",IF(AND(CX4=\"EXCELLENCE\",Q41>R41),P41,IF(AND(CX4=\"HONNEUR\",Q41>R41),P41,IF(AND(CX4=\"PROMOTIONNORD\",Q41>R41),P41,IF(AND(CX4=\"ADULTESDIVISION1NORD\",Q41>R41),P41,IF(AND(CX4=\"PROMOTIONSTRASBOURG\",Q41>R41),P41,IF(AND(CX4=\"PROMOTIONFINALE\",Q41>R41),P41,IF(OR(CX4=\"MIXTESD1NORD\",CX4=\"MIXTESD1STRASBOURG\",CX4=\"VETERANSD1STRASBOURG\",CX4=\"VETERANSD2STRASBOURG\",CX4=\"VETERANSD1NORD\",CX4=\"VETERANSD2NORD\",CX4=\"JUNIORS\",CX4=\"CADETS\",CX4=\"MINIMESBENJAMINSPOUSSINS\",CX4=\"MIXTESD1FINALE\",CX4=\"VETERANSD1FINALE\",CX4=\"VETERANSD2FINALE\",CX4=\"JUNIORSFINALE\",CX4=\"CADETSFINALE\",CX4=\"MINIMESBENJAMINSPOUSSINSFINALE\"),\"\",\"\"))))))))","v":""},{"$f":"IF(Q41<R41,\"\",IF(AND(CX4=\"EXCELLENCE\",Q41>R41),S1,IF(AND(CX4=\"HONNEUR\",Q41>R41),S1,IF(AND(CX4=\"PROMOTIONNORD\",Q41>R41),S1,IF(AND(CX4=\"ADULTESDIVISION1NORD\",Q41>R41),S1,IF(AND(CX4=\"PROMOTIONSTRASBOURG\",Q41>R41),S1,IF(AND(CX4=\"PROMOTIONFINALE\",Q41>R41),S1,IF(OR(CX4=\"MIXTESD1NORD\",CX4=\"MIXTESD1STRASBOURG\",CX4=\"VETERANSD1STRASBOURG\",CX4=\"VETERANSD2STRASBOURG\",CX4=\"VETERANSD1NORD\",CX4=\"VETERANSD2NORD\",CX4=\"JUNIORS\",CX4=\"CADETS\",CX4=\"MINIMESBENJAMINSPOUSSINS\",CX4=\"MIXTESD1FINALE\",CX4=\"VETERANSD1FINALE\",CX4=\"VETERANSD2FINALE\",CX4=\"JUNIORSFINALE\",CX4=\"CADETSFINALE\",CX4=\"MINIMESBENJAMINSPOUSSINSFINALE\"),\"\",\"\"))))))))","v":""},{"$f":"IF(Q41<R41,\"\",IF(AND(CX4=\"EXCELLENCE\",Q41>R41),S41,IF(AND(CX4=\"HONNEUR\",Q41>R41),S41,IF(AND(CX4=\"PROMOTIONNORD\",Q41>R41),S41,IF(AND(CX4=\"ADULTESDIVISION1NORD\",Q41>R41),S41,IF(AND(CX4=\"PROMOTIONSTRASBOURG\",Q41>R41),S41,IF(AND(CX4=\"PROMOTIONFINALE\",Q41>R41),S41,IF(OR(CX4=\"MIXTESD1NORD\",CX4=\"MIXTESD1STRASBOURG\",CX4=\"VETERANSD1STRASBOURG\",CX4=\"VETERANSD2STRASBOURG\",CX4=\"VETERANSD1NORD\",CX4=\"VETERANSD2NORD\",CX4=\"JUNIORS\",CX4=\"CADETS\",CX4=\"MINIMESBENJAMINSPOUSSINS\",CX4=\"MIXTESD1FINALE\",CX4=\"VETERANSD1FINALE\",CX4=\"VETERANSD2FINALE\",CX4=\"JUNIORSFINALE\",CX4=\"CADETSFINALE\",CX4=\"MINIMESBENJAMINSPOUSSINSFINALE\"),\"\",\"\"))))))))","v":""},{"$f":"IF(Q41<R41,\"\",IF(AND(CX4=\"EXCELLENCE\",Q41>R41),U41,IF(AND(CX4=\"HONNEUR\",Q41>R41),U41,IF(AND(CX4=\"PROMOTIONNORD\",Q41>R41),U41,IF(AND(CX4=\"ADULTESDIVISION1NORD\",Q41>R41),U41,IF(AND(CX4=\"PROMOTIONSTRASBOURG\",Q41>R41),U41,IF(AND(CX4=\"PROMOTIONFINALE\",Q41>R41),U41,IF(OR(CX4=\"MIXTESD1NORD\",CX4=\"MIXTESD1STRASBOURG\",CX4=\"VETERANSD1STRASBOURG\",CX4=\"VETERANSD2STRASBOURG\",CX4=\"VETERANSD1NORD\",CX4=\"VETERANSD2NORD\",CX4=\"JUNIORS\",CX4=\"CADETS\",CX4=\"MINIMESBENJAMINSPOUSSINS\",CX4=\"MIXTESD1FINALE\",CX4=\"VETERANSD1FINALE\",CX4=\"VETERANSD2FINALE\",CX4=\"JUNIORSFINALE\",CX4=\"CADETSFINALE\",CX4=\"MINIMESBENJAMINSPOUSSINSFINALE\"),\"\",\"\"))))))))","v":""},"DEFAITE CONTRE",{"$f":"IF(Q41>R41,\"\",IF(AND(CX4=\"EXCELLENCE\",Q41<R41),N41,IF(AND(CX4=\"HONNEUR\",Q41<R41),N41,IF(AND(CX4=\"PROMOTIONNORD\",Q41<R41),N41,IF(AND(CX4=\"ADULTESDIVISION1NORD\",Q41<R41),N41,IF(AND(CX4=\"PROMOTIONSTRASBOURG\",Q41<R41),N41,IF(AND(CX4=\"PROMOTIONFINALE\",Q41<R41),N41,IF(OR(CX4=\"MIXTESD1NORD\",CX4=\"MIXTESD1STRASBOURG\",CX4=\"VETERANSD1STRASBOURG\",CX4=\"VETERANSD2STRASBOURG\",CX4=\"VETERANSD1NORD\",CX4=\"VETERANSD2NORD\",CX4=\"JUNIORS\",CX4=\"CADETS\",CX4=\"MINIMESBENJAMINSPOUSSINS\",CX4=\"MIXTESD1FINALE\",CX4=\"VETERANSD1FINALE\",CX4=\"VETERANSD2FINALE\",CX4=\"JUNIORSFINALE\",CX4=\"CADETSFINALE\",CX4=\"MINIMESBENJAMINSPOUSSINSFINALE\"),\"\",\"\"))))))))","v":""},{"$f":"IF(Q41>R41,\"\",IF(AND(CX4=\"EXCELLENCE\",Q41<R41),O41,IF(AND(CX4=\"HONNEUR\",Q41<R41),O41,IF(AND(CX4=\"PROMOTIONNORD\",Q41<R41),O41,IF(AND(CX4=\"ADULTESDIVISION1NORD\",Q41<R41),O41,IF(AND(CX4=\"PROMOTIONSTRASBOURG\",Q41<R41),O41,IF(AND(CX4=\"PROMOTIONFINALE\",Q41<R41),O41,IF(OR(CX4=\"MIXTESD1NORD\",CX4=\"MIXTESD1STRASBOURG\",CX4=\"VETERANSD1STRASBOURG\",CX4=\"VETERANSD2STRASBOURG\",CX4=\"VETERANSD1NORD\",CX4=\"VETERANSD2NORD\",CX4=\"JUNIORS\",CX4=\"CADETS\",CX4=\"MINIMESBENJAMINSPOUSSINS\",CX4=\"MIXTESD1FINALE\",CX4=\"VETERANSD1FINALE\",CX4=\"VETERANSD2FINALE\",CX4=\"JUNIORSFINALE\",CX4=\"CADETSFINALE\",CX4=\"MINIMESBENJAMINSPOUSSINSFINALE\"),\"\",\"\"))))))))","v":""},{"$f":"IF(Q41>R41,\"\",IF(AND(CX4=\"EXCELLENCE\",Q41<R41),P41,IF(AND(CX4=\"HONNEUR\",Q41<R41),P41,IF(AND(CX4=\"PROMOTIONNORD\",Q41<R41),P41,IF(AND(CX4=\"ADULTESDIVISION1NORD\",Q41<R41),P41,IF(AND(CX4=\"PROMOTIONSTRASBOURG\",Q41<R41),P41,IF(AND(CX4=\"PROMOTIONFINALE\",Q41<R41),P41,IF(OR(CX4=\"MIXTESD1NORD\",CX4=\"MIXTESD1STRASBOURG\",CX4=\"VETERANSD1STRASBOURG\",CX4=\"VETERANSD2STRASBOURG\",CX4=\"VETERANSD1NORD\",CX4=\"VETERANSD2NORD\",CX4=\"JUNIORS\",CX4=\"CADETS\",CX4=\"MINIMESBENJAMINSPOUSSINS\",CX4=\"MIXTESD1FINALE\",CX4=\"VETERANSD1FINALE\",CX4=\"VETERANSD2FINALE\",CX4=\"JUNIORSFINALE\",CX4=\"CADETSFINALE\",CX4=\"MINIMESBENJAMINSPOUSSINSFINALE\"),\"\",\"\"))))))))","v":""},{"$f":"IF(Q41>R41,\"\",IF(AND(CX4=\"EXCELLENCE\",Q41<R41),S1,IF(AND(CX4=\"HONNEUR\",Q41<R41),S1,IF(AND(CX4=\"PROMOTIONNORD\",Q41<R41),S1,IF(AND(CX4=\"ADULTESDIVISION1NORD\",Q41<R41),S1,IF(AND(CX4=\"PROMOTIONSTRASBOURG\",Q41<R41),S1,IF(AND(CX4=\"PROMOTIONFINALE\",Q41<R41),S1,IF(OR(CX4=\"MIXTESD1NORD\",CX4=\"MIXTESD1STRASBOURG\",CX4=\"VETERANSD1STRASBOURG\",CX4=\"VETERANSD2STRASBOURG\",CX4=\"VETERANSD1NORD\",CX4=\"VETERANSD2NORD\",CX4=\"JUNIORS\",CX4=\"CADETS\",CX4=\"MINIMESBENJAMINSPOUSSINS\",CX4=\"MIXTESD1FINALE\",CX4=\"VETERANSD1FINALE\",CX4=\"VETERANSD2FINALE\",CX4=\"JUNIORSFINALE\",CX4=\"CADETSFINALE\",CX4=\"MINIMESBENJAMINSPOUSSINSFINALE\"),\"\",\"\"))))))))","v":""},{"$f":"IF(Q41>R41,\"\",IF(AND(CX4=\"EXCELLENCE\",Q41<R41),T41,IF(AND(CX4=\"HONNEUR\",Q41<R41),T41,IF(AND(CX4=\"PROMOTIONNORD\",Q41<R41),T41,IF(AND(CX4=\"ADULTESDIVISION1NORD\",Q41<R41),T41,IF(AND(CX4=\"PROMOTIONSTRASBOURG\",Q41<R41),T41,IF(AND(CX4=\"PROMOTIONFINALE\",Q41<R41),T41,IF(OR(CX4=\"MIXTESD1NORD\",CX4=\"MIXTESD1STRASBOURG\",CX4=\"VETERANSD1STRASBOURG\",CX4=\"VETERANSD2STRASBOURG\",CX4=\"VETERANSD1NORD\",CX4=\"VETERANSD2NORD\",CX4=\"JUNIORS\",CX4=\"CADETS\",CX4=\"MINIMESBENJAMINSPOUSSINS\",CX4=\"MIXTESD1FINALE\",CX4=\"VETERANSD1FINALE\",CX4=\"VETERANSD2FINALE\",CX4=\"JUNIORSFINALE\",CX4=\"CADETSFINALE\",CX4=\"MINIMESBENJAMINSPOUSSINSFINALE\"),\"\",\"\"))))))))","v":""},{"$f":"IF(Q41>R41,\"\",IF(AND(CX4=\"EXCELLENCE\",Q41<R41),V41,IF(AND(CX4=\"HONNEUR\",Q41<R41),V41,IF(AND(CX4=\"PROMOTIONNORD\",Q41<R41),V41,IF(AND(CX4=\"ADULTESDIVISION1NORD\",Q41<R41),V41,IF(AND(CX4=\"PROMOTIONSTRASBOURG\",Q41<R41),V41,IF(AND(CX4=\"PROMOTIONFINALE\",Q41<R41),V41,IF(OR(CX4=\"MIXTESD1NORD\",CX4=\"MIXTESD1STRASBOURG\",CX4=\"VETERANSD1STRASBOURG\",CX4=\"VETERANSD2STRASBOURG\",CX4=\"VETERANSD1NORD\",CX4=\"VETERANSD2NORD\",CX4=\"JUNIORS\",CX4=\"CADETS\",CX4=\"MINIMESBENJAMINSPOUSSINS\",CX4=\"MIXTESD1FINALE\",CX4=\"VETERANSD1FINALE\",CX4=\"VETERANSD2FINALE\",CX4=\"JUNIORSFINALE\",CX4=\"CADETSFINALE\",CX4=\"MINIMESBENJAMINSPOUSSINSFINALE\"),\"\",\"\"))))))))","v":""},3]
[{"$f":"calcules!$U$4","v":"0"},{"$f":"calcules!$V$4","v":"0"},{"$f":"IF($A$7>$B$7,1,0)","v":0},{"$f":"IF($A$7<$B$7,1,0)","v":0},null,null,null,null,null,null,null,null,{"$f":"calcules!$AC$4","v":"0"},{"$f":"calcules!$AD$4","v":"0"},{"$f":"IF($M$7>$N$7,1,0)","v":0},{"$f":"IF($M$7<$N$7,1,0)","v":0},null,null,null,null,null,null,null,{"$f":"calcules!$AG$4","v":"0"},{"$f":"calcules!$AH$4","v":"0"},{"$f":"IF($X$7>$Y$7,1,0)","v":0},{"$f":"IF($X$7<$Y$7,1,0)","v":0},null,null,null,null,null,null,null,{"$f":"calcules!$AK$4","v":"0"},{"$f":"calcules!$AL$4","v":"0"},{"$f":"IF($AI$7>$AJ$7,1,0)","v":0},{"$f":"IF($AI$7<$AJ$7,1,0)","v":0},null,null,null,null,null,null,null,null,null,null,null,null,null,null,null,null,null,null,{"$f":"calcules!$AS$4","v":"0"},{"$f":"calcules!$AT$4","v":"0"},{"$f":"IF($BE$7>$BF$7,1,0)","v":0},{"$f":"IF($BE$7<$BF$7,1,0)","v":0},null,null,null,null,null,null,null,{"$f":"calcules!$AW$4","v":"0"},{"$f":"calcules!$AX$4","v":"0"},{"$f":"IF($BP$7>$BQ$7,1,0)","v":0},{"$f":"IF($BP$7<$BQ$7,1,0)","v":0},null,null,null,null,null,null,null,{"$f":"calcules!$BA$4","v":"0"},{"$f":"calcules!$BB$4","v":"0"},{"$f":"IF($CA$7>$CB$7,1,0)","v":0},{"$f":"IF($CA$7<$CB$7,1,0)","v":0},null,null,null,null,null,null,null,null,null,null,null,null,null,null,null,null,null,null,null,null,null,null,null,null,null,null,null,null,null,null,null,null,null,null,null,null,null,null,null,null,null,null,null,null,null,null,null,null,null,null,null,null,null,null,null,null,null,null,null,null,null,null,null,null,null,null,null,null,null,null,null,null,null,null,null,null,null,null,null,null,{"$f":"IF(BH$2=\"\",\"-\",BH$2)","v":0},{"$f":"BE$2","v":""},{"$f":"IF(FG7=\"-\",\"\",CW$4)","v":0},{"$f":"BM1","v":0},{"$f":"BF$1","v":0},{"$f":"IF(FG7=\"\",\"\",IF(FG7=\"-\",0,1))","v":1},{"$f":"BI4","v":0},{"$f":"BJ4","v":0},{"$f":"FM7-FN7","v":0},{"$f":"BG4","v":0},{"$f":"BH4","v":0},{"$f":"FP7-FQ7","v":0},{"$f":"BE4","v":0},{"$f":"BF4","v":0},{"$f":"FS7-FT7","v":0},{"$f":"BG2","v":""},{"$f":"IF(OR(CX4=\"EXCELLENCE\",CX4=\"HONNEUR\",CX4=\"PROMOTIONNORD\",CX4=\"ADULTESDIVISION1NORD\",CX4=\"PROMOTIONSTRASBOURG\",CX4=\"PROMOTIONFINALE\"),AA2,IF(OR(CX4=\"MIXTESD1NORD\",CX4=\"MIXTESD1STRASBOURG\",CX4=\"VETERANSD1STRASBOURG\",CX4=\"VETERANSD2STRASBOURG\",CX4=\"VETERANSD1NORD\",CX4=\"VETERANSD2NORD\",CX4=\"JUNIORS\",CX4=\"CADETS\",CX4=\"MINIMESBENJAMINSPOUSSINS\",CX4=\"MIXTESD1FINALE\",CX4=\"VETERANSD1FINALE\",CX4=\"VETERANSD2FINALE\",CX4=\"JUNIORSFINALE\",CX4=\"CADETSFINALE\",CX4=\"MINIMESBENJAMINSPOUSSINSFINALE\"),AA2,\"\"))","v":""},{"$f":"IF(OR(CX4=\"EXCELLENCE\",CX4=\"HONNEUR\",CX4=\"PROMOTIONNORD\",CX4=\"ADULTESDIVISION1NORD\",CX4=\"PROMOTIONSTRASBOURG\",CX4=\"PROMOTIONFINALE\"),X2,IF(OR(CX4=\"MIXTESD1NORD\",CX4=\"MIXTESD1STRASBOURG\",CX4=\"VETERANSD1STRASBOURG\",CX4=\"VETERANSD2STRASBOURG\",CX4=\"VETERANSD1NORD\",CX4=\"VETERANSD2NORD\",CX4=\"JUNIORS\",CX4=\"CADETS\",CX4=\"MINIMESBENJAMINSPOUSSINS\",CX4=\"MIXTESD1FINALE\",CX4=\"VETERANSD1FINALE\",CX4=\"VETERANSD2FINALE\",CX4=\"JUNIORSFINALE\",CX4=\"CADETSFINALE\",CX4=\"MINIMESBENJAMINSPOUSSINSFINALE\"),X2,\"\"))","v":""},{"$f":"IF(OR(CX4=\"EXCELLENCE\",CX4=\"HONNEUR\",CX4=\"PROMOTIONNORD\",CX4=\"ADULTESDIVISION1NORD\",CX4=\"PROMOTIONSTRASBOURG\",CX4=\"PROMOTIONFINALE\"),Z2,IF(OR(CX4=\"MIXTESD1NORD\",CX4=\"MIXTESD1STRASBOURG\",CX4=\"VETERANSD1STRASBOURG\",CX4=\"VETERANSD2STRASBOURG\",CX4=\"VETERANSD1NORD\",CX4=\"VETERANSD2NORD\",CX4=\"JUNIORS\",CX4=\"CADETS\",CX4=\"MINIMESBENJAMINSPOUSSINS\",CX4=\"MIXTESD1FINALE\",CX4=\"VETERANSD1FINALE\",CX4=\"VETERANSD2FINALE\",CX4=\"JUNIORSFINALE\",CX4=\"CADETSFINALE\",CX4=\"MINIMESBENJAMINSPOUSSINSFINALE\"),Z2,\"\"))","v":""},{"$f":"IF(OR(CX4=\"EXCELLENCE\",CX4=\"HONNEUR\",CX4=\"PROMOTIONNORD\",CX4=\"ADULTESDIVISION1NORD\",CX4=\"PROMOTIONSTRASBOURG\",CX4=\"PROMOTIONFINALE\"),Y1,IF(OR(CX4=\"MIXTESD1NORD\",CX4=\"MIXTESD1STRASBOURG\",CX4=\"VETERANSD1STRASBOURG\",CX4=\"VETERANSD2STRASBOURG\",CX4=\"VETERANSD1NORD\",CX4=\"VETERANSD2NORD\",CX4=\"JUNIORS\",CX4=\"CADETS\",CX4=\"MINIMESBENJAMINSPOUSSINS\",CX4=\"MIXTESD1FINALE\",CX4=\"VETERANSD1FINALE\",CX4=\"VETERANSD2FINALE\",CX4=\"JUNIORSFINALE\",CX4=\"CADETSFINALE\",CX4=\"MINIMESBENJAMINSPOUSSINSFINALE\"),Y1,\"\"))","v":""},{"$f":"IF(OR(CX4=\"EXCELLENCE\",CX4=\"HONNEUR\",CX4=\"PROMOTIONNORD\",CX4=\"ADULTESDIVISION1NORD\",CX4=\"PROMOTIONSTRASBOURG\",CX4=\"PROMOTIONFINALE\"),CX4,IF(OR(CX4=\"MIXTESD1NORD\",CX4=\"MIXTESD1STRASBOURG\",CX4=\"VETERANSD1STRASBOURG\",CX4=\"VETERANSD2STRASBOURG\",CX4=\"VETERANSD1NORD\",CX4=\"VETERANSD2NORD\",CX4=\"JUNIORS\",CX4=\"CADETS\",CX4=\"MINIMESBENJAMINSPOUSSINS\",CX4=\"MIXTESD1FINALE\",CX4=\"VETERANSD1FINALE\",CX4=\"VETERANSD2FINALE\",CX4=\"JUNIORSFINALE\",CX4=\"CADETSFINALE\",CX4=\"MINIMESBENJAMINSPOUSSINSFINALE\"),CX4,\"\"))","v":""},{"$f":"IF(OR(CX4=\"EXCELLENCE\",CX4=\"HONNEUR\",CX4=\"PROMOTIONNORD\",CX4=\"ADULTESDIVISION1NORD\",CX4=\"PROMOTIONSTRASBOURG\",CX4=\"PROMOTIONFINALE\"),CW4,IF(OR(CX4=\"MIXTESD1NORD\",CX4=\"MIXTESD1STRASBOURG\",CX4=\"VETERANSD1STRASBOURG\",CX4=\"VETERANSD2STRASBOURG\",CX4=\"VETERANSD1NORD\",CX4=\"VETERANSD2NORD\",CX4=\"JUNIORS\",CX4=\"CADETS\",CX4=\"MINIMESBENJAMINSPOUSSINS\",CX4=\"MIXTESD1FINALE\",CX4=\"VETERANSD1FINALE\",CX4=\"VETERANSD2FINALE\",CX4=\"JUNIORSFINALE\",CX4=\"CADETSFINALE\",CX4=\"MINIMESBENJAMINSPOUSSINSFINALE\"),CW4,\"\"))","v":""},"VICTOIRE CONTRE",{"$f":"IF(AB5<AC5,\"\",IF(AND(CX4=\"EXCELLENCE\",AB5>AC5),Y5,IF(AND(CX4=\"HONNEUR\",AB5>AC5),Y5,IF(AND(CX4=\"PROMOTIONNORD\",AB5>AC5),Y5,IF(AND(CX4=\"ADULTESDIVISION1NORD\",AB5>AC5),Y5,IF(AND(CX4=\"PROMOTIONSTRASBOURG\",AB5>AC5),Y5,IF(AND(CX4=\"PROMOTIONFINALE\",AB5>AC5),Y5,IF(AND(CX4=\"MIXTESD1NORD\",AB5>AC5),Y5,IF(AND(CX4=\"MIXTESD1STRASBOURG\",AB5>AC5),Y5,IF(AND(CX4=\"VETERANSD1STRASBOURG\",AB5>AC5),Y5,IF(AND(CX4=\"VETERANSD2STRASBOURG\",AB5>AC5),Y5,IF(AND(CX4=\"VETERANSD1NORD\",AB5>AC5),Y5,IF(AND(CX4=\"VETERANSD2NORD\",AB5>AC5),Y5,IF(AND(CX4=\"JUNIORS\",AB5>AC5),Y5,IF(AND(CX4=\"CADETS\",AB5>AC5),Y5,IF(AND(CX4=\"MINIMESBENJAMINSPOUSSINS\",AB5>AC5),Y5,IF(AND(CX4=\"MIXTESD1FINALE\",AB5>AC5),Y5,IF(AND(CX4=\"VETERANSD1FINALE\",AB5>AC5),Y5,IF(AND(CX4=\"VETERANSD2FINALE\",AB5>AC5),Y5,IF(AND(CX4=\"JUNIORSFINALE\",AB5>AC5),Y5,IF(AND(CX4=\"CADETSFINALE\",AB5>AC5),Y5,IF(AND(CX4=\"MINIMESBENJAMINSPOUSSINSFINALE\",AB5>AC5),Y5,\"\"))))))))))))))))))))))","v":""},{"$f":"IF(AB5<AC5,\"\",IF(AND(CX4=\"EXCELLENCE\",AB5>AC5),Z5,IF(AND(CX4=\"HONNEUR\",AB5>AC5),Z5,IF(AND(CX4=\"PROMOTIONNORD\",AB5>AC5),Z5,IF(AND(CX4=\"ADULTESDIVISION1NORD\",AB5>AC5),Z5,IF(AND(CX4=\"PROMOTIONSTRASBOURG\",AB5>AC5),Z5,IF(AND(CX4=\"PROMOTIONFINALE\",AB5>AC5),Z5,IF(AND(CX4=\"MIXTESD1NORD\",AB5>AC5),Z5,IF(AND(CX4=\"MIXTESD1STRASBOURG\",AB5>AC5),Z5,IF(AND(CX4=\"VETERANSD1STRASBOURG\",AB5>AC5),Z5,IF(AND(CX4=\"VETERANSD2STRASBOURG\",AB5>AC5),Z5,IF(AND(CX4=\"VETERANSD1NORD\",AB5>AC5),Z5,IF(AND(CX4=\"VETERANSD2NORD\",AB5>AC5),Z5,IF(AND(CX4=\"JUNIORS\",AB5>AC5),Z5,IF(AND(CX4=\"CADETS\",AB5>AC5),Z5,IF(AND(CX4=\"MINIMESBENJAMINSPOUSSINS\",AB5>AC5),Z5,IF(AND(CX4=\"MIXTESD1FINALE\",AB5>AC5),Z5,IF(AND(CX4=\"VETERANSD1FINALE\",AB5>AC5),Z5,IF(AND(CX4=\"VETERANSD2FINALE\",AB5>AC5),Z5,IF(AND(CX4=\"JUNIORSFINALE\",AB5>AC5),Z5,IF(AND(CX4=\"CADETSFINALE\",AB5>AC5),Z5,IF(AND(CX4=\"MINIMESBENJAMINSPOUSSINSFINALE\",AB5>AC5),Z5,\"\"))))))))))))))))))))))","v":""},{"$f":"IF(AB5<AC5,\"\",IF(AND(CX4=\"EXCELLENCE\",AB5>AC5),AA5,IF(AND(CX4=\"HONNEUR\",AB5>AC5),AA5,IF(AND(CX4=\"PROMOTIONNORD\",AB5>AC5),AA5,IF(AND(CX4=\"ADULTESDIVISION1NORD\",AB5>AC5),AA5,IF(AND(CX4=\"PROMOTIONSTRASBOURG\",AB5>AC5),AA5,IF(AND(CX4=\"PROMOTIONFINALE\",AB5>AC5),AA5,IF(AND(CX4=\"MIXTESD1NORD\",AB5>AC5),AA5,IF(AND(CX4=\"MIXTESD1STRASBOURG\",AB5>AC5),AA5,IF(AND(CX4=\"VETERANSD1STRASBOURG\",AB5>AC5),AA5,IF(AND(CX4=\"VETERANSD2STRASBOURG\",AB5>AC5),AA5,IF(AND(CX4=\"VETERANSD1NORD\",AB5>AC5),AA5,IF(AND(CX4=\"VETERANSD2NORD\",AB5>AC5),AA5,IF(AND(CX4=\"JUNIORS\",AB5>AC5),AA5,IF(AND(CX4=\"CADETS\",AB5>AC5),AA5,IF(AND(CX4=\"MINIMESBENJAMINSPOUSSINS\",AB5>AC5),AA5,IF(AND(CX4=\"MIXTESD1FINALE\",AB5>AC5),AA5,IF(AND(CX4=\"VETERANSD1FINALE\",AB5>AC5),AA5,IF(AND(CX4=\"VETERANSD2FINALE\",AB5>AC5),AA5,IF(AND(CX4=\"JUNIORSFINALE\",AB5>AC5),AA5,IF(AND(CX4=\"CADETSFINALE\",AB5>AC5),AA5,IF(AND(CX4=\"MINIMESBENJAMINSPOUSSINSFINALE\",AB5>AC5),AA5,\"\"))))))))))))))))))))))","v":""},{"$f":"IF(AB5<AC5,\"\",IF(AND(CX4=\"EXCELLENCE\",AB5>AC5),AE1,IF(AND(CX4=\"HONNEUR\",AB5>AC5),AE1,IF(AND(CX4=\"PROMOTIONNORD\",AB5>AC5),AE1,IF(AND(CX4=\"ADULTESDIVISION1NORD\",AB5>AC5),AE1,IF(AND(CX4=\"PROMOTIONSTRASBOURG\",AB5>AC5),AE1,IF(AND(CX4=\"PROMOTIONFINALE\",AB5>AC5),AE1,IF(AND(CX4=\"MIXTESD1NORD\",AB5>AC5),AE1,IF(AND(CX4=\"MIXTESD1STRASBOURG\",AB5>AC5),AE1,IF(AND(CX4=\"VETERANSD1STRASBOURG\",AB5>AC5),AE1,IF(AND(CX4=\"VETERANSD2STRASBOURG\",AB5>AC5),AE1,IF(AND(CX4=\"VETERANSD1NORD\",AB5>AC5),AE1,IF(AND(CX4=\"VETERANSD2NORD\",AB5>AC5),AE1,IF(AND(CX4=\"JUNIORS\",AB5>AC5),AE1,IF(AND(CX4=\"CADETS\",AB5>AC5),AE1,IF(AND(CX4=\"MINIMESBENJAMINSPOUSSINS\",AB5>AC5),AE1,IF(AND(CX4=\"MIXTESD1FINALE\",AB5>AC5),AE1,IF(AND(CX4=\"VETERANSD1FINALE\",AB5>AC5),AE1,IF(AND(CX4=\"VETERANSD2FINALE\",AB5>AC5),AE1,IF(AND(CX4=\"JUNIORSFINALE\",AB5>AC5),AE1,IF(AND(CX4=\"CADETSFINALE\",AB5>AC5),AE1,IF(AND(CX4=\"MINIMESBENJAMINSPOUSSINSFINALE\",AB5>AC5),AE1,\"\"))))))))))))))))))))))","v":""},{"$f":"IF(AB5<AC5,\"\",IF(AND(CX4=\"EXCELLENCE\",AB5>AC5),AD5,IF(AND(CX4=\"HONNEUR\",AB5>AC5),AD5,IF(AND(CX4=\"PROMOTIONNORD\",AB5>AC5),AD5,IF(AND(CX4=\"ADULTESDIVISION1NORD\",AB5>AC5),AD5,IF(AND(CX4=\"PROMOTIONSTRASBOURG\",AB5>AC5),AD5,IF(AND(CX4=\"PROMOTIONFINALE\",AB5>AC5),AD5,IF(AND(CX4=\"MIXTESD1NORD\",AB5>AC5),AD5,IF(AND(CX4=\"MIXTESD1STRASBOURG\",AB5>AC5),AD5,IF(AND(CX4=\"VETERANSD1STRASBOURG\",AB5>AC5),AD5,IF(AND(CX4=\"VETERANSD2STRASBOURG\",AB5>AC5),AD5,IF(AND(CX4=\"VETERANSD1NORD\",AB5>AC5),AD5,IF(AND(CX4=\"VETERANSD2NORD\",AB5>AC5),AD5,IF(AND(CX4=\"JUNIORS\",AB5>AC5),AD5,IF(AND(CX4=\"CADETS\",AB5>AC5),AD5,IF(AND(CX4=\"MINIMESBENJAMINSPOUSSINS\",AB5>AC5),AD5,IF(AND(CX4=\"MIXTESD1FINALE\",AB5>AC5),AD5,IF(AND(CX4=\"VETERANSD1FINALE\",AB5>AC5),AD5,IF(AND(CX4=\"VETERANSD2FINALE\",AB5>AC5),AD5,IF(AND(CX4=\"JUNIORSFINALE\",AB5>AC5),AD5,IF(AND(CX4=\"CADETSFINALE\",AB5>AC5),AD5,IF(AND(CX4=\"MINIMESBENJAMINSPOUSSINSFINALE\",AB5>AC5),AD5,\"\"))))))))))))))))))))))","v":""},{"$f":"IF(AB5<AC5,\"\",IF(AND(CX4=\"EXCELLENCE\",AB5>AC5),AF5,IF(AND(CX4=\"HONNEUR\",AB5>AC5),AF5,IF(AND(CX4=\"PROMOTIONNORD\",AB5>AC5),AF5,IF(AND(CX4=\"ADULTESDIVISION1NORD\",AB5>AC5),AF5,IF(AND(CX4=\"PROMOTIONSTRASBOURG\",AB5>AC5),AF5,IF(AND(CX4=\"PROMOTIONFINALE\",AB5>AC5),AF5,IF(AND(CX4=\"MIXTESD1NORD\",AB5>AC5),AF5,IF(AND(CX4=\"MIXTESD1STRASBOURG\",AB5>AC5),AF5,IF(AND(CX4=\"VETERANSD1STRASBOURG\",AB5>AC5),AF5,IF(AND(CX4=\"VETERANSD2STRASBOURG\",AB5>AC5),AF5,IF(AND(CX4=\"VETERANSD1NORD\",AB5>AC5),AF5,IF(AND(CX4=\"VETERANSD2NORD\",AB5>AC5),AF5,IF(AND(CX4=\"JUNIORS\",AB5>AC5),AF5,IF(AND(CX4=\"CADETS\",AB5>AC5),AF5,IF(AND(CX4=\"MINIMESBENJAMINSPOUSSINS\",AB5>AC5),AF5,IF(AND(CX4=\"MIXTESD1FINALE\",AB5>AC5),AF5,IF(AND(CX4=\"VETERANSD1FINALE\",AB5>AC5),AF5,IF(AND(CX4=\"VETERANSD2FINALE\",AB5>AC5),AF5,IF(AND(CX4=\"JUNIORSFINALE\",AB5>AC5),AF5,IF(AND(CX4=\"CADETSFINALE\",AB5>AC5),AF5,IF(AND(CX4=\"MINIMESBENJAMINSPOUSSINSFINALE\",AB5>AC5),AF5,\"\"))))))))))))))))))))))","v":""},"DEFAITE CONTRE",{"$f":"IF(AB5>AC5,\"\",IF(AND(CX4=\"EXCELLENCE\",AB5<AC5),Y5,IF(AND(CX4=\"HONNEUR\",AB5<AC5),Y5,IF(AND(CX4=\"PROMOTIONNORD\",AB5<AC5),Y5,IF(AND(CX4=\"ADULTESDIVISION1NORD\",AB5<AC5),Y5,IF(AND(CX4=\"PROMOTIONSTRASBOURG\",AB5<AC5),Y5,IF(AND(CX4=\"MIXTESD1NORD\",AB5<AC5),Y5,IF(AND(CX4=\"MIXTESD1STRASBOURG\",AB5<AC5),Y5,IF(AND(CX4=\"VETERANSD1STRASBOURG\",AB5<AC5),Y5,IF(AND(CX4=\"VETERANSD2STRASBOURG\",AB5<AC5),Y5,IF(AND(CX4=\"VETERANSD1NORD\",AB5<AC5),Y5,IF(AND(CX4=\"VETERANSD2NORD\",AB5<AC5),Y5,IF(AND(CX4=\"JUNIORS\",AB5<AC5),Y5,IF(AND(CX4=\"CADETS\",AB5<AC5),Y5,IF(AND(CX4=\"MINIMESBENJAMINSPOUSSINS\",AB5<AC5),Y5,IF(AND(CX4=\"PROMOTIONFINALE\",AB5<AC5),Y5,IF(AND(CX4=\"MIXTESD1FINALE\",AB5<AC5),Y5,IF(AND(CX4=\"VETERANSD1FINALE\",AB5<AC5),Y5,IF(AND(CX4=\"VETERANSD2FINALE\",AB5<AC5),Y5,IF(AND(CX4=\"JUNIORSFINALE\",AB5<AC5),Y5,IF(AND(CX4=\"CADETSFINALE\",AB5<AC5),Y5,IF(AND(CX4=\"MINIMESBENJAMINSPOUSSINSFINALE\",AB5<AC5),Y5,\"\"))))))))))))))))))))))","v":""},{"$f":"IF(AB5>AC5,\"\",IF(AND(CX4=\"EXCELLENCE\",AB5<AC5),Z5,IF(AND(CX4=\"HONNEUR\",AB5<AC5),Z5,IF(AND(CX4=\"PROMOTIONNORD\",AB5<AC5),Z5,IF(AND(CX4=\"ADULTESDIVISION1NORD\",AB5<AC5),Z5,IF(AND(CX4=\"PROMOTIONSTRASBOURG\",AB5<AC5),Z5,IF(AND(CX4=\"MIXTESD1NORD\",AB5<AC5),Z5,IF(AND(CX4=\"MIXTESD1STRASBOURG\",AB5<AC5),Z5,IF(AND(CX4=\"VETERANSD1STRASBOURG\",AB5<AC5),Z5,IF(AND(CX4=\"VETERANSD2STRASBOURG\",AB5<AC5),Z5,IF(AND(CX4=\"VETERANSD1NORD\",AB5<AC5),Z5,IF(AND(CX4=\"VETERANSD2NORD\",AB5<AC5),Z5,IF(AND(CX4=\"JUNIORS\",AB5<AC5),Z5,IF(AND(CX4=\"CADETS\",AB5<AC5),Z5,IF(AND(CX4=\"MINIMESBENJAMINSPOUSSINS\",AB5<AC5),Z5,IF(AND(CX4=\"PROMOTIONFINALE\",AB5<AC5),Z5,IF(AND(CX4=\"MIXTESD1FINALE\",AB5<AC5),Z5,IF(AND(CX4=\"VETERANSD1FINALE\",AB5<AC5),Z5,IF(AND(CX4=\"VETERANSD2FINALE\",AB5<AC5),Z5,IF(AND(CX4=\"JUNIORSFINALE\",AB5<AC5),Z5,IF(AND(CX4=\"CADETSFINALE\",AB5<AC5),Z5,IF(AND(CX4=\"MINIMESBENJAMINSPOUSSINSFINALE\",AB5<AC5),Z5,\"\"))))))))))))))))))))))","v":""},{"$f":"IF(AB5>AC5,\"\",IF(AND(CX4=\"EXCELLENCE\",AB5<AC5),AA5,IF(AND(CX4=\"HONNEUR\",AB5<AC5),AA5,IF(AND(CX4=\"PROMOTIONNORD\",AB5<AC5),AA5,IF(AND(CX4=\"ADULTESDIVISION1NORD\",AB5<AC5),AA5,IF(AND(CX4=\"PROMOTIONSTRASBOURG\",AB5<AC5),AA5,IF(AND(CX4=\"MIXTESD1NORD\",AB5<AC5),AA5,IF(AND(CX4=\"MIXTESD1STRASBOURG\",AB5<AC5),AA5,IF(AND(CX4=\"VETERANSD1STRASBOURG\",AB5<AC5),AA5,IF(AND(CX4=\"VETERANSD2STRASBOURG\",AB5<AC5),AA5,IF(AND(CX4=\"VETERANSD1NORD\",AB5<AC5),AA5,IF(AND(CX4=\"VETERANSD2NORD\",AB5<AC5),AA5,IF(AND(CX4=\"JUNIORS\",AB5<AC5),AA5,IF(AND(CX4=\"CADETS\",AB5<AC5),AA5,IF(AND(CX4=\"MINIMESBENJAMINSPOUSSINS\",AB5<AC5),AA5,IF(AND(CX4=\"PROMOTIONFINALE\",AB5<AC5),AA5,IF(AND(CX4=\"MIXTESD1FINALE\",AB5<AC5),AA5,IF(AND(CX4=\"VETERANSD1FINALE\",AB5<AC5),AA5,IF(AND(CX4=\"VETERANSD2FINALE\",AB5<AC5),AA5,IF(AND(CX4=\"JUNIORSFINALE\",AB5<AC5),AA5,IF(AND(CX4=\"CADETSFINALE\",AB5<AC5),AA5,IF(AND(CX4=\"MINIMESBENJAMINSPOUSSINSFINALE\",AB5<AC5),AA5,\"\"))))))))))))))))))))))","v":""},{"$f":"IF(AB5>AC5,\"\",IF(AND(CX4=\"EXCELLENCE\",AB5<AC5),AE1,IF(AND(CX4=\"HONNEUR\",AB5<AC5),AE1,IF(AND(CX4=\"PROMOTIONNORD\",AB5<AC5),AE1,IF(AND(CX4=\"ADULTESDIVISION1NORD\",AB5<AC5),AE1,IF(AND(CX4=\"PROMOTIONSTRASBOURG\",AB5<AC5),AE1,IF(AND(CX4=\"MIXTESD1NORD\",AB5<AC5),AE1,IF(AND(CX4=\"MIXTESD1STRASBOURG\",AB5<AC5),AE1,IF(AND(CX4=\"VETERANSD1STRASBOURG\",AB5<AC5),AE1,IF(AND(CX4=\"VETERANSD2STRASBOURG\",AB5<AC5),AE1,IF(AND(CX4=\"VETERANSD1NORD\",AB5<AC5),AE1,IF(AND(CX4=\"VETERANSD2NORD\",AB5<AC5),AE1,IF(AND(CX4=\"JUNIORS\",AB5<AC5),AE1,IF(AND(CX4=\"CADETS\",AB5<AC5),AE1,IF(AND(CX4=\"MINIMESBENJAMINSPOUSSINS\",AB5<AC5),AE1,IF(AND(CX4=\"PROMOTIONFINALE\",AB5<AC5),AE1,IF(AND(CX4=\"MIXTESD1FINALE\",AB5<AC5),AE1,IF(AND(CX4=\"VETERANSD1FINALE\",AB5<AC5),AE1,IF(AND(CX4=\"VETERANSD2FINALE\",AB5<AC5),AE1,IF(AND(CX4=\"JUNIORSFINALE\",AB5<AC5),AE1,IF(AND(CX4=\"CADETSFINALE\",AB5<AC5),AE1,IF(AND(CX4=\"MINIMESBENJAMINSPOUSSINSFINALE\",AB5<AC5),AE1,\"\"))))))))))))))))))))))","v":""},{"$f":"IF(AB5>AC5,\"\",IF(AND(CX4=\"EXCELLENCE\",AB5<AC5),AE5,IF(AND(CX4=\"HONNEUR\",AB5<AC5),AE5,IF(AND(CX4=\"PROMOTIONNORD\",AB5<AC5),AE5,IF(AND(CX4=\"ADULTESDIVISION1NORD\",AB5<AC5),AE5,IF(AND(CX4=\"PROMOTIONSTRASBOURG\",AB5<AC5),AE5,IF(AND(CX4=\"MIXTESD1NORD\",AB5<AC5),AE5,IF(AND(CX4=\"MIXTESD1STRASBOURG\",AB5<AC5),AE5,IF(AND(CX4=\"VETERANSD1STRASBOURG\",AB5<AC5),AE5,IF(AND(CX4=\"VETERANSD2STRASBOURG\",AB5<AC5),AE5,IF(AND(CX4=\"VETERANSD1NORD\",AB5<AC5),AE5,IF(AND(CX4=\"VETERANSD2NORD\",AB5<AC5),AE5,IF(AND(CX4=\"JUNIORS\",AB5<AC5),AE5,IF(AND(CX4=\"CADETS\",AB5<AC5),AE5,IF(AND(CX4=\"MINIMESBENJAMINSPOUSSINS\",AB5<AC5),AE5,IF(AND(CX4=\"PROMOTIONFINALE\",AB5<AC5),AE5,IF(AND(CX4=\"MIXTESD1FINALE\",AB5<AC5),AE5,IF(AND(CX4=\"VETERANSD1FINALE\",AB5<AC5),AE5,IF(AND(CX4=\"VETERANSD2FINALE\",AB5<AC5),AE5,IF(AND(CX4=\"JUNIORSFINALE\",AB5<AC5),AE5,IF(AND(CX4=\"CADETSFINALE\",AB5<AC5),AE5,IF(AND(CX4=\"MINIMESBENJAMINSPOUSSINSFINALE\",AB5<AC5),AE5,\"\"))))))))))))))))))))))","v":""},{"$f":"IF(AB5>AC5,\"\",IF(AND(CX4=\"EXCELLENCE\",AB5<AC5),AG5,IF(AND(CX4=\"HONNEUR\",AB5<AC5),AG5,IF(AND(CX4=\"PROMOTIONNORD\",AB5<AC5),AG5,IF(AND(CX4=\"ADULTESDIVISION1NORD\",AB5<AC5),AG5,IF(AND(CX4=\"PROMOTIONSTRASBOURG\",AB5<AC5),AG5,IF(AND(CX4=\"MIXTESD1NORD\",AB5<AC5),AG5,IF(AND(CX4=\"MIXTESD1STRASBOURG\",AB5<AC5),AG5,IF(AND(CX4=\"VETERANSD1STRASBOURG\",AB5<AC5),AG5,IF(AND(CX4=\"VETERANSD2STRASBOURG\",AB5<AC5),AG5,IF(AND(CX4=\"VETERANSD1NORD\",AB5<AC5),AG5,IF(AND(CX4=\"VETERANSD2NORD\",AB5<AC5),AG5,IF(AND(CX4=\"JUNIORS\",AB5<AC5),AG5,IF(AND(CX4=\"CADETS\",AB5<AC5),AG5,IF(AND(CX4=\"MINIMESBENJAMINSPOUSSINS\",AB5<AC5),AG5,IF(AND(CX4=\"PROMOTIONFINALE\",AB5<AC5),AG5,IF(AND(CX4=\"MIXTESD1FINALE\",AB5<AC5),AG5,IF(AND(CX4=\"VETERANSD1FINALE\",AB5<AC5),AG5,IF(AND(CX4=\"VETERANSD2FINALE\",AB5<AC5),AG5,IF(AND(CX4=\"JUNIORSFINALE\",AB5<AC5),AG5,IF(AND(CX4=\"CADETSFINALE\",AB5<AC5),AG5,IF(AND(CX4=\"MINIMESBENJAMINSPOUSSINSFINALE\",AB5<AC5),AG5,\"\"))))))))))))))))))))))","v":""},1]
["Manche 2",null,"Manche 2",null,null,null,null,null,null,null,null,null,"Manche 2",null,"Manche 2",null,null,null,null,null,null,null,null,"Manche 2",null,"Manche 2",null,null,null,null,null,null,null,null,"Manche 2",null,"Manche 2",null,null,null,null,null,null,null,null,null,null,null,null,null,null,null,null,null,null,null,"Manche 2",null,"Manche 2",null,null,null,null,null,null,null,null,"Manche 2",null,"Manche 2",null,null,null,null,null,null,null,null,"Manche 2",null,"Manche 2",null,null,null,null,null,null,null,null,null,null,null,null,null,null,null,null,null,null,null,null,null,null,null,null,null,null,null,null,null,null,null,null,null,null,null,null,null,null,null,null,null,null,null,null,null,null,null,null,null,null,null,null,null,null,null,null,null,null,null,null,null,null,null,null,null,null,null,null,null,null,null,null,null,null,null,null,null,null,null,null,null,{"$f":"IF(BS$2=\"\",\"-\",BS$2)","v":0},{"$f":"BP$2","v":""},0,{"$f":"BX1","v":0},{"$f":"BQ$1","v":0},1,{"$f":"BT4","v":0},{"$f":"BU4","v":0},0,{"$f":"BR4","v":0},{"$f":"BS4","v":0},0,{"$f":"BP4","v":0},{"$f":"BQ4","v":0},0,{"$f":"BR2","v":""},{"$f":"IF(OR(CX4=\"EXCELLENCE\",CX4=\"HONNEUR\",CX4=\"PROMOTIONNORD\",CX4=\"ADULTESDIVISION1NORD\",CX4=\"PROMOTIONSTRASBOURG\",CX4=\"PROMOTIONFINALE\"),AA2,IF(OR(CX4=\"MIXTESD1NORD\",CX4=\"MIXTESD1STRASBOURG\",CX4=\"VETERANSD1STRASBOURG\",CX4=\"VETERANSD2STRASBOURG\",CX4=\"VETERANSD1NORD\",CX4=\"VETERANSD2NORD\",CX4=\"JUNIORS\",CX4=\"CADETS\",CX4=\"MINIMESBENJAMINSPOUSSINS\",CX4=\"MIXTESD1FINALE\",CX4=\"VETERANSD1FINALE\",CX4=\"VETERANSD2FINALE\",CX4=\"JUNIORSFINALE\",CX4=\"CADETSFINALE\",CX4=\"MINIMESBENJAMINSPOUSSINSFINALE\"),AA2,\"\"))","v":""},{"$f":"IF(OR(CX4=\"EXCELLENCE\",CX4=\"HONNEUR\",CX4=\"PROMOTIONNORD\",CX4=\"ADULTESDIVISION1NORD\",CX4=\"PROMOTIONSTRASBOURG\",CX4=\"PROMOTIONFINALE\"),X2,IF(OR(CX4=\"MIXTESD1NORD\",CX4=\"MIXTESD1STRASBOURG\",CX4=\"VETERANSD1STRASBOURG\",CX4=\"VETERANSD2STRASBOURG\",CX4=\"VETERANSD1NORD\",CX4=\"VETERANSD2NORD\",CX4=\"JUNIORS\",CX4=\"CADETS\",CX4=\"MINIMESBENJAMINSPOUSSINS\",CX4=\"MIXTESD1FINALE\",CX4=\"VETERANSD1FINALE\",CX4=\"VETERANSD2FINALE\",CX4=\"JUNIORSFINALE\",CX4=\"CADETSFINALE\",CX4=\"MINIMESBENJAMINSPOUSSINSFINALE\"),X2,\"\"))","v":""},{"$f":"IF(OR(CX4=\"EXCELLENCE\",CX4=\"HONNEUR\",CX4=\"PROMOTIONNORD\",CX4=\"ADULTESDIVISION1NORD\",CX4=\"PROMOTIONSTRASBOURG\",CX4=\"PROMOTIONFINALE\"),Z2,IF(OR(CX4=\"MIXTESD1NORD\",CX4=\"MIXTESD1STRASBOURG\",CX4=\"VETERANSD1STRASBOURG\",CX4=\"VETERANSD2STRASBOURG\",CX4=\"VETERANSD1NORD\",CX4=\"VETERANSD2NORD\",CX4=\"JUNIORS\",CX4=\"CADETS\",CX4=\"MINIMESBENJAMINSPOUSSINS\",CX4=\"MIXTESD1FINALE\",CX4=\"VETERANSD1FINALE\",CX4=\"VETERANSD2FINALE\",CX4=\"JUNIORSFINALE\",CX4=\"CADETSFINALE\",CX4=\"MINIMESBENJAMINSPOUSSINSFINALE\"),Z2,\"\"))","v":""},{"$f":"IF(OR(CX4=\"EXCELLENCE\",CX4=\"HONNEUR\",CX4=\"PROMOTIONNORD\",CX4=\"ADULTESDIVISION1NORD\",CX4=\"PROMOTIONSTRASBOURG\",CX4=\"PROMOTIONFINALE\"),Y1,IF(OR(CX4=\"MIXTESD1NORD\",CX4=\"MIXTESD1STRASBOURG\",CX4=\"VETERANSD1STRASBOURG\",CX4=\"VETERANSD2STRASBOURG\",CX4=\"VETERANSD1NORD\",CX4=\"VETERANSD2NORD\",CX4=\"JUNIORS\",CX4=\"CADETS\",CX4=\"MINIMESBENJAMINSPOUSSINS\",CX4=\"MIXTESD1FINALE\",CX4=\"VETERANSD1FINALE\",CX4=\"VETERANSD2FINALE\",CX4=\"JUNIORSFINALE\",CX4=\"CADETSFINALE\",CX4=\"MINIMESBENJAMINSPOUSSINSFINALE\"),Y1,\"\"))","v":""},{"$f":"IF(OR(CX4=\"EXCELLENCE\",CX4=\"HONNEUR\",CX4=\"PROMOTIONNORD\",CX4=\"ADULTESDIVISION1NORD\",CX4=\"PROMOTIONSTRASBOURG\",CX4=\"PROMOTIONFINALE\"),CX4,IF(OR(CX4=\"MIXTESD1NORD\",CX4=\"MIXTESD1STRASBOURG\",CX4=\"VETERANSD1STRASBOURG\",CX4=\"VETERANSD2STRASBOURG\",CX4=\"VETERANSD1NORD\",CX4=\"VETERANSD2NORD\",CX4=\"JUNIORS\",CX4=\"CADETS\",CX4=\"MINIMESBENJAMINSPOUSSINS\",CX4=\"MIXTESD1FINALE\",CX4=\"VETERANSD1FINALE\",CX4=\"VETERANSD2FINALE\",CX4=\"JUNIORSFINALE\",CX4=\"CADETSFINALE\",CX4=\"MINIMESBENJAMINSPOUSSINSFINALE\"),CX4,\"\"))","v":""},{"$f":"IF(OR(CX4=\"EXCELLENCE\",CX4=\"HONNEUR\",CX4=\"PROMOTIONNORD\",CX4=\"ADULTESDIVISION1NORD\",CX4=\"PROMOTIONSTRASBOURG\",CX4=\"PROMOTIONFINALE\"),CW4,IF(OR(CX4=\"MIXTESD1NORD\",CX4=\"MIXTESD1STRASBOURG\",CX4=\"VETERANSD1STRASBOURG\",CX4=\"VETERANSD2STRASBOURG\",CX4=\"VETERANSD1NORD\",CX4=\"VETERANSD2NORD\",CX4=\"JUNIORS\",CX4=\"CADETS\",CX4=\"MINIMESBENJAMINSPOUSSINS\",CX4=\"MIXTESD1FINALE\",CX4=\"VETERANSD1FINALE\",CX4=\"VETERANSD2FINALE\",CX4=\"JUNIORSFINALE\",CX4=\"CADETSFINALE\",CX4=\"MINIMESBENJAMINSPOUSSINSFINALE\"),CW4,\"\"))","v":""},"VICTOIRE CONTRE",{"$f":"IF(AB23<AC23,\"\",IF(AND(CX4=\"EXCELLENCE\",AB23>AC23),Y23,IF(AND(CX4=\"HONNEUR\",AB23>AC23),Y23,IF(AND(CX4=\"PROMOTIONNORD\",AB23>AC23),Y23,IF(AND(CX4=\"ADULTESDIVISION1NORD\",AB23>AC23),Y23,IF(AND(CX4=\"PROMOTIONSTRASBOURG\",AB23>AC23),Y23,IF(AND(CX4=\"PROMOTIONFINALE\",AB23>AC23),Y23,IF(AND(CX4=\"MIXTESD1NORD\",AB23>AC23),Y23,IF(AND(CX4=\"MIXTESD1STRASBOURG\",AB23>AC23),Y23,IF(AND(CX4=\"VETERANSD1STRASBOURG\",AB23>AC23),Y23,IF(AND(CX4=\"VETERANSD2STRASBOURG\",AB23>AC23),Y23,IF(AND(CX4=\"VETERANSD1NORD\",AB23>AC23),Y23,IF(AND(CX4=\"VETERANSD2NORD\",AB23>AC23),Y23,IF(AND(CX4=\"JUNIORS\",AB23>AC23),Y23,IF(AND(CX4=\"CADETS\",AB23>AC23),Y23,IF(AND(CX4=\"MINIMESBENJAMINSPOUSSINS\",AB23>AC23),Y23,IF(AND(CX4=\"MIXTESD1FINALE\",AB23>AC23),Y23,IF(AND(CX4=\"VETERANSD1FINALE\",AB23>AC23),Y23,IF(AND(CX4=\"VETERANSD2FINALE\",AB23>AC23),Y23,IF(AND(CX4=\"JUNIORSFINALE\",AB23>AC23),Y23,IF(AND(CX4=\"CADETSFINALE\",AB23>AC23),Y23,IF(AND(CX4=\"MINIMESBENJAMINSPOUSSINSFINALE\",AB23>AC23),Y23,\"\"))))))))))))))))))))))","v":""},{"$f":"IF(AB23<AC23,\"\",IF(AND(CX4=\"EXCELLENCE\",AB23>AC23),Z23,IF(AND(CX4=\"HONNEUR\",AB23>AC23),Z23,IF(AND(CX4=\"PROMOTIONNORD\",AB23>AC23),Z23,IF(AND(CX4=\"ADULTESDIVISION1NORD\",AB23>AC23),Z23,IF(AND(CX4=\"PROMOTIONSTRASBOURG\",AB23>AC23),Z23,IF(AND(CX4=\"PROMOTIONFINALE\",AB23>AC23),Z23,IF(AND(CX4=\"MIXTESD1NORD\",AB23>AC23),Z23,IF(AND(CX4=\"MIXTESD1STRASBOURG\",AB23>AC23),Z23,IF(AND(CX4=\"VETERANSD1STRASBOURG\",AB23>AC23),Z23,IF(AND(CX4=\"VETERANSD2STRASBOURG\",AB23>AC23),Z23,IF(AND(CX4=\"VETERANSD1NORD\",AB23>AC23),Z23,IF(AND(CX4=\"VETERANSD2NORD\",AB23>AC23),Z23,IF(AND(CX4=\"JUNIORS\",AB23>AC23),Z23,IF(AND(CX4=\"CADETS\",AB23>AC23),Z23,IF(AND(CX4=\"MINIMESBENJAMINSPOUSSINS\",AB23>AC23),Z23,IF(AND(CX4=\"MIXTESD1FINALE\",AB23>AC23),Z23,IF(AND(CX4=\"VETERANSD1FINALE\",AB23>AC23),Z23,IF(AND(CX4=\"VETERANSD2FINALE\",AB23>AC23),Z23,IF(AND(CX4=\"JUNIORSFINALE\",AB23>AC23),Z23,IF(AND(CX4=\"CADETSFINALE\",AB23>AC23),Z23,IF(AND(CX4=\"MINIMESBENJAMINSPOUSSINSFINALE\",AB23>AC23),Z23,\"\"))))))))))))))))))))))","v":""},{"$f":"IF(AB23<AC23,\"\",IF(AND(CX4=\"EXCELLENCE\",AB23>AC23),AA23,IF(AND(CX4=\"HONNEUR\",AB23>AC23),AA23,IF(AND(CX4=\"PROMOTIONNORD\",AB23>AC23),AA23,IF(AND(CX4=\"ADULTESDIVISION1NORD\",AB23>AC23),AA23,IF(AND(CX4=\"PROMOTIONSTRASBOURG\",AB23>AC23),AA23,IF(AND(CX4=\"PROMOTIONFINALE\",AB23>AC23),AA23,IF(AND(CX4=\"MIXTESD1NORD\",AB23>AC23),AA23,IF(AND(CX4=\"MIXTESD1STRASBOURG\",AB23>AC23),AA23,IF(AND(CX4=\"VETERANSD1STRASBOURG\",AB23>AC23),AA23,IF(AND(CX4=\"VETERANSD2STRASBOURG\",AB23>AC23),AA23,IF(AND(CX4=\"VETERANSD1NORD\",AB23>AC23),AA23,IF(AND(CX4=\"VETERANSD2NORD\",AB23>AC23),AA23,IF(AND(CX4=\"JUNIORS\",AB23>AC23),AA23,IF(AND(CX4=\"CADETS\",AB23>AC23),AA23,IF(AND(CX4=\"MINIMESBENJAMINSPOUSSINS\",AB23>AC23),AA23,IF(AND(CX4=\"MIXTESD1FINALE\",AB23>AC23),AA23,IF(AND(CX4=\"VETERANSD1FINALE\",AB23>AC23),AA23,IF(AND(CX4=\"VETERANSD2FINALE\",AB23>AC23),AA23,IF(AND(CX4=\"JUNIORSFINALE\",AB23>AC23),AA23,IF(AND(CX4=\"CADETSFINALE\",AB23>AC23),AA23,IF(AND(CX4=\"MINIMESBENJAMINSPOUSSINSFINALE\",AB23>AC23),AA23,\"\"))))))))))))))))))))))","v":""},{"$f":"IF(AB23<AC23,\"\",IF(AND(CX4=\"EXCELLENCE\",AB23>AC23),AE1,IF(AND(CX4=\"HONNEUR\",AB23>AC23),AE1,IF(AND(CX4=\"PROMOTIONNORD\",AB23>AC23),AE1,IF(AND(CX4=\"ADULTESDIVISION1NORD\",AB23>AC23),AE1,IF(AND(CX4=\"PROMOTIONSTRASBOURG\",AB23>AC23),AE1,IF(AND(CX4=\"PROMOTIONFINALE\",AB23>AC23),AE1,IF(AND(CX4=\"MIXTESD1NORD\",AB23>AC23),AE1,IF(AND(CX4=\"MIXTESD1STRASBOURG\",AB23>AC23),AE1,IF(AND(CX4=\"VETERANSD1STRASBOURG\",AB23>AC23),AE1,IF(AND(CX4=\"VETERANSD2STRASBOURG\",AB23>AC23),AE1,IF(AND(CX4=\"VETERANSD1NORD\",AB23>AC23),AE1,IF(AND(CX4=\"VETERANSD2NORD\",AB23>AC23),AE1,IF(AND(CX4=\"JUNIORS\",AB23>AC23),AE1,IF(AND(CX4=\"CADETS\",AB23>AC23),AE1,IF(AND(CX4=\"MINIMESBENJAMINSPOUSSINS\",AB23>AC23),AE1,IF(AND(CX4=\"MIXTESD1FINALE\",AB23>AC23),AE1,IF(AND(CX4=\"VETERANSD1FINALE\",AB23>AC23),AE1,IF(AND(CX4=\"VETERANSD2FINALE\",AB23>AC23),AE1,IF(AND(CX4=\"JUNIORSFINALE\",AB23>AC23),AE1,IF(AND(CX4=\"CADETSFINALE\",AB23>AC23),AE1,IF(AND(CX4=\"MINIMESBENJAMINSPOUSSINSFINALE\",AB23>AC23),AE1,\"\"))))))))))))))))))))))","v":""},{"$f":"IF(AB23<AC23,\"\",IF(AND(CX4=\"EXCELLENCE\",AB23>AC23),AD23,IF(AND(CX4=\"HONNEUR\",AB23>AC23),AD23,IF(AND(CX4=\"PROMOTIONNORD\",AB23>AC23),AD23,IF(AND(CX4=\"ADULTESDIVISION1NORD\",AB23>AC23),AD23,IF(AND(CX4=\"PROMOTIONSTRASBOURG\",AB23>AC23),AD23,IF(AND(CX4=\"PROMOTIONFINALE\",AB23>AC23),AD23,IF(AND(CX4=\"MIXTESD1NORD\",AB23>AC23),AD23,IF(AND(CX4=\"MIXTESD1STRASBOURG\",AB23>AC23),AD23,IF(AND(CX4=\"VETERANSD1STRASBOURG\",AB23>AC23),AD23,IF(AND(CX4=\"VETERANSD2STRASBOURG\",AB23>AC23),AD23,IF(AND(CX4=\"VETERANSD1NORD\",AB23>AC23),AD23,IF(AND(CX4=\"VETERANSD2NORD\",AB23>AC23),AD23,IF(AND(CX4=\"JUNIORS\",AB23>AC23),AD23,IF(AND(CX4=\"CADETS\",AB23>AC23),AD23,IF(AND(CX4=\"MINIMESBENJAMINSPOUSSINS\",AB23>AC23),AD23,IF(AND(CX4=\"MIXTESD1FINALE\",AB23>AC23),AD23,IF(AND(CX4=\"VETERANSD1FINALE\",AB23>AC23),AD23,IF(AND(CX4=\"VETERANSD2FINALE\",AB23>AC23),AD23,IF(AND(CX4=\"JUNIORSFINALE\",AB23>AC23),AD23,IF(AND(CX4=\"CADETSFINALE\",AB23>AC23),AD23,IF(AND(CX4=\"MINIMESBENJAMINSPOUSSINSFINALE\",AB23>AC23),AD23,\"\"))))))))))))))))))))))","v":""},{"$f":"IF(AB23<AC23,\"\",IF(AND(CX4=\"EXCELLENCE\",AB23>AC23),AF23,IF(AND(CX4=\"HONNEUR\",AB23>AC23),AF23,IF(AND(CX4=\"PROMOTIONNORD\",AB23>AC23),AF23,IF(AND(CX4=\"ADULTESDIVISION1NORD\",AB23>AC23),AF23,IF(AND(CX4=\"PROMOTIONSTRASBOURG\",AB23>AC23),AF23,IF(AND(CX4=\"PROMOTIONFINALE\",AB23>AC23),AF23,IF(AND(CX4=\"MIXTESD1NORD\",AB23>AC23),AF23,IF(AND(CX4=\"MIXTESD1STRASBOURG\",AB23>AC23),AF23,IF(AND(CX4=\"VETERANSD1STRASBOURG\",AB23>AC23),AF23,IF(AND(CX4=\"VETERANSD2STRASBOURG\",AB23>AC23),AF23,IF(AND(CX4=\"VETERANSD1NORD\",AB23>AC23),AF23,IF(AND(CX4=\"VETERANSD2NORD\",AB23>AC23),AF23,IF(AND(CX4=\"JUNIORS\",AB23>AC23),AF23,IF(AND(CX4=\"CADETS\",AB23>AC23),AF23,IF(AND(CX4=\"MINIMESBENJAMINSPOUSSINS\",AB23>AC23),AF23,IF(AND(CX4=\"MIXTESD1FINALE\",AB23>AC23),AF23,IF(AND(CX4=\"VETERANSD1FINALE\",AB23>AC23),AF23,IF(AND(CX4=\"VETERANSD2FINALE\",AB23>AC23),AF23,IF(AND(CX4=\"JUNIORSFINALE\",AB23>AC23),AF23,IF(AND(CX4=\"CADETSFINALE\",AB23>AC23),AF23,IF(AND(CX4=\"MINIMESBENJAMINSPOUSSINSFINALE\",AB23>AC23),AF23,\"\"))))))))))))))))))))))","v":""},"DEFAITE CONTRE",{"$f":"IF(AB23>AC23,\"\",IF(AND(CX4=\"EXCELLENCE\",AB23<AC23),Y23,IF(AND(CX4=\"HONNEUR\",AB23<AC23),Y23,IF(AND(CX4=\"PROMOTIONNORD\",AB23<AC23),Y23,IF(AND(CX4=\"ADULTESDIVISION1NORD\",AB23<AC23),Y23,IF(AND(CX4=\"PROMOTIONSTRASBOURG\",AB23<AC23),Y23,IF(AND(CX4=\"MIXTESD1NORD\",AB23<AC23),Y23,IF(AND(CX4=\"MIXTESD1STRASBOURG\",AB23<AC23),Y23,IF(AND(CX4=\"VETERANSD1STRASBOURG\",AB23<AC23),Y23,IF(AND(CX4=\"VETERANSD2STRASBOURG\",AB23<AC23),Y23,IF(AND(CX4=\"VETERANSD1NORD\",AB23<AC23),Y23,IF(AND(CX4=\"VETERANSD2NORD\",AB23<AC23),Y23,IF(AND(CX4=\"JUNIORS\",AB23<AC23),Y23,IF(AND(CX4=\"CADETS\",AB23<AC23),Y23,IF(AND(CX4=\"MINIMESBENJAMINSPOUSSINS\",AB23<AC23),Y23,IF(AND(CX4=\"PROMOTIONFINALE\",AB23<AC23),Y23,IF(AND(CX4=\"MIXTESD1FINALE\",AB23<AC23),Y23,IF(AND(CX4=\"VETERANSD1FINALE\",AB23<AC23),Y23,IF(AND(CX4=\"VETERANSD2FINALE\",AB23<AC23),Y23,IF(AND(CX4=\"JUNIORSFINALE\",AB23<AC23),Y23,IF(AND(CX4=\"CADETSFINALE\",AB23<AC23),Y23,IF(AND(CX4=\"MINIMESBENJAMINSPOUSSINSFINALE\",AB23<AC23),Y23,\"\"))))))))))))))))))))))","v":""},{"$f":"IF(AB23>AC23,\"\",IF(AND(CX4=\"EXCELLENCE\",AB23<AC23),Z23,IF(AND(CX4=\"HONNEUR\",AB23<AC23),Z23,IF(AND(CX4=\"PROMOTIONNORD\",AB23<AC23),Z23,IF(AND(CX4=\"ADULTESDIVISION1NORD\",AB23<AC23),Z23,IF(AND(CX4=\"PROMOTIONSTRASBOURG\",AB23<AC23),Z23,IF(AND(CX4=\"MIXTESD1NORD\",AB23<AC23),Z23,IF(AND(CX4=\"MIXTESD1STRASBOURG\",AB23<AC23),Z23,IF(AND(CX4=\"VETERANSD1STRASBOURG\",AB23<AC23),Z23,IF(AND(CX4=\"VETERANSD2STRASBOURG\",AB23<AC23),Z23,IF(AND(CX4=\"VETERANSD1NORD\",AB23<AC23),Z23,IF(AND(CX4=\"VETERANSD2NORD\",AB23<AC23),Z23,IF(AND(CX4=\"JUNIORS\",AB23<AC23),Z23,IF(AND(CX4=\"CADETS\",AB23<AC23),Z23,IF(AND(CX4=\"MINIMESBENJAMINSPOUSSINS\",AB23<AC23),Z23,IF(AND(CX4=\"PROMOTIONFINALE\",AB23<AC23),Z23,IF(AND(CX4=\"MIXTESD1FINALE\",AB23<AC23),Z23,IF(AND(CX4=\"VETERANSD1FINALE\",AB23<AC23),Z23,IF(AND(CX4=\"VETERANSD2FINALE\",AB23<AC23),Z23,IF(AND(CX4=\"JUNIORSFINALE\",AB23<AC23),Z23,IF(AND(CX4=\"CADETSFINALE\",AB23<AC23),Z23,IF(AND(CX4=\"MINIMESBENJAMINSPOUSSINSFINALE\",AB23<AC23),Z23,\"\"))))))))))))))))))))))","v":""},{"$f":"IF(AB23>AC23,\"\",IF(AND(CX4=\"EXCELLENCE\",AB23<AC23),AA23,IF(AND(CX4=\"HONNEUR\",AB23<AC23),AA23,IF(AND(CX4=\"PROMOTIONNORD\",AB23<AC23),AA23,IF(AND(CX4=\"ADULTESDIVISION1NORD\",AB23<AC23),AA23,IF(AND(CX4=\"PROMOTIONSTRASBOURG\",AB23<AC23),AA23,IF(AND(CX4=\"MIXTESD1NORD\",AB23<AC23),AA23,IF(AND(CX4=\"MIXTESD1STRASBOURG\",AB23<AC23),AA23,IF(AND(CX4=\"VETERANSD1STRASBOURG\",AB23<AC23),AA23,IF(AND(CX4=\"VETERANSD2STRASBOURG\",AB23<AC23),AA23,IF(AND(CX4=\"VETERANSD1NORD\",AB23<AC23),AA23,IF(AND(CX4=\"VETERANSD2NORD\",AB23<AC23),AA23,IF(AND(CX4=\"JUNIORS\",AB23<AC23),AA23,IF(AND(CX4=\"CADETS\",AB23<AC23),AA23,IF(AND(CX4=\"MINIMESBENJAMINSPOUSSINS\",AB23<AC23),AA23,IF(AND(CX4=\"PROMOTIONFINALE\",AB23<AC23),AA23,IF(AND(CX4=\"MIXTESD1FINALE\",AB23<AC23),AA23,IF(AND(CX4=\"VETERANSD1FINALE\",AB23<AC23),AA23,IF(AND(CX4=\"VETERANSD2FINALE\",AB23<AC23),AA23,IF(AND(CX4=\"JUNIORSFINALE\",AB23<AC23),AA23,IF(AND(CX4=\"CADETSFINALE\",AB23<AC23),AA23,IF(AND(CX4=\"MINIMESBENJAMINSPOUSSINSFINALE\",AB23<AC23),AA23,\"\"))))))))))))))))))))))","v":""},{"$f":"IF(AB23>AC23,\"\",IF(AND(CX4=\"EXCELLENCE\",AB23<AC23),AE1,IF(AND(CX4=\"HONNEUR\",AB23<AC23),AE1,IF(AND(CX4=\"PROMOTIONNORD\",AB23<AC23),AE1,IF(AND(CX4=\"ADULTESDIVISION1NORD\",AB23<AC23),AE1,IF(AND(CX4=\"PROMOTIONSTRASBOURG\",AB23<AC23),AE1,IF(AND(CX4=\"MIXTESD1NORD\",AB23<AC23),AE1,IF(AND(CX4=\"MIXTESD1STRASBOURG\",AB23<AC23),AE1,IF(AND(CX4=\"VETERANSD1STRASBOURG\",AB23<AC23),AE1,IF(AND(CX4=\"VETERANSD2STRASBOURG\",AB23<AC23),AE1,IF(AND(CX4=\"VETERANSD1NORD\",AB23<AC23),AE1,IF(AND(CX4=\"VETERANSD2NORD\",AB23<AC23),AE1,IF(AND(CX4=\"JUNIORS\",AB23<AC23),AE1,IF(AND(CX4=\"CADETS\",AB23<AC23),AE1,IF(AND(CX4=\"MINIMESBENJAMINSPOUSSINS\",AB23<AC23),AE1,IF(AND(CX4=\"PROMOTIONFINALE\",AB23<AC23),AE1,IF(AND(CX4=\"MIXTESD1FINALE\",AB23<AC23),AE1,IF(AND(CX4=\"VETERANSD1FINALE\",AB23<AC23),AE1,IF(AND(CX4=\"VETERANSD2FINALE\",AB23<AC23),AE1,IF(AND(CX4=\"JUNIORSFINALE\",AB23<AC23),AE1,IF(AND(CX4=\"CADETSFINALE\",AB23<AC23),AE1,IF(AND(CX4=\"MINIMESBENJAMINSPOUSSINSFINALE\",AB23<AC23),AE1,\"\"))))))))))))))))))))))","v":""},{"$f":"IF(AB23>AC23,\"\",IF(AND(CX4=\"EXCELLENCE\",AB23<AC23),AE23,IF(AND(CX4=\"HONNEUR\",AB23<AC23),AE23,IF(AND(CX4=\"PROMOTIONNORD\",AB23<AC23),AE23,IF(AND(CX4=\"ADULTESDIVISION1NORD\",AB23<AC23),AE23,IF(AND(CX4=\"PROMOTIONSTRASBOURG\",AB23<AC23),AE23,IF(AND(CX4=\"MIXTESD1NORD\",AB23<AC23),AE23,IF(AND(CX4=\"MIXTESD1STRASBOURG\",AB23<AC23),AE23,IF(AND(CX4=\"VETERANSD1STRASBOURG\",AB23<AC23),AE23,IF(AND(CX4=\"VETERANSD2STRASBOURG\",AB23<AC23),AE23,IF(AND(CX4=\"VETERANSD1NORD\",AB23<AC23),AE23,IF(AND(CX4=\"VETERANSD2NORD\",AB23<AC23),AE23,IF(AND(CX4=\"JUNIORS\",AB23<AC23),AE23,IF(AND(CX4=\"CADETS\",AB23<AC23),AE23,IF(AND(CX4=\"MINIMESBENJAMINSPOUSSINS\",AB23<AC23),AE23,IF(AND(CX4=\"PROMOTIONFINALE\",AB23<AC23),AE23,IF(AND(CX4=\"MIXTESD1FINALE\",AB23<AC23),AE23,IF(AND(CX4=\"VETERANSD1FINALE\",AB23<AC23),AE23,IF(AND(CX4=\"VETERANSD2FINALE\",AB23<AC23),AE23,IF(AND(CX4=\"JUNIORSFINALE\",AB23<AC23),AE23,IF(AND(CX4=\"CADETSFINALE\",AB23<AC23),AE23,IF(AND(CX4=\"MINIMESBENJAMINSPOUSSINSFINALE\",AB23<AC23),AE23,\"\"))))))))))))))))))))))","v":""},{"$f":"IF(AB23>AC23,\"\",IF(AND(CX4=\"EXCELLENCE\",AB23<AC23),AG23,IF(AND(CX4=\"HONNEUR\",AB23<AC23),AG23,IF(AND(CX4=\"PROMOTIONNORD\",AB23<AC23),AG23,IF(AND(CX4=\"ADULTESDIVISION1NORD\",AB23<AC23),AG23,IF(AND(CX4=\"PROMOTIONSTRASBOURG\",AB23<AC23),AG23,IF(AND(CX4=\"MIXTESD1NORD\",AB23<AC23),AG23,IF(AND(CX4=\"MIXTESD1STRASBOURG\",AB23<AC23),AG23,IF(AND(CX4=\"VETERANSD1STRASBOURG\",AB23<AC23),AG23,IF(AND(CX4=\"VETERANSD2STRASBOURG\",AB23<AC23),AG23,IF(AND(CX4=\"VETERANSD1NORD\",AB23<AC23),AG23,IF(AND(CX4=\"VETERANSD2NORD\",AB23<AC23),AG23,IF(AND(CX4=\"JUNIORS\",AB23<AC23),AG23,IF(AND(CX4=\"CADETS\",AB23<AC23),AG23,IF(AND(CX4=\"MINIMESBENJAMINSPOUSSINS\",AB23<AC23),AG23,IF(AND(CX4=\"PROMOTIONFINALE\",AB23<AC23),AG23,IF(AND(CX4=\"MIXTESD1FINALE\",AB23<AC23),AG23,IF(AND(CX4=\"VETERANSD1FINALE\",AB23<AC23),AG23,IF(AND(CX4=\"VETERANSD2FINALE\",AB23<AC23),AG23,IF(AND(CX4=\"JUNIORSFINALE\",AB23<AC23),AG23,IF(AND(CX4=\"CADETSFINALE\",AB23<AC23),AG23,IF(AND(CX4=\"MINIMESBENJAMINSPOUSSINSFINALE\",AB23<AC23),AG23,\"\"))))))))))))))))))))))","v":""},2]
[{"$f":"calcules!$U$6","v":"0"},{"$f":"calcules!$V$6","v":"0"},{"$f":"IF($A$9>$B$9,1,0)","v":0},{"$f":"IF($A$9<$B$9,1,0)","v":0},null,null,null,null,null,null,null,null,{"$f":"calcules!$AC$6","v":"0"},{"$f":"calcules!$AD$6","v":"0"},{"$f":"IF($M$9>$N$9,1,0)","v":0},{"$f":"IF($M$9<$N$9,1,0)","v":0},null,null,null,null,null,null,null,{"$f":"calcules!$AG$6","v":"0"},{"$f":"calcules!$AH$6","v":"0"},{"$f":"IF($X$9>$Y$9,1,0)","v":0},{"$f":"IF($X$9<$Y$9,1,0)","v":0},null,null,null,null,null,null,null,{"$f":"calcules!$AK$6","v":"0"},{"$f":"calcules!$AL$6","v":"0"},{"$f":"IF($AI$9>$AJ$9,1,0)","v":0},{"$f":"IF($AI$9<$AJ$9,1,0)","v":0},null,null,null,null,null,null,null,null,null,null,null,null,null,null,null,null,null,null,{"$f":"calcules!$AS$6","v":"0"},{"$f":"calcules!$AT$6","v":"0"},{"$f":"IF($BE$9>$BF$9,1,0)","v":0},{"$f":"IF($BE$9<$BF$9,1,0)","v":0},null,null,null,null,null,null,null,{"$f":"calcules!$AW$6","v":"0"},{"$f":"calcules!$AX$6","v":"0"},{"$f":"IF($BP$9>$BQ$9,1,0)","v":0},{"$f":"IF($BP$9<$BQ$9,1,0)","v":0},null,null,null,null,null,null,null,{"$f":"calcules!$BA$6","v":"0"},{"$f":"calcules!$BB$6","v":"0"},{"$f":"IF($CA$9>$CB$9,1,0)","v":0},{"$f":"IF($CA$9<$CB$9,1,0)","v":0},null,null,null,null,null,null,null,null,null,null,null,null,null,null,null,null,null,null,null,null,null,null,null,null,null,null,null,null,null,null,null,null,null,null,null,null,null,null,null,null,null,null,null,null,null,null,null,null,null,null,null,null,null,null,null,null,null,null,null,null,null,null,null,null,null,null,null,null,null,null,null,null,null,null,null,null,null,null,null,null,{"$f":"IF(CD$2=\"\",\"-\",CD$2)","v":"-"},{"$f":"CA$2","v":""},"",{"$f":"CI1","v":""},{"$f":"CB$1","v":""},0,{"$f":"CE4","v":0},{"$f":"CF4","v":0},0,{"$f":"CC4","v":0},{"$f":"CD4","v":0},0,{"$f":"CA4","v":0},{"$f":"CB4","v":0},0,{"$f":"CC2","v":""},{"$f":"IF(OR(CX4=\"EXCELLENCE\",CX4=\"HONNEUR\",CX4=\"PROMOTIONNORD\",CX4=\"ADULTESDIVISION1NORD\",CX4=\"PROMOTIONSTRASBOURG\",CX4=\"PROMOTIONFINALE\"),AA2,IF(OR(CX4=\"MIXTESD1NORD\",CX4=\"MIXTESD1STRASBOURG\",CX4=\"VETERANSD1STRASBOURG\",CX4=\"VETERANSD2STRASBOURG\",CX4=\"VETERANSD1NORD\",CX4=\"VETERANSD2NORD\",CX4=\"JUNIORS\",CX4=\"CADETS\",CX4=\"MINIMESBENJAMINSPOUSSINS\",CX4=\"MIXTESD1FINALE\",CX4=\"VETERANSD1FINALE\",CX4=\"VETERANSD2FINALE\",CX4=\"JUNIORSFINALE\",CX4=\"CADETSFINALE\",CX4=\"MINIMESBENJAMINSPOUSSINSFINALE\"),\"-\",\"\"))","v":""},{"$f":"IF(OR(CX4=\"EXCELLENCE\",CX4=\"HONNEUR\",CX4=\"PROMOTIONNORD\",CX4=\"ADULTESDIVISION1NORD\",CX4=\"PROMOTIONSTRASBOURG\",CX4=\"PROMOTIONFINALE\"),X2,IF(OR(CX4=\"MIXTESD1NORD\",CX4=\"MIXTESD1STRASBOURG\",CX4=\"VETERANSD1STRASBOURG\",CX4=\"VETERANSD2STRASBOURG\",CX4=\"VETERANSD1NORD\",CX4=\"VETERANSD2NORD\",CX4=\"JUNIORS\",CX4=\"CADETS\",CX4=\"MINIMESBENJAMINSPOUSSINS\",CX4=\"MIXTESD1FINALE\",CX4=\"VETERANSD1FINALE\",CX4=\"VETERANSD2FINALE\",CX4=\"JUNIORSFINALE\",CX4=\"CADETSFINALE\",CX4=\"MINIMESBENJAMINSPOUSSINSFINALE\"),\"\",\"\"))","v":""},{"$f":"IF(OR(CX4=\"EXCELLENCE\",CX4=\"HONNEUR\",CX4=\"PROMOTIONNORD\",CX4=\"ADULTESDIVISION1NORD\",CX4=\"PROMOTIONSTRASBOURG\",CX4=\"PROMOTIONFINALE\"),Z2,IF(OR(CX4=\"MIXTESD1NORD\",CX4=\"MIXTESD1STRASBOURG\",CX4=\"VETERANSD1STRASBOURG\",CX4=\"VETERANSD2STRASBOURG\",CX4=\"VETERANSD1NORD\",CX4=\"VETERANSD2NORD\",CX4=\"JUNIORS\",CX4=\"CADETS\",CX4=\"MINIMESBENJAMINSPOUSSINS\",CX4=\"MIXTESD1FINALE\",CX4=\"VETERANSD1FINALE\",CX4=\"VETERANSD2FINALE\",CX4=\"JUNIORSFINALE\",CX4=\"CADETSFINALE\",CX4=\"MINIMESBENJAMINSPOUSSINSFINALE\"),\"\",\"\"))","v":""},{"$f":"IF(OR(CX4=\"EXCELLENCE\",CX4=\"HONNEUR\",CX4=\"PROMOTIONNORD\",CX4=\"ADULTESDIVISION1NORD\",CX4=\"PROMOTIONSTRASBOURG\",CX4=\"PROMOTIONFINALE\"),Y1,IF(OR(CX4=\"MIXTESD1NORD\",CX4=\"MIXTESD1STRASBOURG\",CX4=\"VETERANSD1STRASBOURG\",CX4=\"VETERANSD2STRASBOURG\",CX4=\"VETERANSD1NORD\",CX4=\"VETERANSD2NORD\",CX4=\"JUNIORS\",CX4=\"CADETS\",CX4=\"MINIMESBENJAMINSPOUSSINS\",CX4=\"MIXTESD1FINALE\",CX4=\"VETERANSD1FINALE\",CX4=\"VETERANSD2FINALE\",CX4=\"JUNIORSFINALE\",CX4=\"CADETSFINALE\",CX4=\"MINIMESBENJAMINSPOUSSINSFINALE\"),\"\",\"\"))","v":""},{"$f":"IF(OR(CX4=\"EXCELLENCE\",CX4=\"HONNEUR\",CX4=\"PROMOTIONNORD\",CX4=\"ADULTESDIVISION1NORD\",CX4=\"PROMOTIONSTRASBOURG\",CX4=\"PROMOTIONFINALE\"),CX4,IF(OR(CX4=\"MIXTESD1NORD\",CX4=\"MIXTESD1STRASBOURG\",CX4=\"VETERANSD1STRASBOURG\",CX4=\"VETERANSD2STRASBOURG\",CX4=\"VETERANSD1NORD\",CX4=\"VETERANSD2NORD\",CX4=\"JUNIORS\",CX4=\"CADETS\",CX4=\"MINIMESBENJAMINSPOUSSINS\",CX4=\"MIXTESD1FINALE\",CX4=\"VETERANSD1FINALE\",CX4=\"VETERANSD2FINALE\",CX4=\"JUNIORSFINALE\",CX4=\"CADETSFINALE\",CX4=\"MINIMESBENJAMINSPOUSSINSFINALE\"),\"\",\"\"))","v":""},{"$f":"IF(OR(CX4=\"EXCELLENCE\",CX4=\"HONNEUR\",CX4=\"PROMOTIONNORD\",CX4=\"ADULTESDIVISION1NORD\",CX4=\"PROMOTIONSTRASBOURG\",CX4=\"PROMOTIONFINALE\"),CW4,IF(OR(CX4=\"MIXTESD1NORD\",CX4=\"MIXTESD1STRASBOURG\",CX4=\"VETERANSD1STRASBOURG\",CX4=\"VETERANSD2STRASBOURG\",CX4=\"VETERANSD1NORD\",CX4=\"VETERANSD2NORD\",CX4=\"JUNIORS\",CX4=\"CADETS\",CX4=\"MINIMESBENJAMINSPOUSSINS\",CX4=\"MIXTESD1FINALE\",CX4=\"VETERANSD1FINALE\",CX4=\"VETERANSD2FINALE\",CX4=\"JUNIORSFINALE\",CX4=\"CADETSFINALE\",CX4=\"MINIMESBENJAMINSPOUSSINSFINALE\"),\"\",\"\"))","v":""},"VICTOIRE CONTRE",{"$f":"IF(AB41<AC41,\"\",IF(AND(CX4=\"EXCELLENCE\",AB41>AC41),Y41,IF(AND(CX4=\"HONNEUR\",AB41>AC41),Y41,IF(AND(CX4=\"PROMOTIONNORD\",AB41>AC41),Y41,IF(AND(CX4=\"ADULTESDIVISION1NORD\",AB41>AC41),Y41,IF(AND(CX4=\"PROMOTIONSTRASBOURG\",AB41>AC41),Y41,IF(AND(CX4=\"PROMOTIONFINALE\",AB41>AC41),Y41,IF(OR(CX4=\"MIXTESD1NORD\",CX4=\"MIXTESD1STRASBOURG\",CX4=\"VETERANSD1STRASBOURG\",CX4=\"VETERANSD2STRASBOURG\",CX4=\"VETERANSD1NORD\",CX4=\"VETERANSD2NORD\",CX4=\"JUNIORS\",CX4=\"CADETS\",CX4=\"MINIMESBENJAMINSPOUSSINS\",CX4=\"MIXTESD1FINALE\",CX4=\"VETERANSD1FINALE\",CX4=\"VETERANSD2FINALE\",CX4=\"JUNIORSFINALE\",CX4=\"CADETSFINALE\",CX4=\"MINIMESBENJAMINSPOUSSINSFINALE\"),\"\",\"\"))))))))","v":""},{"$f":"IF(AB41<AC41,\"\",IF(AND(CX4=\"EXCELLENCE\",AB41>AC41),Z41,IF(AND(CX4=\"HONNEUR\",AB41>AC41),Z41,IF(AND(CX4=\"PROMOTIONNORD\",AB41>AC41),Z41,IF(AND(CX4=\"ADULTESDIVISION1NORD\",AB41>AC41),Z41,IF(AND(CX4=\"PROMOTIONSTRASBOURG\",AB41>AC41),Z41,IF(AND(CX4=\"PROMOTIONFINALE\",AB41>AC41),Z41,IF(OR(CX4=\"MIXTESD1NORD\",CX4=\"MIXTESD1STRASBOURG\",CX4=\"VETERANSD1STRASBOURG\",CX4=\"VETERANSD2STRASBOURG\",CX4=\"VETERANSD1NORD\",CX4=\"VETERANSD2NORD\",CX4=\"JUNIORS\",CX4=\"CADETS\",CX4=\"MINIMESBENJAMINSPOUSSINS\",CX4=\"MIXTESD1FINALE\",CX4=\"VETERANSD1FINALE\",CX4=\"VETERANSD2FINALE\",CX4=\"JUNIORSFINALE\",CX4=\"CADETSFINALE\",CX4=\"MINIMESBENJAMINSPOUSSINSFINALE\"),\"\",\"\"))))))))","v":""},{"$f":"IF(AB41<AC41,\"\",IF(AND(CX4=\"EXCELLENCE\",AB41>AC41),AA41,IF(AND(CX4=\"HONNEUR\",AB41>AC41),AA41,IF(AND(CX4=\"PROMOTIONNORD\",AB41>AC41),AA41,IF(AND(CX4=\"ADULTESDIVISION1NORD\",AB41>AC41),AA41,IF(AND(CX4=\"PROMOTIONSTRASBOURG\",AB41>AC41),AA41,IF(AND(CX4=\"PROMOTIONFINALE\",AB41>AC41),AA41,IF(OR(CX4=\"MIXTESD1NORD\",CX4=\"MIXTESD1STRASBOURG\",CX4=\"VETERANSD1STRASBOURG\",CX4=\"VETERANSD2STRASBOURG\",CX4=\"VETERANSD1NORD\",CX4=\"VETERANSD2NORD\",CX4=\"JUNIORS\",CX4=\"CADETS\",CX4=\"MINIMESBENJAMINSPOUSSINS\",CX4=\"MIXTESD1FINALE\",CX4=\"VETERANSD1FINALE\",CX4=\"VETERANSD2FINALE\",CX4=\"JUNIORSFINALE\",CX4=\"CADETSFINALE\",CX4=\"MINIMESBENJAMINSPOUSSINSFINALE\"),\"\",\"\"))))))))","v":""},{"$f":"IF(AB41<AC41,\"\",IF(AND(CX4=\"EXCELLENCE\",AB41>AC41),AE1,IF(AND(CX4=\"HONNEUR\",AB41>AC41),AE1,IF(AND(CX4=\"PROMOTIONNORD\",AB41>AC41),AE1,IF(AND(CX4=\"ADULTESDIVISION1NORD\",AB41>AC41),AE1,IF(AND(CX4=\"PROMOTIONSTRASBOURG\",AB41>AC41),AE1,IF(AND(CX4=\"PROMOTIONFINALE\",AB41>AC41),AE1,IF(OR(CX4=\"MIXTESD1NORD\",CX4=\"MIXTESD1STRASBOURG\",CX4=\"VETERANSD1STRASBOURG\",CX4=\"VETERANSD2STRASBOURG\",CX4=\"VETERANSD1NORD\",CX4=\"VETERANSD2NORD\",CX4=\"JUNIORS\",CX4=\"CADETS\",CX4=\"MINIMESBENJAMINSPOUSSINS\",CX4=\"MIXTESD1FINALE\",CX4=\"VETERANSD1FINALE\",CX4=\"VETERANSD2FINALE\",CX4=\"JUNIORSFINALE\",CX4=\"CADETSFINALE\",CX4=\"MINIMESBENJAMINSPOUSSINSFINALE\"),\"\",\"\"))))))))","v":""},{"$f":"IF(AB41<AC41,\"\",IF(AND(CX4=\"EXCELLENCE\",AB41>AC41),AD41,IF(AND(CX4=\"HONNEUR\",AB41>AC41),AD41,IF(AND(CX4=\"PROMOTIONNORD\",AB41>AC41),AD41,IF(AND(CX4=\"ADULTESDIVISION1NORD\",AB41>AC41),AD41,IF(AND(CX4=\"PROMOTIONSTRASBOURG\",AB41>AC41),AD41,IF(AND(CX4=\"PROMOTIONFINALE\",AB41>AC41),AD41,IF(OR(CX4=\"MIXTESD1NORD\",CX4=\"MIXTESD1STRASBOURG\",CX4=\"VETERANSD1STRASBOURG\",CX4=\"VETERANSD2STRASBOURG\",CX4=\"VETERANSD1NORD\",CX4=\"VETERANSD2NORD\",CX4=\"JUNIORS\",CX4=\"CADETS\",CX4=\"MINIMESBENJAMINSPOUSSINS\",CX4=\"MIXTESD1FINALE\",CX4=\"VETERANSD1FINALE\",CX4=\"VETERANSD2FINALE\",CX4=\"JUNIORSFINALE\",CX4=\"CADETSFINALE\",CX4=\"MINIMESBENJAMINSPOUSSINSFINALE\"),\"\",\"\"))))))))","v":""},{"$f":"IF(AB41<AC41,\"\",IF(AND(CX4=\"EXCELLENCE\",AB41>AC41),AF41,IF(AND(CX4=\"HONNEUR\",AB41>AC41),AF41,IF(AND(CX4=\"PROMOTIONNORD\",AB41>AC41),AF41,IF(AND(CX4=\"ADULTESDIVISION1NORD\",AB41>AC41),AF41,IF(AND(CX4=\"PROMOTIONSTRASBOURG\",AB41>AC41),AF41,IF(AND(CX4=\"PROMOTIONFINALE\",AB41>AC41),AF41,IF(OR(CX4=\"MIXTESD1NORD\",CX4=\"MIXTESD1STRASBOURG\",CX4=\"VETERANSD1STRASBOURG\",CX4=\"VETERANSD2STRASBOURG\",CX4=\"VETERANSD1NORD\",CX4=\"VETERANSD2NORD\",CX4=\"JUNIORS\",CX4=\"CADETS\",CX4=\"MINIMESBENJAMINSPOUSSINS\",CX4=\"MIXTESD1FINALE\",CX4=\"VETERANSD1FINALE\",CX4=\"VETERANSD2FINALE\",CX4=\"JUNIORSFINALE\",CX4=\"CADETSFINALE\",CX4=\"MINIMESBENJAMINSPOUSSINSFINALE\"),\"\",\"\"))))))))","v":""},"DEFAITE CONTRE",{"$f":"IF(AB41>AC41,\"\",IF(AND(CX4=\"EXCELLENCE\",AB41<AC41),Y41,IF(AND(CX4=\"HONNEUR\",AB41<AC41),Y41,IF(AND(CX4=\"PROMOTIONNORD\",AB41<AC41),Y41,IF(AND(CX4=\"ADULTESDIVISION1NORD\",AB41<AC41),Y41,IF(AND(CX4=\"PROMOTIONSTRASBOURG\",AB41<AC41),Y41,IF(AND(CX4=\"PROMOTIONFINALE\",AB41<AC41),Y41,IF(OR(CX4=\"MIXTESD1NORD\",CX4=\"MIXTESD1STRASBOURG\",CX4=\"VETERANSD1STRASBOURG\",CX4=\"VETERANSD2STRASBOURG\",CX4=\"VETERANSD1NORD\",CX4=\"VETERANSD2NORD\",CX4=\"JUNIORS\",CX4=\"CADETS\",CX4=\"MINIMESBENJAMINSPOUSSINS\",CX4=\"MIXTESD1FINALE\",CX4=\"VETERANSD1FINALE\",CX4=\"VETERANSD2FINALE\",CX4=\"JUNIORSFINALE\",CX4=\"CADETSFINALE\",CX4=\"MINIMESBENJAMINSPOUSSINSFINALE\"),\"\",\"\"))))))))","v":""},{"$f":"IF(AB41>AC41,\"\",IF(AND(CX4=\"EXCELLENCE\",AB41<AC41),Z41,IF(AND(CX4=\"HONNEUR\",AB41<AC41),Z41,IF(AND(CX4=\"PROMOTIONNORD\",AB41<AC41),Z41,IF(AND(CX4=\"ADULTESDIVISION1NORD\",AB41<AC41),Z41,IF(AND(CX4=\"PROMOTIONSTRASBOURG\",AB41<AC41),Z41,IF(AND(CX4=\"PROMOTIONFINALE\",AB41<AC41),Z41,IF(OR(CX4=\"MIXTESD1NORD\",CX4=\"MIXTESD1STRASBOURG\",CX4=\"VETERANSD1STRASBOURG\",CX4=\"VETERANSD2STRASBOURG\",CX4=\"VETERANSD1NORD\",CX4=\"VETERANSD2NORD\",CX4=\"JUNIORS\",CX4=\"CADETS\",CX4=\"MINIMESBENJAMINSPOUSSINS\",CX4=\"MIXTESD1FINALE\",CX4=\"VETERANSD1FINALE\",CX4=\"VETERANSD2FINALE\",CX4=\"JUNIORSFINALE\",CX4=\"CADETSFINALE\",CX4=\"MINIMESBENJAMINSPOUSSINSFINALE\"),\"\",\"\"))))))))","v":""},{"$f":"IF(AB41>AC41,\"\",IF(AND(CX4=\"EXCELLENCE\",AB41<AC41),AA41,IF(AND(CX4=\"HONNEUR\",AB41<AC41),AA41,IF(AND(CX4=\"PROMOTIONNORD\",AB41<AC41),AA41,IF(AND(CX4=\"ADULTESDIVISION1NORD\",AB41<AC41),AA41,IF(AND(CX4=\"PROMOTIONSTRASBOURG\",AB41<AC41),AA41,IF(AND(CX4=\"PROMOTIONFINALE\",AB41<AC41),AA41,IF(OR(CX4=\"MIXTESD1NORD\",CX4=\"MIXTESD1STRASBOURG\",CX4=\"VETERANSD1STRASBOURG\",CX4=\"VETERANSD2STRASBOURG\",CX4=\"VETERANSD1NORD\",CX4=\"VETERANSD2NORD\",CX4=\"JUNIORS\",CX4=\"CADETS\",CX4=\"MINIMESBENJAMINSPOUSSINS\",CX4=\"MIXTESD1FINALE\",CX4=\"VETERANSD1FINALE\",CX4=\"VETERANSD2FINALE\",CX4=\"JUNIORSFINALE\",CX4=\"CADETSFINALE\",CX4=\"MINIMESBENJAMINSPOUSSINSFINALE\"),\"\",\"\"))))))))","v":""},{"$f":"IF(AB41>AC41,\"\",IF(AND(CX4=\"EXCELLENCE\",AB41<AC41),AE1,IF(AND(CX4=\"HONNEUR\",AB41<AC41),AE1,IF(AND(CX4=\"PROMOTIONNORD\",AB41<AC41),AE1,IF(AND(CX4=\"ADULTESDIVISION1NORD\",AB41<AC41),AE1,IF(AND(CX4=\"PROMOTIONSTRASBOURG\",AB41<AC41),AE1,IF(AND(CX4=\"PROMOTIONFINALE\",AB41<AC41),AE1,IF(OR(CX4=\"MIXTESD1NORD\",CX4=\"MIXTESD1STRASBOURG\",CX4=\"VETERANSD1STRASBOURG\",CX4=\"VETERANSD2STRASBOURG\",CX4=\"VETERANSD1NORD\",CX4=\"VETERANSD2NORD\",CX4=\"JUNIORS\",CX4=\"CADETS\",CX4=\"MINIMESBENJAMINSPOUSSINS\",CX4=\"MIXTESD1FINALE\",CX4=\"VETERANSD1FINALE\",CX4=\"VETERANSD2FINALE\",CX4=\"JUNIORSFINALE\",CX4=\"CADETSFINALE\",CX4=\"MINIMESBENJAMINSPOUSSINSFINALE\"),\"\",\"\"))))))))","v":""},{"$f":"IF(AB41>AC41,\"\",IF(AND(CX4=\"EXCELLENCE\",AB41<AC41),AE41,IF(AND(CX4=\"HONNEUR\",AB41<AC41),AE41,IF(AND(CX4=\"PROMOTIONNORD\",AB41<AC41),AE41,IF(AND(CX4=\"ADULTESDIVISION1NORD\",AB41<AC41),AE41,IF(AND(CX4=\"PROMOTIONSTRASBOURG\",AB41<AC41),AE41,IF(AND(CX4=\"PROMOTIONFINALE\",AB41<AC41),AE41,IF(OR(CX4=\"MIXTESD1NORD\",CX4=\"MIXTESD1STRASBOURG\",CX4=\"VETERANSD1STRASBOURG\",CX4=\"VETERANSD2STRASBOURG\",CX4=\"VETERANSD1NORD\",CX4=\"VETERANSD2NORD\",CX4=\"JUNIORS\",CX4=\"CADETS\",CX4=\"MINIMESBENJAMINSPOUSSINS\",CX4=\"MIXTESD1FINALE\",CX4=\"VETERANSD1FINALE\",CX4=\"VETERANSD2FINALE\",CX4=\"JUNIORSFINALE\",CX4=\"CADETSFINALE\",CX4=\"MINIMESBENJAMINSPOUSSINSFINALE\"),\"\",\"\"))))))))","v":""},{"$f":"IF(AB41>AC41,\"\",IF(AND(CX4=\"EXCELLENCE\",AB41<AC41),AG41,IF(AND(CX4=\"HONNEUR\",AB41<AC41),AG41,IF(AND(CX4=\"PROMOTIONNORD\",AB41<AC41),AG41,IF(AND(CX4=\"ADULTESDIVISION1NORD\",AB41<AC41),AG41,IF(AND(CX4=\"PROMOTIONSTRASBOURG\",AB41<AC41),AG41,IF(AND(CX4=\"PROMOTIONFINALE\",AB41<AC41),AG41,IF(OR(CX4=\"MIXTESD1NORD\",CX4=\"MIXTESD1STRASBOURG\",CX4=\"VETERANSD1STRASBOURG\",CX4=\"VETERANSD2STRASBOURG\",CX4=\"VETERANSD1NORD\",CX4=\"VETERANSD2NORD\",CX4=\"JUNIORS\",CX4=\"CADETS\",CX4=\"MINIMESBENJAMINSPOUSSINS\",CX4=\"MIXTESD1FINALE\",CX4=\"VETERANSD1FINALE\",CX4=\"VETERANSD2FINALE\",CX4=\"JUNIORSFINALE\",CX4=\"CADETSFINALE\",CX4=\"MINIMESBENJAMINSPOUSSINSFINALE\"),\"\",\"\"))))))))","v":""},3]
["Manche 3",null,"Manche 3",null,null,null,null,null,null,null,null,null,"Manche 3",null,"Manche 3",null,null,null,null,null,null,null,null,"Manche 3",null,"Manche 3",null,null,null,null,null,null,null,null,"Manche 3",null,"Manche 3",null,null,null,null,null,null,null,null,null,null,null,null,null,null,null,null,null,null,null,"Manche 3",null,"Manche 3",null,null,null,null,null,null,null,null,"Manche 3",null,"Manche 3",null,null,null,null,null,null,null,null,"Manche 3",null,"Manche 3",null,null,null,null,null,null,null,null,null,null,null,null,null,null,null,null,null,null,null,null,null,null,null,null,null,null,null,null,null,null,null,null,null,null,null,null,null,null,null,null,null,null,null,null,null,null,null,null,null,null,null,null,null,null,null,null,null,null,null,null,null,null,null,null,null,null,null,null,null,null,null,null,null,null,null,null,null,null,null,null,null,null,null,null,null,null,null,null,null,null,null,null,null,null,null,null,null,{"$f":"IF(CX4=\"EXCELLENCE\",AL2,IF(OR(CX4=\"HONNEUR\",CX4=\"PROMOTIONNORD\",CX4=\"ADULTESDIVISION1NORD\",CX4=\"PROMOTIONSTRASBOURG\",CX4=\"PROMOTIONFINALE\"),AL2,IF(OR(CX4=\"MIXTESD1NORD\",CX4=\"MIXTESD1STRASBOURG\",CX4=\"VETERANSD1STRASBOURG\",CX4=\"VETERANSD2STRASBOURG\",CX4=\"VETERANSD1NORD\",CX4=\"VETERANSD2NORD\",CX4=\"JUNIORS\",CX4=\"CADETS\",CX4=\"MINIMESBENJAMINSPOUSSINS\",CX4=\"MIXTESD1FINALE\",CX4=\"VETERANSD1FINALE\",CX4=\"VETERANSD2FINALE\",CX4=\"JUNIORSFINALE\",CX4=\"CADETSFINALE\",CX4=\"MINIMESBENJAMINSPOUSSINSFINALE\"),\"-\",\"\")))","v":""},{"$f":"IF(CX4=\"EXCELLENCE\",AI2,IF(OR(CX4=\"HONNEUR\",CX4=\"PROMOTIONNORD\",CX4=\"ADULTESDIVISION1NORD\",CX4=\"PROMOTIONSTRASBOURG\",CX4=\"PROMOTIONFINALE\"),AI2,IF(OR(CX4=\"MIXTESD1NORD\",CX4=\"MIXTESD1STRASBOURG\",CX4=\"VETERANSD1STRASBOURG\",CX4=\"VETERANSD2STRASBOURG\",CX4=\"VETERANSD1NORD\",CX4=\"VETERANSD2NORD\",CX4=\"JUNIORS\",CX4=\"CADETS\",CX4=\"MINIMESBENJAMINSPOUSSINS\",CX4=\"MIXTESD1FINALE\",CX4=\"VETERANSD1FINALE\",CX4=\"VETERANSD2FINALE\",CX4=\"JUNIORSFINALE\",CX4=\"CADETSFINALE\",CX4=\"MINIMESBENJAMINSPOUSSINSFINALE\"),\"\",\"\")))","v":""},{"$f":"IF(CX4=\"EXCELLENCE\",AK2,IF(OR(CX4=\"HONNEUR\",CX4=\"PROMOTIONNORD\",CX4=\"ADULTESDIVISION1NORD\",CX4=\"PROMOTIONSTRASBOURG\",CX4=\"PROMOTIONFINALE\"),AK2,IF(OR(CX4=\"MIXTESD1NORD\",CX4=\"MIXTESD1STRASBOURG\",CX4=\"VETERANSD1STRASBOURG\",CX4=\"VETERANSD2STRASBOURG\",CX4=\"VETERANSD1NORD\",CX4=\"VETERANSD2NORD\",CX4=\"JUNIORS\",CX4=\"CADETS\",CX4=\"MINIMESBENJAMINSPOUSSINS\",CX4=\"MIXTESD1FINALE\",CX4=\"VETERANSD1FINALE\",CX4=\"VETERANSD2FINALE\",CX4=\"JUNIORSFINALE\",CX4=\"CADETSFINALE\",CX4=\"MINIMESBENJAMINSPOUSSINSFINALE\"),\"\",\"\")))","v":""},{"$f":"IF(CX4=\"EXCELLENCE\",AJ1,IF(OR(CX4=\"HONNEUR\",CX4=\"PROMOTIONNORD\",CX4=\"ADULTESDIVISION1NORD\",CX4=\"PROMOTIONSTRASBOURG\",CX4=\"PROMOTIONFINALE\"),AJ1,IF(OR(CX4=\"MIXTESD1NORD\",CX4=\"MIXTESD1STRASBOURG\",CX4=\"VETERANSD1STRASBOURG\",CX4=\"VETERANSD2STRASBOURG\",CX4=\"VETERANSD1NORD\",CX4=\"VETERANSD2NORD\",CX4=\"JUNIORS\",CX4=\"CADETS\",CX4=\"MINIMESBENJAMINSPOUSSINS\",CX4=\"MIXTESD1FINALE\",CX4=\"VETERANSD1FINALE\",CX4=\"VETERANSD2FINALE\",CX4=\"JUNIORSFINALE\",CX4=\"CADETSFINALE\",CX4=\"MINIMESBENJAMINSPOUSSINSFINALE\"),\"\",\"\")))","v":""},{"$f":"IF(CX4=\"EXCELLENCE\",CX4,IF(OR(CX4=\"HONNEUR\",CX4=\"PROMOTIONNORD\",CX4=\"ADULTESDIVISION1NORD\",CX4=\"PROMOTIONSTRASBOURG\",CX4=\"PROMOTIONFINALE\"),CX4,IF(OR(CX4=\"MIXTESD1NORD\",CX4=\"MIXTESD1STRASBOURG\",CX4=\"VETERANSD1STRASBOURG\",CX4=\"VETERANSD2STRASBOURG\",CX4=\"VETERANSD1NORD\",CX4=\"VETERANSD2NORD\",CX4=\"JUNIORS\",CX4=\"CADETS\",CX4=\"MINIMESBENJAMINSPOUSSINS\",CX4=\"MIXTESD1FINALE\",CX4=\"VETERANSD1FINALE\",CX4=\"VETERANSD2FINALE\",CX4=\"JUNIORSFINALE\",CX4=\"CADETSFINALE\",CX4=\"MINIMESBENJAMINSPOUSSINSFINALE\"),\"\",\"\")))","v":""},{"$f":"IF(CX4=\"EXCELLENCE\",CW4,IF(OR(CX4=\"HONNEUR\",CX4=\"PROMOTIONNORD\",CX4=\"ADULTESDIVISION1NORD\",CX4=\"PROMOTIONSTRASBOURG\",CX4=\"PROMOTIONFINALE\"),CW4,IF(OR(CX4=\"MIXTESD1NORD\",CX4=\"MIXTESD1STRASBOURG\",CX4=\"VETERANSD1STRASBOURG\",CX4=\"VETERANSD2STRASBOURG\",CX4=\"VETERANSD1NORD\",CX4=\"VETERANSD2NORD\",CX4=\"JUNIORS\",CX4=\"CADETS\",CX4=\"MINIMESBENJAMINSPOUSSINS\",CX4=\"MIXTESD1FINALE\",CX4=\"VETERANSD1FINALE\",CX4=\"VETERANSD2FINALE\",CX4=\"JUNIORSFINALE\",CX4=\"CADETSFINALE\",CX4=\"MINIMESBENJAMINSPOUSSINSFINALE\"),\"\",\"\")))","v":""},"VICTOIRE CONTRE",{"$f":"IF(AM5<AN5,\"\",IF(AND(CX4=\"EXCELLENCE\",AM5>AN5),AJ5,IF(AND(CX4=\"HONNEUR\",AM5>AN5),AJ5,IF(AND(CX4=\"PROMOTIONNORD\",AM5>AN5),AJ5,IF(AND(CX4=\"ADULTESDIVISION1NORD\",AM5>AN5),AJ5,IF(AND(CX4=\"PROMOTIONSTRASBOURG\",AM5>AN5),AJ5,IF(AND(CX4=\"PROMOTIONFINALE\",AM5>AN5),AJ5,IF(OR(CX4=\"MIXTESD1NORD\",CX4=\"MIXTESD1STRASBOURG\",CX4=\"VETERANSD1STRASBOURG\",CX4=\"VETERANSD2STRASBOURG\",CX4=\"VETERANSD1NORD\",CX4=\"VETERANSD2NORD\",CX4=\"JUNIORS\",CX4=\"CADETS\",CX4=\"MINIMESBENJAMINSPOUSSINS\",CX4=\"MIXTESD1FINALE\",CX4=\"VETERANSD1FINALE\",CX4=\"VETERANSD2FINALE\",CX4=\"JUNIORSFINALE\",CX4=\"CADETSFINALE\",CX4=\"MINIMESBENJAMINSPOUSSINSFINALE\"),\"\",\"\"))))))))","v":""},{"$f":"IF(AM5<AN5,\"\",IF(AND(CX4=\"EXCELLENCE\",AM5>AN5),AK5,IF(AND(CX4=\"HONNEUR\",AM5>AN5),AK5,IF(AND(CX4=\"PROMOTIONNORD\",AM5>AN5),AK5,IF(AND(CX4=\"ADULTESDIVISION1NORD\",AM5>AN5),AK5,IF(AND(CX4=\"PROMOTIONSTRASBOURG\",AM5>AN5),AK5,IF(AND(CX4=\"PROMOTIONFINALE\",AM5>AN5),AK5,IF(OR(CX4=\"MIXTESD1NORD\",CX4=\"MIXTESD1STRASBOURG\",CX4=\"VETERANSD1STRASBOURG\",CX4=\"VETERANSD2STRASBOURG\",CX4=\"VETERANSD1NORD\",CX4=\"VETERANSD2NORD\",CX4=\"JUNIORS\",CX4=\"CADETS\",CX4=\"MINIMESBENJAMINSPOUSSINS\",CX4=\"MIXTESD1FINALE\",CX4=\"VETERANSD1FINALE\",CX4=\"VETERANSD2FINALE\",CX4=\"JUNIORSFINALE\",CX4=\"CADETSFINALE\",CX4=\"MINIMESBENJAMINSPOUSSINSFINALE\"),\"\",\"\"))))))))","v":""},{"$f":"IF(AM5<AN5,\"\",IF(AND(CX4=\"EXCELLENCE\",AM5>AN5),AL5,IF(AND(CX4=\"HONNEUR\",AM5>AN5),AL5,IF(AND(CX4=\"PROMOTIONNORD\",AM5>AN5),AL5,IF(AND(CX4=\"ADULTESDIVISION1NORD\",AM5>AN5),AL5,IF(AND(CX4=\"PROMOTIONSTRASBOURG\",AM5>AN5),AL5,IF(AND(CX4=\"PROMOTIONFINALE\",AM5>AN5),AL5,IF(OR(CX4=\"MIXTESD1NORD\",CX4=\"MIXTESD1STRASBOURG\",CX4=\"VETERANSD1STRASBOURG\",CX4=\"VETERANSD2STRASBOURG\",CX4=\"VETERANSD1NORD\",CX4=\"VETERANSD2NORD\",CX4=\"JUNIORS\",CX4=\"CADETS\",CX4=\"MINIMESBENJAMINSPOUSSINS\",CX4=\"MIXTESD1FINALE\",CX4=\"VETERANSD1FINALE\",CX4=\"VETERANSD2FINALE\",CX4=\"JUNIORSFINALE\",CX4=\"CADETSFINALE\",CX4=\"MINIMESBENJAMINSPOUSSINSFINALE\"),\"\",\"\"))))))))","v":""},{"$f":"IF(AM5<AN5,\"\",IF(AND(CX4=\"EXCELLENCE\",AM5>AN5),AP1,IF(AND(CX4=\"HONNEUR\",AM5>AN5),AP1,IF(AND(CX4=\"PROMOTIONNORD\",AM5>AN5),AP1,IF(AND(CX4=\"ADULTESDIVISION1NORD\",AM5>AN5),AP1,IF(AND(CX4=\"PROMOTIONSTRASBOURG\",AM5>AN5),AP1,IF(AND(CX4=\"PROMOTIONFINALE\",AM5>AN5),AP1,IF(OR(CX4=\"MIXTESD1NORD\",CX4=\"MIXTESD1STRASBOURG\",CX4=\"VETERANSD1STRASBOURG\",CX4=\"VETERANSD2STRASBOURG\",CX4=\"VETERANSD1NORD\",CX4=\"VETERANSD2NORD\",CX4=\"JUNIORS\",CX4=\"CADETS\",CX4=\"MINIMESBENJAMINSPOUSSINS\",CX4=\"MIXTESD1FINALE\",CX4=\"VETERANSD1FINALE\",CX4=\"VETERANSD2FINALE\",CX4=\"JUNIORSFINALE\",CX4=\"CADETSFINALE\",CX4=\"MINIMESBENJAMINSPOUSSINSFINALE\"),\"\",\"\"))))))))","v":""},{"$f":"IF(AM5<AN5,\"\",IF(AND(CX4=\"EXCELLENCE\",AM5>AN5),AO5,IF(AND(CX4=\"HONNEUR\",AM5>AN5),AO5,IF(AND(CX4=\"PROMOTIONNORD\",AM5>AN5),AO5,IF(AND(CX4=\"ADULTESDIVISION1NORD\",AM5>AN5),AO5,IF(AND(CX4=\"PROMOTIONSTRASBOURG\",AM5>AN5),AO5,IF(AND(CX4=\"PROMOTIONFINALE\",AM5>AN5),AO5,IF(OR(CX4=\"MIXTESD1NORD\",CX4=\"MIXTESD1STRASBOURG\",CX4=\"VETERANSD1STRASBOURG\",CX4=\"VETERANSD2STRASBOURG\",CX4=\"VETERANSD1NORD\",CX4=\"VETERANSD2NORD\",CX4=\"JUNIORS\",CX4=\"CADETS\",CX4=\"MINIMESBENJAMINSPOUSSINS\",CX4=\"MIXTESD1FINALE\",CX4=\"VETERANSD1FINALE\",CX4=\"VETERANSD2FINALE\",CX4=\"JUNIORSFINALE\",CX4=\"CADETSFINALE\",CX4=\"MINIMESBENJAMINSPOUSSINSFINALE\"),\"\",\"\"))))))))","v":""},{"$f":"IF(AM5<AN5,\"\",IF(AND(CX4=\"EXCELLENCE\",AM5>AN5),AQ5,IF(AND(CX4=\"HONNEUR\",AM5>AN5),AQ5,IF(AND(CX4=\"PROMOTIONNORD\",AM5>AN5),AQ5,IF(AND(CX4=\"ADULTESDIVISION1NORD\",AM5>AN5),AQ5,IF(AND(CX4=\"PROMOTIONSTRASBOURG\",AM5>AN5),AQ5,IF(AND(CX4=\"PROMOTIONFINALE\",AM5>AN5),AQ5,IF(OR(CX4=\"MIXTESD1NORD\",CX4=\"MIXTESD1STRASBOURG\",CX4=\"VETERANSD1STRASBOURG\",CX4=\"VETERANSD2STRASBOURG\",CX4=\"VETERANSD1NORD\",CX4=\"VETERANSD2NORD\",CX4=\"JUNIORS\",CX4=\"CADETS\",CX4=\"MINIMESBENJAMINSPOUSSINS\",CX4=\"MIXTESD1FINALE\",CX4=\"VETERANSD1FINALE\",CX4=\"VETERANSD2FINALE\",CX4=\"JUNIORSFINALE\",CX4=\"CADETSFINALE\",CX4=\"MINIMESBENJAMINSPOUSSINSFINALE\"),\"\",\"\"))))))))","v":""},"DEFAITE CONTRE",{"$f":"IF(AM5>AN5,\"\",IF(AND(CX4=\"EXCELLENCE\",AM5<AN5),AJ5,IF(AND(CX4=\"HONNEUR\",AM5<AN5),AJ5,IF(AND(CX4=\"PROMOTIONNORD\",AM5<AN5),AJ5,IF(AND(CX4=\"ADULTESDIVISION1NORD\",AM5<AN5),AJ5,IF(AND(CX4=\"PROMOTIONSTRASBOURG\",AM5<AN5),AJ5,IF(AND(CX4=\"PROMOTIONFINALE\",AM5<AN5),AJ5,IF(OR(CX4=\"MIXTESD1NORD\",CX4=\"MIXTESD1STRASBOURG\",CX4=\"VETERANSD1STRASBOURG\",CX4=\"VETERANSD2STRASBOURG\",CX4=\"VETERANSD1NORD\",CX4=\"VETERANSD2NORD\",CX4=\"JUNIORS\",CX4=\"CADETS\",CX4=\"MINIMESBENJAMINSPOUSSINS\",CX4=\"MIXTESD1FINALE\",CX4=\"VETERANSD1FINALE\",CX4=\"VETERANSD2FINALE\",CX4=\"JUNIORSFINALE\",CX4=\"CADETSFINALE\",CX4=\"MINIMESBENJAMINSPOUSSINSFINALE\"),\"\",\"\"))))))))","v":""},{"$f":"IF(AM5>AN5,\"\",IF(AND(CX4=\"EXCELLENCE\",AM5<AN5),AK5,IF(AND(CX4=\"HONNEUR\",AM5<AN5),AK5,IF(AND(CX4=\"PROMOTIONNORD\",AM5<AN5),AK5,IF(AND(CX4=\"ADULTESDIVISION1NORD\",AM5<AN5),AK5,IF(AND(CX4=\"PROMOTIONSTRASBOURG\",AM5<AN5),AK5,IF(AND(CX4=\"PROMOTIONFINALE\",AM5<AN5),AK5,IF(OR(CX4=\"MIXTESD1NORD\",CX4=\"MIXTESD1STRASBOURG\",CX4=\"VETERANSD1STRASBOURG\",CX4=\"VETERANSD2STRASBOURG\",CX4=\"VETERANSD1NORD\",CX4=\"VETERANSD2NORD\",CX4=\"JUNIORS\",CX4=\"CADETS\",CX4=\"MINIMESBENJAMINSPOUSSINS\",CX4=\"MIXTESD1FINALE\",CX4=\"VETERANSD1FINALE\",CX4=\"VETERANSD2FINALE\",CX4=\"JUNIORSFINALE\",CX4=\"CADETSFINALE\",CX4=\"MINIMESBENJAMINSPOUSSINSFINALE\"),\"\",\"\"))))))))","v":""},{"$f":"IF(AM5>AN5,\"\",IF(AND(CX4=\"EXCELLENCE\",AM5<AN5),AL5,IF(AND(CX4=\"HONNEUR\",AM5<AN5),AL5,IF(AND(CX4=\"PROMOTIONNORD\",AM5<AN5),AL5,IF(AND(CX4=\"ADULTESDIVISION1NORD\",AM5<AN5),AL5,IF(AND(CX4=\"PROMOTIONSTRASBOURG\",AM5<AN5),AL5,IF(AND(CX4=\"PROMOTIONFINALE\",AM5<AN5),AL5,IF(OR(CX4=\"MIXTESD1NORD\",CX4=\"MIXTESD1STRASBOURG\",CX4=\"VETERANSD1STRASBOURG\",CX4=\"VETERANSD2STRASBOURG\",CX4=\"VETERANSD1NORD\",CX4=\"VETERANSD2NORD\",CX4=\"JUNIORS\",CX4=\"CADETS\",CX4=\"MINIMESBENJAMINSPOUSSINS\",CX4=\"MIXTESD1FINALE\",CX4=\"VETERANSD1FINALE\",CX4=\"VETERANSD2FINALE\",CX4=\"JUNIORSFINALE\",CX4=\"CADETSFINALE\",CX4=\"MINIMESBENJAMINSPOUSSINSFINALE\"),\"\",\"\"))))))))","v":""},{"$f":"IF(AM5>AN5,\"\",IF(AND(CX4=\"EXCELLENCE\",AM5<AN5),AP1,IF(AND(CX4=\"HONNEUR\",AM5<AN5),AP1,IF(AND(CX4=\"PROMOTIONNORD\",AM5<AN5),AP1,IF(AND(CX4=\"ADULTESDIVISION1NORD\",AM5<AN5),AP1,IF(AND(CX4=\"PROMOTIONSTRASBOURG\",AM5<AN5),AP1,IF(AND(CX4=\"PROMOTIONFINALE\",AM5<AN5),AP1,IF(OR(CX4=\"MIXTESD1NORD\",CX4=\"MIXTESD1STRASBOURG\",CX4=\"VETERANSD1STRASBOURG\",CX4=\"VETERANSD2STRASBOURG\",CX4=\"VETERANSD1NORD\",CX4=\"VETERANSD2NORD\",CX4=\"JUNIORS\",CX4=\"CADETS\",CX4=\"MINIMESBENJAMINSPOUSSINS\",CX4=\"MIXTESD1FINALE\",CX4=\"VETERANSD1FINALE\",CX4=\"VETERANSD2FINALE\",CX4=\"JUNIORSFINALE\",CX4=\"CADETSFINALE\",CX4=\"MINIMESBENJAMINSPOUSSINSFINALE\"),\"\",\"\"))))))))","v":""},{"$f":"IF(AM5>AN5,\"\",IF(AND(CX4=\"EXCELLENCE\",AM5<AN5),AP5,IF(AND(CX4=\"HONNEUR\",AM5<AN5),AP5,IF(AND(CX4=\"PROMOTIONNORD\",AM5<AN5),AP5,IF(AND(CX4=\"ADULTESDIVISION1NORD\",AM5<AN5),AP5,IF(AND(CX4=\"PROMOTIONSTRASBOURG\",AM5<AN5),AP5,IF(AND(CX4=\"PROMOTIONFINALE\",AM5<AN5),AP5,IF(OR(CX4=\"MIXTESD1NORD\",CX4=\"MIXTESD1STRASBOURG\",CX4=\"VETERANSD1STRASBOURG\",CX4=\"VETERANSD2STRASBOURG\",CX4=\"VETERANSD1NORD\",CX4=\"VETERANSD2NORD\",CX4=\"JUNIORS\",CX4=\"CADETS\",CX4=\"MINIMESBENJAMINSPOUSSINS\",CX4=\"MIXTESD1FINALE\",CX4=\"VETERANSD1FINALE\",CX4=\"VETERANSD2FINALE\",CX4=\"JUNIORSFINALE\",CX4=\"CADETSFINALE\",CX4=\"MINIMESBENJAMINSPOUSSINSFINALE\"),\"\",\"\"))))))))","v":""},{"$f":"IF(AM5>AN5,\"\",IF(AND(CX4=\"EXCELLENCE\",AM5<AN5),AR5,IF(AND(CX4=\"HONNEUR\",AM5<AN5),AR5,IF(AND(CX4=\"PROMOTIONNORD\",AM5<AN5),AR5,IF(AND(CX4=\"ADULTESDIVISION1NORD\",AM5<AN5),AR5,IF(AND(CX4=\"PROMOTIONSTRASBOURG\",AM5<AN5),AR5,IF(AND(CX4=\"PROMOTIONFINALE\",AM5<AN5),AR5,IF(OR(CX4=\"MIXTESD1NORD\",CX4=\"MIXTESD1STRASBOURG\",CX4=\"VETERANSD1STRASBOURG\",CX4=\"VETERANSD2STRASBOURG\",CX4=\"VETERANSD1NORD\",CX4=\"VETERANSD2NORD\",CX4=\"JUNIORS\",CX4=\"CADETS\",CX4=\"MINIMESBENJAMINSPOUSSINS\",CX4=\"MIXTESD1FINALE\",CX4=\"VETERANSD1FINALE\",CX4=\"VETERANSD2FINALE\",CX4=\"JUNIORSFINALE\",CX4=\"CADETSFINALE\",CX4=\"MINIMESBENJAMINSPOUSSINSFINALE\"),\"\",\"\"))))))))","v":""},1]
[{"$f":"calcules!$U$8","v":"0"},{"$f":"calcules!$V$8","v":"0"},{"$f":"IF($A$11>$B$11,1,0)","v":0},{"$f":"IF($A$11<$B$11,1,0)","v":0},null,null,null,null,null,null,null,null,{"$f":"calcules!$AC$8","v":"0"},{"$f":"calcules!$AD$8","v":"0"},{"$f":"IF($M$11>$N$11,1,0)","v":0},{"$f":"IF($M$11<$N$11,1,0)","v":0},null,null,null,null,null,null,null,{"$f":"calcules!$AG$8","v":"0"},{"$f":"calcules!$AH$8","v":"0"},{"$f":"IF($X$11>$Y$11,1,0)","v":0},{"$f":"IF($X$11<$Y$11,1,0)","v":0},null,null,null,null,null,null,null,{"$f":"calcules!$AK$8","v":"0"},{"$f":"calcules!$AL$8","v":"0"},{"$f":"IF($AI$11>$AJ$11,1,0)","v":0},{"$f":"IF($AI$11<$AJ$11,1,0)","v":0},null,null,null,null,null,null,null,null,null,null,null,null,null,null,null,null,null,null,{"$f":"calcules!$AS$8","v":"0"},{"$f":"calcules!$AT$8","v":"0"},{"$f":"IF($BE$11>$BF$11,1,0)","v":0},{"$f":"IF($BE$11<$BF$11,1,0)","v":0},null,null,null,null,null,null,null,{"$f":"calcules!$AW$8","v":"0"},{"$f":"calcules!$AX$8","v":"0"},{"$f":"IF($BP$11>$BQ$11,1,0)","v":0},{"$f":"IF($BP$11<$BQ$11,1,0)","v":0},null,null,null,null,null,null,null,{"$f":"calcules!$BA$8","v":"0"},{"$f":"calcules!$BB$8","v":"0"},{"$f":"IF($CA$11>$CB$11,1,0)","v":0},{"$f":"IF($CA$11<$CB$11,1,0)","v":0},null,null,null,null,null,null,null,null,null,null,null,null,null,null,null,null,null,null,null,null,null,null,null,null,null,null,null,null,null,null,null,null,null,null,null,null,null,null,null,null,null,null,null,null,null,null,null,null,null,null,null,null,null,null,null,null,null,null,null,null,null,null,null,null,null,null,null,null,null,null,null,null,null,null,null,null,null,null,null,null,null,null,null,null,null,null,null,null,null,null,null,null,null,null,null,null,{"$f":"IF(CX4=\"EXCELLENCE\",AL2,IF(OR(CX4=\"HONNEUR\",CX4=\"PROMOTIONNORD\",CX4=\"ADULTESDIVISION1NORD\",CX4=\"PROMOTIONSTRASBOURG\",CX4=\"PROMOTIONFINALE\"),AL2,IF(OR(CX4=\"MIXTESD1NORD\",CX4=\"MIXTESD1STRASBOURG\",CX4=\"VETERANSD1STRASBOURG\",CX4=\"VETERANSD2STRASBOURG\",CX4=\"VETERANSD1NORD\",CX4=\"VETERANSD2NORD\",CX4=\"JUNIORS\",CX4=\"CADETS\",CX4=\"MINIMESBENJAMINSPOUSSINS\",CX4=\"MIXTESD1FINALE\",CX4=\"VETERANSD1FINALE\",CX4=\"VETERANSD2FINALE\",CX4=\"JUNIORSFINALE\",CX4=\"CADETSFINALE\",CX4=\"MINIMESBENJAMINSPOUSSINSFINALE\"),\"-\",\"\")))","v":""},{"$f":"IF(CX4=\"EXCELLENCE\",AI2,IF(OR(CX4=\"HONNEUR\",CX4=\"PROMOTIONNORD\",CX4=\"ADULTESDIVISION1NORD\",CX4=\"PROMOTIONSTRASBOURG\",CX4=\"PROMOTIONFINALE\"),AI2,IF(OR(CX4=\"MIXTESD1NORD\",CX4=\"MIXTESD1STRASBOURG\",CX4=\"VETERANSD1STRASBOURG\",CX4=\"VETERANSD2STRASBOURG\",CX4=\"VETERANSD1NORD\",CX4=\"VETERANSD2NORD\",CX4=\"JUNIORS\",CX4=\"CADETS\",CX4=\"MINIMESBENJAMINSPOUSSINS\",CX4=\"MIXTESD1FINALE\",CX4=\"VETERANSD1FINALE\",CX4=\"VETERANSD2FINALE\",CX4=\"JUNIORSFINALE\",CX4=\"CADETSFINALE\",CX4=\"MINIMESBENJAMINSPOUSSINSFINALE\"),\"\",\"\")))","v":""},{"$f":"IF(CX4=\"EXCELLENCE\",AK2,IF(OR(CX4=\"HONNEUR\",CX4=\"PROMOTIONNORD\",CX4=\"ADULTESDIVISION1NORD\",CX4=\"PROMOTIONSTRASBOURG\",CX4=\"PROMOTIONFINALE\"),AK2,IF(OR(CX4=\"MIXTESD1NORD\",CX4=\"MIXTESD1STRASBOURG\",CX4=\"VETERANSD1STRASBOURG\",CX4=\"VETERANSD2STRASBOURG\",CX4=\"VETERANSD1NORD\",CX4=\"VETERANSD2NORD\",CX4=\"JUNIORS\",CX4=\"CADETS\",CX4=\"MINIMESBENJAMINSPOUSSINS\",CX4=\"MIXTESD1FINALE\",CX4=\"VETERANSD1FINALE\",CX4=\"VETERANSD2FINALE\",CX4=\"JUNIORSFINALE\",CX4=\"CADETSFINALE\",CX4=\"MINIMESBENJAMINSPOUSSINSFINALE\"),\"\",\"\")))","v":""},{"$f":"IF(CX4=\"EXCELLENCE\",AJ1,IF(OR(CX4=\"HONNEUR\",CX4=\"PROMOTIONNORD\",CX4=\"ADULTESDIVISION1NORD\",CX4=\"PROMOTIONSTRASBOURG\",CX4=\"PROMOTIONFINALE\"),AJ1,IF(OR(CX4=\"MIXTESD1NORD\",CX4=\"MIXTESD1STRASBOURG\",CX4=\"VETERANSD1STRASBOURG\",CX4=\"VETERANSD2STRASBOURG\",CX4=\"VETERANSD1NORD\",CX4=\"VETERANSD2NORD\",CX4=\"JUNIORS\",CX4=\"CADETS\",CX4=\"MINIMESBENJAMINSPOUSSINS\",CX4=\"MIXTESD1FINALE\",CX4=\"VETERANSD1FINALE\",CX4=\"VETERANSD2FINALE\",CX4=\"JUNIORSFINALE\",CX4=\"CADETSFINALE\",CX4=\"MINIMESBENJAMINSPOUSSINSFINALE\"),\"\",\"\")))","v":""},{"$f":"IF(CX4=\"EXCELLENCE\",CX4,IF(OR(CX4=\"HONNEUR\",CX4=\"PROMOTIONNORD\",CX4=\"ADULTESDIVISION1NORD\",CX4=\"PROMOTIONSTRASBOURG\",CX4=\"PROMOTIONFINALE\"),CX4,IF(OR(CX4=\"MIXTESD1NORD\",CX4=\"MIXTESD1STRASBOURG\",CX4=\"VETERANSD1STRASBOURG\",CX4=\"VETERANSD2STRASBOURG\",CX4=\"VETERANSD1NORD\",CX4=\"VETERANSD2NORD\",CX4=\"JUNIORS\",CX4=\"CADETS\",CX4=\"MINIMESBENJAMINSPOUSSINS\",CX4=\"MIXTESD1FINALE\",CX4=\"VETERANSD1FINALE\",CX4=\"VETERANSD2FINALE\",CX4=\"JUNIORSFINALE\",CX4=\"CADETSFINALE\",CX4=\"MINIMESBENJAMINSPOUSSINSFINALE\"),\"\",\"\")))","v":""},{"$f":"IF(CX4=\"EXCELLENCE\",CW4,IF(OR(CX4=\"HONNEUR\",CX4=\"PROMOTIONNORD\",CX4=\"ADULTESDIVISION1NORD\",CX4=\"PROMOTIONSTRASBOURG\",CX4=\"PROMOTIONFINALE\"),CW4,IF(OR(CX4=\"MIXTESD1NORD\",CX4=\"MIXTESD1STRASBOURG\",CX4=\"VETERANSD1STRASBOURG\",CX4=\"VETERANSD2STRASBOURG\",CX4=\"VETERANSD1NORD\",CX4=\"VETERANSD2NORD\",CX4=\"JUNIORS\",CX4=\"CADETS\",CX4=\"MINIMESBENJAMINSPOUSSINS\",CX4=\"MIXTESD1FINALE\",CX4=\"VETERANSD1FINALE\",CX4=\"VETERANSD2FINALE\",CX4=\"JUNIORSFINALE\",CX4=\"CADETSFINALE\",CX4=\"MINIMESBENJAMINSPOUSSINSFINALE\"),\"\",\"\")))","v":""},"VICTOIRE CONTRE",{"$f":"IF(AM23<AN23,\"\",IF(AND(CX4=\"EXCELLENCE\",AM23>AN23),AJ23,IF(AND(CX4=\"HONNEUR\",AM23>AN23),AJ23,IF(AND(CX4=\"PROMOTIONNORD\",AM23>AN23),AJ23,IF(AND(CX4=\"ADULTESDIVISION1NORD\",AM23>AN23),AJ23,IF(AND(CX4=\"PROMOTIONSTRASBOURG\",AM23>AN23),AJ23,IF(AND(CX4=\"PROMOTIONFINALE\",AM23>AN23),AJ23,IF(OR(CX4=\"MIXTESD1NORD\",CX4=\"MIXTESD1STRASBOURG\",CX4=\"VETERANSD1STRASBOURG\",CX4=\"VETERANSD2STRASBOURG\",CX4=\"VETERANSD1NORD\",CX4=\"VETERANSD2NORD\",CX4=\"JUNIORS\",CX4=\"CADETS\",CX4=\"MINIMESBENJAMINSPOUSSINS\",CX4=\"MIXTESD1FINALE\",CX4=\"VETERANSD1FINALE\",CX4=\"VETERANSD2FINALE\",CX4=\"JUNIORSFINALE\",CX4=\"CADETSFINALE\",CX4=\"MINIMESBENJAMINSPOUSSINSFINALE\"),\"\",\"\"))))))))","v":""},{"$f":"IF(AM23<AN23,\"\",IF(AND(CX4=\"EXCELLENCE\",AM23>AN23),AK23,IF(AND(CX4=\"HONNEUR\",AM23>AN23),AK23,IF(AND(CX4=\"PROMOTIONNORD\",AM23>AN23),AK23,IF(AND(CX4=\"ADULTESDIVISION1NORD\",AM23>AN23),AK23,IF(AND(CX4=\"PROMOTIONSTRASBOURG\",AM23>AN23),AK23,IF(AND(CX4=\"PROMOTIONFINALE\",AM23>AN23),AK23,IF(OR(CX4=\"MIXTESD1NORD\",CX4=\"MIXTESD1STRASBOURG\",CX4=\"VETERANSD1STRASBOURG\",CX4=\"VETERANSD2STRASBOURG\",CX4=\"VETERANSD1NORD\",CX4=\"VETERANSD2NORD\",CX4=\"JUNIORS\",CX4=\"CADETS\",CX4=\"MINIMESBENJAMINSPOUSSINS\",CX4=\"MIXTESD1FINALE\",CX4=\"VETERANSD1FINALE\",CX4=\"VETERANSD2FINALE\",CX4=\"JUNIORSFINALE\",CX4=\"CADETSFINALE\",CX4=\"MINIMESBENJAMINSPOUSSINSFINALE\"),\"\",\"\"))))))))","v":""},{"$f":"IF(AM23<AN23,\"\",IF(AND(CX4=\"EXCELLENCE\",AM23>AN23),AL23,IF(AND(CX4=\"HONNEUR\",AM23>AN23),AL23,IF(AND(CX4=\"PROMOTIONNORD\",AM23>AN23),AL23,IF(AND(CX4=\"ADULTESDIVISION1NORD\",AM23>AN23),AL23,IF(AND(CX4=\"PROMOTIONSTRASBOURG\",AM23>AN23),AL23,IF(AND(CX4=\"PROMOTIONFINALE\",AM23>AN23),AL23,IF(OR(CX4=\"MIXTESD1NORD\",CX4=\"MIXTESD1STRASBOURG\",CX4=\"VETERANSD1STRASBOURG\",CX4=\"VETERANSD2STRASBOURG\",CX4=\"VETERANSD1NORD\",CX4=\"VETERANSD2NORD\",CX4=\"JUNIORS\",CX4=\"CADETS\",CX4=\"MINIMESBENJAMINSPOUSSINS\",CX4=\"MIXTESD1FINALE\",CX4=\"VETERANSD1FINALE\",CX4=\"VETERANSD2FINALE\",CX4=\"JUNIORSFINALE\",CX4=\"CADETSFINALE\",CX4=\"MINIMESBENJAMINSPOUSSINSFINALE\"),\"\",\"\"))))))))","v":""},{"$f":"IF(AM23<AN23,\"\",IF(AND(CX4=\"EXCELLENCE\",AM23>AN23),AP1,IF(AND(CX4=\"HONNEUR\",AM23>AN23),AP1,IF(AND(CX4=\"PROMOTIONNORD\",AM23>AN23),AP1,IF(AND(CX4=\"ADULTESDIVISION1NORD\",AM23>AN23),AP1,IF(AND(CX4=\"PROMOTIONSTRASBOURG\",AM23>AN23),AP1,IF(AND(CX4=\"PROMOTIONFINALE\",AM23>AN23),AP1,IF(OR(CX4=\"MIXTESD1NORD\",CX4=\"MIXTESD1STRASBOURG\",CX4=\"VETERANSD1STRASBOURG\",CX4=\"VETERANSD2STRASBOURG\",CX4=\"VETERANSD1NORD\",CX4=\"VETERANSD2NORD\",CX4=\"JUNIORS\",CX4=\"CADETS\",CX4=\"MINIMESBENJAMINSPOUSSINS\",CX4=\"MIXTESD1FINALE\",CX4=\"VETERANSD1FINALE\",CX4=\"VETERANSD2FINALE\",CX4=\"JUNIORSFINALE\",CX4=\"CADETSFINALE\",CX4=\"MINIMESBENJAMINSPOUSSINSFINALE\"),\"\",\"\"))))))))","v":""},{"$f":"IF(AM23<AN23,\"\",IF(AND(CX4=\"EXCELLENCE\",AM23>AN23),AO23,IF(AND(CX4=\"HONNEUR\",AM23>AN23),AO23,IF(AND(CX4=\"PROMOTIONNORD\",AM23>AN23),AO23,IF(AND(CX4=\"ADULTESDIVISION1NORD\",AM23>AN23),AO23,IF(AND(CX4=\"PROMOTIONSTRASBOURG\",AM23>AN23),AO23,IF(AND(CX4=\"PROMOTIONFINALE\",AM23>AN23),AO23,IF(OR(CX4=\"MIXTESD1NORD\",CX4=\"MIXTESD1STRASBOURG\",CX4=\"VETERANSD1STRASBOURG\",CX4=\"VETERANSD2STRASBOURG\",CX4=\"VETERANSD1NORD\",CX4=\"VETERANSD2NORD\",CX4=\"JUNIORS\",CX4=\"CADETS\",CX4=\"MINIMESBENJAMINSPOUSSINS\",CX4=\"MIXTESD1FINALE\",CX4=\"VETERANSD1FINALE\",CX4=\"VETERANSD2FINALE\",CX4=\"JUNIORSFINALE\",CX4=\"CADETSFINALE\",CX4=\"MINIMESBENJAMINSPOUSSINSFINALE\"),\"\",\"\"))))))))","v":""},{"$f":"IF(AM23<AN23,\"\",IF(AND(CX4=\"EXCELLENCE\",AM23>AN23),AQ23,IF(AND(CX4=\"HONNEUR\",AM23>AN23),AQ23,IF(AND(CX4=\"PROMOTIONNORD\",AM23>AN23),AQ23,IF(AND(CX4=\"ADULTESDIVISION1NORD\",AM23>AN23),AQ23,IF(AND(CX4=\"PROMOTIONSTRASBOURG\",AM23>AN23),AQ23,IF(AND(CX4=\"PROMOTIONFINALE\",AM23>AN23),AQ23,IF(OR(CX4=\"MIXTESD1NORD\",CX4=\"MIXTESD1STRASBOURG\",CX4=\"VETERANSD1STRASBOURG\",CX4=\"VETERANSD2STRASBOURG\",CX4=\"VETERANSD1NORD\",CX4=\"VETERANSD2NORD\",CX4=\"JUNIORS\",CX4=\"CADETS\",CX4=\"MINIMESBENJAMINSPOUSSINS\",CX4=\"MIXTESD1FINALE\",CX4=\"VETERANSD1FINALE\",CX4=\"VETERANSD2FINALE\",CX4=\"JUNIORSFINALE\",CX4=\"CADETSFINALE\",CX4=\"MINIMESBENJAMINSPOUSSINSFINALE\"),\"\",\"\"))))))))","v":""},"DEFAITE CONTRE",{"$f":"IF(AM23>AN23,\"\",IF(AND(CX4=\"EXCELLENCE\",AM23<AN23),AJ23,IF(AND(CX4=\"HONNEUR\",AM23<AN23),AJ23,IF(AND(CX4=\"PROMOTIONNORD\",AM23<AN23),AJ23,IF(AND(CX4=\"ADULTESDIVISION1NORD\",AM23<AN23),AJ23,IF(AND(CX4=\"PROMOTIONSTRASBOURG\",AM23<AN23),AJ23,IF(AND(CX4=\"PROMOTIONFINALE\",AM23<AN23),AJ23,IF(OR(CX4=\"MIXTESD1NORD\",CX4=\"MIXTESD1STRASBOURG\",CX4=\"VETERANSD1STRASBOURG\",CX4=\"VETERANSD2STRASBOURG\",CX4=\"VETERANSD1NORD\",CX4=\"VETERANSD2NORD\",CX4=\"JUNIORS\",CX4=\"CADETS\",CX4=\"MINIMESBENJAMINSPOUSSINS\",CX4=\"MIXTESD1FINALE\",CX4=\"VETERANSD1FINALE\",CX4=\"VETERANSD2FINALE\",CX4=\"JUNIORSFINALE\",CX4=\"CADETSFINALE\",CX4=\"MINIMESBENJAMINSPOUSSINSFINALE\"),\"\",\"\"))))))))","v":""},{"$f":"IF(AM23>AN23,\"\",IF(AND(CX4=\"EXCELLENCE\",AM23<AN23),AK23,IF(AND(CX4=\"HONNEUR\",AM23<AN23),AK23,IF(AND(CX4=\"PROMOTIONNORD\",AM23<AN23),AK23,IF(AND(CX4=\"ADULTESDIVISION1NORD\",AM23<AN23),AK23,IF(AND(CX4=\"PROMOTIONSTRASBOURG\",AM23<AN23),AK23,IF(AND(CX4=\"PROMOTIONFINALE\",AM23<AN23),AK23,IF(OR(CX4=\"MIXTESD1NORD\",CX4=\"MIXTESD1STRASBOURG\",CX4=\"VETERANSD1STRASBOURG\",CX4=\"VETERANSD2STRASBOURG\",CX4=\"VETERANSD1NORD\",CX4=\"VETERANSD2NORD\",CX4=\"JUNIORS\",CX4=\"CADETS\",CX4=\"MINIMESBENJAMINSPOUSSINS\",CX4=\"MIXTESD1FINALE\",CX4=\"VETERANSD1FINALE\",CX4=\"VETERANSD2FINALE\",CX4=\"JUNIORSFINALE\",CX4=\"CADETSFINALE\",CX4=\"MINIMESBENJAMINSPOUSSINSFINALE\"),\"\",\"\"))))))))","v":""},{"$f":"IF(AM23>AN23,\"\",IF(AND(CX4=\"EXCELLENCE\",AM23<AN23),AL23,IF(AND(CX4=\"HONNEUR\",AM23<AN23),AL23,IF(AND(CX4=\"PROMOTIONNORD\",AM23<AN23),AL23,IF(AND(CX4=\"ADULTESDIVISION1NORD\",AM23<AN23),AL23,IF(AND(CX4=\"PROMOTIONSTRASBOURG\",AM23<AN23),AL23,IF(AND(CX4=\"PROMOTIONFINALE\",AM23<AN23),AL23,IF(OR(CX4=\"MIXTESD1NORD\",CX4=\"MIXTESD1STRASBOURG\",CX4=\"VETERANSD1STRASBOURG\",CX4=\"VETERANSD2STRASBOURG\",CX4=\"VETERANSD1NORD\",CX4=\"VETERANSD2NORD\",CX4=\"JUNIORS\",CX4=\"CADETS\",CX4=\"MINIMESBENJAMINSPOUSSINS\",CX4=\"MIXTESD1FINALE\",CX4=\"VETERANSD1FINALE\",CX4=\"VETERANSD2FINALE\",CX4=\"JUNIORSFINALE\",CX4=\"CADETSFINALE\",CX4=\"MINIMESBENJAMINSPOUSSINSFINALE\"),\"\",\"\"))))))))","v":""},{"$f":"IF(AM23>AN23,\"\",IF(AND(CX4=\"EXCELLENCE\",AM23<AN23),AP1,IF(AND(CX4=\"HONNEUR\",AM23<AN23),AP1,IF(AND(CX4=\"PROMOTIONNORD\",AM23<AN23),AP1,IF(AND(CX4=\"ADULTESDIVISION1NORD\",AM23<AN23),AP1,IF(AND(CX4=\"PROMOTIONSTRASBOURG\",AM23<AN23),AP1,IF(AND(CX4=\"PROMOTIONFINALE\",AM23<AN23),AP1,IF(OR(CX4=\"MIXTESD1NORD\",CX4=\"MIXTESD1STRASBOURG\",CX4=\"VETERANSD1STRASBOURG\",CX4=\"VETERANSD2STRASBOURG\",CX4=\"VETERANSD1NORD\",CX4=\"VETERANSD2NORD\",CX4=\"JUNIORS\",CX4=\"CADETS\",CX4=\"MINIMESBENJAMINSPOUSSINS\",CX4=\"MIXTESD1FINALE\",CX4=\"VETERANSD1FINALE\",CX4=\"VETERANSD2FINALE\",CX4=\"JUNIORSFINALE\",CX4=\"CADETSFINALE\",CX4=\"MINIMESBENJAMINSPOUSSINSFINALE\"),\"\",\"\"))))))))","v":""},{"$f":"IF(AM23>AN23,\"\",IF(AND(CX4=\"EXCELLENCE\",AM23<AN23),AP23,IF(AND(CX4=\"HONNEUR\",AM23<AN23),AP23,IF(AND(CX4=\"PROMOTIONNORD\",AM23<AN23),AP23,IF(AND(CX4=\"ADULTESDIVISION1NORD\",AM23<AN23),AP23,IF(AND(CX4=\"PROMOTIONSTRASBOURG\",AM23<AN23),AP23,IF(AND(CX4=\"PROMOTIONFINALE\",AM23<AN23),AP23,IF(OR(CX4=\"MIXTESD1NORD\",CX4=\"MIXTESD1STRASBOURG\",CX4=\"VETERANSD1STRASBOURG\",CX4=\"VETERANSD2STRASBOURG\",CX4=\"VETERANSD1NORD\",CX4=\"VETERANSD2NORD\",CX4=\"JUNIORS\",CX4=\"CADETS\",CX4=\"MINIMESBENJAMINSPOUSSINS\",CX4=\"MIXTESD1FINALE\",CX4=\"VETERANSD1FINALE\",CX4=\"VETERANSD2FINALE\",CX4=\"JUNIORSFINALE\",CX4=\"CADETSFINALE\",CX4=\"MINIMESBENJAMINSPOUSSINSFINALE\"),\"\",\"\"))))))))","v":""},{"$f":"IF(AM23>AN23,\"\",IF(AND(CX4=\"EXCELLENCE\",AM23<AN23),AR23,IF(AND(CX4=\"HONNEUR\",AM23<AN23),AR23,IF(AND(CX4=\"PROMOTIONNORD\",AM23<AN23),AR23,IF(AND(CX4=\"ADULTESDIVISION1NORD\",AM23<AN23),AR23,IF(AND(CX4=\"PROMOTIONSTRASBOURG\",AM23<AN23),AR23,IF(AND(CX4=\"PROMOTIONFINALE\",AM23<AN23),AR23,IF(OR(CX4=\"MIXTESD1NORD\",CX4=\"MIXTESD1STRASBOURG\",CX4=\"VETERANSD1STRASBOURG\",CX4=\"VETERANSD2STRASBOURG\",CX4=\"VETERANSD1NORD\",CX4=\"VETERANSD2NORD\",CX4=\"JUNIORS\",CX4=\"CADETS\",CX4=\"MINIMESBENJAMINSPOUSSINS\",CX4=\"MIXTESD1FINALE\",CX4=\"VETERANSD1FINALE\",CX4=\"VETERANSD2FINALE\",CX4=\"JUNIORSFINALE\",CX4=\"CADETSFINALE\",CX4=\"MINIMESBENJAMINSPOUSSINSFINALE\"),\"\",\"\"))))))))","v":""},2]
["Manche 4",null,"Manche 4",null,null,null,null,null,null,null,null,null,"Manche 4",null,"Manche 4",null,null,null,null,null,null,null,null,"Manche 4",null,"Manche 4",null,null,null,null,null,null,null,null,"Manche 4",null,"Manche 4",null,null,null,null,null,null,null,null,null,null,null,null,null,null,null,null,null,null,null,"Manche 4",null,"Manche 4",null,null,null,null,null,null,null,null,"Manche 4",null,"Manche 4",null,null,null,null,null,null,null,null,"Manche 4",null,"Manche 4",null,null,null,null,null,null,null,null,null,null,null,null,null,null,null,null,null,null,null,null,null,null,null,null,null,null,null,null,null,null,null,null,null,null,null,null,null,null,null,null,null,null,null,null,null,null,null,null,null,null,null,null,null,null,null,null,null,null,null,null,null,null,null,null,null,null,null,null,null,null,null,null,null,null,null,null,null,null,null,null,null,null,null,null,null,null,null,null,null,null,null,null,null,null,null,null,null,{"$f":"IF(CX4=\"EXCELLENCE\",AL2,IF(OR(CX4=\"HONNEUR\",CX4=\"PROMOTIONNORD\",CX4=\"ADULTESDIVISION1NORD\",CX4=\"PROMOTIONSTRASBOURG\",CX4=\"PROMOTIONFINALE\"),AL2,IF(OR(CX4=\"MIXTESD1NORD\",CX4=\"MIXTESD1STRASBOURG\",CX4=\"VETERANSD1STRASBOURG\",CX4=\"VETERANSD2STRASBOURG\",CX4=\"VETERANSD1NORD\",CX4=\"VETERANSD2NORD\",CX4=\"JUNIORS\",CX4=\"CADETS\",CX4=\"MINIMESBENJAMINSPOUSSINS\",CX4=\"MIXTESD1FINALE\",CX4=\"VETERANSD1FINALE\",CX4=\"VETERANSD2FINALE\",CX4=\"JUNIORSFINALE\",CX4=\"CADETSFINALE\",CX4=\"MINIMESBENJAMINSPOUSSINSFINALE\"),\"-\",\"\")))","v":""},{"$f":"IF(CX4=\"EXCELLENCE\",AI2,IF(OR(CX4=\"HONNEUR\",CX4=\"PROMOTIONNORD\",CX4=\"ADULTESDIVISION1NORD\",CX4=\"PROMOTIONSTRASBOURG\",CX4=\"PROMOTIONFINALE\"),AI2,IF(OR(CX4=\"MIXTESD1NORD\",CX4=\"MIXTESD1STRASBOURG\",CX4=\"VETERANSD1STRASBOURG\",CX4=\"VETERANSD2STRASBOURG\",CX4=\"VETERANSD1NORD\",CX4=\"VETERANSD2NORD\",CX4=\"JUNIORS\",CX4=\"CADETS\",CX4=\"MINIMESBENJAMINSPOUSSINS\",CX4=\"MIXTESD1FINALE\",CX4=\"VETERANSD1FINALE\",CX4=\"VETERANSD2FINALE\",CX4=\"JUNIORSFINALE\",CX4=\"CADETSFINALE\",CX4=\"MINIMESBENJAMINSPOUSSINSFINALE\"),\"\",\"\")))","v":""},{"$f":"IF(CX4=\"EXCELLENCE\",AK2,IF(OR(CX4=\"HONNEUR\",CX4=\"PROMOTIONNORD\",CX4=\"ADULTESDIVISION1NORD\",CX4=\"PROMOTIONSTRASBOURG\",CX4=\"PROMOTIONFINALE\"),AK2,IF(OR(CX4=\"MIXTESD1NORD\",CX4=\"MIXTESD1STRASBOURG\",CX4=\"VETERANSD1STRASBOURG\",CX4=\"VETERANSD2STRASBOURG\",CX4=\"VETERANSD1NORD\",CX4=\"VETERANSD2NORD\",CX4=\"JUNIORS\",CX4=\"CADETS\",CX4=\"MINIMESBENJAMINSPOUSSINS\",CX4=\"MIXTESD1FINALE\",CX4=\"VETERANSD1FINALE\",CX4=\"VETERANSD2FINALE\",CX4=\"JUNIORSFINALE\",CX4=\"CADETSFINALE\",CX4=\"MINIMESBENJAMINSPOUSSINSFINALE\"),\"\",\"\")))","v":""},{"$f":"IF(CX4=\"EXCELLENCE\",AJ1,IF(OR(CX4=\"HONNEUR\",CX4=\"PROMOTIONNORD\",CX4=\"ADULTESDIVISION1NORD\",CX4=\"PROMOTIONSTRASBOURG\",CX4=\"PROMOTIONFINALE\"),AJ1,IF(OR(CX4=\"MIXTESD1NORD\",CX4=\"MIXTESD1STRASBOURG\",CX4=\"VETERANSD1STRASBOURG\",CX4=\"VETERANSD2STRASBOURG\",CX4=\"VETERANSD1NORD\",CX4=\"VETERANSD2NORD\",CX4=\"JUNIORS\",CX4=\"CADETS\",CX4=\"MINIMESBENJAMINSPOUSSINS\",CX4=\"MIXTESD1FINALE\",CX4=\"VETERANSD1FINALE\",CX4=\"VETERANSD2FINALE\",CX4=\"JUNIORSFINALE\",CX4=\"CADETSFINALE\",CX4=\"MINIMESBENJAMINSPOUSSINSFINALE\"),\"\",\"\")))","v":""},{"$f":"IF(CX4=\"EXCELLENCE\",CX4,IF(OR(CX4=\"HONNEUR\",CX4=\"PROMOTIONNORD\",CX4=\"ADULTESDIVISION1NORD\",CX4=\"PROMOTIONSTRASBOURG\",CX4=\"PROMOTIONFINALE\"),CX4,IF(OR(CX4=\"MIXTESD1NORD\",CX4=\"MIXTESD1STRASBOURG\",CX4=\"VETERANSD1STRASBOURG\",CX4=\"VETERANSD2STRASBOURG\",CX4=\"VETERANSD1NORD\",CX4=\"VETERANSD2NORD\",CX4=\"JUNIORS\",CX4=\"CADETS\",CX4=\"MINIMESBENJAMINSPOUSSINS\",CX4=\"MIXTESD1FINALE\",CX4=\"VETERANSD1FINALE\",CX4=\"VETERANSD2FINALE\",CX4=\"JUNIORSFINALE\",CX4=\"CADETSFINALE\",CX4=\"MINIMESBENJAMINSPOUSSINSFINALE\"),\"\",\"\")))","v":""},{"$f":"IF(CX4=\"EXCELLENCE\",CW4,IF(OR(CX4=\"HONNEUR\",CX4=\"PROMOTIONNORD\",CX4=\"ADULTESDIVISION1NORD\",CX4=\"PROMOTIONSTRASBOURG\",CX4=\"PROMOTIONFINALE\"),CW4,IF(OR(CX4=\"MIXTESD1NORD\",CX4=\"MIXTESD1STRASBOURG\",CX4=\"VETERANSD1STRASBOURG\",CX4=\"VETERANSD2STRASBOURG\",CX4=\"VETERANSD1NORD\",CX4=\"VETERANSD2NORD\",CX4=\"JUNIORS\",CX4=\"CADETS\",CX4=\"MINIMESBENJAMINSPOUSSINS\",CX4=\"MIXTESD1FINALE\",CX4=\"VETERANSD1FINALE\",CX4=\"VETERANSD2FINALE\",CX4=\"JUNIORSFINALE\",CX4=\"CADETSFINALE\",CX4=\"MINIMESBENJAMINSPOUSSINSFINALE\"),\"\",\"\")))","v":""},"VICTOIRE CONTRE",{"$f":"IF(AM41<AN41,\"\",IF(AND(CX4=\"EXCELLENCE\",AM41>AN41),AJ41,IF(AND(CX4=\"HONNEUR\",AM41>AN41),AJ41,IF(AND(CX4=\"PROMOTIONNORD\",AM41>AN41),AJ41,IF(AND(CX4=\"ADULTESDIVISION1NORD\",AM41>AN41),AJ41,IF(AND(CX4=\"PROMOTIONFINALE\",AM41>AN41),AJ41,IF(AND(CX4=\"PROMOTIONSTRASBOURG\",AM41>AN41),AJ41,IF(OR(CX4=\"MIXTESD1NORD\",CX4=\"MIXTESD1STRASBOURG\",CX4=\"VETERANSD1STRASBOURG\",CX4=\"VETERANSD2STRASBOURG\",CX4=\"VETERANSD1NORD\",CX4=\"VETERANSD2NORD\",CX4=\"JUNIORS\",CX4=\"CADETS\",CX4=\"MINIMESBENJAMINSPOUSSINS\",CX4=\"MIXTESD1FINALE\",CX4=\"VETERANSD1FINALE\",CX4=\"VETERANSD2FINALE\",CX4=\"JUNIORSFINALE\",CX4=\"CADETSFINALE\",CX4=\"MINIMESBENJAMINSPOUSSINSFINALE\"),\"\",\"\"))))))))","v":""},{"$f":"IF(AM41<AN41,\"\",IF(AND(CX4=\"EXCELLENCE\",AM41>AN41),AK41,IF(AND(CX4=\"HONNEUR\",AM41>AN41),AK41,IF(AND(CX4=\"PROMOTIONNORD\",AM41>AN41),AK41,IF(AND(CX4=\"ADULTESDIVISION1NORD\",AM41>AN41),AK41,IF(AND(CX4=\"PROMOTIONFINALE\",AM41>AN41),AK41,IF(AND(CX4=\"PROMOTIONSTRASBOURG\",AM41>AN41),AK41,IF(OR(CX4=\"MIXTESD1NORD\",CX4=\"MIXTESD1STRASBOURG\",CX4=\"VETERANSD1STRASBOURG\",CX4=\"VETERANSD2STRASBOURG\",CX4=\"VETERANSD1NORD\",CX4=\"VETERANSD2NORD\",CX4=\"JUNIORS\",CX4=\"CADETS\",CX4=\"MINIMESBENJAMINSPOUSSINS\",CX4=\"MIXTESD1FINALE\",CX4=\"VETERANSD1FINALE\",CX4=\"VETERANSD2FINALE\",CX4=\"JUNIORSFINALE\",CX4=\"CADETSFINALE\",CX4=\"MINIMESBENJAMINSPOUSSINSFINALE\"),\"\",\"\"))))))))","v":""},{"$f":"IF(AM41<AN41,\"\",IF(AND(CX4=\"EXCELLENCE\",AM41>AN41),AL41,IF(AND(CX4=\"HONNEUR\",AM41>AN41),AL41,IF(AND(CX4=\"PROMOTIONNORD\",AM41>AN41),AL41,IF(AND(CX4=\"ADULTESDIVISION1NORD\",AM41>AN41),AL41,IF(AND(CX4=\"PROMOTIONFINALE\",AM41>AN41),AL41,IF(AND(CX4=\"PROMOTIONSTRASBOURG\",AM41>AN41),AL41,IF(OR(CX4=\"MIXTESD1NORD\",CX4=\"MIXTESD1STRASBOURG\",CX4=\"VETERANSD1STRASBOURG\",CX4=\"VETERANSD2STRASBOURG\",CX4=\"VETERANSD1NORD\",CX4=\"VETERANSD2NORD\",CX4=\"JUNIORS\",CX4=\"CADETS\",CX4=\"MINIMESBENJAMINSPOUSSINS\",CX4=\"MIXTESD1FINALE\",CX4=\"VETERANSD1FINALE\",CX4=\"VETERANSD2FINALE\",CX4=\"JUNIORSFINALE\",CX4=\"CADETSFINALE\",CX4=\"MINIMESBENJAMINSPOUSSINSFINALE\"),\"\",\"\"))))))))","v":""},{"$f":"IF(AM41<AN41,\"\",IF(AND(CX4=\"EXCELLENCE\",AM41>AN41),AP1,IF(AND(CX4=\"HONNEUR\",AM41>AN41),AP1,IF(AND(CX4=\"PROMOTIONNORD\",AM41>AN41),AP1,IF(AND(CX4=\"ADULTESDIVISION1NORD\",AM41>AN41),AP1,IF(AND(CX4=\"PROMOTIONFINALE\",AM41>AN41),AP1,IF(AND(CX4=\"PROMOTIONSTRASBOURG\",AM41>AN41),AP1,IF(OR(CX4=\"MIXTESD1NORD\",CX4=\"MIXTESD1STRASBOURG\",CX4=\"VETERANSD1STRASBOURG\",CX4=\"VETERANSD2STRASBOURG\",CX4=\"VETERANSD1NORD\",CX4=\"VETERANSD2NORD\",CX4=\"JUNIORS\",CX4=\"CADETS\",CX4=\"MINIMESBENJAMINSPOUSSINS\",CX4=\"MIXTESD1FINALE\",CX4=\"VETERANSD1FINALE\",CX4=\"VETERANSD2FINALE\",CX4=\"JUNIORSFINALE\",CX4=\"CADETSFINALE\",CX4=\"MINIMESBENJAMINSPOUSSINSFINALE\"),\"\",\"\"))))))))","v":""},{"$f":"IF(AM41<AN41,\"\",IF(AND(CX4=\"EXCELLENCE\",AM41>AN41),AO41,IF(AND(CX4=\"HONNEUR\",AM41>AN41),AO41,IF(AND(CX4=\"PROMOTIONNORD\",AM41>AN41),AO41,IF(AND(CX4=\"ADULTESDIVISION1NORD\",AM41>AN41),AO41,IF(AND(CX4=\"PROMOTIONFINALE\",AM41>AN41),AO41,IF(AND(CX4=\"PROMOTIONSTRASBOURG\",AM41>AN41),AO41,IF(OR(CX4=\"MIXTESD1NORD\",CX4=\"MIXTESD1STRASBOURG\",CX4=\"VETERANSD1STRASBOURG\",CX4=\"VETERANSD2STRASBOURG\",CX4=\"VETERANSD1NORD\",CX4=\"VETERANSD2NORD\",CX4=\"JUNIORS\",CX4=\"CADETS\",CX4=\"MINIMESBENJAMINSPOUSSINS\",CX4=\"MIXTESD1FINALE\",CX4=\"VETERANSD1FINALE\",CX4=\"VETERANSD2FINALE\",CX4=\"JUNIORSFINALE\",CX4=\"CADETSFINALE\",CX4=\"MINIMESBENJAMINSPOUSSINSFINALE\"),\"\",\"\"))))))))","v":""},{"$f":"IF(AM41<AN41,\"\",IF(AND(CX4=\"EXCELLENCE\",AM41>AN41),AQ41,IF(AND(CX4=\"HONNEUR\",AM41>AN41),AQ41,IF(AND(CX4=\"PROMOTIONNORD\",AM41>AN41),AQ41,IF(AND(CX4=\"ADULTESDIVISION1NORD\",AM41>AN41),AQ41,IF(AND(CX4=\"PROMOTIONFINALE\",AM41>AN41),AQ41,IF(AND(CX4=\"PROMOTIONSTRASBOURG\",AM41>AN41),AQ41,IF(OR(CX4=\"MIXTESD1NORD\",CX4=\"MIXTESD1STRASBOURG\",CX4=\"VETERANSD1STRASBOURG\",CX4=\"VETERANSD2STRASBOURG\",CX4=\"VETERANSD1NORD\",CX4=\"VETERANSD2NORD\",CX4=\"JUNIORS\",CX4=\"CADETS\",CX4=\"MINIMESBENJAMINSPOUSSINS\",CX4=\"MIXTESD1FINALE\",CX4=\"VETERANSD1FINALE\",CX4=\"VETERANSD2FINALE\",CX4=\"JUNIORSFINALE\",CX4=\"CADETSFINALE\",CX4=\"MINIMESBENJAMINSPOUSSINSFINALE\"),\"\",\"\"))))))))","v":""},"DEFAITE CONTRE",{"$f":"IF(AM41>AN41,\"\",IF(AND(CX4=\"EXCELLENCE\",AM41<AN41),AJ41,IF(AND(CX4=\"HONNEUR\",AM41<AN41),AJ41,IF(AND(CX4=\"PROMOTIONNORD\",AM41<AN41),AJ41,IF(AND(CX4=\"ADULTESDIVISION1NORD\",AM41<AN41),AJ41,IF(AND(CX4=\"PROMOTIONSTRASBOURG\",AM41<AN41),AJ41,IF(AND(CX4=\"PROMOTIONFINALE\",AM41<AN41),AJ41,IF(OR(CX4=\"MIXTESD1NORD\",CX4=\"MIXTESD1STRASBOURG\",CX4=\"VETERANSD1STRASBOURG\",CX4=\"VETERANSD2STRASBOURG\",CX4=\"VETERANSD1NORD\",CX4=\"VETERANSD2NORD\",CX4=\"JUNIORS\",CX4=\"CADETS\",CX4=\"MINIMESBENJAMINSPOUSSINS\",CX4=\"MIXTESD1FINALE\",CX4=\"VETERANSD1FINALE\",CX4=\"VETERANSD2FINALE\",CX4=\"JUNIORSFINALE\",CX4=\"CADETSFINALE\",CX4=\"MINIMESBENJAMINSPOUSSINSFINALE\"),\"\",\"\"))))))))","v":""},{"$f":"IF(AM41>AN41,\"\",IF(AND(CX4=\"EXCELLENCE\",AM41<AN41),AK41,IF(AND(CX4=\"HONNEUR\",AM41<AN41),AK41,IF(AND(CX4=\"PROMOTIONNORD\",AM41<AN41),AK41,IF(AND(CX4=\"ADULTESDIVISION1NORD\",AM41<AN41),AK41,IF(AND(CX4=\"PROMOTIONSTRASBOURG\",AM41<AN41),AK41,IF(AND(CX4=\"PROMOTIONFINALE\",AM41<AN41),AK41,IF(OR(CX4=\"MIXTESD1NORD\",CX4=\"MIXTESD1STRASBOURG\",CX4=\"VETERANSD1STRASBOURG\",CX4=\"VETERANSD2STRASBOURG\",CX4=\"VETERANSD1NORD\",CX4=\"VETERANSD2NORD\",CX4=\"JUNIORS\",CX4=\"CADETS\",CX4=\"MINIMESBENJAMINSPOUSSINS\",CX4=\"MIXTESD1FINALE\",CX4=\"VETERANSD1FINALE\",CX4=\"VETERANSD2FINALE\",CX4=\"JUNIORSFINALE\",CX4=\"CADETSFINALE\",CX4=\"MINIMESBENJAMINSPOUSSINSFINALE\"),\"\",\"\"))))))))","v":""},{"$f":"IF(AM41>AN41,\"\",IF(AND(CX4=\"EXCELLENCE\",AM41<AN41),AL41,IF(AND(CX4=\"HONNEUR\",AM41<AN41),AL41,IF(AND(CX4=\"PROMOTIONNORD\",AM41<AN41),AL41,IF(AND(CX4=\"ADULTESDIVISION1NORD\",AM41<AN41),AL41,IF(AND(CX4=\"PROMOTIONSTRASBOURG\",AM41<AN41),AL41,IF(AND(CX4=\"PROMOTIONFINALE\",AM41<AN41),AL41,IF(OR(CX4=\"MIXTESD1NORD\",CX4=\"MIXTESD1STRASBOURG\",CX4=\"VETERANSD1STRASBOURG\",CX4=\"VETERANSD2STRASBOURG\",CX4=\"VETERANSD1NORD\",CX4=\"VETERANSD2NORD\",CX4=\"JUNIORS\",CX4=\"CADETS\",CX4=\"MINIMESBENJAMINSPOUSSINS\",CX4=\"MIXTESD1FINALE\",CX4=\"VETERANSD1FINALE\",CX4=\"VETERANSD2FINALE\",CX4=\"JUNIORSFINALE\",CX4=\"CADETSFINALE\",CX4=\"MINIMESBENJAMINSPOUSSINSFINALE\"),\"\",\"\"))))))))","v":""},{"$f":"IF(AM41>AN41,\"\",IF(AND(CX4=\"EXCELLENCE\",AM41<AN41),AP1,IF(AND(CX4=\"HONNEUR\",AM41<AN41),AP1,IF(AND(CX4=\"PROMOTIONNORD\",AM41<AN41),AP1,IF(AND(CX4=\"ADULTESDIVISION1NORD\",AM41<AN41),AP1,IF(AND(CX4=\"PROMOTIONSTRASBOURG\",AM41<AN41),AP1,IF(AND(CX4=\"PROMOTIONFINALE\",AM41<AN41),AP1,IF(OR(CX4=\"MIXTESD1NORD\",CX4=\"MIXTESD1STRASBOURG\",CX4=\"VETERANSD1STRASBOURG\",CX4=\"VETERANSD2STRASBOURG\",CX4=\"VETERANSD1NORD\",CX4=\"VETERANSD2NORD\",CX4=\"JUNIORS\",CX4=\"CADETS\",CX4=\"MINIMESBENJAMINSPOUSSINS\",CX4=\"MIXTESD1FINALE\",CX4=\"VETERANSD1FINALE\",CX4=\"VETERANSD2FINALE\",CX4=\"JUNIORSFINALE\",CX4=\"CADETSFINALE\",CX4=\"MINIMESBENJAMINSPOUSSINSFINALE\"),\"\",\"\"))))))))","v":""},{"$f":"IF(AM41>AN41,\"\",IF(AND(CX4=\"EXCELLENCE\",AM41<AN41),AP41,IF(AND(CX4=\"HONNEUR\",AM41<AN41),AP41,IF(AND(CX4=\"PROMOTIONNORD\",AM41<AN41),AP41,IF(AND(CX4=\"ADULTESDIVISION1NORD\",AM41<AN41),AP41,IF(AND(CX4=\"PROMOTIONSTRASBOURG\",AM41<AN41),AP41,IF(AND(CX4=\"PROMOTIONFINALE\",AM41<AN41),AP41,IF(OR(CX4=\"MIXTESD1NORD\",CX4=\"MIXTESD1STRASBOURG\",CX4=\"VETERANSD1STRASBOURG\",CX4=\"VETERANSD2STRASBOURG\",CX4=\"VETERANSD1NORD\",CX4=\"VETERANSD2NORD\",CX4=\"JUNIORS\",CX4=\"CADETS\",CX4=\"MINIMESBENJAMINSPOUSSINS\",CX4=\"MIXTESD1FINALE\",CX4=\"VETERANSD1FINALE\",CX4=\"VETERANSD2FINALE\",CX4=\"JUNIORSFINALE\",CX4=\"CADETSFINALE\",CX4=\"MINIMESBENJAMINSPOUSSINSFINALE\"),\"\",\"\"))))))))","v":""},{"$f":"IF(AM41>AN41,\"\",IF(AND(CX4=\"EXCELLENCE\",AM41<AN41),AR41,IF(AND(CX4=\"HONNEUR\",AM41<AN41),AR41,IF(AND(CX4=\"PROMOTIONNORD\",AM41<AN41),AR41,IF(AND(CX4=\"ADULTESDIVISION1NORD\",AM41<AN41),AR41,IF(AND(CX4=\"PROMOTIONSTRASBOURG\",AM41<AN41),AR41,IF(AND(CX4=\"PROMOTIONFINALE\",AM41<AN41),AR41,IF(OR(CX4=\"MIXTESD1NORD\",CX4=\"MIXTESD1STRASBOURG\",CX4=\"VETERANSD1STRASBOURG\",CX4=\"VETERANSD2STRASBOURG\",CX4=\"VETERANSD1NORD\",CX4=\"VETERANSD2NORD\",CX4=\"JUNIORS\",CX4=\"CADETS\",CX4=\"MINIMESBENJAMINSPOUSSINS\",CX4=\"MIXTESD1FINALE\",CX4=\"VETERANSD1FINALE\",CX4=\"VETERANSD2FINALE\",CX4=\"JUNIORSFINALE\",CX4=\"CADETSFINALE\",CX4=\"MINIMESBENJAMINSPOUSSINSFINALE\"),\"\",\"\"))))))))","v":""},3]
[{"$f":"calcules!$U$10","v":"0"},{"$f":"calcules!$V$10","v":"0"},{"$f":"IF($A$13>$B$13,1,0)","v":0},{"$f":"IF($A$13<$B$13,1,0)","v":0},null,null,null,null,null,null,null,null,{"$f":"calcules!$AC$10","v":"0"},{"$f":"calcules!$AD$10","v":"0"},{"$f":"IF($M$13>$N$13,1,0)","v":0},{"$f":"IF($M$13<$N$13,1,0)","v":0},null,null,null,null,null,null,null,{"$f":"calcules!$AG$10","v":"0"},{"$f":"calcules!$AH$10","v":"0"},{"$f":"IF($X$13>$Y$13,1,0)","v":0},{"$f":"IF($X$13<$Y$13,1,0)","v":0},null,null,null,null,null,null,null,{"$f":"calcules!$AK$10","v":"0"},{"$f":"calcules!$AL$10","v":"0"},{"$f":"IF($AI$13>$AJ$13,1,0)","v":0},{"$f":"IF($AI$13<$AJ$13,1,0)","v":0},null,null,null,null,null,null,null,null,null,null,null,null,null,null,null,null,null,null,{"$f":"calcules!$AS$10","v":"0"},{"$f":"calcules!$AT$10","v":"0"},{"$f":"IF($BE$13>$BF$13,1,0)","v":0},{"$f":"IF($BE$13<$BF$13,1,0)","v":0},null,null,null,null,null,null,null,{"$f":"calcules!$AW$10","v":"0"},{"$f":"calcules!$AX$10","v":"0"},{"$f":"IF($BP$13>$BQ$13,1,0)","v":0},{"$f":"IF($BP$13<$BQ$13,1,0)","v":0},null,null,null,null,null,null,null,{"$f":"calcules!$BA$10","v":"0"},{"$f":"calcules!$BB$10","v":"0"},{"$f":"IF($CA$13>$CB$13,1,0)","v":0},{"$f":"IF($CA$13<$CB$13,1,0)","v":0},null,null,null,null,null,null,null,null,null,null,null,null,null,null,null,null,null,null,null,null,null,null,null,null,null,null,null,null,null,null,null,null,null,null,null,null,null,null,null,null,null,null,null,null,null,null,null,null,null,null,null,null,null,null,null,null,null,null,null,null,null,null,null,null,null,null,null,null,null,null,null,null,null,null,null,null,null,null,null,null,null,null,null,null,null,null,null,null,null,null,null,null,null,null,null,null,{"$f":"IF(CX4=\"EXCELLENCE\",BH2,IF(OR(CX4=\"HONNEUR\",CX4=\"PROMOTIONNORD\",CX4=\"ADULTESDIVISION1NORD\",CX4=\"PROMOTIONSTRASBOURG\",CX4=\"PROMOTIONFINALE\"),BH2,IF(OR(CX4=\"MIXTESD1NORD\",CX4=\"MIXTESD1STRASBOURG\",CX4=\"VETERANSD1STRASBOURG\",CX4=\"VETERANSD2STRASBOURG\",CX4=\"VETERANSD1NORD\",CX4=\"VETERANSD2NORD\",CX4=\"JUNIORS\",CX4=\"CADETS\",CX4=\"MINIMESBENJAMINSPOUSSINS\",CX4=\"MIXTESD1FINALE\",CX4=\"VETERANSD1FINALE\",CX4=\"VETERANSD2FINALE\",CX4=\"JUNIORSFINALE\",CX4=\"CADETSFINALE\",CX4=\"MINIMESBENJAMINSPOUSSINSFINALE\"),BH2,\"\")))","v":""},{"$f":"IF(CX4=\"EXCELLENCE\",BE2,IF(OR(CX4=\"HONNEUR\",CX4=\"PROMOTIONNORD\",CX4=\"ADULTESDIVISION1NORD\",CX4=\"PROMOTIONSTRASBOURG\",CX4=\"PROMOTIONFINALE\"),BE2,IF(OR(CX4=\"MIXTESD1NORD\",CX4=\"MIXTESD1STRASBOURG\",CX4=\"VETERANSD1STRASBOURG\",CX4=\"VETERANSD2STRASBOURG\",CX4=\"VETERANSD1NORD\",CX4=\"VETERANSD2NORD\",CX4=\"JUNIORS\",CX4=\"CADETS\",CX4=\"MINIMESBENJAMINSPOUSSINS\",CX4=\"MIXTESD1FINALE\",CX4=\"VETERANSD1FINALE\",CX4=\"VETERANSD2FINALE\",CX4=\"JUNIORSFINALE\",CX4=\"CADETSFINALE\",CX4=\"MINIMESBENJAMINSPOUSSINSFINALE\"),BE2,\"\")))","v":""},{"$f":"IF(CX4=\"EXCELLENCE\",BG2,IF(OR(CX4=\"HONNEUR\",CX4=\"PROMOTIONNORD\",CX4=\"ADULTESDIVISION1NORD\",CX4=\"PROMOTIONSTRASBOURG\",CX4=\"PROMOTIONFINALE\"),BG2,IF(OR(CX4=\"MIXTESD1NORD\",CX4=\"MIXTESD1STRASBOURG\",CX4=\"VETERANSD1STRASBOURG\",CX4=\"VETERANSD2STRASBOURG\",CX4=\"VETERANSD1NORD\",CX4=\"VETERANSD2NORD\",CX4=\"JUNIORS\",CX4=\"CADETS\",CX4=\"MINIMESBENJAMINSPOUSSINS\",CX4=\"MIXTESD1FINALE\",CX4=\"VETERANSD1FINALE\",CX4=\"VETERANSD2FINALE\",CX4=\"JUNIORSFINALE\",CX4=\"CADETSFINALE\",CX4=\"MINIMESBENJAMINSPOUSSINSFINALE\"),BG2,\"\")))","v":""},{"$f":"IF(CX4=\"EXCELLENCE\",BF1,IF(OR(CX4=\"HONNEUR\",CX4=\"PROMOTIONNORD\",CX4=\"ADULTESDIVISION1NORD\",CX4=\"PROMOTIONSTRASBOURG\",CX4=\"PROMOTIONFINALE\"),BF1,IF(OR(CX4=\"MIXTESD1NORD\",CX4=\"MIXTESD1STRASBOURG\",CX4=\"VETERANSD1STRASBOURG\",CX4=\"VETERANSD2STRASBOURG\",CX4=\"VETERANSD1NORD\",CX4=\"VETERANSD2NORD\",CX4=\"JUNIORS\",CX4=\"CADETS\",CX4=\"MINIMESBENJAMINSPOUSSINS\",CX4=\"MIXTESD1FINALE\",CX4=\"VETERANSD1FINALE\",CX4=\"VETERANSD2FINALE\",CX4=\"JUNIORSFINALE\",CX4=\"CADETSFINALE\",CX4=\"MINIMESBENJAMINSPOUSSINSFINALE\"),BF1,\"\")))","v":""},{"$f":"IF(CX4=\"EXCELLENCE\",CX4,IF(OR(CX4=\"HONNEUR\",CX4=\"PROMOTIONNORD\",CX4=\"ADULTESDIVISION1NORD\",CX4=\"PROMOTIONSTRASBOURG\",CX4=\"PROMOTIONFINALE\"),CX4,IF(OR(CX4=\"MIXTESD1NORD\",CX4=\"MIXTESD1STRASBOURG\",CX4=\"VETERANSD1STRASBOURG\",CX4=\"VETERANSD2STRASBOURG\",CX4=\"VETERANSD1NORD\",CX4=\"VETERANSD2NORD\",CX4=\"JUNIORS\",CX4=\"CADETS\",CX4=\"MINIMESBENJAMINSPOUSSINS\",CX4=\"MIXTESD1FINALE\",CX4=\"VETERANSD1FINALE\",CX4=\"VETERANSD2FINALE\",CX4=\"JUNIORSFINALE\",CX4=\"CADETSFINALE\",CX4=\"MINIMESBENJAMINSPOUSSINSFINALE\"),CX4,\"\")))","v":""},{"$f":"IF(CX4=\"EXCELLENCE\",CW4,IF(OR(CX4=\"HONNEUR\",CX4=\"PROMOTIONNORD\",CX4=\"ADULTESDIVISION1NORD\",CX4=\"PROMOTIONSTRASBOURG\",CX4=\"PROMOTIONFINALE\"),CW4,IF(OR(CX4=\"MIXTESD1NORD\",CX4=\"MIXTESD1STRASBOURG\",CX4=\"VETERANSD1STRASBOURG\",CX4=\"VETERANSD2STRASBOURG\",CX4=\"VETERANSD1NORD\",CX4=\"VETERANSD2NORD\",CX4=\"JUNIORS\",CX4=\"CADETS\",CX4=\"MINIMESBENJAMINSPOUSSINS\",CX4=\"MIXTESD1FINALE\",CX4=\"VETERANSD1FINALE\",CX4=\"VETERANSD2FINALE\",CX4=\"JUNIORSFINALE\",CX4=\"CADETSFINALE\",CX4=\"MINIMESBENJAMINSPOUSSINSFINALE\"),CW4,\"\")))","v":""},"VICTOIRE CONTRE",{"$f":"IF(BI5<BJ5,\"\",IF(AND(CX4=\"EXCELLENCE\",BI5>BJ5),BF5,IF(AND(CX4=\"HONNEUR\",BI5>BJ5),BF5,IF(AND(CX4=\"PROMOTIONNORD\",BI5>BJ5),BF5,IF(AND(CX4=\"ADULTESDIVISION1NORD\",BI5>BJ5),BF5,IF(AND(CX4=\"PROMOTIONSTRASBOURG\",BI5>BJ5),BF5,IF(AND(CX4=\"MIXTESD1NORD\",BI5>BJ5),BF5,IF(AND(CX4=\"MIXTESD1STRASBOURG\",BI5>BJ5),BF5,IF(AND(CX4=\"VETERANSD1STRASBOURG\",BI5>BJ5),BF5,IF(AND(CX4=\"VETERANSD2STRASBOURG\",BI5>BJ5),BF5,IF(AND(CX4=\"VETERANSD1NORD\",BI5>BJ5),BF5,IF(AND(CX4=\"VETERANSD2NORD\",BI5>BJ5),BF5,IF(AND(CX4=\"JUNIORS\",BI5>BJ5),BF5,IF(AND(CX4=\"CADETS\",BI5>BJ5),BF5,IF(AND(CX4=\"MINIMESBENJAMINSPOUSSINS\",BI5>BJ5),BF5,IF(AND(CX4=\"PROMOTIONFINALE\",BI5>BJ5),BF5,IF(AND(CX4=\"MIXTESD1FINALE\",BI5>BJ5),BF5,IF(AND(CX4=\"VETERANSD1FINALE\",BI5>BJ5),BF5,IF(AND(CX4=\"VETERANSD2FINALE\",BI5>BJ5),BF5,IF(AND(CX4=\"JUNIORSFINALE\",BI5>BJ5),BF5,IF(AND(CX4=\"CADETSFINALE\",BI5>BJ5),BF5,IF(AND(CX4=\"MINIMESBENJAMINSPOUSSINSFINALE\",BI5>BJ5),BF5,\"\"))))))))))))))))))))))","v":""},{"$f":"IF(BI5<BJ5,\"\",IF(AND(CX4=\"EXCELLENCE\",BI5>BJ5),BG5,IF(AND(CX4=\"HONNEUR\",BI5>BJ5),BG5,IF(AND(CX4=\"PROMOTIONNORD\",BI5>BJ5),BG5,IF(AND(CX4=\"ADULTESDIVISION1NORD\",BI5>BJ5),BG5,IF(AND(CX4=\"PROMOTIONSTRASBOURG\",BI5>BJ5),BG5,IF(AND(CX4=\"MIXTESD1NORD\",BI5>BJ5),BG5,IF(AND(CX4=\"MIXTESD1STRASBOURG\",BI5>BJ5),BG5,IF(AND(CX4=\"VETERANSD1STRASBOURG\",BI5>BJ5),BG5,IF(AND(CX4=\"VETERANSD2STRASBOURG\",BI5>BJ5),BG5,IF(AND(CX4=\"VETERANSD1NORD\",BI5>BJ5),BG5,IF(AND(CX4=\"VETERANSD2NORD\",BI5>BJ5),BG5,IF(AND(CX4=\"JUNIORS\",BI5>BJ5),BG5,IF(AND(CX4=\"CADETS\",BI5>BJ5),BG5,IF(AND(CX4=\"MINIMESBENJAMINSPOUSSINS\",BI5>BJ5),BG5,IF(AND(CX4=\"PROMOTIONFINALE\",BI5>BJ5),BG5,IF(AND(CX4=\"MIXTESD1FINALE\",BI5>BJ5),BG5,IF(AND(CX4=\"VETERANSD1FINALE\",BI5>BJ5),BG5,IF(AND(CX4=\"VETERANSD2FINALE\",BI5>BJ5),BG5,IF(AND(CX4=\"JUNIORSFINALE\",BI5>BJ5),BG5,IF(AND(CX4=\"CADETSFINALE\",BI5>BJ5),BG5,IF(AND(CX4=\"MINIMESBENJAMINSPOUSSINSFINALE\",BI5>BJ5),BG5,\"\"))))))))))))))))))))))","v":""},{"$f":"IF(BI5<BJ5,\"\",IF(AND(CX4=\"EXCELLENCE\",BI5>BJ5),BH5,IF(AND(CX4=\"HONNEUR\",BI5>BJ5),BH5,IF(AND(CX4=\"PROMOTIONNORD\",BI5>BJ5),BH5,IF(AND(CX4=\"ADULTESDIVISION1NORD\",BI5>BJ5),BH5,IF(AND(CX4=\"PROMOTIONSTRASBOURG\",BI5>BJ5),BH5,IF(AND(CX4=\"MIXTESD1NORD\",BI5>BJ5),BH5,IF(AND(CX4=\"MIXTESD1STRASBOURG\",BI5>BJ5),BH5,IF(AND(CX4=\"VETERANSD1STRASBOURG\",BI5>BJ5),BH5,IF(AND(CX4=\"VETERANSD2STRASBOURG\",BI5>BJ5),BH5,IF(AND(CX4=\"VETERANSD1NORD\",BI5>BJ5),BH5,IF(AND(CX4=\"VETERANSD2NORD\",BI5>BJ5),BH5,IF(AND(CX4=\"JUNIORS\",BI5>BJ5),BH5,IF(AND(CX4=\"CADETS\",BI5>BJ5),BH5,IF(AND(CX4=\"MINIMESBENJAMINSPOUSSINS\",BI5>BJ5),BH5,IF(AND(CX4=\"PROMOTIONFINALE\",BI5>BJ5),BH5,IF(AND(CX4=\"MIXTESD1FINALE\",BI5>BJ5),BH5,IF(AND(CX4=\"VETERANSD1FINALE\",BI5>BJ5),BH5,IF(AND(CX4=\"VETERANSD2FINALE\",BI5>BJ5),BH5,IF(AND(CX4=\"JUNIORSFINALE\",BI5>BJ5),BH5,IF(AND(CX4=\"CADETSFINALE\",BI5>BJ5),BH5,IF(AND(CX4=\"MINIMESBENJAMINSPOUSSINSFINALE\",BI5>BJ5),BH5,\"\"))))))))))))))))))))))","v":""},{"$f":"IF(BI5<BJ5,\"\",IF(AND(CX4=\"EXCELLENCE\",BI5>BJ5),BL1,IF(AND(CX4=\"HONNEUR\",BI5>BJ5),BL1,IF(AND(CX4=\"PROMOTIONNORD\",BI5>BJ5),BL1,IF(AND(CX4=\"ADULTESDIVISION1NORD\",BI5>BJ5),BL1,IF(AND(CX4=\"PROMOTIONSTRASBOURG\",BI5>BJ5),BL1,IF(AND(CX4=\"MIXTESD1NORD\",BI5>BJ5),BL1,IF(AND(CX4=\"MIXTESD1STRASBOURG\",BI5>BJ5),BL1,IF(AND(CX4=\"VETERANSD1STRASBOURG\",BI5>BJ5),BL1,IF(AND(CX4=\"VETERANSD2STRASBOURG\",BI5>BJ5),BL1,IF(AND(CX4=\"VETERANSD1NORD\",BI5>BJ5),BL1,IF(AND(CX4=\"VETERANSD2NORD\",BI5>BJ5),BL1,IF(AND(CX4=\"JUNIORS\",BI5>BJ5),BL1,IF(AND(CX4=\"CADETS\",BI5>BJ5),BL1,IF(AND(CX4=\"MINIMESBENJAMINSPOUSSINS\",BI5>BJ5),BL1,IF(AND(CX4=\"PROMOTIONFINALE\",BI5>BJ5),BL1,IF(AND(CX4=\"MIXTESD1FINALE\",BI5>BJ5),BL1,IF(AND(CX4=\"VETERANSD1FINALE\",BI5>BJ5),BL1,IF(AND(CX4=\"VETERANSD2FINALE\",BI5>BJ5),BL1,IF(AND(CX4=\"JUNIORSFINALE\",BI5>BJ5),BL1,IF(AND(CX4=\"CADETSFINALE\",BI5>BJ5),BL1,IF(AND(CX4=\"MINIMESBENJAMINSPOUSSINSFINALE\",BI5>BJ5),BL1,\"\"))))))))))))))))))))))","v":""},{"$f":"IF(BI5<BJ5,\"\",IF(AND(CX4=\"EXCELLENCE\",BI5>BJ5),BK5,IF(AND(CX4=\"HONNEUR\",BI5>BJ5),BK5,IF(AND(CX4=\"PROMOTIONNORD\",BI5>BJ5),BK5,IF(AND(CX4=\"ADULTESDIVISION1NORD\",BI5>BJ5),BK5,IF(AND(CX4=\"PROMOTIONSTRASBOURG\",BI5>BJ5),BK5,IF(AND(CX4=\"MIXTESD1NORD\",BI5>BJ5),BK5,IF(AND(CX4=\"MIXTESD1STRASBOURG\",BI5>BJ5),BK5,IF(AND(CX4=\"VETERANSD1STRASBOURG\",BI5>BJ5),BK5,IF(AND(CX4=\"VETERANSD2STRASBOURG\",BI5>BJ5),BK5,IF(AND(CX4=\"VETERANSD1NORD\",BI5>BJ5),BK5,IF(AND(CX4=\"VETERANSD2NORD\",BI5>BJ5),BK5,IF(AND(CX4=\"JUNIORS\",BI5>BJ5),BK5,IF(AND(CX4=\"CADETS\",BI5>BJ5),BK5,IF(AND(CX4=\"MINIMESBENJAMINSPOUSSINS\",BI5>BJ5),BK5,IF(AND(CX4=\"PROMOTIONFINALE\",BI5>BJ5),BK5,IF(AND(CX4=\"MIXTESD1FINALE\",BI5>BJ5),BK5,IF(AND(CX4=\"VETERANSD1FINALE\",BI5>BJ5),BK5,IF(AND(CX4=\"VETERANSD2FINALE\",BI5>BJ5),BK5,IF(AND(CX4=\"JUNIORSFINALE\",BI5>BJ5),BK5,IF(AND(CX4=\"CADETSFINALE\",BI5>BJ5),BK5,IF(AND(CX4=\"MINIMESBENJAMINSPOUSSINSFINALE\",BI5>BJ5),BK5,\"\"))))))))))))))))))))))","v":""},{"$f":"IF(BI5<BJ5,\"\",IF(AND(CX4=\"EXCELLENCE\",BI5>BJ5),BM5,IF(AND(CX4=\"HONNEUR\",BI5>BJ5),BM5,IF(AND(CX4=\"PROMOTIONNORD\",BI5>BJ5),BM5,IF(AND(CX4=\"ADULTESDIVISION1NORD\",BI5>BJ5),BM5,IF(AND(CX4=\"PROMOTIONSTRASBOURG\",BI5>BJ5),BM5,IF(AND(CX4=\"MIXTESD1NORD\",BI5>BJ5),BM5,IF(AND(CX4=\"MIXTESD1STRASBOURG\",BI5>BJ5),BM5,IF(AND(CX4=\"VETERANSD1STRASBOURG\",BI5>BJ5),BM5,IF(AND(CX4=\"VETERANSD2STRASBOURG\",BI5>BJ5),BM5,IF(AND(CX4=\"VETERANSD1NORD\",BI5>BJ5),BM5,IF(AND(CX4=\"VETERANSD2NORD\",BI5>BJ5),BM5,IF(AND(CX4=\"JUNIORS\",BI5>BJ5),BM5,IF(AND(CX4=\"CADETS\",BI5>BJ5),BM5,IF(AND(CX4=\"MINIMESBENJAMINSPOUSSINS\",BI5>BJ5),BM5,IF(AND(CX4=\"PROMOTIONFINALE\",BI5>BJ5),BM5,IF(AND(CX4=\"MIXTESD1FINALE\",BI5>BJ5),BM5,IF(AND(CX4=\"VETERANSD1FINALE\",BI5>BJ5),BM5,IF(AND(CX4=\"VETERANSD2FINALE\",BI5>BJ5),BM5,IF(AND(CX4=\"JUNIORSFINALE\",BI5>BJ5),BM5,IF(AND(CX4=\"CADETSFINALE\",BI5>BJ5),BM5,IF(AND(CX4=\"MINIMESBENJAMINSPOUSSINSFINALE\",BI5>BJ5),BM5,\"\"))))))))))))))))))))))","v":""},"DEFAITE CONTRE",{"$f":"IF(BI5>BJ5,\"\",IF(AND(CX4=\"EXCELLENCE\",BI5<BJ5),BF5,IF(AND(CX4=\"HONNEUR\",BI5<BJ5),BF5,IF(AND(CX4=\"PROMOTIONNORD\",BI5<BJ5),BF5,IF(AND(CX4=\"ADULTESDIVISION1NORD\",BI5<BJ5),BF5,IF(AND(CX4=\"PROMOTIONSTRASBOURG\",BI5<BJ5),BF5,IF(AND(CX4=\"PROMOTIONFINALE\",BI5<BJ5),BF5,IF(AND(CX4=\"MIXTESD1NORD\",BI5<BJ5),BF5,IF(AND(CX4=\"MIXTESD1STRASBOURG\",BI5<BJ5),BF5,IF(AND(CX4=\"VETERANSD1STRASBOURG\",BI5<BJ5),BF5,IF(AND(CX4=\"VETERANSD2STRASBOURG\",BI5<BJ5),BF5,IF(AND(CX4=\"VETERANSD1NORD\",BI5<BJ5),BF5,IF(AND(CX4=\"VETERANSD2NORD\",BI5<BJ5),BF5,IF(AND(CX4=\"JUNIORS\",BI5<BJ5),BF5,IF(AND(CX4=\"CADETS\",BI5<BJ5),BF5,IF(AND(CX4=\"MINIMESBENJAMINSPOUSSINS\",BI5<BJ5),BF5,IF(AND(CX4=\"MIXTESD1FINALE\",BI5<BJ5),BF5,IF(AND(CX4=\"VETERANSD1FINALE\",BI5<BJ5),BF5,IF(AND(CX4=\"VETERANSD2FINALE\",BI5<BJ5),BF5,IF(AND(CX4=\"JUNIORSFINALE\",BI5<BJ5),BF5,IF(AND(CX4=\"CADETSFINALE\",BI5<BJ5),BF5,IF(AND(CX4=\"MINIMESBENJAMINSPOUSSINSFINALE\",BI5<BJ5),BF5,\"\"))))))))))))))))))))))","v":""},{"$f":"IF(BI5>BJ5,\"\",IF(AND(CX4=\"EXCELLENCE\",BI5<BJ5),BG5,IF(AND(CX4=\"HONNEUR\",BI5<BJ5),BG5,IF(AND(CX4=\"PROMOTIONNORD\",BI5<BJ5),BG5,IF(AND(CX4=\"ADULTESDIVISION1NORD\",BI5<BJ5),BG5,IF(AND(CX4=\"PROMOTIONSTRASBOURG\",BI5<BJ5),BG5,IF(AND(CX4=\"PROMOTIONFINALE\",BI5<BJ5),BG5,IF(AND(CX4=\"MIXTESD1NORD\",BI5<BJ5),BG5,IF(AND(CX4=\"MIXTESD1STRASBOURG\",BI5<BJ5),BG5,IF(AND(CX4=\"VETERANSD1STRASBOURG\",BI5<BJ5),BG5,IF(AND(CX4=\"VETERANSD2STRASBOURG\",BI5<BJ5),BG5,IF(AND(CX4=\"VETERANSD1NORD\",BI5<BJ5),BG5,IF(AND(CX4=\"VETERANSD2NORD\",BI5<BJ5),BG5,IF(AND(CX4=\"JUNIORS\",BI5<BJ5),BG5,IF(AND(CX4=\"CADETS\",BI5<BJ5),BG5,IF(AND(CX4=\"MINIMESBENJAMINSPOUSSINS\",BI5<BJ5),BG5,IF(AND(CX4=\"MIXTESD1FINALE\",BI5<BJ5),BG5,IF(AND(CX4=\"VETERANSD1FINALE\",BI5<BJ5),BG5,IF(AND(CX4=\"VETERANSD2FINALE\",BI5<BJ5),BG5,IF(AND(CX4=\"JUNIORSFINALE\",BI5<BJ5),BG5,IF(AND(CX4=\"CADETSFINALE\",BI5<BJ5),BG5,IF(AND(CX4=\"MINIMESBENJAMINSPOUSSINSFINALE\",BI5<BJ5),BG5,\"\"))))))))))))))))))))))","v":""},{"$f":"IF(BI5>BJ5,\"\",IF(AND(CX4=\"EXCELLENCE\",BI5<BJ5),BH5,IF(AND(CX4=\"HONNEUR\",BI5<BJ5),BH5,IF(AND(CX4=\"PROMOTIONNORD\",BI5<BJ5),BH5,IF(AND(CX4=\"ADULTESDIVISION1NORD\",BI5<BJ5),BH5,IF(AND(CX4=\"PROMOTIONSTRASBOURG\",BI5<BJ5),BH5,IF(AND(CX4=\"PROMOTIONFINALE\",BI5<BJ5),BH5,IF(AND(CX4=\"MIXTESD1NORD\",BI5<BJ5),BH5,IF(AND(CX4=\"MIXTESD1STRASBOURG\",BI5<BJ5),BH5,IF(AND(CX4=\"VETERANSD1STRASBOURG\",BI5<BJ5),BH5,IF(AND(CX4=\"VETERANSD2STRASBOURG\",BI5<BJ5),BH5,IF(AND(CX4=\"VETERANSD1NORD\",BI5<BJ5),BH5,IF(AND(CX4=\"VETERANSD2NORD\",BI5<BJ5),BH5,IF(AND(CX4=\"JUNIORS\",BI5<BJ5),BH5,IF(AND(CX4=\"CADETS\",BI5<BJ5),BH5,IF(AND(CX4=\"MINIMESBENJAMINSPOUSSINS\",BI5<BJ5),BH5,IF(AND(CX4=\"MIXTESD1FINALE\",BI5<BJ5),BH5,IF(AND(CX4=\"VETERANSD1FINALE\",BI5<BJ5),BH5,IF(AND(CX4=\"VETERANSD2FINALE\",BI5<BJ5),BH5,IF(AND(CX4=\"JUNIORSFINALE\",BI5<BJ5),BH5,IF(AND(CX4=\"CADETSFINALE\",BI5<BJ5),BH5,IF(AND(CX4=\"MINIMESBENJAMINSPOUSSINSFINALE\",BI5<BJ5),BH5,\"\"))))))))))))))))))))))","v":""},{"$f":"IF(BI5>BJ5,\"\",IF(AND(CX4=\"EXCELLENCE\",BI5<BJ5),BL1,IF(AND(CX4=\"HONNEUR\",BI5<BJ5),BL1,IF(AND(CX4=\"PROMOTIONNORD\",BI5<BJ5),BL1,IF(AND(CX4=\"ADULTESDIVISION1NORD\",BI5<BJ5),BL1,IF(AND(CX4=\"PROMOTIONSTRASBOURG\",BI5<BJ5),BL1,IF(AND(CX4=\"PROMOTIONFINALE\",BI5<BJ5),BL1,IF(AND(CX4=\"MIXTESD1NORD\",BI5<BJ5),BL1,IF(AND(CX4=\"MIXTESD1STRASBOURG\",BI5<BJ5),BL1,IF(AND(CX4=\"VETERANSD1STRASBOURG\",BI5<BJ5),BL1,IF(AND(CX4=\"VETERANSD2STRASBOURG\",BI5<BJ5),BL1,IF(AND(CX4=\"VETERANSD1NORD\",BI5<BJ5),BL1,IF(AND(CX4=\"VETERANSD2NORD\",BI5<BJ5),BL1,IF(AND(CX4=\"JUNIORS\",BI5<BJ5),BL1,IF(AND(CX4=\"CADETS\",BI5<BJ5),BL1,IF(AND(CX4=\"MINIMESBENJAMINSPOUSSINS\",BI5<BJ5),BL1,IF(AND(CX4=\"MIXTESD1FINALE\",BI5<BJ5),BL1,IF(AND(CX4=\"VETERANSD1FINALE\",BI5<BJ5),BL1,IF(AND(CX4=\"VETERANSD2FINALE\",BI5<BJ5),BL1,IF(AND(CX4=\"JUNIORSFINALE\",BI5<BJ5),BL1,IF(AND(CX4=\"CADETSFINALE\",BI5<BJ5),BL1,IF(AND(CX4=\"MINIMESBENJAMINSPOUSSINSFINALE\",BI5<BJ5),BL1,\"\"))))))))))))))))))))))","v":""},{"$f":"IF(BI5>BJ5,\"\",IF(AND(CX4=\"EXCELLENCE\",BI5<BJ5),BL5,IF(AND(CX4=\"HONNEUR\",BI5<BJ5),BL5,IF(AND(CX4=\"PROMOTIONNORD\",BI5<BJ5),BL5,IF(AND(CX4=\"ADULTESDIVISION1NORD\",BI5<BJ5),BL5,IF(AND(CX4=\"PROMOTIONSTRASBOURG\",BI5<BJ5),BL5,IF(AND(CX4=\"PROMOTIONFINALE\",BI5<BJ5),BL5,IF(AND(CX4=\"MIXTESD1NORD\",BI5<BJ5),BL5,IF(AND(CX4=\"MIXTESD1STRASBOURG\",BI5<BJ5),BL5,IF(AND(CX4=\"VETERANSD1STRASBOURG\",BI5<BJ5),BL5,IF(AND(CX4=\"VETERANSD2STRASBOURG\",BI5<BJ5),BL5,IF(AND(CX4=\"VETERANSD1NORD\",BI5<BJ5),BL5,IF(AND(CX4=\"VETERANSD2NORD\",BI5<BJ5),BL5,IF(AND(CX4=\"JUNIORS\",BI5<BJ5),BL5,IF(AND(CX4=\"CADETS\",BI5<BJ5),BL5,IF(AND(CX4=\"MINIMESBENJAMINSPOUSSINS\",BI5<BJ5),BL5,IF(AND(CX4=\"MIXTESD1FINALE\",BI5<BJ5),BL5,IF(AND(CX4=\"VETERANSD1FINALE\",BI5<BJ5),BL5,IF(AND(CX4=\"VETERANSD2FINALE\",BI5<BJ5),BL5,IF(AND(CX4=\"JUNIORSFINALE\",BI5<BJ5),BL5,IF(AND(CX4=\"CADETSFINALE\",BI5<BJ5),BL5,IF(AND(CX4=\"MINIMESBENJAMINSPOUSSINSFINALE\",BI5<BJ5),BL5,\"\"))))))))))))))))))))))","v":""},{"$f":"IF(BI5>BJ5,\"\",IF(AND(CX4=\"EXCELLENCE\",BI5<BJ5),BN5,IF(AND(CX4=\"HONNEUR\",BI5<BJ5),BN5,IF(AND(CX4=\"PROMOTIONNORD\",BI5<BJ5),BN5,IF(AND(CX4=\"ADULTESDIVISION1NORD\",BI5<BJ5),BN5,IF(AND(CX4=\"PROMOTIONSTRASBOURG\",BI5<BJ5),BN5,IF(AND(CX4=\"PROMOTIONFINALE\",BI5<BJ5),BN5,IF(AND(CX4=\"MIXTESD1NORD\",BI5<BJ5),BN5,IF(AND(CX4=\"MIXTESD1STRASBOURG\",BI5<BJ5),BN5,IF(AND(CX4=\"VETERANSD1STRASBOURG\",BI5<BJ5),BN5,IF(AND(CX4=\"VETERANSD2STRASBOURG\",BI5<BJ5),BN5,IF(AND(CX4=\"VETERANSD1NORD\",BI5<BJ5),BN5,IF(AND(CX4=\"VETERANSD2NORD\",BI5<BJ5),BN5,IF(AND(CX4=\"JUNIORS\",BI5<BJ5),BN5,IF(AND(CX4=\"CADETS\",BI5<BJ5),BN5,IF(AND(CX4=\"MINIMESBENJAMINSPOUSSINS\",BI5<BJ5),BN5,IF(AND(CX4=\"MIXTESD1FINALE\",BI5<BJ5),BN5,IF(AND(CX4=\"VETERANSD1FINALE\",BI5<BJ5),BN5,IF(AND(CX4=\"VETERANSD2FINALE\",BI5<BJ5),BN5,IF(AND(CX4=\"JUNIORSFINALE\",BI5<BJ5),BN5,IF(AND(CX4=\"CADETSFINALE\",BI5<BJ5),BN5,IF(AND(CX4=\"MINIMESBENJAMINSPOUSSINSFINALE\",BI5<BJ5),BN5,\"\"))))))))))))))))))))))","v":""},1]
["Manche 5",null,"Manche 5",null,null,null,null,null,null,null,null,null,"Manche 5",null,"Manche 5",null,null,null,null,null,null,null,null,"Manche 5",null,"Manche 5",null,null,null,null,null,null,null,null,"Manche 5",null,"Manche 5",null,null,null,null,null,null,null,null,null,null,null,null,null,null,null,null,null,null,null,"Manche 5",null,"Manche 5",null,null,null,null,null,null,null,null,"Manche 5",null,"Manche 5",null,null,null,null,null,null,null,null,"Manche 5",null,"Manche 5",null,null,null,null,null,null,null,null,null,null,null,null,null,null,null,null,null,null,null,null,null,null,null,null,null,null,null,null,null,null,null,null,null,null,null,null,null,null,null,null,null,null,null,null,null,null,null,null,null,null,null,null,null,null,null,null,null,null,null,null,null,null,null,null,null,null,null,null,null,null,null,null,null,null,null,null,null,null,null,null,null,null,null,null,null,null,null,null,null,null,null,null,null,null,null,null,null,{"$f":"IF(CX4=\"EXCELLENCE\",BH2,IF(OR(CX4=\"HONNEUR\",CX4=\"PROMOTIONNORD\",CX4=\"ADULTESDIVISION1NORD\",CX4=\"PROMOTIONSTRASBOURG\",CX4=\"PROMOTIONFINALE\"),BH2,IF(OR(CX4=\"MIXTESD1NORD\",CX4=\"MIXTESD1STRASBOURG\",CX4=\"VETERANSD1STRASBOURG\",CX4=\"VETERANSD2STRASBOURG\",CX4=\"VETERANSD1NORD\",CX4=\"VETERANSD2NORD\",CX4=\"JUNIORS\",CX4=\"CADETS\",CX4=\"MINIMESBENJAMINSPOUSSINS\",CX4=\"MIXTESD1FINALE\",CX4=\"VETERANSD1FINALE\",CX4=\"VETERANSD2FINALE\",CX4=\"JUNIORSFINALE\",CX4=\"CADETSFINALE\",CX4=\"MINIMESBENJAMINSPOUSSINSFINALE\"),BH2,\"\")))","v":""},{"$f":"IF(CX4=\"EXCELLENCE\",BE2,IF(OR(CX4=\"HONNEUR\",CX4=\"PROMOTIONNORD\",CX4=\"ADULTESDIVISION1NORD\",CX4=\"PROMOTIONSTRASBOURG\",CX4=\"PROMOTIONFINALE\"),BE2,IF(OR(CX4=\"MIXTESD1NORD\",CX4=\"MIXTESD1STRASBOURG\",CX4=\"VETERANSD1STRASBOURG\",CX4=\"VETERANSD2STRASBOURG\",CX4=\"VETERANSD1NORD\",CX4=\"VETERANSD2NORD\",CX4=\"JUNIORS\",CX4=\"CADETS\",CX4=\"MINIMESBENJAMINSPOUSSINS\",CX4=\"MIXTESD1FINALE\",CX4=\"VETERANSD1FINALE\",CX4=\"VETERANSD2FINALE\",CX4=\"JUNIORSFINALE\",CX4=\"CADETSFINALE\",CX4=\"MINIMESBENJAMINSPOUSSINSFINALE\"),BE2,\"\")))","v":""},{"$f":"IF(CX4=\"EXCELLENCE\",BG2,IF(OR(CX4=\"HONNEUR\",CX4=\"PROMOTIONNORD\",CX4=\"ADULTESDIVISION1NORD\",CX4=\"PROMOTIONSTRASBOURG\",CX4=\"PROMOTIONFINALE\"),BG2,IF(OR(CX4=\"MIXTESD1NORD\",CX4=\"MIXTESD1STRASBOURG\",CX4=\"VETERANSD1STRASBOURG\",CX4=\"VETERANSD2STRASBOURG\",CX4=\"VETERANSD1NORD\",CX4=\"VETERANSD2NORD\",CX4=\"JUNIORS\",CX4=\"CADETS\",CX4=\"MINIMESBENJAMINSPOUSSINS\",CX4=\"MIXTESD1FINALE\",CX4=\"VETERANSD1FINALE\",CX4=\"VETERANSD2FINALE\",CX4=\"JUNIORSFINALE\",CX4=\"CADETSFINALE\",CX4=\"MINIMESBENJAMINSPOUSSINSFINALE\"),BG2,\"\")))","v":""},{"$f":"IF(CX4=\"EXCELLENCE\",BF1,IF(OR(CX4=\"HONNEUR\",CX4=\"PROMOTIONNORD\",CX4=\"ADULTESDIVISION1NORD\",CX4=\"PROMOTIONSTRASBOURG\",CX4=\"PROMOTIONFINALE\"),BF1,IF(OR(CX4=\"MIXTESD1NORD\",CX4=\"MIXTESD1STRASBOURG\",CX4=\"VETERANSD1STRASBOURG\",CX4=\"VETERANSD2STRASBOURG\",CX4=\"VETERANSD1NORD\",CX4=\"VETERANSD2NORD\",CX4=\"JUNIORS\",CX4=\"CADETS\",CX4=\"MINIMESBENJAMINSPOUSSINS\",CX4=\"MIXTESD1FINALE\",CX4=\"VETERANSD1FINALE\",CX4=\"VETERANSD2FINALE\",CX4=\"JUNIORSFINALE\",CX4=\"CADETSFINALE\",CX4=\"MINIMESBENJAMINSPOUSSINSFINALE\"),BF1,\"\")))","v":""},{"$f":"IF(CX4=\"EXCELLENCE\",CX4,IF(OR(CX4=\"HONNEUR\",CX4=\"PROMOTIONNORD\",CX4=\"ADULTESDIVISION1NORD\",CX4=\"PROMOTIONSTRASBOURG\",CX4=\"PROMOTIONFINALE\"),CX4,IF(OR(CX4=\"MIXTESD1NORD\",CX4=\"MIXTESD1STRASBOURG\",CX4=\"VETERANSD1STRASBOURG\",CX4=\"VETERANSD2STRASBOURG\",CX4=\"VETERANSD1NORD\",CX4=\"VETERANSD2NORD\",CX4=\"JUNIORS\",CX4=\"CADETS\",CX4=\"MINIMESBENJAMINSPOUSSINS\",CX4=\"MIXTESD1FINALE\",CX4=\"VETERANSD1FINALE\",CX4=\"VETERANSD2FINALE\",CX4=\"JUNIORSFINALE\",CX4=\"CADETSFINALE\",CX4=\"MINIMESBENJAMINSPOUSSINSFINALE\"),CX4,\"\")))","v":""},{"$f":"IF(CX4=\"EXCELLENCE\",CW4,IF(OR(CX4=\"HONNEUR\",CX4=\"PROMOTIONNORD\",CX4=\"ADULTESDIVISION1NORD\",CX4=\"PROMOTIONSTRASBOURG\",CX4=\"PROMOTIONFINALE\"),CW4,IF(OR(CX4=\"MIXTESD1NORD\",CX4=\"MIXTESD1STRASBOURG\",CX4=\"VETERANSD1STRASBOURG\",CX4=\"VETERANSD2STRASBOURG\",CX4=\"VETERANSD1NORD\",CX4=\"VETERANSD2NORD\",CX4=\"JUNIORS\",CX4=\"CADETS\",CX4=\"MINIMESBENJAMINSPOUSSINS\",CX4=\"MIXTESD1FINALE\",CX4=\"VETERANSD1FINALE\",CX4=\"VETERANSD2FINALE\",CX4=\"JUNIORSFINALE\",CX4=\"CADETSFINALE\",CX4=\"MINIMESBENJAMINSPOUSSINSFINALE\"),CW4,\"\")))","v":""},"VICTOIRE CONTRE",{"$f":"IF(BI23<BJ23,\"\",IF(AND(CX4=\"EXCELLENCE\",BI23>BJ23),BF23,IF(AND(CX4=\"HONNEUR\",BI23>BJ23),BF23,IF(AND(CX4=\"PROMOTIONNORD\",BI23>BJ23),BF23,IF(AND(CX4=\"ADULTESDIVISION1NORD\",BI23>BJ23),BF23,IF(AND(CX4=\"PROMOTIONSTRASBOURG\",BI23>BJ23),BF23,IF(AND(CX4=\"PROMOTIONFINALE\",BI23>BJ23),BF23,IF(AND(CX4=\"MIXTESD1NORD\",BI23>BJ23),BF23,IF(AND(CX4=\"MIXTESD1STRASBOURG\",BI23>BJ23),BF23,IF(AND(CX4=\"VETERANSD1STRASBOURG\",BI23>BJ23),BF23,IF(AND(CX4=\"VETERANSD2STRASBOURG\",BI23>BJ23),BF23,IF(AND(CX4=\"VETERANSD1NORD\",BI23>BJ23),BF23,IF(AND(CX4=\"VETERANSD2NORD\",BI23>BJ23),BF23,IF(AND(CX4=\"JUNIORS\",BI23>BJ23),BF23,IF(AND(CX4=\"CADETS\",BI23>BJ23),BF23,IF(AND(CX4=\"MINIMESBENJAMINSPOUSSINS\",BI23>BJ23),BF23,IF(AND(CX4=\"MIXTESD1FINALE\",BI23>BJ23),BF23,IF(AND(CX4=\"VETERANSD1FINALE\",BI23>BJ23),BF23,IF(AND(CX4=\"VETERANSD2FINALE\",BI23>BJ23),BF23,IF(AND(CX4=\"JUNIORSFINALE\",BI23>BJ23),BF23,IF(AND(CX4=\"CADETSFINALE\",BI23>BJ23),BF23,IF(AND(CX4=\"MINIMESBENJAMINSPOUSSINSFINALE\",BI23>BJ23),BF23,\"\"))))))))))))))))))))))","v":""},{"$f":"IF(BI23<BJ23,\"\",IF(AND(CX4=\"EXCELLENCE\",BI23>BJ23),BG23,IF(AND(CX4=\"HONNEUR\",BI23>BJ23),BG23,IF(AND(CX4=\"PROMOTIONNORD\",BI23>BJ23),BG23,IF(AND(CX4=\"ADULTESDIVISION1NORD\",BI23>BJ23),BG23,IF(AND(CX4=\"PROMOTIONSTRASBOURG\",BI23>BJ23),BG23,IF(AND(CX4=\"PROMOTIONFINALE\",BI23>BJ23),BG23,IF(AND(CX4=\"MIXTESD1NORD\",BI23>BJ23),BG23,IF(AND(CX4=\"MIXTESD1STRASBOURG\",BI23>BJ23),BG23,IF(AND(CX4=\"VETERANSD1STRASBOURG\",BI23>BJ23),BG23,IF(AND(CX4=\"VETERANSD2STRASBOURG\",BI23>BJ23),BG23,IF(AND(CX4=\"VETERANSD1NORD\",BI23>BJ23),BG23,IF(AND(CX4=\"VETERANSD2NORD\",BI23>BJ23),BG23,IF(AND(CX4=\"JUNIORS\",BI23>BJ23),BG23,IF(AND(CX4=\"CADETS\",BI23>BJ23),BG23,IF(AND(CX4=\"MINIMESBENJAMINSPOUSSINS\",BI23>BJ23),BG23,IF(AND(CX4=\"MIXTESD1FINALE\",BI23>BJ23),BG23,IF(AND(CX4=\"VETERANSD1FINALE\",BI23>BJ23),BG23,IF(AND(CX4=\"VETERANSD2FINALE\",BI23>BJ23),BG23,IF(AND(CX4=\"JUNIORSFINALE\",BI23>BJ23),BG23,IF(AND(CX4=\"CADETSFINALE\",BI23>BJ23),BG23,IF(AND(CX4=\"MINIMESBENJAMINSPOUSSINSFINALE\",BI23>BJ23),BG23,\"\"))))))))))))))))))))))","v":""},{"$f":"IF(BI23<BJ23,\"\",IF(AND(CX4=\"EXCELLENCE\",BI23>BJ23),BH23,IF(AND(CX4=\"HONNEUR\",BI23>BJ23),BH23,IF(AND(CX4=\"PROMOTIONNORD\",BI23>BJ23),BH23,IF(AND(CX4=\"ADULTESDIVISION1NORD\",BI23>BJ23),BH23,IF(AND(CX4=\"PROMOTIONSTRASBOURG\",BI23>BJ23),BH23,IF(AND(CX4=\"PROMOTIONFINALE\",BI23>BJ23),BH23,IF(AND(CX4=\"MIXTESD1NORD\",BI23>BJ23),BH23,IF(AND(CX4=\"MIXTESD1STRASBOURG\",BI23>BJ23),BH23,IF(AND(CX4=\"VETERANSD1STRASBOURG\",BI23>BJ23),BH23,IF(AND(CX4=\"VETERANSD2STRASBOURG\",BI23>BJ23),BH23,IF(AND(CX4=\"VETERANSD1NORD\",BI23>BJ23),BH23,IF(AND(CX4=\"VETERANSD2NORD\",BI23>BJ23),BH23,IF(AND(CX4=\"JUNIORS\",BI23>BJ23),BH23,IF(AND(CX4=\"CADETS\",BI23>BJ23),BH23,IF(AND(CX4=\"MINIMESBENJAMINSPOUSSINS\",BI23>BJ23),BH23,IF(AND(CX4=\"MIXTESD1FINALE\",BI23>BJ23),BH23,IF(AND(CX4=\"VETERANSD1FINALE\",BI23>BJ23),BH23,IF(AND(CX4=\"VETERANSD2FINALE\",BI23>BJ23),BH23,IF(AND(CX4=\"JUNIORSFINALE\",BI23>BJ23),BH23,IF(AND(CX4=\"CADETSFINALE\",BI23>BJ23),BH23,IF(AND(CX4=\"MINIMESBENJAMINSPOUSSINSFINALE\",BI23>BJ23),BH23,\"\"))))))))))))))))))))))","v":""},{"$f":"IF(BI23<BJ23,\"\",IF(AND(CX4=\"EXCELLENCE\",BI23>BJ23),BL1,IF(AND(CX4=\"HONNEUR\",BI23>BJ23),BL1,IF(AND(CX4=\"PROMOTIONNORD\",BI23>BJ23),BL1,IF(AND(CX4=\"ADULTESDIVISION1NORD\",BI23>BJ23),BL1,IF(AND(CX4=\"PROMOTIONSTRASBOURG\",BI23>BJ23),BL1,IF(AND(CX4=\"PROMOTIONFINALE\",BI23>BJ23),BL1,IF(AND(CX4=\"MIXTESD1NORD\",BI23>BJ23),BL1,IF(AND(CX4=\"MIXTESD1STRASBOURG\",BI23>BJ23),BL1,IF(AND(CX4=\"VETERANSD1STRASBOURG\",BI23>BJ23),BL1,IF(AND(CX4=\"VETERANSD2STRASBOURG\",BI23>BJ23),BL1,IF(AND(CX4=\"VETERANSD1NORD\",BI23>BJ23),BL1,IF(AND(CX4=\"VETERANSD2NORD\",BI23>BJ23),BL1,IF(AND(CX4=\"JUNIORS\",BI23>BJ23),BL1,IF(AND(CX4=\"CADETS\",BI23>BJ23),BL1,IF(AND(CX4=\"MINIMESBENJAMINSPOUSSINS\",BI23>BJ23),BL1,IF(AND(CX4=\"MIXTESD1FINALE\",BI23>BJ23),BL1,IF(AND(CX4=\"VETERANSD1FINALE\",BI23>BJ23),BL1,IF(AND(CX4=\"VETERANSD2FINALE\",BI23>BJ23),BL1,IF(AND(CX4=\"JUNIORSFINALE\",BI23>BJ23),BL1,IF(AND(CX4=\"CADETSFINALE\",BI23>BJ23),BL1,IF(AND(CX4=\"MINIMESBENJAMINSPOUSSINSFINALE\",BI23>BJ23),BL1,\"\"))))))))))))))))))))))","v":""},{"$f":"IF(BI23<BJ23,\"\",IF(AND(CX4=\"EXCELLENCE\",BI23>BJ23),BK23,IF(AND(CX4=\"HONNEUR\",BI23>BJ23),BK23,IF(AND(CX4=\"PROMOTIONNORD\",BI23>BJ23),BK23,IF(AND(CX4=\"ADULTESDIVISION1NORD\",BI23>BJ23),BK23,IF(AND(CX4=\"PROMOTIONSTRASBOURG\",BI23>BJ23),BK23,IF(AND(CX4=\"PROMOTIONFINALE\",BI23>BJ23),BK23,IF(AND(CX4=\"MIXTESD1NORD\",BI23>BJ23),BK23,IF(AND(CX4=\"MIXTESD1STRASBOURG\",BI23>BJ23),BK23,IF(AND(CX4=\"VETERANSD1STRASBOURG\",BI23>BJ23),BK23,IF(AND(CX4=\"VETERANSD2STRASBOURG\",BI23>BJ23),BK23,IF(AND(CX4=\"VETERANSD1NORD\",BI23>BJ23),BK23,IF(AND(CX4=\"VETERANSD2NORD\",BI23>BJ23),BK23,IF(AND(CX4=\"JUNIORS\",BI23>BJ23),BK23,IF(AND(CX4=\"CADETS\",BI23>BJ23),BK23,IF(AND(CX4=\"MINIMESBENJAMINSPOUSSINS\",BI23>BJ23),BK23,IF(AND(CX4=\"MIXTESD1FINALE\",BI23>BJ23),BK23,IF(AND(CX4=\"VETERANSD1FINALE\",BI23>BJ23),BK23,IF(AND(CX4=\"VETERANSD2FINALE\",BI23>BJ23),BK23,IF(AND(CX4=\"JUNIORSFINALE\",BI23>BJ23),BK23,IF(AND(CX4=\"CADETSFINALE\",BI23>BJ23),BK23,IF(AND(CX4=\"MINIMESBENJAMINSPOUSSINSFINALE\",BI23>BJ23),BK23,\"\"))))))))))))))))))))))","v":""},{"$f":"IF(BI23<BJ23,\"\",IF(AND(CX4=\"EXCELLENCE\",BI23>BJ23),BM23,IF(AND(CX4=\"HONNEUR\",BI23>BJ23),BM23,IF(AND(CX4=\"PROMOTIONNORD\",BI23>BJ23),BM23,IF(AND(CX4=\"ADULTESDIVISION1NORD\",BI23>BJ23),BM23,IF(AND(CX4=\"PROMOTIONSTRASBOURG\",BI23>BJ23),BM23,IF(AND(CX4=\"PROMOTIONFINALE\",BI23>BJ23),BM23,IF(AND(CX4=\"MIXTESD1NORD\",BI23>BJ23),BM23,IF(AND(CX4=\"MIXTESD1STRASBOURG\",BI23>BJ23),BM23,IF(AND(CX4=\"VETERANSD1STRASBOURG\",BI23>BJ23),BM23,IF(AND(CX4=\"VETERANSD2STRASBOURG\",BI23>BJ23),BM23,IF(AND(CX4=\"VETERANSD1NORD\",BI23>BJ23),BM23,IF(AND(CX4=\"VETERANSD2NORD\",BI23>BJ23),BM23,IF(AND(CX4=\"JUNIORS\",BI23>BJ23),BM23,IF(AND(CX4=\"CADETS\",BI23>BJ23),BM23,IF(AND(CX4=\"MINIMESBENJAMINSPOUSSINS\",BI23>BJ23),BM23,IF(AND(CX4=\"MIXTESD1FINALE\",BI23>BJ23),BM23,IF(AND(CX4=\"VETERANSD1FINALE\",BI23>BJ23),BM23,IF(AND(CX4=\"VETERANSD2FINALE\",BI23>BJ23),BM23,IF(AND(CX4=\"JUNIORSFINALE\",BI23>BJ23),BM23,IF(AND(CX4=\"CADETSFINALE\",BI23>BJ23),BM23,IF(AND(CX4=\"MINIMESBENJAMINSPOUSSINSFINALE\",BI23>BJ23),BM23,\"\"))))))))))))))))))))))","v":""},"DEFAITE CONTRE",{"$f":"IF(BI23>BJ23,\"\",IF(AND(CX4=\"EXCELLENCE\",BI23<BJ23),BF23,IF(AND(CX4=\"HONNEUR\",BI23<BJ23),BF23,IF(AND(CX4=\"PROMOTIONNORD\",BI23<BJ23),BF23,IF(AND(CX4=\"ADULTESDIVISION1NORD\",BI23<BJ23),BF23,IF(AND(CX4=\"PROMOTIONSTRASBOURG\",BI23<BJ23),BF23,IF(AND(CX4=\"MIXTESD1NORD\",BI23<BJ23),BF23,IF(AND(CX4=\"MIXTESD1STRASBOURG\",BI23<BJ23),BF23,IF(AND(CX4=\"VETERANSD1STRASBOURG\",BI23<BJ23),BF23,IF(AND(CX4=\"VETERANSD2STRASBOURG\",BI23<BJ23),BF23,IF(AND(CX4=\"VETERANSD1NORD\",BI23<BJ23),BF23,IF(AND(CX4=\"VETERANSD2NORD\",BI23<BJ23),BF23,IF(AND(CX4=\"JUNIORS\",BI23<BJ23),BF23,IF(AND(CX4=\"CADETS\",BI23<BJ23),BF23,IF(AND(CX4=\"MINIMESBENJAMINSPOUSSINS\",BI23<BJ23),BF23,IF(AND(CX4=\"PROMOTIONFINALE\",BI23<BJ23),BF23,IF(AND(CX4=\"MIXTESD1FINALE\",BI23<BJ23),BF23,IF(AND(CX4=\"VETERANSD1FINALE\",BI23<BJ23),BF23,IF(AND(CX4=\"VETERANSD2FINALE\",BI23<BJ23),BF23,IF(AND(CX4=\"JUNIORSFINALE\",BI23<BJ23),BF23,IF(AND(CX4=\"CADETSFINALE\",BI23<BJ23),BF23,IF(AND(CX4=\"MINIMESBENJAMINSPOUSSINSFINALE\",BI23<BJ23),BF23,\"\"))))))))))))))))))))))","v":""},{"$f":"IF(BI23>BJ23,\"\",IF(AND(CX4=\"EXCELLENCE\",BI23<BJ23),BG23,IF(AND(CX4=\"HONNEUR\",BI23<BJ23),BG23,IF(AND(CX4=\"PROMOTIONNORD\",BI23<BJ23),BG23,IF(AND(CX4=\"ADULTESDIVISION1NORD\",BI23<BJ23),BG23,IF(AND(CX4=\"PROMOTIONSTRASBOURG\",BI23<BJ23),BG23,IF(AND(CX4=\"MIXTESD1NORD\",BI23<BJ23),BG23,IF(AND(CX4=\"MIXTESD1STRASBOURG\",BI23<BJ23),BG23,IF(AND(CX4=\"VETERANSD1STRASBOURG\",BI23<BJ23),BG23,IF(AND(CX4=\"VETERANSD2STRASBOURG\",BI23<BJ23),BG23,IF(AND(CX4=\"VETERANSD1NORD\",BI23<BJ23),BG23,IF(AND(CX4=\"VETERANSD2NORD\",BI23<BJ23),BG23,IF(AND(CX4=\"JUNIORS\",BI23<BJ23),BG23,IF(AND(CX4=\"CADETS\",BI23<BJ23),BG23,IF(AND(CX4=\"MINIMESBENJAMINSPOUSSINS\",BI23<BJ23),BG23,IF(AND(CX4=\"PROMOTIONFINALE\",BI23<BJ23),BG23,IF(AND(CX4=\"MIXTESD1FINALE\",BI23<BJ23),BG23,IF(AND(CX4=\"VETERANSD1FINALE\",BI23<BJ23),BG23,IF(AND(CX4=\"VETERANSD2FINALE\",BI23<BJ23),BG23,IF(AND(CX4=\"JUNIORSFINALE\",BI23<BJ23),BG23,IF(AND(CX4=\"CADETSFINALE\",BI23<BJ23),BG23,IF(AND(CX4=\"MINIMESBENJAMINSPOUSSINSFINALE\",BI23<BJ23),BG23,\"\"))))))))))))))))))))))","v":""},{"$f":"IF(BI23>BJ23,\"\",IF(AND(CX4=\"EXCELLENCE\",BI23<BJ23),BH23,IF(AND(CX4=\"HONNEUR\",BI23<BJ23),BH23,IF(AND(CX4=\"PROMOTIONNORD\",BI23<BJ23),BH23,IF(AND(CX4=\"ADULTESDIVISION1NORD\",BI23<BJ23),BH23,IF(AND(CX4=\"PROMOTIONSTRASBOURG\",BI23<BJ23),BH23,IF(AND(CX4=\"MIXTESD1NORD\",BI23<BJ23),BH23,IF(AND(CX4=\"MIXTESD1STRASBOURG\",BI23<BJ23),BH23,IF(AND(CX4=\"VETERANSD1STRASBOURG\",BI23<BJ23),BH23,IF(AND(CX4=\"VETERANSD2STRASBOURG\",BI23<BJ23),BH23,IF(AND(CX4=\"VETERANSD1NORD\",BI23<BJ23),BH23,IF(AND(CX4=\"VETERANSD2NORD\",BI23<BJ23),BH23,IF(AND(CX4=\"JUNIORS\",BI23<BJ23),BH23,IF(AND(CX4=\"CADETS\",BI23<BJ23),BH23,IF(AND(CX4=\"MINIMESBENJAMINSPOUSSINS\",BI23<BJ23),BH23,IF(AND(CX4=\"PROMOTIONFINALE\",BI23<BJ23),BH23,IF(AND(CX4=\"MIXTESD1FINALE\",BI23<BJ23),BH23,IF(AND(CX4=\"VETERANSD1FINALE\",BI23<BJ23),BH23,IF(AND(CX4=\"VETERANSD2FINALE\",BI23<BJ23),BH23,IF(AND(CX4=\"JUNIORSFINALE\",BI23<BJ23),BH23,IF(AND(CX4=\"CADETSFINALE\",BI23<BJ23),BH23,IF(AND(CX4=\"MINIMESBENJAMINSPOUSSINSFINALE\",BI23<BJ23),BH23,\"\"))))))))))))))))))))))","v":""},{"$f":"IF(BI23>BJ23,\"\",IF(AND(CX4=\"EXCELLENCE\",BI23<BJ23),BL1,IF(AND(CX4=\"HONNEUR\",BI23<BJ23),BL1,IF(AND(CX4=\"PROMOTIONNORD\",BI23<BJ23),BL1,IF(AND(CX4=\"ADULTESDIVISION1NORD\",BI23<BJ23),BL1,IF(AND(CX4=\"PROMOTIONSTRASBOURG\",BI23<BJ23),BL1,IF(AND(CX4=\"MIXTESD1NORD\",BI23<BJ23),BL1,IF(AND(CX4=\"MIXTESD1STRASBOURG\",BI23<BJ23),BL1,IF(AND(CX4=\"VETERANSD1STRASBOURG\",BI23<BJ23),BL1,IF(AND(CX4=\"VETERANSD2STRASBOURG\",BI23<BJ23),BL1,IF(AND(CX4=\"VETERANSD1NORD\",BI23<BJ23),BL1,IF(AND(CX4=\"VETERANSD2NORD\",BI23<BJ23),BL1,IF(AND(CX4=\"JUNIORS\",BI23<BJ23),BL1,IF(AND(CX4=\"CADETS\",BI23<BJ23),BL1,IF(AND(CX4=\"MINIMESBENJAMINSPOUSSINS\",BI23<BJ23),BL1,IF(AND(CX4=\"PROMOTIONFINALE\",BI23<BJ23),BL1,IF(AND(CX4=\"MIXTESD1FINALE\",BI23<BJ23),BL1,IF(AND(CX4=\"VETERANSD1FINALE\",BI23<BJ23),BL1,IF(AND(CX4=\"VETERANSD2FINALE\",BI23<BJ23),BL1,IF(AND(CX4=\"JUNIORSFINALE\",BI23<BJ23),BL1,IF(AND(CX4=\"CADETSFINALE\",BI23<BJ23),BL1,IF(AND(CX4=\"MINIMESBENJAMINSPOUSSINSFINALE\",BI23<BJ23),BL1,\"\"))))))))))))))))))))))","v":""},{"$f":"IF(BI23>BJ23,\"\",IF(AND(CX4=\"EXCELLENCE\",BI23<BJ23),BL23,IF(AND(CX4=\"HONNEUR\",BI23<BJ23),BL23,IF(AND(CX4=\"PROMOTIONNORD\",BI23<BJ23),BL23,IF(AND(CX4=\"ADULTESDIVISION1NORD\",BI23<BJ23),BL23,IF(AND(CX4=\"PROMOTIONSTRASBOURG\",BI23<BJ23),BL23,IF(AND(CX4=\"MIXTESD1NORD\",BI23<BJ23),BL23,IF(AND(CX4=\"MIXTESD1STRASBOURG\",BI23<BJ23),BL23,IF(AND(CX4=\"VETERANSD1STRASBOURG\",BI23<BJ23),BL23,IF(AND(CX4=\"VETERANSD2STRASBOURG\",BI23<BJ23),BL23,IF(AND(CX4=\"VETERANSD1NORD\",BI23<BJ23),BL23,IF(AND(CX4=\"VETERANSD2NORD\",BI23<BJ23),BL23,IF(AND(CX4=\"JUNIORS\",BI23<BJ23),BL23,IF(AND(CX4=\"CADETS\",BI23<BJ23),BL23,IF(AND(CX4=\"MINIMESBENJAMINSPOUSSINS\",BI23<BJ23),BL23,IF(AND(CX4=\"PROMOTIONFINALE\",BI23<BJ23),BL23,IF(AND(CX4=\"MIXTESD1FINALE\",BI23<BJ23),BL23,IF(AND(CX4=\"VETERANSD1FINALE\",BI23<BJ23),BL23,IF(AND(CX4=\"VETERANSD2FINALE\",BI23<BJ23),BL23,IF(AND(CX4=\"JUNIORSFINALE\",BI23<BJ23),BL23,IF(AND(CX4=\"CADETSFINALE\",BI23<BJ23),BL23,IF(AND(CX4=\"MINIMESBENJAMINSPOUSSINSFINALE\",BI23<BJ23),BL23,\"\"))))))))))))))))))))))","v":""},{"$f":"IF(BI23>BJ23,\"\",IF(AND(CX4=\"EXCELLENCE\",BI23<BJ23),BN23,IF(AND(CX4=\"HONNEUR\",BI23<BJ23),BN23,IF(AND(CX4=\"PROMOTIONNORD\",BI23<BJ23),BN23,IF(AND(CX4=\"ADULTESDIVISION1NORD\",BI23<BJ23),BN23,IF(AND(CX4=\"PROMOTIONSTRASBOURG\",BI23<BJ23),BN23,IF(AND(CX4=\"MIXTESD1NORD\",BI23<BJ23),BN23,IF(AND(CX4=\"MIXTESD1STRASBOURG\",BI23<BJ23),BN23,IF(AND(CX4=\"VETERANSD1STRASBOURG\",BI23<BJ23),BN23,IF(AND(CX4=\"VETERANSD2STRASBOURG\",BI23<BJ23),BN23,IF(AND(CX4=\"VETERANSD1NORD\",BI23<BJ23),BN23,IF(AND(CX4=\"VETERANSD2NORD\",BI23<BJ23),BN23,IF(AND(CX4=\"JUNIORS\",BI23<BJ23),BN23,IF(AND(CX4=\"CADETS\",BI23<BJ23),BN23,IF(AND(CX4=\"MINIMESBENJAMINSPOUSSINS\",BI23<BJ23),BN23,IF(AND(CX4=\"PROMOTIONFINALE\",BI23<BJ23),BN23,IF(AND(CX4=\"MIXTESD1FINALE\",BI23<BJ23),BN23,IF(AND(CX4=\"VETERANSD1FINALE\",BI23<BJ23),BN23,IF(AND(CX4=\"VETERANSD2FINALE\",BI23<BJ23),BN23,IF(AND(CX4=\"JUNIORSFINALE\",BI23<BJ23),BN23,IF(AND(CX4=\"CADETSFINALE\",BI23<BJ23),BN23,IF(AND(CX4=\"MINIMESBENJAMINSPOUSSINSFINALE\",BI23<BJ23),BN23,\"\"))))))))))))))))))))))","v":""},2]
[{"$f":"calcules!$U$12","v":"0"},{"$f":"calcules!$V$12","v":"0"},{"$f":"IF($A$15>$B$15,1,0)","v":0},{"$f":"IF($A$15<$B$15,1,0)","v":0},null,null,null,null,null,null,null,null,{"$f":"calcules!$AC$12","v":"0"},{"$f":"calcules!$AD$12","v":"0"},{"$f":"IF($M$15>$N$15,1,0)","v":0},{"$f":"IF($M$15<$N$15,1,0)","v":0},null,null,null,null,null,null,null,{"$f":"calcules!$AG$12","v":"0"},{"$f":"calcules!$AH$12","v":"0"},{"$f":"IF($X$15>$Y$15,1,0)","v":0},{"$f":"IF($X$15<$Y$15,1,0)","v":0},null,null,null,null,null,null,null,{"$f":"calcules!$AK$12","v":"0"},{"$f":"calcules!$AL$12","v":"0"},{"$f":"IF($AI$15>$AJ$15,1,0)","v":0},{"$f":"IF($AI$15<$AJ$15,1,0)","v":0},null,null,null,null,null,null,null,null,null,null,null,null,null,null,null,null,null,null,{"$f":"calcules!$AS$12","v":"0"},{"$f":"calcules!$AT$12","v":"0"},{"$f":"IF($BE$15>$BF$15,1,0)","v":0},{"$f":"IF($BE$15<$BF$15,1,0)","v":0},null,null,null,null,null,null,null,{"$f":"calcules!$AW$12","v":"0"},{"$f":"calcules!$AX$12","v":"0"},{"$f":"IF($BP$15>$BQ$15,1,0)","v":0},{"$f":"IF($BP$15<$BQ$15,1,0)","v":0},null,null,null,null,null,null,null,{"$f":"calcules!$BA$12","v":"0"},{"$f":"calcules!$BB$12","v":"0"},{"$f":"IF($CA$15>$CB$15,1,0)","v":0},{"$f":"IF($CA$15<$CB$15,1,0)","v":0},null,null,null,null,null,null,null,null,null,null,null,null,null,null,null,null,null,null,null,null,null,null,null,null,null,null,null,null,null,null,null,null,null,null,null,null,null,null,null,null,null,null,null,null,null,null,null,null,null,null,null,null,null,null,null,null,null,null,null,null,null,null,null,null,null,null,null,null,null,null,null,null,null,null,null,null,null,null,null,null,null,null,null,null,null,null,null,null,null,null,null,null,null,null,null,null,{"$f":"IF(CX4=\"EXCELLENCE\",BH2,IF(OR(CX4=\"HONNEUR\",CX4=\"PROMOTIONNORD\",CX4=\"ADULTESDIVISION1NORD\",CX4=\"PROMOTIONSTRASBOURG\",CX4=\"PROMOTIONFINALE\"),BH2,IF(OR(CX4=\"MIXTESD1NORD\",CX4=\"MIXTESD1STRASBOURG\",CX4=\"VETERANSD1STRASBOURG\",CX4=\"VETERANSD2STRASBOURG\",CX4=\"VETERANSD1NORD\",CX4=\"VETERANSD2NORD\",CX4=\"JUNIORS\",CX4=\"CADETS\",CX4=\"MINIMESBENJAMINSPOUSSINS\",CX4=\"MIXTESD1FINALE\",CX4=\"VETERANSD1FINALE\",CX4=\"VETERANSD2FINALE\",CX4=\"JUNIORSFINALE\",CX4=\"CADETSFINALE\",CX4=\"MINIMESBENJAMINSPOUSSINSFINALE\"),\"-\",\"\")))","v":""},{"$f":"IF(CX4=\"EXCELLENCE\",BE2,IF(OR(CX4=\"HONNEUR\",CX4=\"PROMOTIONNORD\",CX4=\"ADULTESDIVISION1NORD\",CX4=\"PROMOTIONSTRASBOURG\",CX4=\"PROMOTIONFINALE\"),BE2,IF(OR(CX4=\"MIXTESD1NORD\",CX4=\"MIXTESD1STRASBOURG\",CX4=\"VETERANSD1STRASBOURG\",CX4=\"VETERANSD2STRASBOURG\",CX4=\"VETERANSD1NORD\",CX4=\"VETERANSD2NORD\",CX4=\"JUNIORS\",CX4=\"CADETS\",CX4=\"MINIMESBENJAMINSPOUSSINS\",CX4=\"MIXTESD1FINALE\",CX4=\"VETERANSD1FINALE\",CX4=\"VETERANSD2FINALE\",CX4=\"JUNIORSFINALE\",CX4=\"CADETSFINALE\",CX4=\"MINIMESBENJAMINSPOUSSINSFINALE\"),\"\",\"\")))","v":""},{"$f":"IF(CX4=\"EXCELLENCE\",BG2,IF(OR(CX4=\"HONNEUR\",CX4=\"PROMOTIONNORD\",CX4=\"ADULTESDIVISION1NORD\",CX4=\"PROMOTIONSTRASBOURG\",CX4=\"PROMOTIONFINALE\"),BG2,IF(OR(CX4=\"MIXTESD1NORD\",CX4=\"MIXTESD1STRASBOURG\",CX4=\"VETERANSD1STRASBOURG\",CX4=\"VETERANSD2STRASBOURG\",CX4=\"VETERANSD1NORD\",CX4=\"VETERANSD2NORD\",CX4=\"JUNIORS\",CX4=\"CADETS\",CX4=\"MINIMESBENJAMINSPOUSSINS\",CX4=\"MIXTESD1FINALE\",CX4=\"VETERANSD1FINALE\",CX4=\"VETERANSD2FINALE\",CX4=\"JUNIORSFINALE\",CX4=\"CADETSFINALE\",CX4=\"MINIMESBENJAMINSPOUSSINSFINALE\"),\"\",\"\")))","v":""},{"$f":"IF(CX4=\"EXCELLENCE\",BF1,IF(OR(CX4=\"HONNEUR\",CX4=\"PROMOTIONNORD\",CX4=\"ADULTESDIVISION1NORD\",CX4=\"PROMOTIONSTRASBOURG\",CX4=\"PROMOTIONFINALE\"),BF1,IF(OR(CX4=\"MIXTESD1NORD\",CX4=\"MIXTESD1STRASBOURG\",CX4=\"VETERANSD1STRASBOURG\",CX4=\"VETERANSD2STRASBOURG\",CX4=\"VETERANSD1NORD\",CX4=\"VETERANSD2NORD\",CX4=\"JUNIORS\",CX4=\"CADETS\",CX4=\"MINIMESBENJAMINSPOUSSINS\",CX4=\"MIXTESD1FINALE\",CX4=\"VETERANSD1FINALE\",CX4=\"VETERANSD2FINALE\",CX4=\"JUNIORSFINALE\",CX4=\"CADETSFINALE\",CX4=\"MINIMESBENJAMINSPOUSSINSFINALE\"),\"\",\"\")))","v":""},{"$f":"IF(CX4=\"EXCELLENCE\",CX4,IF(OR(CX4=\"HONNEUR\",CX4=\"PROMOTIONNORD\",CX4=\"ADULTESDIVISION1NORD\",CX4=\"PROMOTIONSTRASBOURG\",CX4=\"PROMOTIONFINALE\"),CX4,IF(OR(CX4=\"MIXTESD1NORD\",CX4=\"MIXTESD1STRASBOURG\",CX4=\"VETERANSD1STRASBOURG\",CX4=\"VETERANSD2STRASBOURG\",CX4=\"VETERANSD1NORD\",CX4=\"VETERANSD2NORD\",CX4=\"JUNIORS\",CX4=\"CADETS\",CX4=\"MINIMESBENJAMINSPOUSSINS\",CX4=\"MIXTESD1FINALE\",CX4=\"VETERANSD1FINALE\",CX4=\"VETERANSD2FINALE\",CX4=\"JUNIORSFINALE\",CX4=\"CADETSFINALE\",CX4=\"MINIMESBENJAMINSPOUSSINSFINALE\"),\"\",\"\")))","v":""},{"$f":"IF(CX4=\"EXCELLENCE\",CW4,IF(OR(CX4=\"HONNEUR\",CX4=\"PROMOTIONNORD\",CX4=\"ADULTESDIVISION1NORD\",CX4=\"PROMOTIONSTRASBOURG\",CX4=\"PROMOTIONFINALE\"),CW4,IF(OR(CX4=\"MIXTESD1NORD\",CX4=\"MIXTESD1STRASBOURG\",CX4=\"VETERANSD1STRASBOURG\",CX4=\"VETERANSD2STRASBOURG\",CX4=\"VETERANSD1NORD\",CX4=\"VETERANSD2NORD\",CX4=\"JUNIORS\",CX4=\"CADETS\",CX4=\"MINIMESBENJAMINSPOUSSINS\",CX4=\"MIXTESD1FINALE\",CX4=\"VETERANSD1FINALE\",CX4=\"VETERANSD2FINALE\",CX4=\"JUNIORSFINALE\",CX4=\"CADETSFINALE\",CX4=\"MINIMESBENJAMINSPOUSSINSFINALE\"),\"\",\"\")))","v":""},"VICTOIRE CONTRE",{"$f":"IF(BI41<BJ41,\"\",IF(AND(CX4=\"EXCELLENCE\",BI41>BJ41),BF41,IF(AND(CX4=\"HONNEUR\",BI41>BJ41),BF41,IF(AND(CX4=\"PROMOTIONNORD\",BI41>BJ41),BF41,IF(AND(CX4=\"ADULTESDIVISION1NORD\",BI41>BJ41),BF41,IF(AND(CX4=\"PROMOTIONSTRASBOURG\",BI41>BJ41),BF41,IF(AND(CX4=\"PROMOTIONFINALE\",BI41>BJ41),BF41,IF(OR(CX4=\"MIXTESD1NORD\",CX4=\"MIXTESD1STRASBOURG\",CX4=\"VETERANSD1STRASBOURG\",CX4=\"VETERANSD2STRASBOURG\",CX4=\"VETERANSD1NORD\",CX4=\"VETERANSD2NORD\",CX4=\"JUNIORS\",CX4=\"CADETS\",CX4=\"MINIMESBENJAMINSPOUSSINS\",CX4=\"MIXTESD1FINALE\",CX4=\"VETERANSD1FINALE\",CX4=\"VETERANSD2FINALE\",CX4=\"JUNIORSFINALE\",CX4=\"CADETSFINALE\",CX4=\"MINIMESBENJAMINSPOUSSINSFINALE\"),\"\",\"\"))))))))","v":""},{"$f":"IF(BI41<BJ41,\"\",IF(AND(CX4=\"EXCELLENCE\",BI41>BJ41),BG41,IF(AND(CX4=\"HONNEUR\",BI41>BJ41),BG41,IF(AND(CX4=\"PROMOTIONNORD\",BI41>BJ41),BG41,IF(AND(CX4=\"ADULTESDIVISION1NORD\",BI41>BJ41),BG41,IF(AND(CX4=\"PROMOTIONSTRASBOURG\",BI41>BJ41),BG41,IF(AND(CX4=\"PROMOTIONFINALE\",BI41>BJ41),BG41,IF(OR(CX4=\"MIXTESD1NORD\",CX4=\"MIXTESD1STRASBOURG\",CX4=\"VETERANSD1STRASBOURG\",CX4=\"VETERANSD2STRASBOURG\",CX4=\"VETERANSD1NORD\",CX4=\"VETERANSD2NORD\",CX4=\"JUNIORS\",CX4=\"CADETS\",CX4=\"MINIMESBENJAMINSPOUSSINS\",CX4=\"MIXTESD1FINALE\",CX4=\"VETERANSD1FINALE\",CX4=\"VETERANSD2FINALE\",CX4=\"JUNIORSFINALE\",CX4=\"CADETSFINALE\",CX4=\"MINIMESBENJAMINSPOUSSINSFINALE\"),\"\",\"\"))))))))","v":""},{"$f":"IF(BI41<BJ41,\"\",IF(AND(CX4=\"EXCELLENCE\",BI41>BJ41),BH41,IF(AND(CX4=\"HONNEUR\",BI41>BJ41),BH41,IF(AND(CX4=\"PROMOTIONNORD\",BI41>BJ41),BH41,IF(AND(CX4=\"ADULTESDIVISION1NORD\",BI41>BJ41),BH41,IF(AND(CX4=\"PROMOTIONSTRASBOURG\",BI41>BJ41),BH41,IF(AND(CX4=\"PROMOTIONFINALE\",BI41>BJ41),BH41,IF(OR(CX4=\"MIXTESD1NORD\",CX4=\"MIXTESD1STRASBOURG\",CX4=\"VETERANSD1STRASBOURG\",CX4=\"VETERANSD2STRASBOURG\",CX4=\"VETERANSD1NORD\",CX4=\"VETERANSD2NORD\",CX4=\"JUNIORS\",CX4=\"CADETS\",CX4=\"MINIMESBENJAMINSPOUSSINS\",CX4=\"MIXTESD1FINALE\",CX4=\"VETERANSD1FINALE\",CX4=\"VETERANSD2FINALE\",CX4=\"JUNIORSFINALE\",CX4=\"CADETSFINALE\",CX4=\"MINIMESBENJAMINSPOUSSINSFINALE\"),\"\",\"\"))))))))","v":""},{"$f":"IF(BI41<BJ41,\"\",IF(AND(CX4=\"EXCELLENCE\",BI41>BJ41),BL1,IF(AND(CX4=\"HONNEUR\",BI41>BJ41),BL1,IF(AND(CX4=\"PROMOTIONNORD\",BI41>BJ41),BL1,IF(AND(CX4=\"ADULTESDIVISION1NORD\",BI41>BJ41),BL1,IF(AND(CX4=\"PROMOTIONSTRASBOURG\",BI41>BJ41),BL1,IF(AND(CX4=\"PROMOTIONFINALE\",BI41>BJ41),BL1,IF(OR(CX4=\"MIXTESD1NORD\",CX4=\"MIXTESD1STRASBOURG\",CX4=\"VETERANSD1STRASBOURG\",CX4=\"VETERANSD2STRASBOURG\",CX4=\"VETERANSD1NORD\",CX4=\"VETERANSD2NORD\",CX4=\"JUNIORS\",CX4=\"CADETS\",CX4=\"MINIMESBENJAMINSPOUSSINS\",CX4=\"MIXTESD1FINALE\",CX4=\"VETERANSD1FINALE\",CX4=\"VETERANSD2FINALE\",CX4=\"JUNIORSFINALE\",CX4=\"CADETSFINALE\",CX4=\"MINIMESBENJAMINSPOUSSINSFINALE\"),\"\",\"\"))))))))","v":""},{"$f":"IF(BI41<BJ41,\"\",IF(AND(CX4=\"EXCELLENCE\",BI41>BJ41),BK41,IF(AND(CX4=\"HONNEUR\",BI41>BJ41),BK41,IF(AND(CX4=\"PROMOTIONNORD\",BI41>BJ41),BK41,IF(AND(CX4=\"ADULTESDIVISION1NORD\",BI41>BJ41),BK41,IF(AND(CX4=\"PROMOTIONSTRASBOURG\",BI41>BJ41),BK41,IF(AND(CX4=\"PROMOTIONFINALE\",BI41>BJ41),BK41,IF(OR(CX4=\"MIXTESD1NORD\",CX4=\"MIXTESD1STRASBOURG\",CX4=\"VETERANSD1STRASBOURG\",CX4=\"VETERANSD2STRASBOURG\",CX4=\"VETERANSD1NORD\",CX4=\"VETERANSD2NORD\",CX4=\"JUNIORS\",CX4=\"CADETS\",CX4=\"MINIMESBENJAMINSPOUSSINS\",CX4=\"MIXTESD1FINALE\",CX4=\"VETERANSD1FINALE\",CX4=\"VETERANSD2FINALE\",CX4=\"JUNIORSFINALE\",CX4=\"CADETSFINALE\",CX4=\"MINIMESBENJAMINSPOUSSINSFINALE\"),\"\",\"\"))))))))","v":""},{"$f":"IF(BI41<BJ41,\"\",IF(AND(CX4=\"EXCELLENCE\",BI41>BJ41),BM41,IF(AND(CX4=\"HONNEUR\",BI41>BJ41),BM41,IF(AND(CX4=\"PROMOTIONNORD\",BI41>BJ41),BM41,IF(AND(CX4=\"ADULTESDIVISION1NORD\",BI41>BJ41),BM41,IF(AND(CX4=\"PROMOTIONSTRASBOURG\",BI41>BJ41),BM41,IF(AND(CX4=\"PROMOTIONFINALE\",BI41>BJ41),BM41,IF(OR(CX4=\"MIXTESD1NORD\",CX4=\"MIXTESD1STRASBOURG\",CX4=\"VETERANSD1STRASBOURG\",CX4=\"VETERANSD2STRASBOURG\",CX4=\"VETERANSD1NORD\",CX4=\"VETERANSD2NORD\",CX4=\"JUNIORS\",CX4=\"CADETS\",CX4=\"MINIMESBENJAMINSPOUSSINS\",CX4=\"MIXTESD1FINALE\",CX4=\"VETERANSD1FINALE\",CX4=\"VETERANSD2FINALE\",CX4=\"JUNIORSFINALE\",CX4=\"CADETSFINALE\",CX4=\"MINIMESBENJAMINSPOUSSINSFINALE\"),\"\",\"\"))))))))","v":""},"DEFAITE CONTRE",{"$f":"IF(BI41>BJ41,\"\",IF(AND(CX4=\"EXCELLENCE\",BI41<BJ41),BF41,IF(AND(CX4=\"HONNEUR\",BI41<BJ41),BF41,IF(AND(CX4=\"PROMOTIONNORD\",BI41<BJ41),BF41,IF(AND(CX4=\"ADULTESDIVISION1NORD\",BI41<BJ41),BF41,IF(AND(CX4=\"PROMOTIONSTRASBOURG\",BI41<BJ41),BF41,IF(AND(CX4=\"PROMOTIONFINALE\",BI41<BJ41),BF41,IF(OR(CX4=\"MIXTESD1NORD\",CX4=\"MIXTESD1STRASBOURG\",CX4=\"VETERANSD1STRASBOURG\",CX4=\"VETERANSD2STRASBOURG\",CX4=\"VETERANSD1NORD\",CX4=\"VETERANSD2NORD\",CX4=\"JUNIORS\",CX4=\"CADETS\",CX4=\"MINIMESBENJAMINSPOUSSINS\",CX4=\"MIXTESD1FINALE\",CX4=\"VETERANSD1FINALE\",CX4=\"VETERANSD2FINALE\",CX4=\"JUNIORSFINALE\",CX4=\"CADETSFINALE\",CX4=\"MINIMESBENJAMINSPOUSSINSFINALE\"),\"\",\"\"))))))))","v":""},{"$f":"IF(BI41>BJ41,\"\",IF(AND(CX4=\"EXCELLENCE\",BI41<BJ41),BG41,IF(AND(CX4=\"HONNEUR\",BI41<BJ41),BG41,IF(AND(CX4=\"PROMOTIONNORD\",BI41<BJ41),BG41,IF(AND(CX4=\"ADULTESDIVISION1NORD\",BI41<BJ41),BG41,IF(AND(CX4=\"PROMOTIONSTRASBOURG\",BI41<BJ41),BG41,IF(AND(CX4=\"PROMOTIONFINALE\",BI41<BJ41),BG41,IF(OR(CX4=\"MIXTESD1NORD\",CX4=\"MIXTESD1STRASBOURG\",CX4=\"VETERANSD1STRASBOURG\",CX4=\"VETERANSD2STRASBOURG\",CX4=\"VETERANSD1NORD\",CX4=\"VETERANSD2NORD\",CX4=\"JUNIORS\",CX4=\"CADETS\",CX4=\"MINIMESBENJAMINSPOUSSINS\",CX4=\"MIXTESD1FINALE\",CX4=\"VETERANSD1FINALE\",CX4=\"VETERANSD2FINALE\",CX4=\"JUNIORSFINALE\",CX4=\"CADETSFINALE\",CX4=\"MINIMESBENJAMINSPOUSSINSFINALE\"),\"\",\"\"))))))))","v":""},{"$f":"IF(BI41>BJ41,\"\",IF(AND(CX4=\"EXCELLENCE\",BI41<BJ41),BH41,IF(AND(CX4=\"HONNEUR\",BI41<BJ41),BH41,IF(AND(CX4=\"PROMOTIONNORD\",BI41<BJ41),BH41,IF(AND(CX4=\"ADULTESDIVISION1NORD\",BI41<BJ41),BH41,IF(AND(CX4=\"PROMOTIONSTRASBOURG\",BI41<BJ41),BH41,IF(AND(CX4=\"PROMOTIONFINALE\",BI41<BJ41),BH41,IF(OR(CX4=\"MIXTESD1NORD\",CX4=\"MIXTESD1STRASBOURG\",CX4=\"VETERANSD1STRASBOURG\",CX4=\"VETERANSD2STRASBOURG\",CX4=\"VETERANSD1NORD\",CX4=\"VETERANSD2NORD\",CX4=\"JUNIORS\",CX4=\"CADETS\",CX4=\"MINIMESBENJAMINSPOUSSINS\",CX4=\"MIXTESD1FINALE\",CX4=\"VETERANSD1FINALE\",CX4=\"VETERANSD2FINALE\",CX4=\"JUNIORSFINALE\",CX4=\"CADETSFINALE\",CX4=\"MINIMESBENJAMINSPOUSSINSFINALE\"),\"\",\"\"))))))))","v":""},{"$f":"IF(BI41>BJ41,\"\",IF(AND(CX4=\"EXCELLENCE\",BI41<BJ41),BL1,IF(AND(CX4=\"HONNEUR\",BI41<BJ41),BL1,IF(AND(CX4=\"PROMOTIONNORD\",BI41<BJ41),BL1,IF(AND(CX4=\"ADULTESDIVISION1NORD\",BI41<BJ41),BL1,IF(AND(CX4=\"PROMOTIONSTRASBOURG\",BI41<BJ41),BL1,IF(AND(CX4=\"PROMOTIONFINALE\",BI41<BJ41),BL1,IF(OR(CX4=\"MIXTESD1NORD\",CX4=\"MIXTESD1STRASBOURG\",CX4=\"VETERANSD1STRASBOURG\",CX4=\"VETERANSD2STRASBOURG\",CX4=\"VETERANSD1NORD\",CX4=\"VETERANSD2NORD\",CX4=\"JUNIORS\",CX4=\"CADETS\",CX4=\"MINIMESBENJAMINSPOUSSINS\",CX4=\"MIXTESD1FINALE\",CX4=\"VETERANSD1FINALE\",CX4=\"VETERANSD2FINALE\",CX4=\"JUNIORSFINALE\",CX4=\"CADETSFINALE\",CX4=\"MINIMESBENJAMINSPOUSSINSFINALE\"),\"\",\"\"))))))))","v":""},{"$f":"IF(BI41>BJ41,\"\",IF(AND(CX4=\"EXCELLENCE\",BI41<BJ41),BL41,IF(AND(CX4=\"HONNEUR\",BI41<BJ41),BL41,IF(AND(CX4=\"PROMOTIONNORD\",BI41<BJ41),BL41,IF(AND(CX4=\"ADULTESDIVISION1NORD\",BI41<BJ41),BL41,IF(AND(CX4=\"PROMOTIONSTRASBOURG\",BI41<BJ41),BL41,IF(AND(CX4=\"PROMOTIONFINALE\",BI41<BJ41),BL41,IF(OR(CX4=\"MIXTESD1NORD\",CX4=\"MIXTESD1STRASBOURG\",CX4=\"VETERANSD1STRASBOURG\",CX4=\"VETERANSD2STRASBOURG\",CX4=\"VETERANSD1NORD\",CX4=\"VETERANSD2NORD\",CX4=\"JUNIORS\",CX4=\"CADETS\",CX4=\"MINIMESBENJAMINSPOUSSINS\",CX4=\"MIXTESD1FINALE\",CX4=\"VETERANSD1FINALE\",CX4=\"VETERANSD2FINALE\",CX4=\"JUNIORSFINALE\",CX4=\"CADETSFINALE\",CX4=\"MINIMESBENJAMINSPOUSSINSFINALE\"),\"\",\"\"))))))))","v":""},{"$f":"IF(BI41>BJ41,\"\",IF(AND(CX4=\"EXCELLENCE\",BI41<BJ41),BN41,IF(AND(CX4=\"HONNEUR\",BI41<BJ41),BN41,IF(AND(CX4=\"PROMOTIONNORD\",BI41<BJ41),BN41,IF(AND(CX4=\"ADULTESDIVISION1NORD\",BI41<BJ41),BN41,IF(AND(CX4=\"PROMOTIONSTRASBOURG\",BI41<BJ41),BN41,IF(AND(CX4=\"PROMOTIONFINALE\",BI41<BJ41),BN41,IF(OR(CX4=\"MIXTESD1NORD\",CX4=\"MIXTESD1STRASBOURG\",CX4=\"VETERANSD1STRASBOURG\",CX4=\"VETERANSD2STRASBOURG\",CX4=\"VETERANSD1NORD\",CX4=\"VETERANSD2NORD\",CX4=\"JUNIORS\",CX4=\"CADETS\",CX4=\"MINIMESBENJAMINSPOUSSINS\",CX4=\"MIXTESD1FINALE\",CX4=\"VETERANSD1FINALE\",CX4=\"VETERANSD2FINALE\",CX4=\"JUNIORSFINALE\",CX4=\"CADETSFINALE\",CX4=\"MINIMESBENJAMINSPOUSSINSFINALE\"),\"\",\"\"))))))))","v":""},3]
["Manche 6",null,"Manche 6",null,null,null,null,null,null,null,null,null,"Manche 6",null,"Manche 6",null,null,null,null,null,null,null,null,"Manche 6",null,"Manche 6",null,null,null,null,null,null,null,null,"Manche 6",null,"Manche 6",null,null,null,null,null,null,null,null,null,null,null,null,null,null,null,null,null,null,null,"Manche 6",null,"Manche 6",null,null,null,null,null,null,null,null,"Manche 6",null,"Manche 6",null,null,null,null,null,null,null,null,"Manche 6",null,"Manche 6",null,null,null,null,null,null,null,null,null,null,null,null,null,null,null,null,null,null,null,null,null,null,null,null,null,null,null,null,null,null,null,null,null,null,null,null,null,null,null,null,null,null,null,null,null,null,null,null,null,null,null,null,null,null,null,null,null,null,null,null,null,null,null,null,null,null,null,null,null,null,null,null,null,null,null,null,null,null,null,null,null,null,null,null,null,null,null,null,null,null,null,null,null,null,null,null,null,{"$f":"IF(CX4=\"EXCELLENCE\",BS2,IF(OR(CX4=\"HONNEUR\",CX4=\"PROMOTIONNORD\",CX4=\"ADULTESDIVISION1NORD\",CX4=\"PROMOTIONSTRASBOURG\",CX4=\"PROMOTIONFINALE\"),BS2,IF(OR(CX4=\"MIXTESD1NORD\",CX4=\"MIXTESD1STRASBOURG\",CX4=\"VETERANSD1STRASBOURG\",CX4=\"VETERANSD2STRASBOURG\",CX4=\"VETERANSD1NORD\",CX4=\"VETERANSD2NORD\",CX4=\"JUNIORS\",CX4=\"CADETS\",CX4=\"MINIMESBENJAMINSPOUSSINS\",CX4=\"MIXTESD1FINALE\",CX4=\"VETERANSD1FINALE\",CX4=\"VETERANSD2FINALE\",CX4=\"JUNIORSFINALE\",CX4=\"CADETSFINALE\",CX4=\"MINIMESBENJAMINSPOUSSINSFINALE\"),BS2,\"\")))","v":""},{"$f":"IF(CX4=\"EXCELLENCE\",BP2,IF(OR(CX4=\"HONNEUR\",CX4=\"PROMOTIONNORD\",CX4=\"ADULTESDIVISION1NORD\",CX4=\"PROMOTIONSTRASBOURG\",CX4=\"PROMOTIONFINALE\"),BP2,IF(OR(CX4=\"MIXTESD1NORD\",CX4=\"MIXTESD1STRASBOURG\",CX4=\"VETERANSD1STRASBOURG\",CX4=\"VETERANSD2STRASBOURG\",CX4=\"VETERANSD1NORD\",CX4=\"VETERANSD2NORD\",CX4=\"JUNIORS\",CX4=\"CADETS\",CX4=\"MINIMESBENJAMINSPOUSSINS\",CX4=\"MIXTESD1FINALE\",CX4=\"VETERANSD1FINALE\",CX4=\"VETERANSD2FINALE\",CX4=\"JUNIORSFINALE\",CX4=\"CADETSFINALE\",CX4=\"MINIMESBENJAMINSPOUSSINSFINALE\"),BP2,\"\")))","v":""},{"$f":"IF(CX4=\"EXCELLENCE\",BR2,IF(OR(CX4=\"HONNEUR\",CX4=\"PROMOTIONNORD\",CX4=\"ADULTESDIVISION1NORD\",CX4=\"PROMOTIONSTRASBOURG\",CX4=\"PROMOTIONFINALE\"),BR2,IF(OR(CX4=\"MIXTESD1NORD\",CX4=\"MIXTESD1STRASBOURG\",CX4=\"VETERANSD1STRASBOURG\",CX4=\"VETERANSD2STRASBOURG\",CX4=\"VETERANSD1NORD\",CX4=\"VETERANSD2NORD\",CX4=\"JUNIORS\",CX4=\"CADETS\",CX4=\"MINIMESBENJAMINSPOUSSINS\",CX4=\"MIXTESD1FINALE\",CX4=\"VETERANSD1FINALE\",CX4=\"VETERANSD2FINALE\",CX4=\"JUNIORSFINALE\",CX4=\"CADETSFINALE\",CX4=\"MINIMESBENJAMINSPOUSSINSFINALE\"),BR2,\"\")))","v":""},{"$f":"IF(CX4=\"EXCELLENCE\",BQ1,IF(OR(CX4=\"HONNEUR\",CX4=\"PROMOTIONNORD\",CX4=\"ADULTESDIVISION1NORD\",CX4=\"PROMOTIONSTRASBOURG\",CX4=\"PROMOTIONFINALE\"),BQ1,IF(OR(CX4=\"MIXTESD1NORD\",CX4=\"MIXTESD1STRASBOURG\",CX4=\"VETERANSD1STRASBOURG\",CX4=\"VETERANSD2STRASBOURG\",CX4=\"VETERANSD1NORD\",CX4=\"VETERANSD2NORD\",CX4=\"JUNIORS\",CX4=\"CADETS\",CX4=\"MINIMESBENJAMINSPOUSSINS\",CX4=\"MIXTESD1FINALE\",CX4=\"VETERANSD1FINALE\",CX4=\"VETERANSD2FINALE\",CX4=\"JUNIORSFINALE\",CX4=\"CADETSFINALE\",CX4=\"MINIMESBENJAMINSPOUSSINSFINALE\"),BQ1,\"\")))","v":""},{"$f":"IF(CX4=\"EXCELLENCE\",CX4,IF(OR(CX4=\"HONNEUR\",CX4=\"PROMOTIONNORD\",CX4=\"ADULTESDIVISION1NORD\",CX4=\"PROMOTIONSTRASBOURG\",CX4=\"PROMOTIONFINALE\"),CX4,IF(OR(CX4=\"MIXTESD1NORD\",CX4=\"MIXTESD1STRASBOURG\",CX4=\"VETERANSD1STRASBOURG\",CX4=\"VETERANSD2STRASBOURG\",CX4=\"VETERANSD1NORD\",CX4=\"VETERANSD2NORD\",CX4=\"JUNIORS\",CX4=\"CADETS\",CX4=\"MINIMESBENJAMINSPOUSSINS\",CX4=\"MIXTESD1FINALE\",CX4=\"VETERANSD1FINALE\",CX4=\"VETERANSD2FINALE\",CX4=\"JUNIORSFINALE\",CX4=\"CADETSFINALE\",CX4=\"MINIMESBENJAMINSPOUSSINSFINALE\"),CX4,\"\")))","v":""},{"$f":"IF(CX4=\"EXCELLENCE\",CW4,IF(OR(CX4=\"HONNEUR\",CX4=\"PROMOTIONNORD\",CX4=\"ADULTESDIVISION1NORD\",CX4=\"PROMOTIONSTRASBOURG\",CX4=\"PROMOTIONFINALE\"),CW4,IF(OR(CX4=\"MIXTESD1NORD\",CX4=\"MIXTESD1STRASBOURG\",CX4=\"VETERANSD1STRASBOURG\",CX4=\"VETERANSD2STRASBOURG\",CX4=\"VETERANSD1NORD\",CX4=\"VETERANSD2NORD\",CX4=\"JUNIORS\",CX4=\"CADETS\",CX4=\"MINIMESBENJAMINSPOUSSINS\",CX4=\"MIXTESD1FINALE\",CX4=\"VETERANSD1FINALE\",CX4=\"VETERANSD2FINALE\",CX4=\"JUNIORSFINALE\",CX4=\"CADETSFINALE\",CX4=\"MINIMESBENJAMINSPOUSSINSFINALE\"),CW4,\"\")))","v":""},"VICTOIRE CONTRE",{"$f":"IF(BT5<BU5,\"\",IF(AND(CX4=\"EXCELLENCE\",BT5>BU5),BQ5,IF(AND(CX4=\"HONNEUR\",BT5>BU5),BQ5,IF(AND(CX4=\"PROMOTIONNORD\",BT5>BU5),BQ5,IF(AND(CX4=\"ADULTESDIVISION1NORD\",BT5>BU5),BQ5,IF(AND(CX4=\"PROMOTIONSTRASBOURG\",BT5>BU5),BQ5,IF(AND(CX4=\"MIXTESD1NORD\",BT5>BU5),BQ5,IF(AND(CX4=\"MIXTESD1STRASBOURG\",BT5>BU5),BQ5,IF(AND(CX4=\"VETERANSD1STRASBOURG\",BT5>BU5),BQ5,IF(AND(CX4=\"VETERANSD2STRASBOURG\",BT5>BU5),BQ5,IF(AND(CX4=\"VETERANSD1NORD\",BT5>BU5),BQ5,IF(AND(CX4=\"VETERANSD2NORD\",BT5>BU5),BQ5,IF(AND(CX4=\"JUNIORS\",BT5>BU5),BQ5,IF(AND(CX4=\"CADETS\",BT5>BU5),BQ5,IF(AND(CX4=\"MINIMESBENJAMINSPOUSSINS\",BT5>BU5),BQ5,IF(AND(CX4=\"PROMOTIONFINALE\",BT5>BU5),BQ5,IF(AND(CX4=\"MIXTESD1FINALE\",BT5>BU5),BQ5,IF(AND(CX4=\"VETERANSD1FINALE\",BT5>BU5),BQ5,IF(AND(CX4=\"VETERANSD2FINALE\",BT5>BU5),BQ5,IF(AND(CX4=\"JUNIORSFINALE\",BT5>BU5),BQ5,IF(AND(CX4=\"CADETSFINALE\",BT5>BU5),BQ5,IF(AND(CX4=\"MINIMESBENJAMINSPOUSSINSFINALE\",BT5>BU5),BQ5,\"\"))))))))))))))))))))))","v":""},{"$f":"IF(BT5<BU5,\"\",IF(AND(CX4=\"EXCELLENCE\",BT5>BU5),BR5,IF(AND(CX4=\"HONNEUR\",BT5>BU5),BR5,IF(AND(CX4=\"PROMOTIONNORD\",BT5>BU5),BR5,IF(AND(CX4=\"ADULTESDIVISION1NORD\",BT5>BU5),BR5,IF(AND(CX4=\"PROMOTIONSTRASBOURG\",BT5>BU5),BR5,IF(AND(CX4=\"MIXTESD1NORD\",BT5>BU5),BR5,IF(AND(CX4=\"MIXTESD1STRASBOURG\",BT5>BU5),BR5,IF(AND(CX4=\"VETERANSD1STRASBOURG\",BT5>BU5),BR5,IF(AND(CX4=\"VETERANSD2STRASBOURG\",BT5>BU5),BR5,IF(AND(CX4=\"VETERANSD1NORD\",BT5>BU5),BR5,IF(AND(CX4=\"VETERANSD2NORD\",BT5>BU5),BR5,IF(AND(CX4=\"JUNIORS\",BT5>BU5),BR5,IF(AND(CX4=\"CADETS\",BT5>BU5),BR5,IF(AND(CX4=\"MINIMESBENJAMINSPOUSSINS\",BT5>BU5),BR5,IF(AND(CX4=\"PROMOTIONFINALE\",BT5>BU5),BR5,IF(AND(CX4=\"MIXTESD1FINALE\",BT5>BU5),BR5,IF(AND(CX4=\"VETERANSD1FINALE\",BT5>BU5),BR5,IF(AND(CX4=\"VETERANSD2FINALE\",BT5>BU5),BR5,IF(AND(CX4=\"JUNIORSFINALE\",BT5>BU5),BR5,IF(AND(CX4=\"CADETSFINALE\",BT5>BU5),BR5,IF(AND(CX4=\"MINIMESBENJAMINSPOUSSINSFINALE\",BT5>BU5),BR5,\"\"))))))))))))))))))))))","v":""},{"$f":"IF(BT5<BU5,\"\",IF(AND(CX4=\"EXCELLENCE\",BT5>BU5),BS5,IF(AND(CX4=\"HONNEUR\",BT5>BU5),BS5,IF(AND(CX4=\"PROMOTIONNORD\",BT5>BU5),BS5,IF(AND(CX4=\"ADULTESDIVISION1NORD\",BT5>BU5),BS5,IF(AND(CX4=\"PROMOTIONSTRASBOURG\",BT5>BU5),BS5,IF(AND(CX4=\"MIXTESD1NORD\",BT5>BU5),BS5,IF(AND(CX4=\"MIXTESD1STRASBOURG\",BT5>BU5),BS5,IF(AND(CX4=\"VETERANSD1STRASBOURG\",BT5>BU5),BS5,IF(AND(CX4=\"VETERANSD2STRASBOURG\",BT5>BU5),BS5,IF(AND(CX4=\"VETERANSD1NORD\",BT5>BU5),BS5,IF(AND(CX4=\"VETERANSD2NORD\",BT5>BU5),BS5,IF(AND(CX4=\"JUNIORS\",BT5>BU5),BS5,IF(AND(CX4=\"CADETS\",BT5>BU5),BS5,IF(AND(CX4=\"MINIMESBENJAMINSPOUSSINS\",BT5>BU5),BS5,IF(AND(CX4=\"PROMOTIONFINALE\",BT5>BU5),BS5,IF(AND(CX4=\"MIXTESD1FINALE\",BT5>BU5),BS5,IF(AND(CX4=\"VETERANSD1FINALE\",BT5>BU5),BS5,IF(AND(CX4=\"VETERANSD2FINALE\",BT5>BU5),BS5,IF(AND(CX4=\"JUNIORSFINALE\",BT5>BU5),BS5,IF(AND(CX4=\"CADETSFINALE\",BT5>BU5),BS5,IF(AND(CX4=\"MINIMESBENJAMINSPOUSSINSFINALE\",BT5>BU5),BS5,\"\"))))))))))))))))))))))","v":""},{"$f":"IF(BT5<BU5,\"\",IF(AND(CX4=\"EXCELLENCE\",BT5>BU5),BW1,IF(AND(CX4=\"HONNEUR\",BT5>BU5),BW1,IF(AND(CX4=\"PROMOTIONNORD\",BT5>BU5),BW1,IF(AND(CX4=\"ADULTESDIVISION1NORD\",BT5>BU5),BW1,IF(AND(CX4=\"PROMOTIONSTRASBOURG\",BT5>BU5),BW1,IF(AND(CX4=\"MIXTESD1NORD\",BT5>BU5),BW1,IF(AND(CX4=\"MIXTESD1STRASBOURG\",BT5>BU5),BW1,IF(AND(CX4=\"VETERANSD1STRASBOURG\",BT5>BU5),BW1,IF(AND(CX4=\"VETERANSD2STRASBOURG\",BT5>BU5),BW1,IF(AND(CX4=\"VETERANSD1NORD\",BT5>BU5),BW1,IF(AND(CX4=\"VETERANSD2NORD\",BT5>BU5),BW1,IF(AND(CX4=\"JUNIORS\",BT5>BU5),BW1,IF(AND(CX4=\"CADETS\",BT5>BU5),BW1,IF(AND(CX4=\"MINIMESBENJAMINSPOUSSINS\",BT5>BU5),BW1,IF(AND(CX4=\"PROMOTIONFINALE\",BT5>BU5),BW1,IF(AND(CX4=\"MIXTESD1FINALE\",BT5>BU5),BW1,IF(AND(CX4=\"VETERANSD1FINALE\",BT5>BU5),BW1,IF(AND(CX4=\"VETERANSD2FINALE\",BT5>BU5),BW1,IF(AND(CX4=\"JUNIORSFINALE\",BT5>BU5),BW1,IF(AND(CX4=\"CADETSFINALE\",BT5>BU5),BW1,IF(AND(CX4=\"MINIMESBENJAMINSPOUSSINSFINALE\",BT5>BU5),BW1,\"\"))))))))))))))))))))))","v":""},{"$f":"IF(BT5<BU5,\"\",IF(AND(CX4=\"EXCELLENCE\",BT5>BU5),BV5,IF(AND(CX4=\"HONNEUR\",BT5>BU5),BV5,IF(AND(CX4=\"PROMOTIONNORD\",BT5>BU5),BV5,IF(AND(CX4=\"ADULTESDIVISION1NORD\",BT5>BU5),BV5,IF(AND(CX4=\"PROMOTIONSTRASBOURG\",BT5>BU5),BV5,IF(AND(CX4=\"MIXTESD1NORD\",BT5>BU5),BV5,IF(AND(CX4=\"MIXTESD1STRASBOURG\",BT5>BU5),BV5,IF(AND(CX4=\"VETERANSD1STRASBOURG\",BT5>BU5),BV5,IF(AND(CX4=\"VETERANSD2STRASBOURG\",BT5>BU5),BV5,IF(AND(CX4=\"VETERANSD1NORD\",BT5>BU5),BV5,IF(AND(CX4=\"VETERANSD2NORD\",BT5>BU5),BV5,IF(AND(CX4=\"JUNIORS\",BT5>BU5),BV5,IF(AND(CX4=\"CADETS\",BT5>BU5),BV5,IF(AND(CX4=\"MINIMESBENJAMINSPOUSSINS\",BT5>BU5),BV5,IF(AND(CX4=\"PROMOTIONFINALE\",BT5>BU5),BV5,IF(AND(CX4=\"MIXTESD1FINALE\",BT5>BU5),BV5,IF(AND(CX4=\"VETERANSD1FINALE\",BT5>BU5),BV5,IF(AND(CX4=\"VETERANSD2FINALE\",BT5>BU5),BV5,IF(AND(CX4=\"JUNIORSFINALE\",BT5>BU5),BV5,IF(AND(CX4=\"CADETSFINALE\",BT5>BU5),BV5,IF(AND(CX4=\"MINIMESBENJAMINSPOUSSINSFINALE\",BT5>BU5),BV5,\"\"))))))))))))))))))))))","v":""},{"$f":"IF(BT5<BU5,\"\",IF(AND(CX4=\"EXCELLENCE\",BT5>BU5),BX5,IF(AND(CX4=\"HONNEUR\",BT5>BU5),BX5,IF(AND(CX4=\"PROMOTIONNORD\",BT5>BU5),BX5,IF(AND(CX4=\"ADULTESDIVISION1NORD\",BT5>BU5),BX5,IF(AND(CX4=\"PROMOTIONSTRASBOURG\",BT5>BU5),BX5,IF(AND(CX4=\"MIXTESD1NORD\",BT5>BU5),BX5,IF(AND(CX4=\"MIXTESD1STRASBOURG\",BT5>BU5),BX5,IF(AND(CX4=\"VETERANSD1STRASBOURG\",BT5>BU5),BX5,IF(AND(CX4=\"VETERANSD2STRASBOURG\",BT5>BU5),BX5,IF(AND(CX4=\"VETERANSD1NORD\",BT5>BU5),BX5,IF(AND(CX4=\"VETERANSD2NORD\",BT5>BU5),BX5,IF(AND(CX4=\"JUNIORS\",BT5>BU5),BX5,IF(AND(CX4=\"CADETS\",BT5>BU5),BX5,IF(AND(CX4=\"MINIMESBENJAMINSPOUSSINS\",BT5>BU5),BX5,IF(AND(CX4=\"PROMOTIONFINALE\",BT5>BU5),BX5,IF(AND(CX4=\"MIXTESD1FINALE\",BT5>BU5),BX5,IF(AND(CX4=\"VETERANSD1FINALE\",BT5>BU5),BX5,IF(AND(CX4=\"VETERANSD2FINALE\",BT5>BU5),BX5,IF(AND(CX4=\"JUNIORSFINALE\",BT5>BU5),BX5,IF(AND(CX4=\"CADETSFINALE\",BT5>BU5),BX5,IF(AND(CX4=\"MINIMESBENJAMINSPOUSSINSFINALE\",BT5>BU5),BX5,\"\"))))))))))))))))))))))","v":""},"DEFAITE CONTRE",{"$f":"IF(BT5>BU5,\"\",IF(AND(CX4=\"EXCELLENCE\",BT5<BU5),BQ5,IF(AND(CX4=\"HONNEUR\",BT5<BU5),BQ5,IF(AND(CX4=\"PROMOTIONNORD\",BT5<BU5),BQ5,IF(AND(CX4=\"ADULTESDIVISION1NORD\",BT5<BU5),BQ5,IF(AND(CX4=\"PROMOTIONSTRASBOURG\",BT5<BU5),BQ5,IF(AND(CX4=\"PROMOTIONFINALE\",BT5<BU5),BQ5,IF(AND(CX4=\"MIXTESD1NORD\",BT5<BU5),BQ5,IF(AND(CX4=\"MIXTESD1STRASBOURG\",BT5<BU5),BQ5,IF(AND(CX4=\"VETERANSD1STRASBOURG\",BT5<BU5),BQ5,IF(AND(CX4=\"VETERANSD2STRASBOURG\",BT5<BU5),BQ5,IF(AND(CX4=\"VETERANSD1NORD\",BT5<BU5),BQ5,IF(AND(CX4=\"VETERANSD2NORD\",BT5<BU5),BQ5,IF(AND(CX4=\"JUNIORS\",BT5<BU5),BQ5,IF(AND(CX4=\"CADETS\",BT5<BU5),BQ5,IF(AND(CX4=\"MINIMESBENJAMINSPOUSSINS\",BT5<BU5),BQ5,IF(AND(CX4=\"MIXTESD1FINALE\",BT5<BU5),BQ5,IF(AND(CX4=\"VETERANSD1FINALE\",BT5<BU5),BQ5,IF(AND(CX4=\"VETERANSD2FINALE\",BT5<BU5),BQ5,IF(AND(CX4=\"JUNIORSFINALE\",BT5<BU5),BQ5,IF(AND(CX4=\"CADETSFINALE\",BT5<BU5),BQ5,IF(AND(CX4=\"MINIMESBENJAMINSPOUSSINSFINALE\",BT5<BU5),BQ5,\"\"))))))))))))))))))))))","v":""},{"$f":"IF(BT5>BU5,\"\",IF(AND(CX4=\"EXCELLENCE\",BT5<BU5),BR5,IF(AND(CX4=\"HONNEUR\",BT5<BU5),BR5,IF(AND(CX4=\"PROMOTIONNORD\",BT5<BU5),BR5,IF(AND(CX4=\"ADULTESDIVISION1NORD\",BT5<BU5),BR5,IF(AND(CX4=\"PROMOTIONSTRASBOURG\",BT5<BU5),BR5,IF(AND(CX4=\"PROMOTIONFINALE\",BT5<BU5),BR5,IF(AND(CX4=\"MIXTESD1NORD\",BT5<BU5),BR5,IF(AND(CX4=\"MIXTESD1STRASBOURG\",BT5<BU5),BR5,IF(AND(CX4=\"VETERANSD1STRASBOURG\",BT5<BU5),BR5,IF(AND(CX4=\"VETERANSD2STRASBOURG\",BT5<BU5),BR5,IF(AND(CX4=\"VETERANSD1NORD\",BT5<BU5),BR5,IF(AND(CX4=\"VETERANSD2NORD\",BT5<BU5),BR5,IF(AND(CX4=\"JUNIORS\",BT5<BU5),BR5,IF(AND(CX4=\"CADETS\",BT5<BU5),BR5,IF(AND(CX4=\"MINIMESBENJAMINSPOUSSINS\",BT5<BU5),BR5,IF(AND(CX4=\"MIXTESD1FINALE\",BT5<BU5),BR5,IF(AND(CX4=\"VETERANSD1FINALE\",BT5<BU5),BR5,IF(AND(CX4=\"VETERANSD2FINALE\",BT5<BU5),BR5,IF(AND(CX4=\"JUNIORSFINALE\",BT5<BU5),BR5,IF(AND(CX4=\"CADETSFINALE\",BT5<BU5),BR5,IF(AND(CX4=\"MINIMESBENJAMINSPOUSSINSFINALE\",BT5<BU5),BR5,\"\"))))))))))))))))))))))","v":""},{"$f":"IF(BT5>BU5,\"\",IF(AND(CX4=\"EXCELLENCE\",BT5<BU5),BS5,IF(AND(CX4=\"HONNEUR\",BT5<BU5),BS5,IF(AND(CX4=\"PROMOTIONNORD\",BT5<BU5),BS5,IF(AND(CX4=\"ADULTESDIVISION1NORD\",BT5<BU5),BS5,IF(AND(CX4=\"PROMOTIONSTRASBOURG\",BT5<BU5),BS5,IF(AND(CX4=\"PROMOTIONFINALE\",BT5<BU5),BS5,IF(AND(CX4=\"MIXTESD1NORD\",BT5<BU5),BS5,IF(AND(CX4=\"MIXTESD1STRASBOURG\",BT5<BU5),BS5,IF(AND(CX4=\"VETERANSD1STRASBOURG\",BT5<BU5),BS5,IF(AND(CX4=\"VETERANSD2STRASBOURG\",BT5<BU5),BS5,IF(AND(CX4=\"VETERANSD1NORD\",BT5<BU5),BS5,IF(AND(CX4=\"VETERANSD2NORD\",BT5<BU5),BS5,IF(AND(CX4=\"JUNIORS\",BT5<BU5),BS5,IF(AND(CX4=\"CADETS\",BT5<BU5),BS5,IF(AND(CX4=\"MINIMESBENJAMINSPOUSSINS\",BT5<BU5),BS5,IF(AND(CX4=\"MIXTESD1FINALE\",BT5<BU5),BS5,IF(AND(CX4=\"VETERANSD1FINALE\",BT5<BU5),BS5,IF(AND(CX4=\"VETERANSD2FINALE\",BT5<BU5),BS5,IF(AND(CX4=\"JUNIORSFINALE\",BT5<BU5),BS5,IF(AND(CX4=\"CADETSFINALE\",BT5<BU5),BS5,IF(AND(CX4=\"MINIMESBENJAMINSPOUSSINSFINALE\",BT5<BU5),BS5,\"\"))))))))))))))))))))))","v":""},{"$f":"IF(BT5>BU5,\"\",IF(AND(CX4=\"EXCELLENCE\",BT5<BU5),BW1,IF(AND(CX4=\"HONNEUR\",BT5<BU5),BW1,IF(AND(CX4=\"PROMOTIONNORD\",BT5<BU5),BW1,IF(AND(CX4=\"ADULTESDIVISION1NORD\",BT5<BU5),BW1,IF(AND(CX4=\"PROMOTIONSTRASBOURG\",BT5<BU5),BW1,IF(AND(CX4=\"PROMOTIONFINALE\",BT5<BU5),BW1,IF(AND(CX4=\"MIXTESD1NORD\",BT5<BU5),BW1,IF(AND(CX4=\"MIXTESD1STRASBOURG\",BT5<BU5),BW1,IF(AND(CX4=\"VETERANSD1STRASBOURG\",BT5<BU5),BW1,IF(AND(CX4=\"VETERANSD2STRASBOURG\",BT5<BU5),BW1,IF(AND(CX4=\"VETERANSD1NORD\",BT5<BU5),BW1,IF(AND(CX4=\"VETERANSD2NORD\",BT5<BU5),BW1,IF(AND(CX4=\"JUNIORS\",BT5<BU5),BW1,IF(AND(CX4=\"CADETS\",BT5<BU5),BW1,IF(AND(CX4=\"MINIMESBENJAMINSPOUSSINS\",BT5<BU5),BW1,IF(AND(CX4=\"MIXTESD1FINALE\",BT5<BU5),BW1,IF(AND(CX4=\"VETERANSD1FINALE\",BT5<BU5),BW1,IF(AND(CX4=\"VETERANSD2FINALE\",BT5<BU5),BW1,IF(AND(CX4=\"JUNIORSFINALE\",BT5<BU5),BW1,IF(AND(CX4=\"CADETSFINALE\",BT5<BU5),BW1,IF(AND(CX4=\"MINIMESBENJAMINSPOUSSINSFINALE\",BT5<BU5),BW1,\"\"))))))))))))))))))))))","v":""},{"$f":"IF(BT5>BU5,\"\",IF(AND(CX4=\"EXCELLENCE\",BT5<BU5),BW5,IF(AND(CX4=\"HONNEUR\",BT5<BU5),BW5,IF(AND(CX4=\"PROMOTIONNORD\",BT5<BU5),BW5,IF(AND(CX4=\"ADULTESDIVISION1NORD\",BT5<BU5),BW5,IF(AND(CX4=\"PROMOTIONSTRASBOURG\",BT5<BU5),BW5,IF(AND(CX4=\"PROMOTIONFINALE\",BT5<BU5),BW5,IF(AND(CX4=\"MIXTESD1NORD\",BT5<BU5),BW5,IF(AND(CX4=\"MIXTESD1STRASBOURG\",BT5<BU5),BW5,IF(AND(CX4=\"VETERANSD1STRASBOURG\",BT5<BU5),BW5,IF(AND(CX4=\"VETERANSD2STRASBOURG\",BT5<BU5),BW5,IF(AND(CX4=\"VETERANSD1NORD\",BT5<BU5),BW5,IF(AND(CX4=\"VETERANSD2NORD\",BT5<BU5),BW5,IF(AND(CX4=\"JUNIORS\",BT5<BU5),BW5,IF(AND(CX4=\"CADETS\",BT5<BU5),BW5,IF(AND(CX4=\"MINIMESBENJAMINSPOUSSINS\",BT5<BU5),BW5,IF(AND(CX4=\"MIXTESD1FINALE\",BT5<BU5),BW5,IF(AND(CX4=\"VETERANSD1FINALE\",BT5<BU5),BW5,IF(AND(CX4=\"VETERANSD2FINALE\",BT5<BU5),BW5,IF(AND(CX4=\"JUNIORSFINALE\",BT5<BU5),BW5,IF(AND(CX4=\"CADETSFINALE\",BT5<BU5),BW5,IF(AND(CX4=\"MINIMESBENJAMINSPOUSSINSFINALE\",BT5<BU5),BW5,\"\"))))))))))))))))))))))","v":""},{"$f":"IF(BT5>BU5,\"\",IF(AND(CX4=\"EXCELLENCE\",BT5<BU5),BY5,IF(AND(CX4=\"HONNEUR\",BT5<BU5),BY5,IF(AND(CX4=\"PROMOTIONNORD\",BT5<BU5),BY5,IF(AND(CX4=\"ADULTESDIVISION1NORD\",BT5<BU5),BY5,IF(AND(CX4=\"PROMOTIONSTRASBOURG\",BT5<BU5),BY5,IF(AND(CX4=\"PROMOTIONFINALE\",BT5<BU5),BY5,IF(AND(CX4=\"MIXTESD1NORD\",BT5<BU5),BY5,IF(AND(CX4=\"MIXTESD1STRASBOURG\",BT5<BU5),BY5,IF(AND(CX4=\"VETERANSD1STRASBOURG\",BT5<BU5),BY5,IF(AND(CX4=\"VETERANSD2STRASBOURG\",BT5<BU5),BY5,IF(AND(CX4=\"VETERANSD1NORD\",BT5<BU5),BY5,IF(AND(CX4=\"VETERANSD2NORD\",BT5<BU5),BY5,IF(AND(CX4=\"JUNIORS\",BT5<BU5),BY5,IF(AND(CX4=\"CADETS\",BT5<BU5),BY5,IF(AND(CX4=\"MINIMESBENJAMINSPOUSSINS\",BT5<BU5),BY5,IF(AND(CX4=\"MIXTESD1FINALE\",BT5<BU5),BY5,IF(AND(CX4=\"VETERANSD1FINALE\",BT5<BU5),BY5,IF(AND(CX4=\"VETERANSD2FINALE\",BT5<BU5),BY5,IF(AND(CX4=\"JUNIORSFINALE\",BT5<BU5),BY5,IF(AND(CX4=\"CADETSFINALE\",BT5<BU5),BY5,IF(AND(CX4=\"MINIMESBENJAMINSPOUSSINSFINALE\",BT5<BU5),BY5,\"\"))))))))))))))))))))))","v":""},1]
[{"$f":"calcules!$U$14","v":"0"},{"$f":"calcules!$V$14","v":"0"},{"$f":"IF($A$17>$B$17,1,0)","v":0},{"$f":"IF($A$17<$B$17,1,0)","v":0},null,null,null,null,null,null,null,null,{"$f":"calcules!$AC$14","v":"0"},{"$f":"calcules!$AD$14","v":"0"},{"$f":"IF($M$17>$N$17,1,0)","v":0},{"$f":"IF($M$17<$N$17,1,0)","v":0},null,null,null,null,null,null,null,{"$f":"calcules!$AG$14","v":"0"},{"$f":"calcules!$AH$14","v":"0"},{"$f":"IF($X$17>$Y$17,1,0)","v":0},{"$f":"IF($X$17<$Y$17,1,0)","v":0},null,null,null,null,null,null,null,{"$f":"calcules!$AK$14","v":"0"},{"$f":"calcules!$AL$14","v":"0"},{"$f":"IF($AI$17>$AJ$17,1,0)","v":0},{"$f":"IF($AI$17<$AJ$17,1,0)","v":0},null,null,null,null,null,null,null,null,null,null,null,null,null,null,null,null,null,null,{"$f":"calcules!$AS$14","v":"0"},{"$f":"calcules!$AT$14","v":"0"},{"$f":"IF($BE$17>$BF$17,1,0)","v":0},{"$f":"IF($BE$17<$BF$17,1,0)","v":0},null,null,null,null,null,null,null,{"$f":"calcules!$AW$14","v":"0"},{"$f":"calcules!$AX$14","v":"0"},{"$f":"IF($BP$17>$BQ$17,1,0)","v":0},{"$f":"IF($BP$17<$BQ$17,1,0)","v":0},null,null,null,null,null,null,null,{"$f":"calcules!$BA$14","v":"0"},{"$f":"calcules!$BB$14","v":"0"},{"$f":"IF($CA$17>$CB$17,1,0)","v":0},{"$f":"IF($CA$17<$CB$17,1,0)","v":0},null,null,null,null,null,null,null,null,null,null,null,null,null,null,null,null,null,null,null,null,null,null,null,null,null,null,null,null,null,null,null,null,null,null,null,null,null,null,null,null,null,null,null,null,null,null,null,null,null,null,null,null,null,null,null,null,null,null,null,null,null,null,null,null,null,null,null,null,null,null,null,null,null,null,null,null,null,null,null,null,null,null,null,null,null,null,null,null,null,null,null,null,null,null,null,null,{"$f":"IF(CX4=\"EXCELLENCE\",BS2,IF(OR(CX4=\"HONNEUR\",CX4=\"PROMOTIONNORD\",CX4=\"ADULTESDIVISION1NORD\",CX4=\"PROMOTIONSTRASBOURG\",CX4=\"PROMOTIONFINALE\"),BS2,IF(OR(CX4=\"MIXTESD1NORD\",CX4=\"MIXTESD1STRASBOURG\",CX4=\"VETERANSD1STRASBOURG\",CX4=\"VETERANSD2STRASBOURG\",CX4=\"VETERANSD1NORD\",CX4=\"VETERANSD2NORD\",CX4=\"JUNIORS\",CX4=\"CADETS\",CX4=\"MINIMESBENJAMINSPOUSSINS\",CX4=\"MIXTESD1FINALE\",CX4=\"VETERANSD1FINALE\",CX4=\"VETERANSD2FINALE\",CX4=\"JUNIORSFINALE\",CX4=\"CADETSFINALE\",CX4=\"MINIMESBENJAMINSPOUSSINSFINALE\"),BS2,\"\")))","v":""},{"$f":"IF(CX4=\"EXCELLENCE\",BP2,IF(OR(CX4=\"HONNEUR\",CX4=\"PROMOTIONNORD\",CX4=\"ADULTESDIVISION1NORD\",CX4=\"PROMOTIONSTRASBOURG\",CX4=\"PROMOTIONFINALE\"),BP2,IF(OR(CX4=\"MIXTESD1NORD\",CX4=\"MIXTESD1STRASBOURG\",CX4=\"VETERANSD1STRASBOURG\",CX4=\"VETERANSD2STRASBOURG\",CX4=\"VETERANSD1NORD\",CX4=\"VETERANSD2NORD\",CX4=\"JUNIORS\",CX4=\"CADETS\",CX4=\"MINIMESBENJAMINSPOUSSINS\",CX4=\"MIXTESD1FINALE\",CX4=\"VETERANSD1FINALE\",CX4=\"VETERANSD2FINALE\",CX4=\"JUNIORSFINALE\",CX4=\"CADETSFINALE\",CX4=\"MINIMESBENJAMINSPOUSSINSFINALE\"),BP2,\"\")))","v":""},{"$f":"IF(CX4=\"EXCELLENCE\",BR2,IF(OR(CX4=\"HONNEUR\",CX4=\"PROMOTIONNORD\",CX4=\"ADULTESDIVISION1NORD\",CX4=\"PROMOTIONSTRASBOURG\",CX4=\"PROMOTIONFINALE\"),BR2,IF(OR(CX4=\"MIXTESD1NORD\",CX4=\"MIXTESD1STRASBOURG\",CX4=\"VETERANSD1STRASBOURG\",CX4=\"VETERANSD2STRASBOURG\",CX4=\"VETERANSD1NORD\",CX4=\"VETERANSD2NORD\",CX4=\"JUNIORS\",CX4=\"CADETS\",CX4=\"MINIMESBENJAMINSPOUSSINS\",CX4=\"MIXTESD1FINALE\",CX4=\"VETERANSD1FINALE\",CX4=\"VETERANSD2FINALE\",CX4=\"JUNIORSFINALE\",CX4=\"CADETSFINALE\",CX4=\"MINIMESBENJAMINSPOUSSINSFINALE\"),BR2,\"\")))","v":""},{"$f":"IF(CX4=\"EXCELLENCE\",BQ1,IF(OR(CX4=\"HONNEUR\",CX4=\"PROMOTIONNORD\",CX4=\"ADULTESDIVISION1NORD\",CX4=\"PROMOTIONSTRASBOURG\",CX4=\"PROMOTIONFINALE\"),BQ1,IF(OR(CX4=\"MIXTESD1NORD\",CX4=\"MIXTESD1STRASBOURG\",CX4=\"VETERANSD1STRASBOURG\",CX4=\"VETERANSD2STRASBOURG\",CX4=\"VETERANSD1NORD\",CX4=\"VETERANSD2NORD\",CX4=\"JUNIORS\",CX4=\"CADETS\",CX4=\"MINIMESBENJAMINSPOUSSINS\",CX4=\"MIXTESD1FINALE\",CX4=\"VETERANSD1FINALE\",CX4=\"VETERANSD2FINALE\",CX4=\"JUNIORSFINALE\",CX4=\"CADETSFINALE\",CX4=\"MINIMESBENJAMINSPOUSSINSFINALE\"),BQ1,\"\")))","v":""},{"$f":"IF(CX4=\"EXCELLENCE\",CX4,IF(OR(CX4=\"HONNEUR\",CX4=\"PROMOTIONNORD\",CX4=\"ADULTESDIVISION1NORD\",CX4=\"PROMOTIONSTRASBOURG\",CX4=\"PROMOTIONFINALE\"),CX4,IF(OR(CX4=\"MIXTESD1NORD\",CX4=\"MIXTESD1STRASBOURG\",CX4=\"VETERANSD1STRASBOURG\",CX4=\"VETERANSD2STRASBOURG\",CX4=\"VETERANSD1NORD\",CX4=\"VETERANSD2NORD\",CX4=\"JUNIORS\",CX4=\"CADETS\",CX4=\"MINIMESBENJAMINSPOUSSINS\",CX4=\"MIXTESD1FINALE\",CX4=\"VETERANSD1FINALE\",CX4=\"VETERANSD2FINALE\",CX4=\"JUNIORSFINALE\",CX4=\"CADETSFINALE\",CX4=\"MINIMESBENJAMINSPOUSSINSFINALE\"),CX4,\"\")))","v":""},{"$f":"IF(CX4=\"EXCELLENCE\",CW4,IF(OR(CX4=\"HONNEUR\",CX4=\"PROMOTIONNORD\",CX4=\"ADULTESDIVISION1NORD\",CX4=\"PROMOTIONSTRASBOURG\",CX4=\"PROMOTIONFINALE\"),CW4,IF(OR(CX4=\"MIXTESD1NORD\",CX4=\"MIXTESD1STRASBOURG\",CX4=\"VETERANSD1STRASBOURG\",CX4=\"VETERANSD2STRASBOURG\",CX4=\"VETERANSD1NORD\",CX4=\"VETERANSD2NORD\",CX4=\"JUNIORS\",CX4=\"CADETS\",CX4=\"MINIMESBENJAMINSPOUSSINS\",CX4=\"MIXTESD1FINALE\",CX4=\"VETERANSD1FINALE\",CX4=\"VETERANSD2FINALE\",CX4=\"JUNIORSFINALE\",CX4=\"CADETSFINALE\",CX4=\"MINIMESBENJAMINSPOUSSINSFINALE\"),CW4,\"\")))","v":""},"VICTOIRE CONTRE",{"$f":"IF(BT23<BU23,\"\",IF(AND(CX4=\"EXCELLENCE\",BT23>BU23),BQ23,IF(AND(CX4=\"HONNEUR\",BT23>BU23),BQ23,IF(AND(CX4=\"PROMOTIONNORD\",BT23>BU23),BQ23,IF(AND(CX4=\"ADULTESDIVISION1NORD\",BT23>BU23),BQ23,IF(AND(CX4=\"PROMOTIONSTRASBOURG\",BT23>BU23),BQ23,IF(AND(CX4=\"MIXTESD1NORD\",BT23>BU23),BQ23,IF(AND(CX4=\"MIXTESD1STRASBOURG\",BT23>BU23),BQ23,IF(AND(CX4=\"VETERANSD1STRASBOURG\",BT23>BU23),BQ23,IF(AND(CX4=\"VETERANSD2STRASBOURG\",BT23>BU23),BQ23,IF(AND(CX4=\"VETERANSD1NORD\",BT23>BU23),BQ23,IF(AND(CX4=\"VETERANSD2NORD\",BT23>BU23),BQ23,IF(AND(CX4=\"JUNIORS\",BT23>BU23),BQ23,IF(AND(CX4=\"CADETS\",BT23>BU23),BQ23,IF(AND(CX4=\"MINIMESBENJAMINSPOUSSINS\",BT23>BU23),BQ23,IF(AND(CX4=\"PROMOTIONFINALE\",BT23>BU23),BQ23,IF(AND(CX4=\"MIXTESD1FINALE\",BT23>BU23),BQ23,IF(AND(CX4=\"VETERANSD1FINALE\",BT23>BU23),BQ23,IF(AND(CX4=\"VETERANSD2FINALE\",BT23>BU23),BQ23,IF(AND(CX4=\"JUNIORSFINALE\",BT23>BU23),BQ23,IF(AND(CX4=\"CADETSFINALE\",BT23>BU23),BQ23,IF(AND(CX4=\"MINIMESBENJAMINSPOUSSINSFINALE\",BT23>BU23),BQ23,\"\"))))))))))))))))))))))","v":""},{"$f":"IF(BT23<BU23,\"\",IF(AND(CX4=\"EXCELLENCE\",BT23>BU23),BR23,IF(AND(CX4=\"HONNEUR\",BT23>BU23),BR23,IF(AND(CX4=\"PROMOTIONNORD\",BT23>BU23),BR23,IF(AND(CX4=\"ADULTESDIVISION1NORD\",BT23>BU23),BR23,IF(AND(CX4=\"PROMOTIONSTRASBOURG\",BT23>BU23),BR23,IF(AND(CX4=\"MIXTESD1NORD\",BT23>BU23),BR23,IF(AND(CX4=\"MIXTESD1STRASBOURG\",BT23>BU23),BR23,IF(AND(CX4=\"VETERANSD1STRASBOURG\",BT23>BU23),BR23,IF(AND(CX4=\"VETERANSD2STRASBOURG\",BT23>BU23),BR23,IF(AND(CX4=\"VETERANSD1NORD\",BT23>BU23),BR23,IF(AND(CX4=\"VETERANSD2NORD\",BT23>BU23),BR23,IF(AND(CX4=\"JUNIORS\",BT23>BU23),BR23,IF(AND(CX4=\"CADETS\",BT23>BU23),BR23,IF(AND(CX4=\"MINIMESBENJAMINSPOUSSINS\",BT23>BU23),BR23,IF(AND(CX4=\"PROMOTIONFINALE\",BT23>BU23),BR23,IF(AND(CX4=\"MIXTESD1FINALE\",BT23>BU23),BR23,IF(AND(CX4=\"VETERANSD1FINALE\",BT23>BU23),BR23,IF(AND(CX4=\"VETERANSD2FINALE\",BT23>BU23),BR23,IF(AND(CX4=\"JUNIORSFINALE\",BT23>BU23),BR23,IF(AND(CX4=\"CADETSFINALE\",BT23>BU23),BR23,IF(AND(CX4=\"MINIMESBENJAMINSPOUSSINSFINALE\",BT23>BU23),BR23,\"\"))))))))))))))))))))))","v":""},{"$f":"IF(BT23<BU23,\"\",IF(AND(CX4=\"EXCELLENCE\",BT23>BU23),BS23,IF(AND(CX4=\"HONNEUR\",BT23>BU23),BS23,IF(AND(CX4=\"PROMOTIONNORD\",BT23>BU23),BS23,IF(AND(CX4=\"ADULTESDIVISION1NORD\",BT23>BU23),BS23,IF(AND(CX4=\"PROMOTIONSTRASBOURG\",BT23>BU23),BS23,IF(AND(CX4=\"MIXTESD1NORD\",BT23>BU23),BS23,IF(AND(CX4=\"MIXTESD1STRASBOURG\",BT23>BU23),BS23,IF(AND(CX4=\"VETERANSD1STRASBOURG\",BT23>BU23),BS23,IF(AND(CX4=\"VETERANSD2STRASBOURG\",BT23>BU23),BS23,IF(AND(CX4=\"VETERANSD1NORD\",BT23>BU23),BS23,IF(AND(CX4=\"VETERANSD2NORD\",BT23>BU23),BS23,IF(AND(CX4=\"JUNIORS\",BT23>BU23),BS23,IF(AND(CX4=\"CADETS\",BT23>BU23),BS23,IF(AND(CX4=\"MINIMESBENJAMINSPOUSSINS\",BT23>BU23),BS23,IF(AND(CX4=\"PROMOTIONFINALE\",BT23>BU23),BS23,IF(AND(CX4=\"MIXTESD1FINALE\",BT23>BU23),BS23,IF(AND(CX4=\"VETERANSD1FINALE\",BT23>BU23),BS23,IF(AND(CX4=\"VETERANSD2FINALE\",BT23>BU23),BS23,IF(AND(CX4=\"JUNIORSFINALE\",BT23>BU23),BS23,IF(AND(CX4=\"CADETSFINALE\",BT23>BU23),BS23,IF(AND(CX4=\"MINIMESBENJAMINSPOUSSINSFINALE\",BT23>BU23),BS23,\"\"))))))))))))))))))))))","v":""},{"$f":"IF(BT23<BU23,\"\",IF(AND(CX4=\"EXCELLENCE\",BT23>BU23),BW1,IF(AND(CX4=\"HONNEUR\",BT23>BU23),BW1,IF(AND(CX4=\"PROMOTIONNORD\",BT23>BU23),BW1,IF(AND(CX4=\"ADULTESDIVISION1NORD\",BT23>BU23),BW1,IF(AND(CX4=\"PROMOTIONSTRASBOURG\",BT23>BU23),BW1,IF(AND(CX4=\"MIXTESD1NORD\",BT23>BU23),BW1,IF(AND(CX4=\"MIXTESD1STRASBOURG\",BT23>BU23),BW1,IF(AND(CX4=\"VETERANSD1STRASBOURG\",BT23>BU23),BW1,IF(AND(CX4=\"VETERANSD2STRASBOURG\",BT23>BU23),BW1,IF(AND(CX4=\"VETERANSD1NORD\",BT23>BU23),BW1,IF(AND(CX4=\"VETERANSD2NORD\",BT23>BU23),BW1,IF(AND(CX4=\"JUNIORS\",BT23>BU23),BW1,IF(AND(CX4=\"CADETS\",BT23>BU23),BW1,IF(AND(CX4=\"MINIMESBENJAMINSPOUSSINS\",BT23>BU23),BW1,IF(AND(CX4=\"PROMOTIONFINALE\",BT23>BU23),BW1,IF(AND(CX4=\"MIXTESD1FINALE\",BT23>BU23),BW1,IF(AND(CX4=\"VETERANSD1FINALE\",BT23>BU23),BW1,IF(AND(CX4=\"VETERANSD2FINALE\",BT23>BU23),BW1,IF(AND(CX4=\"JUNIORSFINALE\",BT23>BU23),BW1,IF(AND(CX4=\"CADETSFINALE\",BT23>BU23),BW1,IF(AND(CX4=\"MINIMESBENJAMINSPOUSSINSFINALE\",BT23>BU23),BW1,\"\"))))))))))))))))))))))","v":""},{"$f":"IF(BT23<BU23,\"\",IF(AND(CX4=\"EXCELLENCE\",BT23>BU23),BV23,IF(AND(CX4=\"HONNEUR\",BT23>BU23),BV23,IF(AND(CX4=\"PROMOTIONNORD\",BT23>BU23),BV23,IF(AND(CX4=\"ADULTESDIVISION1NORD\",BT23>BU23),BV23,IF(AND(CX4=\"PROMOTIONSTRASBOURG\",BT23>BU23),BV23,IF(AND(CX4=\"MIXTESD1NORD\",BT23>BU23),BV23,IF(AND(CX4=\"MIXTESD1STRASBOURG\",BT23>BU23),BV23,IF(AND(CX4=\"VETERANSD1STRASBOURG\",BT23>BU23),BV23,IF(AND(CX4=\"VETERANSD2STRASBOURG\",BT23>BU23),BV23,IF(AND(CX4=\"VETERANSD1NORD\",BT23>BU23),BV23,IF(AND(CX4=\"VETERANSD2NORD\",BT23>BU23),BV23,IF(AND(CX4=\"JUNIORS\",BT23>BU23),BV23,IF(AND(CX4=\"CADETS\",BT23>BU23),BV23,IF(AND(CX4=\"MINIMESBENJAMINSPOUSSINS\",BT23>BU23),BV23,IF(AND(CX4=\"PROMOTIONFINALE\",BT23>BU23),BV23,IF(AND(CX4=\"MIXTESD1FINALE\",BT23>BU23),BV23,IF(AND(CX4=\"VETERANSD1FINALE\",BT23>BU23),BV23,IF(AND(CX4=\"VETERANSD2FINALE\",BT23>BU23),BV23,IF(AND(CX4=\"JUNIORSFINALE\",BT23>BU23),BV23,IF(AND(CX4=\"CADETSFINALE\",BT23>BU23),BV23,IF(AND(CX4=\"MINIMESBENJAMINSPOUSSINSFINALE\",BT23>BU23),BV23,\"\"))))))))))))))))))))))","v":""},{"$f":"IF(BT23<BU23,\"\",IF(AND(CX4=\"EXCELLENCE\",BT23>BU23),BX23,IF(AND(CX4=\"HONNEUR\",BT23>BU23),BX23,IF(AND(CX4=\"PROMOTIONNORD\",BT23>BU23),BX23,IF(AND(CX4=\"ADULTESDIVISION1NORD\",BT23>BU23),BX23,IF(AND(CX4=\"PROMOTIONSTRASBOURG\",BT23>BU23),BX23,IF(AND(CX4=\"MIXTESD1NORD\",BT23>BU23),BX23,IF(AND(CX4=\"MIXTESD1STRASBOURG\",BT23>BU23),BX23,IF(AND(CX4=\"VETERANSD1STRASBOURG\",BT23>BU23),BX23,IF(AND(CX4=\"VETERANSD2STRASBOURG\",BT23>BU23),BX23,IF(AND(CX4=\"VETERANSD1NORD\",BT23>BU23),BX23,IF(AND(CX4=\"VETERANSD2NORD\",BT23>BU23),BX23,IF(AND(CX4=\"JUNIORS\",BT23>BU23),BX23,IF(AND(CX4=\"CADETS\",BT23>BU23),BX23,IF(AND(CX4=\"MINIMESBENJAMINSPOUSSINS\",BT23>BU23),BX23,IF(AND(CX4=\"PROMOTIONFINALE\",BT23>BU23),BX23,IF(AND(CX4=\"MIXTESD1FINALE\",BT23>BU23),BX23,IF(AND(CX4=\"VETERANSD1FINALE\",BT23>BU23),BX23,IF(AND(CX4=\"VETERANSD2FINALE\",BT23>BU23),BX23,IF(AND(CX4=\"JUNIORSFINALE\",BT23>BU23),BX23,IF(AND(CX4=\"CADETSFINALE\",BT23>BU23),BX23,IF(AND(CX4=\"MINIMESBENJAMINSPOUSSINSFINALE\",BT23>BU23),BX23,\"\"))))))))))))))))))))))","v":""},"DEFAITE CONTRE",{"$f":"IF(BT23>BU23,\"\",IF(AND(CX4=\"EXCELLENCE\",BT23<BU23),BQ23,IF(AND(CX4=\"HONNEUR\",BT23<BU23),BQ23,IF(AND(CX4=\"PROMOTIONNORD\",BT23<BU23),BQ23,IF(AND(CX4=\"ADULTESDIVISION1NORD\",BT23<BU23),BQ23,IF(AND(CX4=\"PROMOTIONSTRASBOURG\",BT23<BU23),BQ23,IF(AND(CX4=\"PROMOTIONFINALE\",BT23<BU23),BQ23,IF(AND(CX4=\"MIXTESD1NORD\",BT23<BU23),BQ23,IF(AND(CX4=\"MIXTESD1STRASBOURG\",BT23<BU23),BQ23,IF(AND(CX4=\"VETERANSD1STRASBOURG\",BT23<BU23),BQ23,IF(AND(CX4=\"VETERANSD2STRASBOURG\",BT23<BU23),BQ23,IF(AND(CX4=\"VETERANSD1NORD\",BT23<BU23),BQ23,IF(AND(CX4=\"VETERANSD2NORD\",BT23<BU23),BQ23,IF(AND(CX4=\"JUNIORS\",BT23<BU23),BQ23,IF(AND(CX4=\"CADETS\",BT23<BU23),BQ23,IF(AND(CX4=\"MINIMESBENJAMINSPOUSSINS\",BT23<BU23),BQ23,IF(AND(CX4=\"MIXTESD1FINALE\",BT23<BU23),BQ23,IF(AND(CX4=\"VETERANSD1FINALE\",BT23<BU23),BQ23,IF(AND(CX4=\"VETERANSD2FINALE\",BT23<BU23),BQ23,IF(AND(CX4=\"JUNIORSFINALE\",BT23<BU23),BQ23,IF(AND(CX4=\"CADETSFINALE\",BT23<BU23),BQ23,IF(AND(CX4=\"MINIMESBENJAMINSPOUSSINSFINALE\",BT23<BU23),BQ23,\"\"))))))))))))))))))))))","v":""},{"$f":"IF(BT23>BU23,\"\",IF(AND(CX4=\"EXCELLENCE\",BT23<BU23),BR23,IF(AND(CX4=\"HONNEUR\",BT23<BU23),BR23,IF(AND(CX4=\"PROMOTIONNORD\",BT23<BU23),BR23,IF(AND(CX4=\"ADULTESDIVISION1NORD\",BT23<BU23),BR23,IF(AND(CX4=\"PROMOTIONSTRASBOURG\",BT23<BU23),BR23,IF(AND(CX4=\"PROMOTIONFINALE\",BT23<BU23),BR23,IF(AND(CX4=\"MIXTESD1NORD\",BT23<BU23),BR23,IF(AND(CX4=\"MIXTESD1STRASBOURG\",BT23<BU23),BR23,IF(AND(CX4=\"VETERANSD1STRASBOURG\",BT23<BU23),BR23,IF(AND(CX4=\"VETERANSD2STRASBOURG\",BT23<BU23),BR23,IF(AND(CX4=\"VETERANSD1NORD\",BT23<BU23),BR23,IF(AND(CX4=\"VETERANSD2NORD\",BT23<BU23),BR23,IF(AND(CX4=\"JUNIORS\",BT23<BU23),BR23,IF(AND(CX4=\"CADETS\",BT23<BU23),BR23,IF(AND(CX4=\"MINIMESBENJAMINSPOUSSINS\",BT23<BU23),BR23,IF(AND(CX4=\"MIXTESD1FINALE\",BT23<BU23),BR23,IF(AND(CX4=\"VETERANSD1FINALE\",BT23<BU23),BR23,IF(AND(CX4=\"VETERANSD2FINALE\",BT23<BU23),BR23,IF(AND(CX4=\"JUNIORSFINALE\",BT23<BU23),BR23,IF(AND(CX4=\"CADETSFINALE\",BT23<BU23),BR23,IF(AND(CX4=\"MINIMESBENJAMINSPOUSSINSFINALE\",BT23<BU23),BR23,\"\"))))))))))))))))))))))","v":""},{"$f":"IF(BT23>BU23,\"\",IF(AND(CX4=\"EXCELLENCE\",BT23<BU23),BS23,IF(AND(CX4=\"HONNEUR\",BT23<BU23),BS23,IF(AND(CX4=\"PROMOTIONNORD\",BT23<BU23),BS23,IF(AND(CX4=\"ADULTESDIVISION1NORD\",BT23<BU23),BS23,IF(AND(CX4=\"PROMOTIONSTRASBOURG\",BT23<BU23),BS23,IF(AND(CX4=\"PROMOTIONFINALE\",BT23<BU23),BS23,IF(AND(CX4=\"MIXTESD1NORD\",BT23<BU23),BS23,IF(AND(CX4=\"MIXTESD1STRASBOURG\",BT23<BU23),BS23,IF(AND(CX4=\"VETERANSD1STRASBOURG\",BT23<BU23),BS23,IF(AND(CX4=\"VETERANSD2STRASBOURG\",BT23<BU23),BS23,IF(AND(CX4=\"VETERANSD1NORD\",BT23<BU23),BS23,IF(AND(CX4=\"VETERANSD2NORD\",BT23<BU23),BS23,IF(AND(CX4=\"JUNIORS\",BT23<BU23),BS23,IF(AND(CX4=\"CADETS\",BT23<BU23),BS23,IF(AND(CX4=\"MINIMESBENJAMINSPOUSSINS\",BT23<BU23),BS23,IF(AND(CX4=\"MIXTESD1FINALE\",BT23<BU23),BS23,IF(AND(CX4=\"VETERANSD1FINALE\",BT23<BU23),BS23,IF(AND(CX4=\"VETERANSD2FINALE\",BT23<BU23),BS23,IF(AND(CX4=\"JUNIORSFINALE\",BT23<BU23),BS23,IF(AND(CX4=\"CADETSFINALE\",BT23<BU23),BS23,IF(AND(CX4=\"MINIMESBENJAMINSPOUSSINSFINALE\",BT23<BU23),BS23,\"\"))))))))))))))))))))))","v":""},{"$f":"IF(BT23>BU23,\"\",IF(AND(CX4=\"EXCELLENCE\",BT23<BU23),BW1,IF(AND(CX4=\"HONNEUR\",BT23<BU23),BW1,IF(AND(CX4=\"PROMOTIONNORD\",BT23<BU23),BW1,IF(AND(CX4=\"ADULTESDIVISION1NORD\",BT23<BU23),BW1,IF(AND(CX4=\"PROMOTIONSTRASBOURG\",BT23<BU23),BW1,IF(AND(CX4=\"PROMOTIONFINALE\",BT23<BU23),BW1,IF(AND(CX4=\"MIXTESD1NORD\",BT23<BU23),BW1,IF(AND(CX4=\"MIXTESD1STRASBOURG\",BT23<BU23),BW1,IF(AND(CX4=\"VETERANSD1STRASBOURG\",BT23<BU23),BW1,IF(AND(CX4=\"VETERANSD2STRASBOURG\",BT23<BU23),BW1,IF(AND(CX4=\"VETERANSD1NORD\",BT23<BU23),BW1,IF(AND(CX4=\"VETERANSD2NORD\",BT23<BU23),BW1,IF(AND(CX4=\"JUNIORS\",BT23<BU23),BW1,IF(AND(CX4=\"CADETS\",BT23<BU23),BW1,IF(AND(CX4=\"MINIMESBENJAMINSPOUSSINS\",BT23<BU23),BW1,IF(AND(CX4=\"MIXTESD1FINALE\",BT23<BU23),BW1,IF(AND(CX4=\"VETERANSD1FINALE\",BT23<BU23),BW1,IF(AND(CX4=\"VETERANSD2FINALE\",BT23<BU23),BW1,IF(AND(CX4=\"JUNIORSFINALE\",BT23<BU23),BW1,IF(AND(CX4=\"CADETSFINALE\",BT23<BU23),BW1,IF(AND(CX4=\"MINIMESBENJAMINSPOUSSINSFINALE\",BT23<BU23),BW1,\"\"))))))))))))))))))))))","v":""},{"$f":"IF(BT23>BU23,\"\",IF(AND(CX4=\"EXCELLENCE\",BT23<BU23),BW23,IF(AND(CX4=\"HONNEUR\",BT23<BU23),BW23,IF(AND(CX4=\"PROMOTIONNORD\",BT23<BU23),BW23,IF(AND(CX4=\"ADULTESDIVISION1NORD\",BT23<BU23),BW23,IF(AND(CX4=\"PROMOTIONSTRASBOURG\",BT23<BU23),BW23,IF(AND(CX4=\"PROMOTIONFINALE\",BT23<BU23),BW23,IF(AND(CX4=\"MIXTESD1NORD\",BT23<BU23),BW23,IF(AND(CX4=\"MIXTESD1STRASBOURG\",BT23<BU23),BW23,IF(AND(CX4=\"VETERANSD1STRASBOURG\",BT23<BU23),BW23,IF(AND(CX4=\"VETERANSD2STRASBOURG\",BT23<BU23),BW23,IF(AND(CX4=\"VETERANSD1NORD\",BT23<BU23),BW23,IF(AND(CX4=\"VETERANSD2NORD\",BT23<BU23),BW23,IF(AND(CX4=\"JUNIORS\",BT23<BU23),BW23,IF(AND(CX4=\"CADETS\",BT23<BU23),BW23,IF(AND(CX4=\"MINIMESBENJAMINSPOUSSINS\",BT23<BU23),BW23,IF(AND(CX4=\"MIXTESD1FINALE\",BT23<BU23),BW23,IF(AND(CX4=\"VETERANSD1FINALE\",BT23<BU23),BW23,IF(AND(CX4=\"VETERANSD2FINALE\",BT23<BU23),BW23,IF(AND(CX4=\"JUNIORSFINALE\",BT23<BU23),BW23,IF(AND(CX4=\"CADETSFINALE\",BT23<BU23),BW23,IF(AND(CX4=\"MINIMESBENJAMINSPOUSSINSFINALE\",BT23<BU23),BW23,\"\"))))))))))))))))))))))","v":""},{"$f":"IF(BT23>BU23,\"\",IF(AND(CX4=\"EXCELLENCE\",BT23<BU23),BY23,IF(AND(CX4=\"HONNEUR\",BT23<BU23),BY23,IF(AND(CX4=\"PROMOTIONNORD\",BT23<BU23),BY23,IF(AND(CX4=\"ADULTESDIVISION1NORD\",BT23<BU23),BY23,IF(AND(CX4=\"PROMOTIONSTRASBOURG\",BT23<BU23),BY23,IF(AND(CX4=\"PROMOTIONFINALE\",BT23<BU23),BY23,IF(AND(CX4=\"MIXTESD1NORD\",BT23<BU23),BY23,IF(AND(CX4=\"MIXTESD1STRASBOURG\",BT23<BU23),BY23,IF(AND(CX4=\"VETERANSD1STRASBOURG\",BT23<BU23),BY23,IF(AND(CX4=\"VETERANSD2STRASBOURG\",BT23<BU23),BY23,IF(AND(CX4=\"VETERANSD1NORD\",BT23<BU23),BY23,IF(AND(CX4=\"VETERANSD2NORD\",BT23<BU23),BY23,IF(AND(CX4=\"JUNIORS\",BT23<BU23),BY23,IF(AND(CX4=\"CADETS\",BT23<BU23),BY23,IF(AND(CX4=\"MINIMESBENJAMINSPOUSSINS\",BT23<BU23),BY23,IF(AND(CX4=\"MIXTESD1FINALE\",BT23<BU23),BY23,IF(AND(CX4=\"VETERANSD1FINALE\",BT23<BU23),BY23,IF(AND(CX4=\"VETERANSD2FINALE\",BT23<BU23),BY23,IF(AND(CX4=\"JUNIORSFINALE\",BT23<BU23),BY23,IF(AND(CX4=\"CADETSFINALE\",BT23<BU23),BY23,IF(AND(CX4=\"MINIMESBENJAMINSPOUSSINSFINALE\",BT23<BU23),BY23,\"\"))))))))))))))))))))))","v":""},2]
["Manche 7",null,"Manche7",null,null,null,null,null,null,null,null,null,"Manche 7",null,"Manche 7",null,null,null,null,null,null,null,null,"Manche 7",null,"Manche 7",null,null,null,null,null,null,null,null,"Manche 7",null,"Manche 7",null,null,null,null,null,null,null,null,null,null,null,null,null,null,null,null,null,null,null,"Manche 7",null,"Manche 7",null,null,null,null,null,null,null,null,"Manche 7",null,"Manche 7",null,null,null,null,null,null,null,null,"Manche 7",null,"Manche 7",null,null,null,null,null,null,null,null,null,null,null,null,null,null,null,null,null,null,null,null,null,null,null,null,null,null,null,null,null,null,null,null,null,null,null,null,null,null,null,null,null,null,null,null,null,null,null,null,null,null,null,null,null,null,null,null,null,null,null,null,null,null,null,null,null,null,null,null,null,null,null,null,null,null,null,null,null,null,null,null,null,null,null,null,null,null,null,null,null,null,null,null,null,null,null,null,null,{"$f":"IF(CX4=\"EXCELLENCE\",BS2,IF(OR(CX4=\"HONNEUR\",CX4=\"PROMOTIONNORD\",CX4=\"ADULTESDIVISION1NORD\",CX4=\"PROMOTIONSTRASBOURG\",CX4=\"PROMOTIONFINALE\"),BS2,IF(OR(CX4=\"MIXTESD1NORD\",CX4=\"MIXTESD1STRASBOURG\",CX4=\"VETERANSD1STRASBOURG\",CX4=\"VETERANSD2STRASBOURG\",CX4=\"VETERANSD1NORD\",CX4=\"VETERANSD2NORD\",CX4=\"JUNIORS\",CX4=\"CADETS\",CX4=\"MINIMESBENJAMINSPOUSSINS\",CX4=\"MIXTESD1FINALE\",CX4=\"VETERANSD1FINALE\",CX4=\"VETERANSD2FINALE\",CX4=\"JUNIORSFINALE\",CX4=\"CADETSFINALE\",CX4=\"MINIMESBENJAMINSPOUSSINSFINALE\"),\"-\",\"\")))","v":""},{"$f":"IF(CX4=\"EXCELLENCE\",BP2,IF(OR(CX4=\"HONNEUR\",CX4=\"PROMOTIONNORD\",CX4=\"ADULTESDIVISION1NORD\",CX4=\"PROMOTIONSTRASBOURG\",CX4=\"PROMOTIONFINALE\"),BP2,IF(OR(CX4=\"MIXTESD1NORD\",CX4=\"MIXTESD1STRASBOURG\",CX4=\"VETERANSD1STRASBOURG\",CX4=\"VETERANSD2STRASBOURG\",CX4=\"VETERANSD1NORD\",CX4=\"VETERANSD2NORD\",CX4=\"JUNIORS\",CX4=\"CADETS\",CX4=\"MINIMESBENJAMINSPOUSSINS\",CX4=\"MIXTESD1FINALE\",CX4=\"VETERANSD1FINALE\",CX4=\"VETERANSD2FINALE\",CX4=\"JUNIORSFINALE\",CX4=\"CADETSFINALE\",CX4=\"MINIMESBENJAMINSPOUSSINSFINALE\"),\"\",\"\")))","v":""},{"$f":"IF(CX4=\"EXCELLENCE\",BR2,IF(OR(CX4=\"HONNEUR\",CX4=\"PROMOTIONNORD\",CX4=\"ADULTESDIVISION1NORD\",CX4=\"PROMOTIONSTRASBOURG\",CX4=\"PROMOTIONFINALE\"),BR2,IF(OR(CX4=\"MIXTESD1NORD\",CX4=\"MIXTESD1STRASBOURG\",CX4=\"VETERANSD1STRASBOURG\",CX4=\"VETERANSD2STRASBOURG\",CX4=\"VETERANSD1NORD\",CX4=\"VETERANSD2NORD\",CX4=\"JUNIORS\",CX4=\"CADETS\",CX4=\"MINIMESBENJAMINSPOUSSINS\",CX4=\"MIXTESD1FINALE\",CX4=\"VETERANSD1FINALE\",CX4=\"VETERANSD2FINALE\",CX4=\"JUNIORSFINALE\",CX4=\"CADETSFINALE\",CX4=\"MINIMESBENJAMINSPOUSSINSFINALE\"),\"\",\"\")))","v":""},{"$f":"IF(CX4=\"EXCELLENCE\",BQ1,IF(OR(CX4=\"HONNEUR\",CX4=\"PROMOTIONNORD\",CX4=\"ADULTESDIVISION1NORD\",CX4=\"PROMOTIONSTRASBOURG\",CX4=\"PROMOTIONFINALE\"),BQ1,IF(OR(CX4=\"MIXTESD1NORD\",CX4=\"MIXTESD1STRASBOURG\",CX4=\"VETERANSD1STRASBOURG\",CX4=\"VETERANSD2STRASBOURG\",CX4=\"VETERANSD1NORD\",CX4=\"VETERANSD2NORD\",CX4=\"JUNIORS\",CX4=\"CADETS\",CX4=\"MINIMESBENJAMINSPOUSSINS\",CX4=\"MIXTESD1FINALE\",CX4=\"VETERANSD1FINALE\",CX4=\"VETERANSD2FINALE\",CX4=\"JUNIORSFINALE\",CX4=\"CADETSFINALE\",CX4=\"MINIMESBENJAMINSPOUSSINSFINALE\"),\"\",\"\")))","v":""},{"$f":"IF(CX4=\"EXCELLENCE\",CX4,IF(OR(CX4=\"HONNEUR\",CX4=\"PROMOTIONNORD\",CX4=\"ADULTESDIVISION1NORD\",CX4=\"PROMOTIONSTRASBOURG\",CX4=\"PROMOTIONFINALE\"),CX4,IF(OR(CX4=\"MIXTESD1NORD\",CX4=\"MIXTESD1STRASBOURG\",CX4=\"VETERANSD1STRASBOURG\",CX4=\"VETERANSD2STRASBOURG\",CX4=\"VETERANSD1NORD\",CX4=\"VETERANSD2NORD\",CX4=\"JUNIORS\",CX4=\"CADETS\",CX4=\"MINIMESBENJAMINSPOUSSINS\",CX4=\"MIXTESD1FINALE\",CX4=\"VETERANSD1FINALE\",CX4=\"VETERANSD2FINALE\",CX4=\"JUNIORSFINALE\",CX4=\"CADETSFINALE\",CX4=\"MINIMESBENJAMINSPOUSSINSFINALE\"),\"\",\"\")))","v":""},{"$f":"IF(CX4=\"EXCELLENCE\",CW4,IF(OR(CX4=\"HONNEUR\",CX4=\"PROMOTIONNORD\",CX4=\"ADULTESDIVISION1NORD\",CX4=\"PROMOTIONSTRASBOURG\",CX4=\"PROMOTIONFINALE\"),CW4,IF(OR(CX4=\"MIXTESD1NORD\",CX4=\"MIXTESD1STRASBOURG\",CX4=\"VETERANSD1STRASBOURG\",CX4=\"VETERANSD2STRASBOURG\",CX4=\"VETERANSD1NORD\",CX4=\"VETERANSD2NORD\",CX4=\"JUNIORS\",CX4=\"CADETS\",CX4=\"MINIMESBENJAMINSPOUSSINS\",CX4=\"MIXTESD1FINALE\",CX4=\"VETERANSD1FINALE\",CX4=\"VETERANSD2FINALE\",CX4=\"JUNIORSFINALE\",CX4=\"CADETSFINALE\",CX4=\"MINIMESBENJAMINSPOUSSINSFINALE\"),\"\",\"\")))","v":""},"VICTOIRE CONTRE",{"$f":"IF(BT41<BU41,\"\",IF(AND(CX4=\"EXCELLENCE\",BT41>BU41),BQ41,IF(AND(CX4=\"HONNEUR\",BT41>BU41),BQ41,IF(AND(CX4=\"PROMOTIONNORD\",BT41>BU41),BQ41,IF(AND(CX4=\"ADULTESDIVISION1NORD\",BT41>BU41),BQ41,IF(AND(CX4=\"PROMOTIONSTRASBOURG\",BT41>BU41),BQ41,IF(AND(CX4=\"PROMOTIONFINALE\",BT41>BU41),BQ41,IF(OR(CX4=\"MIXTESD1NORD\",CX4=\"MIXTESD1STRASBOURG\",CX4=\"VETERANSD1STRASBOURG\",CX4=\"VETERANSD2STRASBOURG\",CX4=\"VETERANSD1NORD\",CX4=\"VETERANSD2NORD\",CX4=\"JUNIORS\",CX4=\"CADETS\",CX4=\"MINIMESBENJAMINSPOUSSINS\",CX4=\"MIXTESD1FINALE\",CX4=\"VETERANSD1FINALE\",CX4=\"VETERANSD2FINALE\",CX4=\"JUNIORSFINALE\",CX4=\"CADETSFINALE\",CX4=\"MINIMESBENJAMINSPOUSSINSFINALE\"),\"\",\"\"))))))))","v":""},{"$f":"IF(BT41<BU41,\"\",IF(AND(CX4=\"EXCELLENCE\",BT41>BU41),BR41,IF(AND(CX4=\"HONNEUR\",BT41>BU41),BR41,IF(AND(CX4=\"PROMOTIONNORD\",BT41>BU41),BR41,IF(AND(CX4=\"ADULTESDIVISION1NORD\",BT41>BU41),BR41,IF(AND(CX4=\"PROMOTIONSTRASBOURG\",BT41>BU41),BR41,IF(AND(CX4=\"PROMOTIONFINALE\",BT41>BU41),BR41,IF(OR(CX4=\"MIXTESD1NORD\",CX4=\"MIXTESD1STRASBOURG\",CX4=\"VETERANSD1STRASBOURG\",CX4=\"VETERANSD2STRASBOURG\",CX4=\"VETERANSD1NORD\",CX4=\"VETERANSD2NORD\",CX4=\"JUNIORS\",CX4=\"CADETS\",CX4=\"MINIMESBENJAMINSPOUSSINS\",CX4=\"MIXTESD1FINALE\",CX4=\"VETERANSD1FINALE\",CX4=\"VETERANSD2FINALE\",CX4=\"JUNIORSFINALE\",CX4=\"CADETSFINALE\",CX4=\"MINIMESBENJAMINSPOUSSINSFINALE\"),\"\",\"\"))))))))","v":""},{"$f":"IF(BT41<BU41,\"\",IF(AND(CX4=\"EXCELLENCE\",BT41>BU41),BS41,IF(AND(CX4=\"HONNEUR\",BT41>BU41),BS41,IF(AND(CX4=\"PROMOTIONNORD\",BT41>BU41),BS41,IF(AND(CX4=\"ADULTESDIVISION1NORD\",BT41>BU41),BS41,IF(AND(CX4=\"PROMOTIONSTRASBOURG\",BT41>BU41),BS41,IF(AND(CX4=\"PROMOTIONFINALE\",BT41>BU41),BS41,IF(OR(CX4=\"MIXTESD1NORD\",CX4=\"MIXTESD1STRASBOURG\",CX4=\"VETERANSD1STRASBOURG\",CX4=\"VETERANSD2STRASBOURG\",CX4=\"VETERANSD1NORD\",CX4=\"VETERANSD2NORD\",CX4=\"JUNIORS\",CX4=\"CADETS\",CX4=\"MINIMESBENJAMINSPOUSSINS\",CX4=\"MIXTESD1FINALE\",CX4=\"VETERANSD1FINALE\",CX4=\"VETERANSD2FINALE\",CX4=\"JUNIORSFINALE\",CX4=\"CADETSFINALE\",CX4=\"MINIMESBENJAMINSPOUSSINSFINALE\"),\"\",\"\"))))))))","v":""},{"$f":"IF(BT41<BU41,\"\",IF(AND(CX4=\"EXCELLENCE\",BT41>BU41),BW1,IF(AND(CX4=\"HONNEUR\",BT41>BU41),BW1,IF(AND(CX4=\"PROMOTIONNORD\",BT41>BU41),BW1,IF(AND(CX4=\"ADULTESDIVISION1NORD\",BT41>BU41),BW1,IF(AND(CX4=\"PROMOTIONSTRASBOURG\",BT41>BU41),BW1,IF(AND(CX4=\"PROMOTIONFINALE\",BT41>BU41),BW1,IF(OR(CX4=\"MIXTESD1NORD\",CX4=\"MIXTESD1STRASBOURG\",CX4=\"VETERANSD1STRASBOURG\",CX4=\"VETERANSD2STRASBOURG\",CX4=\"VETERANSD1NORD\",CX4=\"VETERANSD2NORD\",CX4=\"JUNIORS\",CX4=\"CADETS\",CX4=\"MINIMESBENJAMINSPOUSSINS\",CX4=\"MIXTESD1FINALE\",CX4=\"VETERANSD1FINALE\",CX4=\"VETERANSD2FINALE\",CX4=\"JUNIORSFINALE\",CX4=\"CADETSFINALE\",CX4=\"MINIMESBENJAMINSPOUSSINSFINALE\"),\"\",\"\"))))))))","v":""},{"$f":"IF(BT41<BU41,\"\",IF(AND(CX4=\"EXCELLENCE\",BT41>BU41),BV41,IF(AND(CX4=\"HONNEUR\",BT41>BU41),BV41,IF(AND(CX4=\"PROMOTIONNORD\",BT41>BU41),BV41,IF(AND(CX4=\"ADULTESDIVISION1NORD\",BT41>BU41),BV41,IF(AND(CX4=\"PROMOTIONSTRASBOURG\",BT41>BU41),BV41,IF(AND(CX4=\"PROMOTIONFINALE\",BT41>BU41),BV41,IF(OR(CX4=\"MIXTESD1NORD\",CX4=\"MIXTESD1STRASBOURG\",CX4=\"VETERANSD1STRASBOURG\",CX4=\"VETERANSD2STRASBOURG\",CX4=\"VETERANSD1NORD\",CX4=\"VETERANSD2NORD\",CX4=\"JUNIORS\",CX4=\"CADETS\",CX4=\"MINIMESBENJAMINSPOUSSINS\",CX4=\"MIXTESD1FINALE\",CX4=\"VETERANSD1FINALE\",CX4=\"VETERANSD2FINALE\",CX4=\"JUNIORSFINALE\",CX4=\"CADETSFINALE\",CX4=\"MINIMESBENJAMINSPOUSSINSFINALE\"),\"\",\"\"))))))))","v":""},{"$f":"IF(BT41<BU41,\"\",IF(AND(CX4=\"EXCELLENCE\",BT41>BU41),BX41,IF(AND(CX4=\"HONNEUR\",BT41>BU41),BX41,IF(AND(CX4=\"PROMOTIONNORD\",BT41>BU41),BX41,IF(AND(CX4=\"ADULTESDIVISION1NORD\",BT41>BU41),BX41,IF(AND(CX4=\"PROMOTIONSTRASBOURG\",BT41>BU41),BX41,IF(AND(CX4=\"PROMOTIONFINALE\",BT41>BU41),BX41,IF(OR(CX4=\"MIXTESD1NORD\",CX4=\"MIXTESD1STRASBOURG\",CX4=\"VETERANSD1STRASBOURG\",CX4=\"VETERANSD2STRASBOURG\",CX4=\"VETERANSD1NORD\",CX4=\"VETERANSD2NORD\",CX4=\"JUNIORS\",CX4=\"CADETS\",CX4=\"MINIMESBENJAMINSPOUSSINS\",CX4=\"MIXTESD1FINALE\",CX4=\"VETERANSD1FINALE\",CX4=\"VETERANSD2FINALE\",CX4=\"JUNIORSFINALE\",CX4=\"CADETSFINALE\",CX4=\"MINIMESBENJAMINSPOUSSINSFINALE\"),\"\",\"\"))))))))","v":""},"DEFAITE CONTRE",{"$f":"IF(BT41>BU41,\"\",IF(AND(CX4=\"EXCELLENCE\",BT41<BU41),BQ41,IF(AND(CX4=\"HONNEUR\",BT41<BU41),BQ41,IF(AND(CX4=\"PROMOTIONNORD\",BT41<BU41),BQ41,IF(AND(CX4=\"ADULTESDIVISION1NORD\",BT41<BU41),BQ41,IF(AND(CX4=\"PROMOTIONSTRASBOURG\",BT41<BU41),BQ41,IF(AND(CX4=\"PROMOTIONFINALE\",BT41<BU41),BQ41,IF(OR(CX4=\"MIXTESD1NORD\",CX4=\"MIXTESD1STRASBOURG\",CX4=\"VETERANSD1STRASBOURG\",CX4=\"VETERANSD2STRASBOURG\",CX4=\"VETERANSD1NORD\",CX4=\"VETERANSD2NORD\",CX4=\"JUNIORS\",CX4=\"CADETS\",CX4=\"MINIMESBENJAMINSPOUSSINS\",CX4=\"MIXTESD1FINALE\",CX4=\"VETERANSD1FINALE\",CX4=\"VETERANSD2FINALE\",CX4=\"JUNIORSFINALE\",CX4=\"CADETSFINALE\",CX4=\"MINIMESBENJAMINSPOUSSINSFINALE\"),\"\",\"\"))))))))","v":""},{"$f":"IF(BT41>BU41,\"\",IF(AND(CX4=\"EXCELLENCE\",BT41<BU41),BR41,IF(AND(CX4=\"HONNEUR\",BT41<BU41),BR41,IF(AND(CX4=\"PROMOTIONNORD\",BT41<BU41),BR41,IF(AND(CX4=\"ADULTESDIVISION1NORD\",BT41<BU41),BR41,IF(AND(CX4=\"PROMOTIONSTRASBOURG\",BT41<BU41),BR41,IF(AND(CX4=\"PROMOTIONFINALE\",BT41<BU41),BR41,IF(OR(CX4=\"MIXTESD1NORD\",CX4=\"MIXTESD1STRASBOURG\",CX4=\"VETERANSD1STRASBOURG\",CX4=\"VETERANSD2STRASBOURG\",CX4=\"VETERANSD1NORD\",CX4=\"VETERANSD2NORD\",CX4=\"JUNIORS\",CX4=\"CADETS\",CX4=\"MINIMESBENJAMINSPOUSSINS\",CX4=\"MIXTESD1FINALE\",CX4=\"VETERANSD1FINALE\",CX4=\"VETERANSD2FINALE\",CX4=\"JUNIORSFINALE\",CX4=\"CADETSFINALE\",CX4=\"MINIMESBENJAMINSPOUSSINSFINALE\"),\"\",\"\"))))))))","v":""},{"$f":"IF(BT41>BU41,\"\",IF(AND(CX4=\"EXCELLENCE\",BT41<BU41),BS41,IF(AND(CX4=\"HONNEUR\",BT41<BU41),BS41,IF(AND(CX4=\"PROMOTIONNORD\",BT41<BU41),BS41,IF(AND(CX4=\"ADULTESDIVISION1NORD\",BT41<BU41),BS41,IF(AND(CX4=\"PROMOTIONSTRASBOURG\",BT41<BU41),BS41,IF(AND(CX4=\"PROMOTIONFINALE\",BT41<BU41),BS41,IF(OR(CX4=\"MIXTESD1NORD\",CX4=\"MIXTESD1STRASBOURG\",CX4=\"VETERANSD1STRASBOURG\",CX4=\"VETERANSD2STRASBOURG\",CX4=\"VETERANSD1NORD\",CX4=\"VETERANSD2NORD\",CX4=\"JUNIORS\",CX4=\"CADETS\",CX4=\"MINIMESBENJAMINSPOUSSINS\",CX4=\"MIXTESD1FINALE\",CX4=\"VETERANSD1FINALE\",CX4=\"VETERANSD2FINALE\",CX4=\"JUNIORSFINALE\",CX4=\"CADETSFINALE\",CX4=\"MINIMESBENJAMINSPOUSSINSFINALE\"),\"\",\"\"))))))))","v":""},{"$f":"IF(BT41>BU41,\"\",IF(AND(CX4=\"EXCELLENCE\",BT41<BU41),BW1,IF(AND(CX4=\"HONNEUR\",BT41<BU41),BW1,IF(AND(CX4=\"PROMOTIONNORD\",BT41<BU41),BW1,IF(AND(CX4=\"ADULTESDIVISION1NORD\",BT41<BU41),BW1,IF(AND(CX4=\"PROMOTIONSTRASBOURG\",BT41<BU41),BW1,IF(AND(CX4=\"PROMOTIONFINALE\",BT41<BU41),BW1,IF(OR(CX4=\"MIXTESD1NORD\",CX4=\"MIXTESD1STRASBOURG\",CX4=\"VETERANSD1STRASBOURG\",CX4=\"VETERANSD2STRASBOURG\",CX4=\"VETERANSD1NORD\",CX4=\"VETERANSD2NORD\",CX4=\"JUNIORS\",CX4=\"CADETS\",CX4=\"MINIMESBENJAMINSPOUSSINS\",CX4=\"MIXTESD1FINALE\",CX4=\"VETERANSD1FINALE\",CX4=\"VETERANSD2FINALE\",CX4=\"JUNIORSFINALE\",CX4=\"CADETSFINALE\",CX4=\"MINIMESBENJAMINSPOUSSINSFINALE\"),\"\",\"\"))))))))","v":""},{"$f":"IF(BT41>BU41,\"\",IF(AND(CX4=\"EXCELLENCE\",BT41<BU41),BW41,IF(AND(CX4=\"HONNEUR\",BT41<BU41),BW41,IF(AND(CX4=\"PROMOTIONNORD\",BT41<BU41),BW41,IF(AND(CX4=\"ADULTESDIVISION1NORD\",BT41<BU41),BW41,IF(AND(CX4=\"PROMOTIONSTRASBOURG\",BT41<BU41),BW41,IF(AND(CX4=\"PROMOTIONFINALE\",BT41<BU41),BW41,IF(OR(CX4=\"MIXTESD1NORD\",CX4=\"MIXTESD1STRASBOURG\",CX4=\"VETERANSD1STRASBOURG\",CX4=\"VETERANSD2STRASBOURG\",CX4=\"VETERANSD1NORD\",CX4=\"VETERANSD2NORD\",CX4=\"JUNIORS\",CX4=\"CADETS\",CX4=\"MINIMESBENJAMINSPOUSSINS\",CX4=\"MIXTESD1FINALE\",CX4=\"VETERANSD1FINALE\",CX4=\"VETERANSD2FINALE\",CX4=\"JUNIORSFINALE\",CX4=\"CADETSFINALE\",CX4=\"MINIMESBENJAMINSPOUSSINSFINALE\"),\"\",\"\"))))))))","v":""},{"$f":"IF(BT41>BU41,\"\",IF(AND(CX4=\"EXCELLENCE\",BT41<BU41),BY41,IF(AND(CX4=\"HONNEUR\",BT41<BU41),BY41,IF(AND(CX4=\"PROMOTIONNORD\",BT41<BU41),BY41,IF(AND(CX4=\"ADULTESDIVISION1NORD\",BT41<BU41),BY41,IF(AND(CX4=\"PROMOTIONSTRASBOURG\",BT41<BU41),BY41,IF(AND(CX4=\"PROMOTIONFINALE\",BT41<BU41),BY41,IF(OR(CX4=\"MIXTESD1NORD\",CX4=\"MIXTESD1STRASBOURG\",CX4=\"VETERANSD1STRASBOURG\",CX4=\"VETERANSD2STRASBOURG\",CX4=\"VETERANSD1NORD\",CX4=\"VETERANSD2NORD\",CX4=\"JUNIORS\",CX4=\"CADETS\",CX4=\"MINIMESBENJAMINSPOUSSINS\",CX4=\"MIXTESD1FINALE\",CX4=\"VETERANSD1FINALE\",CX4=\"VETERANSD2FINALE\",CX4=\"JUNIORSFINALE\",CX4=\"CADETSFINALE\",CX4=\"MINIMESBENJAMINSPOUSSINSFINALE\"),\"\",\"\"))))))))","v":""},3]
[{"$f":"calcules!$U$16","v":"0"},{"$f":"calcules!$V$16","v":"0"},{"$f":"IF($A$19>$B$19,1,0)","v":0},{"$f":"IF($A$19<$B$19,1,0)","v":0},null,null,null,null,null,null,null,null,{"$f":"calcules!$AC$16","v":"0"},{"$f":"calcules!$AD$16","v":"0"},{"$f":"IF($M$19>$N$19,1,0)","v":0},{"$f":"IF($M$19<$N$19,1,0)","v":0},null,null,null,null,null,null,null,{"$f":"calcules!$AG$16","v":"0"},{"$f":"calcules!$AH$16","v":"0"},{"$f":"IF($X$19>$Y$19,1,0)","v":0},{"$f":"IF($X$19<$Y$19,1,0)","v":0},null,null,null,null,null,null,null,{"$f":"calcules!$AK$16","v":"0"},{"$f":"calcules!$AL$16","v":"0"},{"$f":"IF($AI$19>$AJ$19,1,0)","v":0},{"$f":"IF($AI$19<$AJ$19,1,0)","v":0},null,null,null,null,null,null,null,null,null,null,null,null,null,null,null,null,null,null,{"$f":"calcules!$AS$16","v":"0"},{"$f":"calcules!$AT$16","v":"0"},{"$f":"IF($BE$19>$BF$19,1,0)","v":0},{"$f":"IF($BE$19<$BF$19,1,0)","v":0},null,null,null,null,null,null,null,{"$f":"calcules!$AW$16","v":"0"},{"$f":"calcules!$AX$16","v":"0"},{"$f":"IF($BP$19>$BQ$19,1,0)","v":0},{"$f":"IF($BP$19<$BQ$19,1,0)","v":0},null,null,null,null,null,null,null,{"$f":"calcules!$BA$16","v":"0"},{"$f":"calcules!$BB$16","v":"0"},{"$f":"IF($CA$19>$CB$19,1,0)","v":0},{"$f":"IF($CA$19<$CB$19,1,0)","v":0},null,null,null,null,null,null,null,null,null,null,null,null,null,null,null,null,null,null,null,null,null,null,null,null,null,null,null,null,null,null,null,null,null,null,null,null,null,null,null,null,null,null,null,null,null,null,null,null,null,null,null,null,null,null,null,null,null,null,null,null,null,null,null,null,null,null,null,null,null,null,null,null,null,null,null,null,null,null,null,null,null,null,null,null,null,null,null,null,null,null,null,null,null,null,null,null,{"$f":"IF(CX4=\"EXCELLENCE\",CD2,IF(OR(CX4=\"HONNEUR\",CX4=\"PROMOTIONNORD\",CX4=\"ADULTESDIVISION1NORD\",CX4=\"PROMOTIONSTRASBOURG\",CX4=\"PROMOTIONFINALE\"),CD2,IF(OR(CX4=\"MIXTESD1NORD\",CX4=\"MIXTESD1STRASBOURG\",CX4=\"VETERANSD1STRASBOURG\",CX4=\"VETERANSD2STRASBOURG\",CX4=\"VETERANSD1NORD\",CX4=\"VETERANSD2NORD\",CX4=\"JUNIORS\",CX4=\"CADETS\",CX4=\"MINIMESBENJAMINSPOUSSINS\",CX4=\"MIXTESD1FINALE\",CX4=\"VETERANSD1FINALE\",CX4=\"VETERANSD2FINALE\",CX4=\"JUNIORSFINALE\",CX4=\"CADETSFINALE\",CX4=\"MINIMESBENJAMINSPOUSSINSFINALE\"),\"-\",\"\")))","v":""},{"$f":"IF(CX4=\"EXCELLENCE\",CA2,IF(OR(CX4=\"HONNEUR\",CX4=\"PROMOTIONNORD\",CX4=\"ADULTESDIVISION1NORD\",CX4=\"PROMOTIONSTRASBOURG\",CX4=\"PROMOTIONFINALE\"),CA2,IF(OR(CX4=\"MIXTESD1NORD\",CX4=\"MIXTESD1STRASBOURG\",CX4=\"VETERANSD1STRASBOURG\",CX4=\"VETERANSD2STRASBOURG\",CX4=\"VETERANSD1NORD\",CX4=\"VETERANSD2NORD\",CX4=\"JUNIORS\",CX4=\"CADETS\",CX4=\"MINIMESBENJAMINSPOUSSINS\",CX4=\"MIXTESD1FINALE\",CX4=\"VETERANSD1FINALE\",CX4=\"VETERANSD2FINALE\",CX4=\"JUNIORSFINALE\",CX4=\"CADETSFINALE\",CX4=\"MINIMESBENJAMINSPOUSSINSFINALE\"),\"\",\"\")))","v":""},{"$f":"IF(CX4=\"EXCELLENCE\",CC2,IF(OR(CX4=\"HONNEUR\",CX4=\"PROMOTIONNORD\",CX4=\"ADULTESDIVISION1NORD\",CX4=\"PROMOTIONSTRASBOURG\",CX4=\"PROMOTIONFINALE\"),CC2,IF(OR(CX4=\"MIXTESD1NORD\",CX4=\"MIXTESD1STRASBOURG\",CX4=\"VETERANSD1STRASBOURG\",CX4=\"VETERANSD2STRASBOURG\",CX4=\"VETERANSD1NORD\",CX4=\"VETERANSD2NORD\",CX4=\"JUNIORS\",CX4=\"CADETS\",CX4=\"MINIMESBENJAMINSPOUSSINS\",CX4=\"MIXTESD1FINALE\",CX4=\"VETERANSD1FINALE\",CX4=\"VETERANSD2FINALE\",CX4=\"JUNIORSFINALE\",CX4=\"CADETSFINALE\",CX4=\"MINIMESBENJAMINSPOUSSINSFINALE\"),\"\",\"\")))","v":""},{"$f":"IF(CX4=\"EXCELLENCE\",CB1,IF(OR(CX4=\"HONNEUR\",CX4=\"PROMOTIONNORD\",CX4=\"ADULTESDIVISION1NORD\",CX4=\"PROMOTIONSTRASBOURG\",CX4=\"PROMOTIONFINALE\"),CB1,IF(OR(CX4=\"MIXTESD1NORD\",CX4=\"MIXTESD1STRASBOURG\",CX4=\"VETERANSD1STRASBOURG\",CX4=\"VETERANSD2STRASBOURG\",CX4=\"VETERANSD1NORD\",CX4=\"VETERANSD2NORD\",CX4=\"JUNIORS\",CX4=\"CADETS\",CX4=\"MINIMESBENJAMINSPOUSSINS\",CX4=\"MIXTESD1FINALE\",CX4=\"VETERANSD1FINALE\",CX4=\"VETERANSD2FINALE\",CX4=\"JUNIORSFINALE\",CX4=\"CADETSFINALE\",CX4=\"MINIMESBENJAMINSPOUSSINSFINALE\"),\"\",\"\")))","v":""},{"$f":"IF(CX4=\"EXCELLENCE\",CX4,IF(OR(CX4=\"HONNEUR\",CX4=\"PROMOTIONNORD\",CX4=\"ADULTESDIVISION1NORD\",CX4=\"PROMOTIONSTRASBOURG\",CX4=\"PROMOTIONFINALE\"),CX4,IF(OR(CX4=\"MIXTESD1NORD\",CX4=\"MIXTESD1STRASBOURG\",CX4=\"VETERANSD1STRASBOURG\",CX4=\"VETERANSD2STRASBOURG\",CX4=\"VETERANSD1NORD\",CX4=\"VETERANSD2NORD\",CX4=\"JUNIORS\",CX4=\"CADETS\",CX4=\"MINIMESBENJAMINSPOUSSINS\",CX4=\"MIXTESD1FINALE\",CX4=\"VETERANSD1FINALE\",CX4=\"VETERANSD2FINALE\",CX4=\"JUNIORSFINALE\",CX4=\"CADETSFINALE\",CX4=\"MINIMESBENJAMINSPOUSSINSFINALE\"),\"\",\"\")))","v":""},{"$f":"IF(CX4=\"EXCELLENCE\",CW4,IF(OR(CX4=\"HONNEUR\",CX4=\"PROMOTIONNORD\",CX4=\"ADULTESDIVISION1NORD\",CX4=\"PROMOTIONSTRASBOURG\",CX4=\"PROMOTIONFINALE\"),CW4,IF(OR(CX4=\"MIXTESD1NORD\",CX4=\"MIXTESD1STRASBOURG\",CX4=\"VETERANSD1STRASBOURG\",CX4=\"VETERANSD2STRASBOURG\",CX4=\"VETERANSD1NORD\",CX4=\"VETERANSD2NORD\",CX4=\"JUNIORS\",CX4=\"CADETS\",CX4=\"MINIMESBENJAMINSPOUSSINS\",CX4=\"MIXTESD1FINALE\",CX4=\"VETERANSD1FINALE\",CX4=\"VETERANSD2FINALE\",CX4=\"JUNIORSFINALE\",CX4=\"CADETSFINALE\",CX4=\"MINIMESBENJAMINSPOUSSINSFINALE\"),\"\",\"\")))","v":""},"VICTOIRE CONTRE",{"$f":"IF(CE5<CF5,\"\",IF(AND(CX4=\"EXCELLENCE\",CE5>CF5),CB5,IF(AND(CX4=\"HONNEUR\",CE5>CF5),CB5,IF(AND(CX4=\"PROMOTIONNORD\",CE5>CF5),CB5,IF(AND(CX4=\"ADULTESDIVISION1NORD\",CE5>CF5),CB5,IF(AND(CX4=\"PROMOTIONSTRASBOURG\",CE5>CF5),CB5,IF(AND(CX4=\"PROMOTIONFINALE\",CE5>CF5),CB5,IF(OR(CX4=\"MIXTESD1NORD\",CX4=\"MIXTESD1STRASBOURG\",CX4=\"VETERANSD1STRASBOURG\",CX4=\"VETERANSD2STRASBOURG\",CX4=\"VETERANSD1NORD\",CX4=\"VETERANSD2NORD\",CX4=\"JUNIORS\",CX4=\"CADETS\",CX4=\"MINIMESBENJAMINSPOUSSINS\",CX4=\"MIXTESD1FINALE\",CX4=\"VETERANSD1FINALE\",CX4=\"VETERANSD2FINALE\",CX4=\"JUNIORSFINALE\",CX4=\"CADETSFINALE\",CX4=\"MINIMESBENJAMINSPOUSSINSFINALE\"),\"\",\"\"))))))))","v":""},{"$f":"IF(CE5<CF5,\"\",IF(AND(CX4=\"EXCELLENCE\",CE5>CF5),CC5,IF(AND(CX4=\"HONNEUR\",CE5>CF5),CC5,IF(AND(CX4=\"PROMOTIONNORD\",CE5>CF5),CC5,IF(AND(CX4=\"ADULTESDIVISION1NORD\",CE5>CF5),CC5,IF(AND(CX4=\"PROMOTIONSTRASBOURG\",CE5>CF5),CC5,IF(AND(CX4=\"PROMOTIONFINALE\",CE5>CF5),CC5,IF(OR(CX4=\"MIXTESD1NORD\",CX4=\"MIXTESD1STRASBOURG\",CX4=\"VETERANSD1STRASBOURG\",CX4=\"VETERANSD2STRASBOURG\",CX4=\"VETERANSD1NORD\",CX4=\"VETERANSD2NORD\",CX4=\"JUNIORS\",CX4=\"CADETS\",CX4=\"MINIMESBENJAMINSPOUSSINS\",CX4=\"MIXTESD1FINALE\",CX4=\"VETERANSD1FINALE\",CX4=\"VETERANSD2FINALE\",CX4=\"JUNIORSFINALE\",CX4=\"CADETSFINALE\",CX4=\"MINIMESBENJAMINSPOUSSINSFINALE\"),\"\",\"\"))))))))","v":""},{"$f":"IF(CE5<CF5,\"\",IF(AND(CX4=\"EXCELLENCE\",CE5>CF5),CD5,IF(AND(CX4=\"HONNEUR\",CE5>CF5),CD5,IF(AND(CX4=\"PROMOTIONNORD\",CE5>CF5),CD5,IF(AND(CX4=\"ADULTESDIVISION1NORD\",CE5>CF5),CD5,IF(AND(CX4=\"PROMOTIONSTRASBOURG\",CE5>CF5),CD5,IF(AND(CX4=\"PROMOTIONFINALE\",CE5>CF5),CD5,IF(OR(CX4=\"MIXTESD1NORD\",CX4=\"MIXTESD1STRASBOURG\",CX4=\"VETERANSD1STRASBOURG\",CX4=\"VETERANSD2STRASBOURG\",CX4=\"VETERANSD1NORD\",CX4=\"VETERANSD2NORD\",CX4=\"JUNIORS\",CX4=\"CADETS\",CX4=\"MINIMESBENJAMINSPOUSSINS\",CX4=\"MIXTESD1FINALE\",CX4=\"VETERANSD1FINALE\",CX4=\"VETERANSD2FINALE\",CX4=\"JUNIORSFINALE\",CX4=\"CADETSFINALE\",CX4=\"MINIMESBENJAMINSPOUSSINSFINALE\"),\"\",\"\"))))))))","v":""},{"$f":"IF(CE5<CF5,\"\",IF(AND(CX4=\"EXCELLENCE\",CE5>CF5),CH1,IF(AND(CX4=\"HONNEUR\",CE5>CF5),CH1,IF(AND(CX4=\"PROMOTIONNORD\",CE5>CF5),CH1,IF(AND(CX4=\"ADULTESDIVISION1NORD\",CE5>CF5),CH1,IF(AND(CX4=\"PROMOTIONSTRASBOURG\",CE5>CF5),CH1,IF(AND(CX4=\"PROMOTIONFINALE\",CE5>CF5),CH1,IF(OR(CX4=\"MIXTESD1NORD\",CX4=\"MIXTESD1STRASBOURG\",CX4=\"VETERANSD1STRASBOURG\",CX4=\"VETERANSD2STRASBOURG\",CX4=\"VETERANSD1NORD\",CX4=\"VETERANSD2NORD\",CX4=\"JUNIORS\",CX4=\"CADETS\",CX4=\"MINIMESBENJAMINSPOUSSINS\",CX4=\"MIXTESD1FINALE\",CX4=\"VETERANSD1FINALE\",CX4=\"VETERANSD2FINALE\",CX4=\"JUNIORSFINALE\",CX4=\"CADETSFINALE\",CX4=\"MINIMESBENJAMINSPOUSSINSFINALE\"),\"\",\"\"))))))))","v":""},{"$f":"IF(CE5<CF5,\"\",IF(AND(CX4=\"EXCELLENCE\",CE5>CF5),CG5,IF(AND(CX4=\"HONNEUR\",CE5>CF5),CG5,IF(AND(CX4=\"PROMOTIONNORD\",CE5>CF5),CG5,IF(AND(CX4=\"ADULTESDIVISION1NORD\",CE5>CF5),CG5,IF(AND(CX4=\"PROMOTIONSTRASBOURG\",CE5>CF5),CG5,IF(AND(CX4=\"PROMOTIONFINALE\",CE5>CF5),CG5,IF(OR(CX4=\"MIXTESD1NORD\",CX4=\"MIXTESD1STRASBOURG\",CX4=\"VETERANSD1STRASBOURG\",CX4=\"VETERANSD2STRASBOURG\",CX4=\"VETERANSD1NORD\",CX4=\"VETERANSD2NORD\",CX4=\"JUNIORS\",CX4=\"CADETS\",CX4=\"MINIMESBENJAMINSPOUSSINS\",CX4=\"MIXTESD1FINALE\",CX4=\"VETERANSD1FINALE\",CX4=\"VETERANSD2FINALE\",CX4=\"JUNIORSFINALE\",CX4=\"CADETSFINALE\",CX4=\"MINIMESBENJAMINSPOUSSINSFINALE\"),\"\",\"\"))))))))","v":""},{"$f":"IF(CE5<CF5,\"\",IF(AND(CX4=\"EXCELLENCE\",CE5>CF5),CI5,IF(AND(CX4=\"HONNEUR\",CE5>CF5),CI5,IF(AND(CX4=\"PROMOTIONNORD\",CE5>CF5),CI5,IF(AND(CX4=\"ADULTESDIVISION1NORD\",CE5>CF5),CI5,IF(AND(CX4=\"PROMOTIONSTRASBOURG\",CE5>CF5),CI5,IF(AND(CX4=\"PROMOTIONFINALE\",CE5>CF5),CI5,IF(OR(CX4=\"MIXTESD1NORD\",CX4=\"MIXTESD1STRASBOURG\",CX4=\"VETERANSD1STRASBOURG\",CX4=\"VETERANSD2STRASBOURG\",CX4=\"VETERANSD1NORD\",CX4=\"VETERANSD2NORD\",CX4=\"JUNIORS\",CX4=\"CADETS\",CX4=\"MINIMESBENJAMINSPOUSSINS\",CX4=\"MIXTESD1FINALE\",CX4=\"VETERANSD1FINALE\",CX4=\"VETERANSD2FINALE\",CX4=\"JUNIORSFINALE\",CX4=\"CADETSFINALE\",CX4=\"MINIMESBENJAMINSPOUSSINSFINALE\"),\"\",\"\"))))))))","v":""},"DEFAITE CONTRE",{"$f":"IF(CE5>CF5,\"\",IF(AND(CX4=\"EXCELLENCE\",CE5<CF5),CB5,IF(AND(CX4=\"HONNEUR\",CE5<CF5),CB5,IF(AND(CX4=\"PROMOTIONNORD\",CE5<CF5),CB5,IF(AND(CX4=\"ADULTESDIVISION1NORD\",CE5<CF5),CB5,IF(AND(CX4=\"PROMOTIONSTRASBOURG\",CE5<CF5),CB5,IF(AND(CX4=\"PROMOTIONFINALE\",CE5<CF5),CB5,IF(OR(CX4=\"MIXTESD1NORD\",CX4=\"MIXTESD1STRASBOURG\",CX4=\"VETERANSD1STRASBOURG\",CX4=\"VETERANSD2STRASBOURG\",CX4=\"VETERANSD1NORD\",CX4=\"VETERANSD2NORD\",CX4=\"JUNIORS\",CX4=\"CADETS\",CX4=\"MINIMESBENJAMINSPOUSSINS\",CX4=\"MIXTESD1FINALE\",CX4=\"VETERANSD1FINALE\",CX4=\"VETERANSD2FINALE\",CX4=\"JUNIORSFINALE\",CX4=\"CADETSFINALE\",CX4=\"MINIMESBENJAMINSPOUSSINSFINALE\"),\"\",\"\"))))))))","v":""},{"$f":"IF(CE5>CF5,\"\",IF(AND(CX4=\"EXCELLENCE\",CE5<CF5),CC5,IF(AND(CX4=\"HONNEUR\",CE5<CF5),CC5,IF(AND(CX4=\"PROMOTIONNORD\",CE5<CF5),CC5,IF(AND(CX4=\"ADULTESDIVISION1NORD\",CE5<CF5),CC5,IF(AND(CX4=\"PROMOTIONSTRASBOURG\",CE5<CF5),CC5,IF(AND(CX4=\"PROMOTIONFINALE\",CE5<CF5),CC5,IF(OR(CX4=\"MIXTESD1NORD\",CX4=\"MIXTESD1STRASBOURG\",CX4=\"VETERANSD1STRASBOURG\",CX4=\"VETERANSD2STRASBOURG\",CX4=\"VETERANSD1NORD\",CX4=\"VETERANSD2NORD\",CX4=\"JUNIORS\",CX4=\"CADETS\",CX4=\"MINIMESBENJAMINSPOUSSINS\",CX4=\"MIXTESD1FINALE\",CX4=\"VETERANSD1FINALE\",CX4=\"VETERANSD2FINALE\",CX4=\"JUNIORSFINALE\",CX4=\"CADETSFINALE\",CX4=\"MINIMESBENJAMINSPOUSSINSFINALE\"),\"\",\"\"))))))))","v":""},{"$f":"IF(CE5>CF5,\"\",IF(AND(CX4=\"EXCELLENCE\",CE5<CF5),CD5,IF(AND(CX4=\"HONNEUR\",CE5<CF5),CD5,IF(AND(CX4=\"PROMOTIONNORD\",CE5<CF5),CD5,IF(AND(CX4=\"ADULTESDIVISION1NORD\",CE5<CF5),CD5,IF(AND(CX4=\"PROMOTIONSTRASBOURG\",CE5<CF5),CD5,IF(AND(CX4=\"PROMOTIONFINALE\",CE5<CF5),CD5,IF(OR(CX4=\"MIXTESD1NORD\",CX4=\"MIXTESD1STRASBOURG\",CX4=\"VETERANSD1STRASBOURG\",CX4=\"VETERANSD2STRASBOURG\",CX4=\"VETERANSD1NORD\",CX4=\"VETERANSD2NORD\",CX4=\"JUNIORS\",CX4=\"CADETS\",CX4=\"MINIMESBENJAMINSPOUSSINS\",CX4=\"MIXTESD1FINALE\",CX4=\"VETERANSD1FINALE\",CX4=\"VETERANSD2FINALE\",CX4=\"JUNIORSFINALE\",CX4=\"CADETSFINALE\",CX4=\"MINIMESBENJAMINSPOUSSINSFINALE\"),\"\",\"\"))))))))","v":""},{"$f":"IF(CE5>CF5,\"\",IF(AND(CX4=\"EXCELLENCE\",CE5<CF5),CH1,IF(AND(CX4=\"HONNEUR\",CE5<CF5),CH1,IF(AND(CX4=\"PROMOTIONNORD\",CE5<CF5),CH1,IF(AND(CX4=\"ADULTESDIVISION1NORD\",CE5<CF5),CH1,IF(AND(CX4=\"PROMOTIONSTRASBOURG\",CE5<CF5),CH1,IF(AND(CX4=\"PROMOTIONFINALE\",CE5<CF5),CH1,IF(OR(CX4=\"MIXTESD1NORD\",CX4=\"MIXTESD1STRASBOURG\",CX4=\"VETERANSD1STRASBOURG\",CX4=\"VETERANSD2STRASBOURG\",CX4=\"VETERANSD1NORD\",CX4=\"VETERANSD2NORD\",CX4=\"JUNIORS\",CX4=\"CADETS\",CX4=\"MINIMESBENJAMINSPOUSSINS\",CX4=\"MIXTESD1FINALE\",CX4=\"VETERANSD1FINALE\",CX4=\"VETERANSD2FINALE\",CX4=\"JUNIORSFINALE\",CX4=\"CADETSFINALE\",CX4=\"MINIMESBENJAMINSPOUSSINSFINALE\"),\"\",\"\"))))))))","v":""},{"$f":"IF(CE5>CF5,\"\",IF(AND(CX4=\"EXCELLENCE\",CE5<CF5),CH5,IF(AND(CX4=\"HONNEUR\",CE5<CF5),CH5,IF(AND(CX4=\"PROMOTIONNORD\",CE5<CF5),CH5,IF(AND(CX4=\"ADULTESDIVISION1NORD\",CE5<CF5),CH5,IF(AND(CX4=\"PROMOTIONSTRASBOURG\",CE5<CF5),CH5,IF(AND(CX4=\"PROMOTIONFINALE\",CE5<CF5),CH5,IF(OR(CX4=\"MIXTESD1NORD\",CX4=\"MIXTESD1STRASBOURG\",CX4=\"VETERANSD1STRASBOURG\",CX4=\"VETERANSD2STRASBOURG\",CX4=\"VETERANSD1NORD\",CX4=\"VETERANSD2NORD\",CX4=\"JUNIORS\",CX4=\"CADETS\",CX4=\"MINIMESBENJAMINSPOUSSINS\",CX4=\"MIXTESD1FINALE\",CX4=\"VETERANSD1FINALE\",CX4=\"VETERANSD2FINALE\",CX4=\"JUNIORSFINALE\",CX4=\"CADETSFINALE\",CX4=\"MINIMESBENJAMINSPOUSSINSFINALE\"),\"\",\"\"))))))))","v":""},{"$f":"IF(CE5>CF5,\"\",IF(AND(CX4=\"EXCELLENCE\",CE5<CF5),CJ5,IF(AND(CX4=\"HONNEUR\",CE5<CF5),CJ5,IF(AND(CX4=\"PROMOTIONNORD\",CE5<CF5),CJ5,IF(AND(CX4=\"ADULTESDIVISION1NORD\",CE5<CF5),CJ5,IF(AND(CX4=\"PROMOTIONSTRASBOURG\",CE5<CF5),CJ5,IF(AND(CX4=\"PROMOTIONFINALE\",CE5<CF5),CJ5,IF(OR(CX4=\"MIXTESD1NORD\",CX4=\"MIXTESD1STRASBOURG\",CX4=\"VETERANSD1STRASBOURG\",CX4=\"VETERANSD2STRASBOURG\",CX4=\"VETERANSD1NORD\",CX4=\"VETERANSD2NORD\",CX4=\"JUNIORS\",CX4=\"CADETS\",CX4=\"MINIMESBENJAMINSPOUSSINS\",CX4=\"MIXTESD1FINALE\",CX4=\"VETERANSD1FINALE\",CX4=\"VETERANSD2FINALE\",CX4=\"JUNIORSFINALE\",CX4=\"CADETSFINALE\",CX4=\"MINIMESBENJAMINSPOUSSINSFINALE\"),\"\",\"\"))))))))","v":""},1]
[null,null,"Totale Manches",null,null,null,null,null,null,null,null,null,"Total points Match 1",null,"Totale manches Match 1",null,null,null,null,null,null,null,null,"Total points Match 1",null,"Totale manches Match 1",null,null,null,null,null,null,null,null,"Total points Match 1",null,"Totale manches Match 1",null,null,null,null,null,null,null,null,null,null,null,null,null,null,null,null,null,null,null,"Total points Match 1",null,"Totale manches Match 1",null,null,null,null,null,null,null,null,"Total points Match 1",null,"Totale manches Match 1",null,null,null,null,null,null,null,null,"Total points Match 1",null,"Totale manches Match 1",null,null,null,null,null,null,null,null,null,null,null,null,null,null,null,null,null,null,null,null,null,null,null,null,null,null,null,null,null,null,null,null,null,null,null,null,null,null,null,null,null,null,null,null,null,null,null,null,null,null,null,null,null,null,null,null,null,null,null,null,null,null,null,null,null,null,null,null,null,null,null,null,null,null,null,null,null,null,null,null,null,null,null,null,null,null,null,null,null,null,null,null,null,null,null,null,null,{"$f":"IF(CX4=\"EXCELLENCE\",CD2,IF(OR(CX4=\"HONNEUR\",CX4=\"PROMOTIONNORD\",CX4=\"ADULTESDIVISION1NORD\",CX4=\"PROMOTIONSTRASBOURG\",CX4=\"PROMOTIONFINALE\"),CD2,IF(OR(CX4=\"MIXTESD1NORD\",CX4=\"MIXTESD1STRASBOURG\",CX4=\"VETERANSD1STRASBOURG\",CX4=\"VETERANSD2STRASBOURG\",CX4=\"VETERANSD1NORD\",CX4=\"VETERANSD2NORD\",CX4=\"JUNIORS\",CX4=\"CADETS\",CX4=\"MINIMESBENJAMINSPOUSSINS\",CX4=\"MIXTESD1FINALE\",CX4=\"VETERANSD1FINALE\",CX4=\"VETERANSD2FINALE\",CX4=\"JUNIORSFINALE\",CX4=\"CADETSFINALE\",CX4=\"MINIMESBENJAMINSPOUSSINSFINALE\"),\"-\",\"\")))","v":""},{"$f":"IF(CX4=\"EXCELLENCE\",CA2,IF(OR(CX4=\"HONNEUR\",CX4=\"PROMOTIONNORD\",CX4=\"ADULTESDIVISION1NORD\",CX4=\"PROMOTIONSTRASBOURG\",CX4=\"PROMOTIONFINALE\"),CA2,IF(OR(CX4=\"MIXTESD1NORD\",CX4=\"MIXTESD1STRASBOURG\",CX4=\"VETERANSD1STRASBOURG\",CX4=\"VETERANSD2STRASBOURG\",CX4=\"VETERANSD1NORD\",CX4=\"VETERANSD2NORD\",CX4=\"JUNIORS\",CX4=\"CADETS\",CX4=\"MINIMESBENJAMINSPOUSSINS\",CX4=\"MIXTESD1FINALE\",CX4=\"VETERANSD1FINALE\",CX4=\"VETERANSD2FINALE\",CX4=\"JUNIORSFINALE\",CX4=\"CADETSFINALE\",CX4=\"MINIMESBENJAMINSPOUSSINSFINALE\"),\"\",\"\")))","v":""},{"$f":"IF(CX4=\"EXCELLENCE\",CC2,IF(OR(CX4=\"HONNEUR\",CX4=\"PROMOTIONNORD\",CX4=\"ADULTESDIVISION1NORD\",CX4=\"PROMOTIONSTRASBOURG\",CX4=\"PROMOTIONFINALE\"),CC2,IF(OR(CX4=\"MIXTESD1NORD\",CX4=\"MIXTESD1STRASBOURG\",CX4=\"VETERANSD1STRASBOURG\",CX4=\"VETERANSD2STRASBOURG\",CX4=\"VETERANSD1NORD\",CX4=\"VETERANSD2NORD\",CX4=\"JUNIORS\",CX4=\"CADETS\",CX4=\"MINIMESBENJAMINSPOUSSINS\",CX4=\"MIXTESD1FINALE\",CX4=\"VETERANSD1FINALE\",CX4=\"VETERANSD2FINALE\",CX4=\"JUNIORSFINALE\",CX4=\"CADETSFINALE\",CX4=\"MINIMESBENJAMINSPOUSSINSFINALE\"),\"\",\"\")))","v":""},{"$f":"IF(CX4=\"EXCELLENCE\",CB1,IF(OR(CX4=\"HONNEUR\",CX4=\"PROMOTIONNORD\",CX4=\"ADULTESDIVISION1NORD\",CX4=\"PROMOTIONSTRASBOURG\",CX4=\"PROMOTIONFINALE\"),CB1,IF(OR(CX4=\"MIXTESD1NORD\",CX4=\"MIXTESD1STRASBOURG\",CX4=\"VETERANSD1STRASBOURG\",CX4=\"VETERANSD2STRASBOURG\",CX4=\"VETERANSD1NORD\",CX4=\"VETERANSD2NORD\",CX4=\"JUNIORS\",CX4=\"CADETS\",CX4=\"MINIMESBENJAMINSPOUSSINS\",CX4=\"MIXTESD1FINALE\",CX4=\"VETERANSD1FINALE\",CX4=\"VETERANSD2FINALE\",CX4=\"JUNIORSFINALE\",CX4=\"CADETSFINALE\",CX4=\"MINIMESBENJAMINSPOUSSINSFINALE\"),\"\",\"\")))","v":""},{"$f":"IF(CX4=\"EXCELLENCE\",CX4,IF(OR(CX4=\"HONNEUR\",CX4=\"PROMOTIONNORD\",CX4=\"ADULTESDIVISION1NORD\",CX4=\"PROMOTIONSTRASBOURG\",CX4=\"PROMOTIONFINALE\"),CX4,IF(OR(CX4=\"MIXTESD1NORD\",CX4=\"MIXTESD1STRASBOURG\",CX4=\"VETERANSD1STRASBOURG\",CX4=\"VETERANSD2STRASBOURG\",CX4=\"VETERANSD1NORD\",CX4=\"VETERANSD2NORD\",CX4=\"JUNIORS\",CX4=\"CADETS\",CX4=\"MINIMESBENJAMINSPOUSSINS\",CX4=\"MIXTESD1FINALE\",CX4=\"VETERANSD1FINALE\",CX4=\"VETERANSD2FINALE\",CX4=\"JUNIORSFINALE\",CX4=\"CADETSFINALE\",CX4=\"MINIMESBENJAMINSPOUSSINSFINALE\"),\"\",\"\")))","v":""},{"$f":"IF(CX4=\"EXCELLENCE\",CW4,IF(OR(CX4=\"HONNEUR\",CX4=\"PROMOTIONNORD\",CX4=\"ADULTESDIVISION1NORD\",CX4=\"PROMOTIONSTRASBOURG\",CX4=\"PROMOTIONFINALE\"),CW4,IF(OR(CX4=\"MIXTESD1NORD\",CX4=\"MIXTESD1STRASBOURG\",CX4=\"VETERANSD1STRASBOURG\",CX4=\"VETERANSD2STRASBOURG\",CX4=\"VETERANSD1NORD\",CX4=\"VETERANSD2NORD\",CX4=\"JUNIORS\",CX4=\"CADETS\",CX4=\"MINIMESBENJAMINSPOUSSINS\",CX4=\"MIXTESD1FINALE\",CX4=\"VETERANSD1FINALE\",CX4=\"VETERANSD2FINALE\",CX4=\"JUNIORSFINALE\",CX4=\"CADETSFINALE\",CX4=\"MINIMESBENJAMINSPOUSSINSFINALE\"),\"\",\"\")))","v":""},"VICTOIRE CONTRE",{"$f":"IF(CE23<CF23,\"\",IF(AND(CX4=\"EXCELLENCE\",CE23>CF23),CB23,IF(AND(CX4=\"HONNEUR\",CE23>CF23),CB23,IF(AND(CX4=\"PROMOTIONNORD\",CE23>CF23),CB23,IF(AND(CX4=\"ADULTESDIVISION1NORD\",CE23>CF23),CB23,IF(AND(CX4=\"PROMOTIONSTRASBOURG\",CE23>CF23),CB23,IF(AND(CX4=\"PROMOTIONFINALE\",CE23>CF23),CB23,IF(OR(CX4=\"MIXTESD1NORD\",CX4=\"MIXTESD1STRASBOURG\",CX4=\"VETERANSD1STRASBOURG\",CX4=\"VETERANSD2STRASBOURG\",CX4=\"VETERANSD1NORD\",CX4=\"VETERANSD2NORD\",CX4=\"JUNIORS\",CX4=\"CADETS\",CX4=\"MINIMESBENJAMINSPOUSSINS\",CX4=\"MIXTESD1FINALE\",CX4=\"VETERANSD1FINALE\",CX4=\"VETERANSD2FINALE\",CX4=\"JUNIORSFINALE\",CX4=\"CADETSFINALE\",CX4=\"MINIMESBENJAMINSPOUSSINSFINALE\"),\"\",\"\"))))))))","v":""},{"$f":"IF(CE23<CF23,\"\",IF(AND(CX4=\"EXCELLENCE\",CE23>CF23),CC23,IF(AND(CX4=\"HONNEUR\",CE23>CF23),CC23,IF(AND(CX4=\"PROMOTIONNORD\",CE23>CF23),CC23,IF(AND(CX4=\"ADULTESDIVISION1NORD\",CE23>CF23),CC23,IF(AND(CX4=\"PROMOTIONSTRASBOURG\",CE23>CF23),CC23,IF(AND(CX4=\"PROMOTIONFINALE\",CE23>CF23),CC23,IF(OR(CX4=\"MIXTESD1NORD\",CX4=\"MIXTESD1STRASBOURG\",CX4=\"VETERANSD1STRASBOURG\",CX4=\"VETERANSD2STRASBOURG\",CX4=\"VETERANSD1NORD\",CX4=\"VETERANSD2NORD\",CX4=\"JUNIORS\",CX4=\"CADETS\",CX4=\"MINIMESBENJAMINSPOUSSINS\",CX4=\"MIXTESD1FINALE\",CX4=\"VETERANSD1FINALE\",CX4=\"VETERANSD2FINALE\",CX4=\"JUNIORSFINALE\",CX4=\"CADETSFINALE\",CX4=\"MINIMESBENJAMINSPOUSSINSFINALE\"),\"\",\"\"))))))))","v":""},{"$f":"IF(CE23<CF23,\"\",IF(AND(CX4=\"EXCELLENCE\",CE23>CF23),CD23,IF(AND(CX4=\"HONNEUR\",CE23>CF23),CD23,IF(AND(CX4=\"PROMOTIONNORD\",CE23>CF23),CD23,IF(AND(CX4=\"ADULTESDIVISION1NORD\",CE23>CF23),CD23,IF(AND(CX4=\"PROMOTIONSTRASBOURG\",CE23>CF23),CD23,IF(AND(CX4=\"PROMOTIONFINALE\",CE23>CF23),CD23,IF(OR(CX4=\"MIXTESD1NORD\",CX4=\"MIXTESD1STRASBOURG\",CX4=\"VETERANSD1STRASBOURG\",CX4=\"VETERANSD2STRASBOURG\",CX4=\"VETERANSD1NORD\",CX4=\"VETERANSD2NORD\",CX4=\"JUNIORS\",CX4=\"CADETS\",CX4=\"MINIMESBENJAMINSPOUSSINS\",CX4=\"MIXTESD1FINALE\",CX4=\"VETERANSD1FINALE\",CX4=\"VETERANSD2FINALE\",CX4=\"JUNIORSFINALE\",CX4=\"CADETSFINALE\",CX4=\"MINIMESBENJAMINSPOUSSINSFINALE\"),\"\",\"\"))))))))","v":""},{"$f":"IF(CE23<CF23,\"\",IF(AND(CX4=\"EXCELLENCE\",CE23>CF23),CH1,IF(AND(CX4=\"HONNEUR\",CE23>CF23),CH1,IF(AND(CX4=\"PROMOTIONNORD\",CE23>CF23),CH1,IF(AND(CX4=\"ADULTESDIVISION1NORD\",CE23>CF23),CH1,IF(AND(CX4=\"PROMOTIONSTRASBOURG\",CE23>CF23),CH1,IF(AND(CX4=\"PROMOTIONFINALE\",CE23>CF23),CH1,IF(OR(CX4=\"MIXTESD1NORD\",CX4=\"MIXTESD1STRASBOURG\",CX4=\"VETERANSD1STRASBOURG\",CX4=\"VETERANSD2STRASBOURG\",CX4=\"VETERANSD1NORD\",CX4=\"VETERANSD2NORD\",CX4=\"JUNIORS\",CX4=\"CADETS\",CX4=\"MINIMESBENJAMINSPOUSSINS\",CX4=\"MIXTESD1FINALE\",CX4=\"VETERANSD1FINALE\",CX4=\"VETERANSD2FINALE\",CX4=\"JUNIORSFINALE\",CX4=\"CADETSFINALE\",CX4=\"MINIMESBENJAMINSPOUSSINSFINALE\"),\"\",\"\"))))))))","v":""},{"$f":"IF(CE23<CF23,\"\",IF(AND(CX4=\"EXCELLENCE\",CE23>CF23),CG23,IF(AND(CX4=\"HONNEUR\",CE23>CF23),CG23,IF(AND(CX4=\"PROMOTIONNORD\",CE23>CF23),CG23,IF(AND(CX4=\"ADULTESDIVISION1NORD\",CE23>CF23),CG23,IF(AND(CX4=\"PROMOTIONSTRASBOURG\",CE23>CF23),CG23,IF(AND(CX4=\"PROMOTIONFINALE\",CE23>CF23),CG23,IF(OR(CX4=\"MIXTESD1NORD\",CX4=\"MIXTESD1STRASBOURG\",CX4=\"VETERANSD1STRASBOURG\",CX4=\"VETERANSD2STRASBOURG\",CX4=\"VETERANSD1NORD\",CX4=\"VETERANSD2NORD\",CX4=\"JUNIORS\",CX4=\"CADETS\",CX4=\"MINIMESBENJAMINSPOUSSINS\",CX4=\"MIXTESD1FINALE\",CX4=\"VETERANSD1FINALE\",CX4=\"VETERANSD2FINALE\",CX4=\"JUNIORSFINALE\",CX4=\"CADETSFINALE\",CX4=\"MINIMESBENJAMINSPOUSSINSFINALE\"),\"\",\"\"))))))))","v":""},{"$f":"IF(CE23<CF23,\"\",IF(AND(CX4=\"EXCELLENCE\",CE23>CF23),CI23,IF(AND(CX4=\"HONNEUR\",CE23>CF23),CI23,IF(AND(CX4=\"PROMOTIONNORD\",CE23>CF23),CI23,IF(AND(CX4=\"ADULTESDIVISION1NORD\",CE23>CF23),CI23,IF(AND(CX4=\"PROMOTIONSTRASBOURG\",CE23>CF23),CI23,IF(AND(CX4=\"PROMOTIONFINALE\",CE23>CF23),CI23,IF(OR(CX4=\"MIXTESD1NORD\",CX4=\"MIXTESD1STRASBOURG\",CX4=\"VETERANSD1STRASBOURG\",CX4=\"VETERANSD2STRASBOURG\",CX4=\"VETERANSD1NORD\",CX4=\"VETERANSD2NORD\",CX4=\"JUNIORS\",CX4=\"CADETS\",CX4=\"MINIMESBENJAMINSPOUSSINS\",CX4=\"MIXTESD1FINALE\",CX4=\"VETERANSD1FINALE\",CX4=\"VETERANSD2FINALE\",CX4=\"JUNIORSFINALE\",CX4=\"CADETSFINALE\",CX4=\"MINIMESBENJAMINSPOUSSINSFINALE\"),\"\",\"\"))))))))","v":""},"DEFAITE CONTRE",{"$f":"IF(CE23>CF23,\"\",IF(AND(CX4=\"EXCELLENCE\",CE23<CF23),CB23,IF(AND(CX4=\"HONNEUR\",CE23<CF23),CB23,IF(AND(CX4=\"PROMOTIONNORD\",CE23<CF23),CB23,IF(AND(CX4=\"ADULTESDIVISION1NORD\",CE23<CF23),CB23,IF(AND(CX4=\"PROMOTIONSTRASBOURG\",CE23<CF23),CB23,IF(AND(CX4=\"PROMOTIONFINALE\",CE23<CF23),CB23,IF(OR(CX4=\"MIXTESD1NORD\",CX4=\"MIXTESD1STRASBOURG\",CX4=\"VETERANSD1STRASBOURG\",CX4=\"VETERANSD2STRASBOURG\",CX4=\"VETERANSD1NORD\",CX4=\"VETERANSD2NORD\",CX4=\"JUNIORS\",CX4=\"CADETS\",CX4=\"MINIMESBENJAMINSPOUSSINS\",CX4=\"MIXTESD1FINALE\",CX4=\"VETERANSD1FINALE\",CX4=\"VETERANSD2FINALE\",CX4=\"JUNIORSFINALE\",CX4=\"CADETSFINALE\",CX4=\"MINIMESBENJAMINSPOUSSINSFINALE\"),\"\",\"\"))))))))","v":""},{"$f":"IF(CE23>CF23,\"\",IF(AND(CX4=\"EXCELLENCE\",CE23<CF23),CC23,IF(AND(CX4=\"HONNEUR\",CE23<CF23),CC23,IF(AND(CX4=\"PROMOTIONNORD\",CE23<CF23),CC23,IF(AND(CX4=\"ADULTESDIVISION1NORD\",CE23<CF23),CC23,IF(AND(CX4=\"PROMOTIONSTRASBOURG\",CE23<CF23),CC23,IF(AND(CX4=\"PROMOTIONFINALE\",CE23<CF23),CC23,IF(OR(CX4=\"MIXTESD1NORD\",CX4=\"MIXTESD1STRASBOURG\",CX4=\"VETERANSD1STRASBOURG\",CX4=\"VETERANSD2STRASBOURG\",CX4=\"VETERANSD1NORD\",CX4=\"VETERANSD2NORD\",CX4=\"JUNIORS\",CX4=\"CADETS\",CX4=\"MINIMESBENJAMINSPOUSSINS\",CX4=\"MIXTESD1FINALE\",CX4=\"VETERANSD1FINALE\",CX4=\"VETERANSD2FINALE\",CX4=\"JUNIORSFINALE\",CX4=\"CADETSFINALE\",CX4=\"MINIMESBENJAMINSPOUSSINSFINALE\"),\"\",\"\"))))))))","v":""},{"$f":"IF(CE23>CF23,\"\",IF(AND(CX4=\"EXCELLENCE\",CE23<CF23),CD23,IF(AND(CX4=\"HONNEUR\",CE23<CF23),CD23,IF(AND(CX4=\"PROMOTIONNORD\",CE23<CF23),CD23,IF(AND(CX4=\"ADULTESDIVISION1NORD\",CE23<CF23),CD23,IF(AND(CX4=\"PROMOTIONSTRASBOURG\",CE23<CF23),CD23,IF(AND(CX4=\"PROMOTIONFINALE\",CE23<CF23),CD23,IF(OR(CX4=\"MIXTESD1NORD\",CX4=\"MIXTESD1STRASBOURG\",CX4=\"VETERANSD1STRASBOURG\",CX4=\"VETERANSD2STRASBOURG\",CX4=\"VETERANSD1NORD\",CX4=\"VETERANSD2NORD\",CX4=\"JUNIORS\",CX4=\"CADETS\",CX4=\"MINIMESBENJAMINSPOUSSINS\",CX4=\"MIXTESD1FINALE\",CX4=\"VETERANSD1FINALE\",CX4=\"VETERANSD2FINALE\",CX4=\"JUNIORSFINALE\",CX4=\"CADETSFINALE\",CX4=\"MINIMESBENJAMINSPOUSSINSFINALE\"),\"\",\"\"))))))))","v":""},{"$f":"IF(CE23>CF23,\"\",IF(AND(CX4=\"EXCELLENCE\",CE23<CF23),CH1,IF(AND(CX4=\"HONNEUR\",CE23<CF23),CH1,IF(AND(CX4=\"PROMOTIONNORD\",CE23<CF23),CH1,IF(AND(CX4=\"ADULTESDIVISION1NORD\",CE23<CF23),CH1,IF(AND(CX4=\"PROMOTIONSTRASBOURG\",CE23<CF23),CH1,IF(AND(CX4=\"PROMOTIONFINALE\",CE23<CF23),CH1,IF(OR(CX4=\"MIXTESD1NORD\",CX4=\"MIXTESD1STRASBOURG\",CX4=\"VETERANSD1STRASBOURG\",CX4=\"VETERANSD2STRASBOURG\",CX4=\"VETERANSD1NORD\",CX4=\"VETERANSD2NORD\",CX4=\"JUNIORS\",CX4=\"CADETS\",CX4=\"MINIMESBENJAMINSPOUSSINS\",CX4=\"MIXTESD1FINALE\",CX4=\"VETERANSD1FINALE\",CX4=\"VETERANSD2FINALE\",CX4=\"JUNIORSFINALE\",CX4=\"CADETSFINALE\",CX4=\"MINIMESBENJAMINSPOUSSINSFINALE\"),\"\",\"\"))))))))","v":""},{"$f":"IF(CE23>CF23,\"\",IF(AND(CX4=\"EXCELLENCE\",CE23<CF23),CH23,IF(AND(CX4=\"HONNEUR\",CE23<CF23),CH23,IF(AND(CX4=\"PROMOTIONNORD\",CE23<CF23),CH23,IF(AND(CX4=\"ADULTESDIVISION1NORD\",CE23<CF23),CH23,IF(AND(CX4=\"PROMOTIONSTRASBOURG\",CE23<CF23),CH23,IF(AND(CX4=\"PROMOTIONFINALE\",CE23<CF23),CH23,IF(OR(CX4=\"MIXTESD1NORD\",CX4=\"MIXTESD1STRASBOURG\",CX4=\"VETERANSD1STRASBOURG\",CX4=\"VETERANSD2STRASBOURG\",CX4=\"VETERANSD1NORD\",CX4=\"VETERANSD2NORD\",CX4=\"JUNIORS\",CX4=\"CADETS\",CX4=\"MINIMESBENJAMINSPOUSSINS\",CX4=\"MIXTESD1FINALE\",CX4=\"VETERANSD1FINALE\",CX4=\"VETERANSD2FINALE\",CX4=\"JUNIORSFINALE\",CX4=\"CADETSFINALE\",CX4=\"MINIMESBENJAMINSPOUSSINSFINALE\"),\"\",\"\"))))))))","v":""},{"$f":"IF(CE23>CF23,\"\",IF(AND(CX4=\"EXCELLENCE\",CE23<CF23),CJ23,IF(AND(CX4=\"HONNEUR\",CE23<CF23),CJ23,IF(AND(CX4=\"PROMOTIONNORD\",CE23<CF23),CJ23,IF(AND(CX4=\"ADULTESDIVISION1NORD\",CE23<CF23),CJ23,IF(AND(CX4=\"PROMOTIONSTRASBOURG\",CE23<CF23),CJ23,IF(AND(CX4=\"PROMOTIONFINALE\",CE23<CF23),CJ23,IF(OR(CX4=\"MIXTESD1NORD\",CX4=\"MIXTESD1STRASBOURG\",CX4=\"VETERANSD1STRASBOURG\",CX4=\"VETERANSD2STRASBOURG\",CX4=\"VETERANSD1NORD\",CX4=\"VETERANSD2NORD\",CX4=\"JUNIORS\",CX4=\"CADETS\",CX4=\"MINIMESBENJAMINSPOUSSINS\",CX4=\"MIXTESD1FINALE\",CX4=\"VETERANSD1FINALE\",CX4=\"VETERANSD2FINALE\",CX4=\"JUNIORSFINALE\",CX4=\"CADETSFINALE\",CX4=\"MINIMESBENJAMINSPOUSSINSFINALE\"),\"\",\"\"))))))))","v":""},2]
[null,null,{"$f":"$C$7+$C$9+$C$11+$C$13+$C$15+$C$17+$C$19","v":0},{"$f":"$D$7+$D$9+$D$11+$D$13+$D$15+$D$17+$D$19","v":0},null,null,null,null,null,null,null,null,{"$f":"SUM($M$7+$M$9+$M$11+$M$13+$M$15+$M$17+$M$19)","v":0},{"$f":"SUM($N$7+$N$9+$N$11+$N$13+$N$15+$N$17+$N$19)","v":0},{"$f":"SUM($O$7+$O$9+$O$11+$O$13+$O$15+$O$17+$O$19)","v":0},{"$f":"SUM($P$7+$P$9+$P$11+$P$13+$P$15+$P$17+$P$19)","v":0},null,null,null,null,null,null,null,{"$f":"IFERROR(SUM($X$7+$X$9+$X$11+$X$13+$X$15+$X$17+$X$19),0)","v":0},{"$f":"IFERROR(SUM($Y$7+$Y$9+$Y$11+$Y$13+$Y$15+$Y$17+$Y$19),0)","v":0},{"$f":"$Z$7+$Z$9+$Z$11+$Z$13+$Z$15+$Z$17+$Z$19","v":0},{"$f":"$AA$7+$AA$9+$AA$11+$AA$13+$AA$15+$AA$17+$AA$19","v":0},null,null,null,null,null,null,null,{"$f":"SUM($AI$7+$AI$9+$AI$11+$AI$13+$AI$15+$AI$17+$AI$19)","v":0},{"$f":"SUM($AJ$7+$AJ$9+$AJ$11+$AJ$13+$AJ$15+$AJ$17+$AJ$19)","v":0},{"$f":"$AK$7+$AK$9+$AK$11+$AK$13+$AK$15+$AK$17+$AK$19","v":0},{"$f":"$AL$7+$AL$9+$AL$11+$AL$13+$AL$15+$AL$17+$AL$19","v":0},null,null,null,null,null,null,null,null,null,null,null,null,null,null,null,null,null,null,{"$f":"SUM($BE$7+$BE$9+$BE$11+$BE$13+$BE$15+$BE$17+$BE$19)","v":0},{"$f":"SUM($BF$7+$BF$9+$BF$11+$BF$13+$BF$15+$BF$17+$BF$19)","v":0},{"$f":"$BG$7+$BG$9+$BG$11+$BG$13+$BG$15+$BG$17+$BG$19","v":0},{"$f":"$BH$7+$BH$9+$BH$11+$BH$13+$BH$15+$BH$17+$BH$19","v":0},null,null,null,null,null,null,null,{"$f":"IFERROR(SUM($BP$7+$BP$9+$BP$11+$BP$13+$BP$15+$BP$17+$BP$19),0)","v":0},{"$f":"IFERROR(SUM($BQ$7+$BQ$9+$BQ$11+$BQ$13+$BQ$15+$BQ$17+$BQ$19),0)","v":0},{"$f":"$BR$7+$BR$9+$BR$11+$BR$13+$BR$15+$BR$17+$BR$19","v":0},{"$f":"$BS$7+$BS$9+$BS$11+$BS$13+$BS$15+$BS$17+$BS$19","v":0},null,null,null,null,null,null,null,{"$f":"IFERROR(SUM($CA$7+$CA$9+$CA$11+$CA$13+$CA$15+$CA$17+$CA$19),0)","v":0},{"$f":"IFERROR(SUM($CB$7+$CB$9+$CB$11+$CB$13+$CB$15+$CB$17+$CB$19),0)","v":0},{"$f":"$CC$7+$CC$9+$CC$11+$CC$13+$CC$15+$CC$17+$CC$19","v":0},{"$f":"$CD$7+$CD$9+$CD$11+$CD$13+$CD$15+$CD$17+$CD$19","v":0},null,null,null,null,null,null,null,null,null,null,null,null,null,null,null,null,null,null,null,null,null,null,null,null,null,null,null,null,null,null,null,null,null,null,null,null,null,null,null,null,null,null,null,null,null,null,null,null,null,null,null,null,null,null,null,null,null,null,null,null,null,null,null,null,null,null,null,null,null,null,null,null,null,null,null,null,null,null,null,null,null,null,null,null,null,null,null,null,null,null,null,null,null,null,null,null,{"$f":"IF(CX4=\"EXCELLENCE\",CD2,IF(OR(CX4=\"HONNEUR\",CX4=\"PROMOTIONNORD\",CX4=\"ADULTESDIVISION1NORD\",CX4=\"PROMOTIONSTRASBOURG\",CX4=\"PROMOTIONFINALE\"),CD2,IF(OR(CX4=\"MIXTESD1NORD\",CX4=\"MIXTESD1STRASBOURG\",CX4=\"VETERANSD1STRASBOURG\",CX4=\"VETERANSD2STRASBOURG\",CX4=\"VETERANSD1NORD\",CX4=\"VETERANSD2NORD\",CX4=\"JUNIORS\",CX4=\"CADETS\",CX4=\"MINIMESBENJAMINSPOUSSINS\",CX4=\"MIXTESD1FINALE\",CX4=\"VETERANSD1FINALE\",CX4=\"VETERANSD2FINALE\",CX4=\"JUNIORSFINALE\",CX4=\"CADETSFINALE\",CX4=\"MINIMESBENJAMINSPOUSSINSFINALE\"),\"-\",\"\")))","v":""},{"$f":"IF(CX4=\"EXCELLENCE\",CA2,IF(OR(CX4=\"HONNEUR\",CX4=\"PROMOTIONNORD\",CX4=\"ADULTESDIVISION1NORD\",CX4=\"PROMOTIONSTRASBOURG\",CX4=\"PROMOTIONFINALE\"),CA2,IF(OR(CX4=\"MIXTESD1NORD\",CX4=\"MIXTESD1STRASBOURG\",CX4=\"VETERANSD1STRASBOURG\",CX4=\"VETERANSD2STRASBOURG\",CX4=\"VETERANSD1NORD\",CX4=\"VETERANSD2NORD\",CX4=\"JUNIORS\",CX4=\"CADETS\",CX4=\"MINIMESBENJAMINSPOUSSINS\",CX4=\"MIXTESD1FINALE\",CX4=\"VETERANSD1FINALE\",CX4=\"VETERANSD2FINALE\",CX4=\"JUNIORSFINALE\",CX4=\"CADETSFINALE\",CX4=\"MINIMESBENJAMINSPOUSSINSFINALE\"),\"\",\"\")))","v":""},{"$f":"IF(CX4=\"EXCELLENCE\",CC2,IF(OR(CX4=\"HONNEUR\",CX4=\"PROMOTIONNORD\",CX4=\"ADULTESDIVISION1NORD\",CX4=\"PROMOTIONSTRASBOURG\",CX4=\"PROMOTIONFINALE\"),CC2,IF(OR(CX4=\"MIXTESD1NORD\",CX4=\"MIXTESD1STRASBOURG\",CX4=\"VETERANSD1STRASBOURG\",CX4=\"VETERANSD2STRASBOURG\",CX4=\"VETERANSD1NORD\",CX4=\"VETERANSD2NORD\",CX4=\"JUNIORS\",CX4=\"CADETS\",CX4=\"MINIMESBENJAMINSPOUSSINS\",CX4=\"MIXTESD1FINALE\",CX4=\"VETERANSD1FINALE\",CX4=\"VETERANSD2FINALE\",CX4=\"JUNIORSFINALE\",CX4=\"CADETSFINALE\",CX4=\"MINIMESBENJAMINSPOUSSINSFINALE\"),\"\",\"\")))","v":""},{"$f":"IF(CX4=\"EXCELLENCE\",CB1,IF(OR(CX4=\"HONNEUR\",CX4=\"PROMOTIONNORD\",CX4=\"ADULTESDIVISION1NORD\",CX4=\"PROMOTIONSTRASBOURG\",CX4=\"PROMOTIONFINALE\"),CB1,IF(OR(CX4=\"MIXTESD1NORD\",CX4=\"MIXTESD1STRASBOURG\",CX4=\"VETERANSD1STRASBOURG\",CX4=\"VETERANSD2STRASBOURG\",CX4=\"VETERANSD1NORD\",CX4=\"VETERANSD2NORD\",CX4=\"JUNIORS\",CX4=\"CADETS\",CX4=\"MINIMESBENJAMINSPOUSSINS\",CX4=\"MIXTESD1FINALE\",CX4=\"VETERANSD1FINALE\",CX4=\"VETERANSD2FINALE\",CX4=\"JUNIORSFINALE\",CX4=\"CADETSFINALE\",CX4=\"MINIMESBENJAMINSPOUSSINSFINALE\"),\"\",\"\")))","v":""},{"$f":"IF(CX4=\"EXCELLENCE\",CX4,IF(OR(CX4=\"HONNEUR\",CX4=\"PROMOTIONNORD\",CX4=\"ADULTESDIVISION1NORD\",CX4=\"PROMOTIONSTRASBOURG\",CX4=\"PROMOTIONFINALE\"),CX4,IF(OR(CX4=\"MIXTESD1NORD\",CX4=\"MIXTESD1STRASBOURG\",CX4=\"VETERANSD1STRASBOURG\",CX4=\"VETERANSD2STRASBOURG\",CX4=\"VETERANSD1NORD\",CX4=\"VETERANSD2NORD\",CX4=\"JUNIORS\",CX4=\"CADETS\",CX4=\"MINIMESBENJAMINSPOUSSINS\",CX4=\"MIXTESD1FINALE\",CX4=\"VETERANSD1FINALE\",CX4=\"VETERANSD2FINALE\",CX4=\"JUNIORSFINALE\",CX4=\"CADETSFINALE\",CX4=\"MINIMESBENJAMINSPOUSSINSFINALE\"),\"\",\"\")))","v":""},{"$f":"IF(CX4=\"EXCELLENCE\",CW4,IF(OR(CX4=\"HONNEUR\",CX4=\"PROMOTIONNORD\",CX4=\"ADULTESDIVISION1NORD\",CX4=\"PROMOTIONSTRASBOURG\",CX4=\"PROMOTIONFINALE\"),CW4,IF(OR(CX4=\"MIXTESD1NORD\",CX4=\"MIXTESD1STRASBOURG\",CX4=\"VETERANSD1STRASBOURG\",CX4=\"VETERANSD2STRASBOURG\",CX4=\"VETERANSD1NORD\",CX4=\"VETERANSD2NORD\",CX4=\"JUNIORS\",CX4=\"CADETS\",CX4=\"MINIMESBENJAMINSPOUSSINS\",CX4=\"MIXTESD1FINALE\",CX4=\"VETERANSD1FINALE\",CX4=\"VETERANSD2FINALE\",CX4=\"JUNIORSFINALE\",CX4=\"CADETSFINALE\",CX4=\"MINIMESBENJAMINSPOUSSINSFINALE\"),\"\",\"\")))","v":""},"VICTOIRE CONTRE",{"$f":"IF(CE41<CF41,\"\",IF(AND(CX4=\"EXCELLENCE\",CE41>CF41),CB41,IF(AND(CX4=\"HONNEUR\",CE41>CF41),CB41,IF(AND(CX4=\"PROMOTIONNORD\",CE41>CF41),CB41,IF(AND(CX4=\"ADULTESDIVISION1NORD\",CE41>CF41),CB41,IF(AND(CX4=\"PROMOTIONSTRASBOURG\",CE41>CF41),CB41,IF(AND(CX4=\"PROMOTIONFINALE\",CE41>CF41),CB41,IF(OR(CX4=\"MIXTESD1NORD\",CX4=\"MIXTESD1STRASBOURG\",CX4=\"VETERANSD1STRASBOURG\",CX4=\"VETERANSD2STRASBOURG\",CX4=\"VETERANSD1NORD\",CX4=\"VETERANSD2NORD\",CX4=\"JUNIORS\",CX4=\"CADETS\",CX4=\"MINIMESBENJAMINSPOUSSINS\",CX4=\"MIXTESD1FINALE\",CX4=\"VETERANSD1FINALE\",CX4=\"VETERANSD2FINALE\",CX4=\"JUNIORSFINALE\",CX4=\"CADETSFINALE\",CX4=\"MINIMESBENJAMINSPOUSSINSFINALE\"),\"\",\"\"))))))))","v":""},{"$f":"IF(CE41<CF41,\"\",IF(AND(CX4=\"EXCELLENCE\",CE41>CF41),CC41,IF(AND(CX4=\"HONNEUR\",CE41>CF41),CC41,IF(AND(CX4=\"PROMOTIONNORD\",CE41>CF41),CC41,IF(AND(CX4=\"ADULTESDIVISION1NORD\",CE41>CF41),CC41,IF(AND(CX4=\"PROMOTIONSTRASBOURG\",CE41>CF41),CC41,IF(AND(CX4=\"PROMOTIONFINALE\",CE41>CF41),CC41,IF(OR(CX4=\"MIXTESD1NORD\",CX4=\"MIXTESD1STRASBOURG\",CX4=\"VETERANSD1STRASBOURG\",CX4=\"VETERANSD2STRASBOURG\",CX4=\"VETERANSD1NORD\",CX4=\"VETERANSD2NORD\",CX4=\"JUNIORS\",CX4=\"CADETS\",CX4=\"MINIMESBENJAMINSPOUSSINS\",CX4=\"MIXTESD1FINALE\",CX4=\"VETERANSD1FINALE\",CX4=\"VETERANSD2FINALE\",CX4=\"JUNIORSFINALE\",CX4=\"CADETSFINALE\",CX4=\"MINIMESBENJAMINSPOUSSINSFINALE\"),\"\",\"\"))))))))","v":""},{"$f":"IF(CE41<CF41,\"\",IF(AND(CX4=\"EXCELLENCE\",CE41>CF41),CD41,IF(AND(CX4=\"HONNEUR\",CE41>CF41),CD41,IF(AND(CX4=\"PROMOTIONNORD\",CE41>CF41),CD41,IF(AND(CX4=\"ADULTESDIVISION1NORD\",CE41>CF41),CD41,IF(AND(CX4=\"PROMOTIONSTRASBOURG\",CE41>CF41),CD41,IF(AND(CX4=\"PROMOTIONFINALE\",CE41>CF41),CD41,IF(OR(CX4=\"MIXTESD1NORD\",CX4=\"MIXTESD1STRASBOURG\",CX4=\"VETERANSD1STRASBOURG\",CX4=\"VETERANSD2STRASBOURG\",CX4=\"VETERANSD1NORD\",CX4=\"VETERANSD2NORD\",CX4=\"JUNIORS\",CX4=\"CADETS\",CX4=\"MINIMESBENJAMINSPOUSSINS\",CX4=\"MIXTESD1FINALE\",CX4=\"VETERANSD1FINALE\",CX4=\"VETERANSD2FINALE\",CX4=\"JUNIORSFINALE\",CX4=\"CADETSFINALE\",CX4=\"MINIMESBENJAMINSPOUSSINSFINALE\"),\"\",\"\"))))))))","v":""},{"$f":"IF(CE41<CF41,\"\",IF(AND(CX4=\"EXCELLENCE\",CE41>CF41),CH1,IF(AND(CX4=\"HONNEUR\",CE41>CF41),CH1,IF(AND(CX4=\"PROMOTIONNORD\",CE41>CF41),CH1,IF(AND(CX4=\"ADULTESDIVISION1NORD\",CE41>CF41),CH1,IF(AND(CX4=\"PROMOTIONSTRASBOURG\",CE41>CF41),CH1,IF(AND(CX4=\"PROMOTIONFINALE\",CE41>CF41),CH1,IF(OR(CX4=\"MIXTESD1NORD\",CX4=\"MIXTESD1STRASBOURG\",CX4=\"VETERANSD1STRASBOURG\",CX4=\"VETERANSD2STRASBOURG\",CX4=\"VETERANSD1NORD\",CX4=\"VETERANSD2NORD\",CX4=\"JUNIORS\",CX4=\"CADETS\",CX4=\"MINIMESBENJAMINSPOUSSINS\",CX4=\"MIXTESD1FINALE\",CX4=\"VETERANSD1FINALE\",CX4=\"VETERANSD2FINALE\",CX4=\"JUNIORSFINALE\",CX4=\"CADETSFINALE\",CX4=\"MINIMESBENJAMINSPOUSSINSFINALE\"),\"\",\"\"))))))))","v":""},{"$f":"IF(CE41<CF41,\"\",IF(AND(CX4=\"EXCELLENCE\",CE41>CF41),CG41,IF(AND(CX4=\"HONNEUR\",CE41>CF41),CG41,IF(AND(CX4=\"PROMOTIONNORD\",CE41>CF41),CG41,IF(AND(CX4=\"ADULTESDIVISION1NORD\",CE41>CF41),CG41,IF(AND(CX4=\"PROMOTIONSTRASBOURG\",CE41>CF41),CG41,IF(AND(CX4=\"PROMOTIONFINALE\",CE41>CF41),CG41,IF(OR(CX4=\"MIXTESD1NORD\",CX4=\"MIXTESD1STRASBOURG\",CX4=\"VETERANSD1STRASBOURG\",CX4=\"VETERANSD2STRASBOURG\",CX4=\"VETERANSD1NORD\",CX4=\"VETERANSD2NORD\",CX4=\"JUNIORS\",CX4=\"CADETS\",CX4=\"MINIMESBENJAMINSPOUSSINS\",CX4=\"MIXTESD1FINALE\",CX4=\"VETERANSD1FINALE\",CX4=\"VETERANSD2FINALE\",CX4=\"JUNIORSFINALE\",CX4=\"CADETSFINALE\",CX4=\"MINIMESBENJAMINSPOUSSINSFINALE\"),\"\",\"\"))))))))","v":""},{"$f":"IF(CE41<CF41,\"\",IF(AND(CX4=\"EXCELLENCE\",CE41>CF41),CI41,IF(AND(CX4=\"HONNEUR\",CE41>CF41),CI41,IF(AND(CX4=\"PROMOTIONNORD\",CE41>CF41),CI41,IF(AND(CX4=\"ADULTESDIVISION1NORD\",CE41>CF41),CI41,IF(AND(CX4=\"PROMOTIONSTRASBOURG\",CE41>CF41),CI41,IF(AND(CX4=\"PROMOTIONFINALE\",CE41>CF41),CI41,IF(OR(CX4=\"MIXTESD1NORD\",CX4=\"MIXTESD1STRASBOURG\",CX4=\"VETERANSD1STRASBOURG\",CX4=\"VETERANSD2STRASBOURG\",CX4=\"VETERANSD1NORD\",CX4=\"VETERANSD2NORD\",CX4=\"JUNIORS\",CX4=\"CADETS\",CX4=\"MINIMESBENJAMINSPOUSSINS\",CX4=\"MIXTESD1FINALE\",CX4=\"VETERANSD1FINALE\",CX4=\"VETERANSD2FINALE\",CX4=\"JUNIORSFINALE\",CX4=\"CADETSFINALE\",CX4=\"MINIMESBENJAMINSPOUSSINSFINALE\"),\"\",\"\"))))))))","v":""},"DEFAITE CONTRE",{"$f":"IF(CE41>CF41,\"\",IF(AND(CX4=\"EXCELLENCE\",CE41<CF41),CB41,IF(AND(CX4=\"HONNEUR\",CE41<CF41),CB41,IF(AND(CX4=\"PROMOTIONNORD\",CE41<CF41),CB41,IF(AND(CX4=\"ADULTESDIVISION1NORD\",CE41<CF41),CB41,IF(AND(CX4=\"PROMOTIONSTRASBOURG\",CE41<CF41),CB41,IF(AND(CX4=\"PROMOTIONFINALE\",CE41<CF41),CB41,IF(OR(CX4=\"MIXTESD1NORD\",CX4=\"MIXTESD1STRASBOURG\",CX4=\"VETERANSD1STRASBOURG\",CX4=\"VETERANSD2STRASBOURG\",CX4=\"VETERANSD1NORD\",CX4=\"VETERANSD2NORD\",CX4=\"JUNIORS\",CX4=\"CADETS\",CX4=\"MINIMESBENJAMINSPOUSSINS\",CX4=\"MIXTESD1FINALE\",CX4=\"VETERANSD1FINALE\",CX4=\"VETERANSD2FINALE\",CX4=\"JUNIORSFINALE\",CX4=\"CADETSFINALE\",CX4=\"MINIMESBENJAMINSPOUSSINSFINALE\"),\"\",\"\"))))))))","v":""},{"$f":"IF(CE41>CF41,\"\",IF(AND(CX4=\"EXCELLENCE\",CE41<CF41),CC41,IF(AND(CX4=\"HONNEUR\",CE41<CF41),CC41,IF(AND(CX4=\"PROMOTIONNORD\",CE41<CF41),CC41,IF(AND(CX4=\"ADULTESDIVISION1NORD\",CE41<CF41),CC41,IF(AND(CX4=\"PROMOTIONSTRASBOURG\",CE41<CF41),CC41,IF(AND(CX4=\"PROMOTIONFINALE\",CE41<CF41),CC41,IF(OR(CX4=\"MIXTESD1NORD\",CX4=\"MIXTESD1STRASBOURG\",CX4=\"VETERANSD1STRASBOURG\",CX4=\"VETERANSD2STRASBOURG\",CX4=\"VETERANSD1NORD\",CX4=\"VETERANSD2NORD\",CX4=\"JUNIORS\",CX4=\"CADETS\",CX4=\"MINIMESBENJAMINSPOUSSINS\",CX4=\"MIXTESD1FINALE\",CX4=\"VETERANSD1FINALE\",CX4=\"VETERANSD2FINALE\",CX4=\"JUNIORSFINALE\",CX4=\"CADETSFINALE\",CX4=\"MINIMESBENJAMINSPOUSSINSFINALE\"),\"\",\"\"))))))))","v":""},{"$f":"IF(CE41>CF41,\"\",IF(AND(CX4=\"EXCELLENCE\",CE41<CF41),CD41,IF(AND(CX4=\"HONNEUR\",CE41<CF41),CD41,IF(AND(CX4=\"PROMOTIONNORD\",CE41<CF41),CD41,IF(AND(CX4=\"ADULTESDIVISION1NORD\",CE41<CF41),CD41,IF(AND(CX4=\"PROMOTIONSTRASBOURG\",CE41<CF41),CD41,IF(AND(CX4=\"PROMOTIONFINALE\",CE41<CF41),CD41,IF(OR(CX4=\"MIXTESD1NORD\",CX4=\"MIXTESD1STRASBOURG\",CX4=\"VETERANSD1STRASBOURG\",CX4=\"VETERANSD2STRASBOURG\",CX4=\"VETERANSD1NORD\",CX4=\"VETERANSD2NORD\",CX4=\"JUNIORS\",CX4=\"CADETS\",CX4=\"MINIMESBENJAMINSPOUSSINS\",CX4=\"MIXTESD1FINALE\",CX4=\"VETERANSD1FINALE\",CX4=\"VETERANSD2FINALE\",CX4=\"JUNIORSFINALE\",CX4=\"CADETSFINALE\",CX4=\"MINIMESBENJAMINSPOUSSINSFINALE\"),\"\",\"\"))))))))","v":""},{"$f":"IF(CE41>CF41,\"\",IF(AND(CX4=\"EXCELLENCE\",CE41<CF41),CH1,IF(AND(CX4=\"HONNEUR\",CE41<CF41),CH1,IF(AND(CX4=\"PROMOTIONNORD\",CE41<CF41),CH1,IF(AND(CX4=\"ADULTESDIVISION1NORD\",CE41<CF41),CH1,IF(AND(CX4=\"PROMOTIONSTRASBOURG\",CE41<CF41),CH1,IF(AND(CX4=\"PROMOTIONFINALE\",CE41<CF41),CH1,IF(OR(CX4=\"MIXTESD1NORD\",CX4=\"MIXTESD1STRASBOURG\",CX4=\"VETERANSD1STRASBOURG\",CX4=\"VETERANSD2STRASBOURG\",CX4=\"VETERANSD1NORD\",CX4=\"VETERANSD2NORD\",CX4=\"JUNIORS\",CX4=\"CADETS\",CX4=\"MINIMESBENJAMINSPOUSSINS\",CX4=\"MIXTESD1FINALE\",CX4=\"VETERANSD1FINALE\",CX4=\"VETERANSD2FINALE\",CX4=\"JUNIORSFINALE\",CX4=\"CADETSFINALE\",CX4=\"MINIMESBENJAMINSPOUSSINSFINALE\"),\"\",\"\"))))))))","v":""},{"$f":"IF(CE41>CF41,\"\",IF(AND(CX4=\"EXCELLENCE\",CE41<CF41),CH41,IF(AND(CX4=\"HONNEUR\",CE41<CF41),CH41,IF(AND(CX4=\"PROMOTIONNORD\",CE41<CF41),CH41,IF(AND(CX4=\"ADULTESDIVISION1NORD\",CE41<CF41),CH41,IF(AND(CX4=\"PROMOTIONSTRASBOURG\",CE41<CF41),CH41,IF(AND(CX4=\"PROMOTIONFINALE\",CE41<CF41),CH41,IF(OR(CX4=\"MIXTESD1NORD\",CX4=\"MIXTESD1STRASBOURG\",CX4=\"VETERANSD1STRASBOURG\",CX4=\"VETERANSD2STRASBOURG\",CX4=\"VETERANSD1NORD\",CX4=\"VETERANSD2NORD\",CX4=\"JUNIORS\",CX4=\"CADETS\",CX4=\"MINIMESBENJAMINSPOUSSINS\",CX4=\"MIXTESD1FINALE\",CX4=\"VETERANSD1FINALE\",CX4=\"VETERANSD2FINALE\",CX4=\"JUNIORSFINALE\",CX4=\"CADETSFINALE\",CX4=\"MINIMESBENJAMINSPOUSSINSFINALE\"),\"\",\"\"))))))))","v":""},{"$f":"IF(CE41>CF41,\"\",IF(AND(CX4=\"EXCELLENCE\",CE41<CF41),CJ41,IF(AND(CX4=\"HONNEUR\",CE41<CF41),CJ41,IF(AND(CX4=\"PROMOTIONNORD\",CE41<CF41),CJ41,IF(AND(CX4=\"ADULTESDIVISION1NORD\",CE41<CF41),CJ41,IF(AND(CX4=\"PROMOTIONSTRASBOURG\",CE41<CF41),CJ41,IF(AND(CX4=\"PROMOTIONFINALE\",CE41<CF41),CJ41,IF(OR(CX4=\"MIXTESD1NORD\",CX4=\"MIXTESD1STRASBOURG\",CX4=\"VETERANSD1STRASBOURG\",CX4=\"VETERANSD2STRASBOURG\",CX4=\"VETERANSD1NORD\",CX4=\"VETERANSD2NORD\",CX4=\"JUNIORS\",CX4=\"CADETS\",CX4=\"MINIMESBENJAMINSPOUSSINS\",CX4=\"MIXTESD1FINALE\",CX4=\"VETERANSD1FINALE\",CX4=\"VETERANSD2FINALE\",CX4=\"JUNIORSFINALE\",CX4=\"CADETSFINALE\",CX4=\"MINIMESBENJAMINSPOUSSINSFINALE\"),\"\",\"\"))))))))","v":""},3]
[]
[null,null,null,null,null,null,null,null,null,null,null,null,"Match 2 contre",{"$f":"IF(OR('Feuille de match'!$K$5=\"EXCELLENCE\",'Feuille de match'!$K$5=\"HONNEUR\",'Feuille de match'!$K$5=\"PROMOTIONNORD\",'Feuille de match'!$K$5=\"ADULTESDIVISION1NORD\",'Feuille de match'!$K$5=\"PROMOTIONSTRASBOURG\",'Feuille de match'!$K$5=\"PROMOTIONFINALE\"),'Feuille de match'!$U$12,IF(OR('Feuille de match'!$K$5=\"MIXTESD1NORD\",'Feuille de match'!$K$5=\"MIXTESD1STRASBOURG\",'Feuille de match'!$K$5=\"VETERANSD1STRASBOURG\",'Feuille de match'!$K$5=\"VETERANSD2STRASBOURG\",'Feuille de match'!$K$5=\"VETERANSD1NORD\",'Feuille de match'!$K$5=\"VETERANSD2NORD\",'Feuille de match'!$K$5=\"JUNIORS\",'Feuille de match'!$K$5=\"CADETS\",'Feuille de match'!$K$5=\"MINIMESBENJAMINSPOUSSINS\",'Feuille de match'!$K$5=\"MIXTESD1FINALE\",'Feuille de match'!$K$5=\"VETERANSD1FINALE\",'Feuille de match'!$K$5=\"VETERANSD2FINALE\",'Feuille de match'!$K$5=\"JUNIORSFINALE\",'Feuille de match'!$K$5=\"CADETSFINALE\",'Feuille de match'!$K$5=\"MINIMESBENJAMINSPOUSSINSFINALE\"),'Feuille de match'!$U$11,\"\"))","v":""},{"$f":"IF(OR('Feuille de match'!$K$5=\"EXCELLENCE\",'Feuille de match'!$K$5=\"HONNEUR\",'Feuille de match'!$K$5=\"PROMOTIONNORD\",'Feuille de match'!$K$5=\"ADULTESDIVISION1NORD\",'Feuille de match'!$K$5=\"PROMOTIONSTRASBOURG\",'Feuille de match'!$K$5=\"PROMOTIONFINALE\"),'Feuille de match'!$O$12,IF(OR('Feuille de match'!$K$5=\"MIXTESD1NORD\",'Feuille de match'!$K$5=\"MIXTESD1STRASBOURG\",'Feuille de match'!$K$5=\"VETERANSD1STRASBOURG\",'Feuille de match'!$K$5=\"VETERANSD2STRASBOURG\",'Feuille de match'!$K$5=\"VETERANSD1NORD\",'Feuille de match'!$K$5=\"VETERANSD2NORD\",'Feuille de match'!$K$5=\"JUNIORS\",'Feuille de match'!$K$5=\"CADETS\",'Feuille de match'!$K$5=\"MINIMESBENJAMINSPOUSSINS\",'Feuille de match'!$K$5=\"MIXTESD1FINALE\",'Feuille de match'!$K$5=\"VETERANSD1FINALE\",'Feuille de match'!$K$5=\"VETERANSD2FINALE\",'Feuille de match'!$K$5=\"JUNIORSFINALE\",'Feuille de match'!$K$5=\"CADETSFINALE\",'Feuille de match'!$K$5=\"MINIMESBENJAMINSPOUSSINSFINALE\"),'Feuille de match'!$O$11,\"\"))","v":""},{"$f":"IF(OR('Feuille de match'!$K$5=\"EXCELLENCE\",'Feuille de match'!$K$5=\"HONNEUR\",'Feuille de match'!$K$5=\"PROMOTIONNORD\",'Feuille de match'!$K$5=\"ADULTESDIVISION1NORD\",'Feuille de match'!$K$5=\"PROMOTIONSTRASBOURG\",'Feuille de match'!$K$5=\"PROMOTIONFINALE\"),'Feuille de match'!$W$12,IF(OR('Feuille de match'!$K$5=\"MIXTESD1NORD\",'Feuille de match'!$K$5=\"MIXTESD1STRASBOURG\",'Feuille de match'!$K$5=\"VETERANSD1STRASBOURG\",'Feuille de match'!$K$5=\"VETERANSD2STRASBOURG\",'Feuille de match'!$K$5=\"VETERANSD1NORD\",'Feuille de match'!$K$5=\"VETERANSD2NORD\",'Feuille de match'!$K$5=\"JUNIORS\",'Feuille de match'!$K$5=\"CADETS\",'Feuille de match'!$K$5=\"MINIMESBENJAMINSPOUSSINS\",'Feuille de match'!$K$5=\"MIXTESD1FINALE\",'Feuille de match'!$K$5=\"VETERANSD1FINALE\",'Feuille de match'!$K$5=\"VETERANSD2FINALE\",'Feuille de match'!$K$5=\"JUNIORSFINALE\",'Feuille de match'!$K$5=\"CADETSFINALE\",'Feuille de match'!$K$5=\"MINIMESBENJAMINSPOUSSINSFINALE\"),'Feuille de match'!$W$11,\"\"))","v":""},{"$f":"IF($O$39>$P$39,1,0)","v":0},{"$f":"IF($O$39<$P$39,1,0)","v":0},{"$f":"IF($Q$23=0,0,IF(AND($Q$23=1,$O$2>$P$23),1,0))","v":0},{"$f":"IF($R$23=0,0,IF(AND($R$23=1,$O$2<$P$23),1,0))","v":0},{"$f":"IF($O$2=0,0,IF($Q$23=0,0,IF(AND($Q$23=1,$O$2<$P$23-5),0,IF(AND($Q$23=1,$O$2=$P$23-5),1,IF(AND($Q$23=1,$O$2=$P$23),2,IF(AND($Q$23=1,$O$2=$P$23+5),3,IF(AND($Q$23=1,$O$2>$P$23+5),4)))))))","v":0},{"$f":"IF($O$2=0,0,IF($R$23=0,0,IF(AND($R$23=1,$O$2>$P$23),0,IF(AND($R$23=1,$O$2=$P$23),2,IF(AND($R$23=1,$O$2=$P$23-5),3,IF(AND($R$23=1,$O$2<$P$23-5),4))))))","v":0},null,"Match 2 contre",{"$f":"IF(OR('Feuille de match'!$K$5=\"EXCELLENCE\",'Feuille de match'!$K$5=\"HONNEUR\",'Feuille de match'!$K$5=\"PROMOTIONNORD\",'Feuille de match'!$K$5=\"ADULTESDIVISION1NORD\",'Feuille de match'!$K$5=\"PROMOTIONSTRASBOURG\",'Feuille de match'!$K$5=\"PROMOTIONFINALE\"),'Feuille de match'!$U$10,IF(OR('Feuille de match'!$K$5=\"MIXTESD1NORD\",'Feuille de match'!$K$5=\"MIXTESD1STRASBOURG\",'Feuille de match'!$K$5=\"VETERANSD1STRASBOURG\",'Feuille de match'!$K$5=\"VETERANSD2STRASBOURG\",'Feuille de match'!$K$5=\"VETERANSD1NORD\",'Feuille de match'!$K$5=\"VETERANSD2NORD\",'Feuille de match'!$K$5=\"JUNIORS\",'Feuille de match'!$K$5=\"CADETS\",'Feuille de match'!$K$5=\"MINIMESBENJAMINSPOUSSINS\",'Feuille de match'!$K$5=\"MIXTESD1FINALE\",'Feuille de match'!$K$5=\"VETERANSD1FINALE\",'Feuille de match'!$K$5=\"VETERANSD2FINALE\",'Feuille de match'!$K$5=\"JUNIORSFINALE\",'Feuille de match'!$K$5=\"CADETSFINALE\",'Feuille de match'!$K$5=\"MINIMESBENJAMINSPOUSSINSFINALE\"),'Feuille de match'!$U$10,\"\"))","v":""},{"$f":"IF(OR('Feuille de match'!$K$5=\"EXCELLENCE\",'Feuille de match'!$K$5=\"HONNEUR\",'Feuille de match'!$K$5=\"PROMOTIONNORD\",'Feuille de match'!$K$5=\"ADULTESDIVISION1NORD\",'Feuille de match'!$K$5=\"PROMOTIONSTRASBOURG\",'Feuille de match'!$K$5=\"PROMOTIONFINALE\"),'Feuille de match'!$O$10,IF(OR('Feuille de match'!$K$5=\"MIXTESD1NORD\",'Feuille de match'!$K$5=\"MIXTESD1STRASBOURG\",'Feuille de match'!$K$5=\"VETERANSD1STRASBOURG\",'Feuille de match'!$K$5=\"VETERANSD2STRASBOURG\",'Feuille de match'!$K$5=\"VETERANSD1NORD\",'Feuille de match'!$K$5=\"VETERANSD2NORD\",'Feuille de match'!$K$5=\"JUNIORS\",'Feuille de match'!$K$5=\"CADETS\",'Feuille de match'!$K$5=\"MINIMESBENJAMINSPOUSSINS\",'Feuille de match'!$K$5=\"MIXTESD1FINALE\",'Feuille de match'!$K$5=\"VETERANSD1FINALE\",'Feuille de match'!$K$5=\"VETERANSD2FINALE\",'Feuille de match'!$K$5=\"JUNIORSFINALE\",'Feuille de match'!$K$5=\"CADETSFINALE\",'Feuille de match'!$K$5=\"MINIMESBENJAMINSPOUSSINSFINALE\"),'Feuille de match'!$O$10,\"\"))","v":""},{"$f":"IF(OR('Feuille de match'!$K$5=\"EXCELLENCE\",'Feuille de match'!$K$5=\"HONNEUR\",'Feuille de match'!$K$5=\"PROMOTIONNORD\",'Feuille de match'!$K$5=\"ADULTESDIVISION1NORD\",'Feuille de match'!$K$5=\"PROMOTIONSTRASBOURG\",'Feuille de match'!$K$5=\"PROMOTIONFINALE\"),'Feuille de match'!$W$10,IF(OR('Feuille de match'!$K$5=\"MIXTESD1NORD\",'Feuille de match'!$K$5=\"MIXTESD1STRASBOURG\",'Feuille de match'!$K$5=\"VETERANSD1STRASBOURG\",'Feuille de match'!$K$5=\"VETERANSD2STRASBOURG\",'Feuille de match'!$K$5=\"VETERANSD1NORD\",'Feuille de match'!$K$5=\"VETERANSD2NORD\",'Feuille de match'!$K$5=\"JUNIORS\",'Feuille de match'!$K$5=\"CADETS\",'Feuille de match'!$K$5=\"MINIMESBENJAMINSPOUSSINS\",'Feuille de match'!$K$5=\"MIXTESD1FINALE\",'Feuille de match'!$K$5=\"VETERANSD1FINALE\",'Feuille de match'!$K$5=\"VETERANSD2FINALE\",'Feuille de match'!$K$5=\"JUNIORSFINALE\",'Feuille de match'!$K$5=\"CADETSFINALE\",'Feuille de match'!$K$5=\"MINIMESBENJAMINSPOUSSINSFINALE\"),'Feuille de match'!$W$10,\"\"))","v":""},{"$f":"IF($Z$39>$AA$39,1,0)","v":0},{"$f":"IF($Z$39<$AA$39,1,0)","v":0},{"$f":"IF($AB$23=0,0,IF(AND($AB$23=1,$Z$2>$AA$23),1,0))","v":0},{"$f":"IF($AC$23=0,0,IF(AND($AC$23=1,$Z$2<$AA$23),1,0))","v":0},{"$f":"IF($Z$2=0,0,IF($AB$23=0,0,IF(AND($AB$23=1,$Z$2<$AA$23-5),0,IF(AND($AB$23=1,$Z$2=$AA$23-5),1,IF(AND($AB$23=1,$Z$2=$AA$23),2,IF(AND($AB$23=1,$Z$2=$AA$23+5),3,IF(AND($AB$23=1,$Z$2>$AA$23+5),4)))))))","v":0},{"$f":"IF($Z$2=0,0,IF($AC$23=0,0,IF(AND($AC$23=1,$Z$2>$AA$23),0,IF(AND($AC$23=1,$Z$2=$AA$23),2,IF(AND($AC$23=1,$Z$2=$AA$23-5),3,IF(AND($AC$23=1,$Z$2<$AA$23-5),4))))))","v":0},null,"Match 2 contre",{"$f":"IF(OR('Feuille de match'!$K$5=\"EXCELLENCE\",'Feuille de match'!$K$5=\"HONNEUR\",'Feuille de match'!$K$5=\"PROMOTIONNORD\",'Feuille de match'!$K$5=\"ADULTESDIVISION1NORD\",'Feuille de match'!$K$5=\"PROMOTIONSTRASBOURG\",'Feuille de match'!$K$5=\"PROMOTIONFINALE\"),'Feuille de match'!$U$11,IF(OR('Feuille de match'!$K$5=\"MIXTESD1NORD\",'Feuille de match'!$K$5=\"MIXTESD1STRASBOURG\",'Feuille de match'!$K$5=\"VETERANSD1STRASBOURG\",'Feuille de match'!$K$5=\"VETERANSD2STRASBOURG\",'Feuille de match'!$K$5=\"VETERANSD1NORD\",'Feuille de match'!$K$5=\"VETERANSD2NORD\",'Feuille de match'!$K$5=\"JUNIORS\",'Feuille de match'!$K$5=\"CADETS\",'Feuille de match'!$K$5=\"MINIMESBENJAMINSPOUSSINS\",'Feuille de match'!$K$5=\"MIXTESD1FINALE\",'Feuille de match'!$K$5=\"VETERANSD1FINALE\",'Feuille de match'!$K$5=\"VETERANSD2FINALE\",'Feuille de match'!$K$5=\"JUNIORSFINALE\",'Feuille de match'!$K$5=\"CADETSFINALE\",'Feuille de match'!$K$5=\"MINIMESBENJAMINSPOUSSINSFINALE\"),\"\",\"\"))","v":""},{"$f":"IF(OR('Feuille de match'!$K$5=\"EXCELLENCE\",'Feuille de match'!$K$5=\"HONNEUR\",'Feuille de match'!$K$5=\"PROMOTIONNORD\",'Feuille de match'!$K$5=\"ADULTESDIVISION1NORD\",'Feuille de match'!$K$5=\"PROMOTIONSTRASBOURG\",'Feuille de match'!$K$5=\"PROMOTIONFINALE\"),'Feuille de match'!$O$11,IF(OR('Feuille de match'!$K$5=\"MIXTESD1NORD\",'Feuille de match'!$K$5=\"MIXTESD1STRASBOURG\",'Feuille de match'!$K$5=\"VETERANSD1STRASBOURG\",'Feuille de match'!$K$5=\"VETERANSD2STRASBOURG\",'Feuille de match'!$K$5=\"VETERANSD1NORD\",'Feuille de match'!$K$5=\"VETERANSD2NORD\",'Feuille de match'!$K$5=\"JUNIORS\",'Feuille de match'!$K$5=\"CADETS\",'Feuille de match'!$K$5=\"MINIMESBENJAMINSPOUSSINS\",'Feuille de match'!$K$5=\"MIXTESD1FINALE\",'Feuille de match'!$K$5=\"VETERANSD1FINALE\",'Feuille de match'!$K$5=\"VETERANSD2FINALE\",'Feuille de match'!$K$5=\"JUNIORSFINALE\",'Feuille de match'!$K$5=\"CADETSFINALE\",'Feuille de match'!$K$5=\"MINIMESBENJAMINSPOUSSINSFINALE\"),\"\",\"\"))","v":""},{"$f":"IF(OR('Feuille de match'!$K$5=\"EXCELLENCE\",'Feuille de match'!$K$5=\"HONNEUR\",'Feuille de match'!$K$5=\"PROMOTIONNORD\",'Feuille de match'!$K$5=\"ADULTESDIVISION1NORD\",'Feuille de match'!$K$5=\"PROMOTIONSTRASBOURG\",'Feuille de match'!$K$5=\"PROMOTIONFINALE\"),'Feuille de match'!$W$11,IF(OR('Feuille de match'!$K$5=\"MIXTESD1NORD\",'Feuille de match'!$K$5=\"MIXTESD1STRASBOURG\",'Feuille de match'!$K$5=\"VETERANSD1STRASBOURG\",'Feuille de match'!$K$5=\"VETERANSD2STRASBOURG\",'Feuille de match'!$K$5=\"VETERANSD1NORD\",'Feuille de match'!$K$5=\"VETERANSD2NORD\",'Feuille de match'!$K$5=\"JUNIORS\",'Feuille de match'!$K$5=\"CADETS\",'Feuille de match'!$K$5=\"MINIMESBENJAMINSPOUSSINS\",'Feuille de match'!$K$5=\"MIXTESD1FINALE\",'Feuille de match'!$K$5=\"VETERANSD1FINALE\",'Feuille de match'!$K$5=\"VETERANSD2FINALE\",'Feuille de match'!$K$5=\"JUNIORSFINALE\",'Feuille de match'!$K$5=\"CADETSFINALE\",'Feuille de match'!$K$5=\"MINIMESBENJAMINSPOUSSINSFINALE\"),\"\",\"\"))","v":""},{"$f":"IF($AK$39>$AL$39,1,0)","v":0},{"$f":"IF($AK$39<$AL$39,1,0)","v":0},{"$f":"IF($AM$23=0,0,IF(AND($AM$23=1,$AK$2>$AL$23),1,0))","v":0},{"$f":"IF($AN$23=0,0,IF(AND($AN$23=1,$AK$2<$AL$23),1,0))","v":0},{"$f":"IF($AK$2=0,0,IF($AM$23=0,0,IF(AND($AM$23=1,$AK$2<$AL$23-5),0,IF(AND($AM$23=1,$AK$2=$AL$23-5),1,IF(AND($AM$23=1,$AK$2=$AL$23),2,IF(AND($AM$23=1,$AK$2=$AL$23+5),3,IF(AND($AM$23=1,$AK$2>$AL$23+5),4)))))))","v":0},{"$f":"IF($AK$2=0,0,IF($AN$23=0,0,IF(AND($AN$23=1,$AK$2>$AL$23),0,IF(AND($AN$23=1,$AK$2=$AL$23),2,IF(AND($AN$23=1,$AK$2=$AL$23-5),3,IF(AND($AN$23=1,$AK$2<$AL$23-5),4))))))","v":0},null,null,null,null,null,null,null,null,null,null,null,null,"Match 2 contre",{"$f":"IF(OR('Feuille de match'!$K$5=\"EXCELLENCE\",'Feuille de match'!$K$5=\"HONNEUR\",'Feuille de match'!$K$5=\"PROMOTIONNORD\",'Feuille de match'!$K$5=\"ADULTESDIVISION1NORD\",'Feuille de match'!$K$5=\"PROMOTIONSTRASBOURG\",'Feuille de match'!$K$5=\"PROMOTIONFINALE\"),'Feuille de match'!$J$11,IF(OR('Feuille de match'!$K$5=\"MIXTESD1NORD\",'Feuille de match'!$K$5=\"MIXTESD1STRASBOURG\",'Feuille de match'!$K$5=\"VETERANSD1STRASBOURG\",'Feuille de match'!$K$5=\"VETERANSD2STRASBOURG\",'Feuille de match'!$K$5=\"VETERANSD1NORD\",'Feuille de match'!$K$5=\"VETERANSD2NORD\",'Feuille de match'!$K$5=\"JUNIORS\",'Feuille de match'!$K$5=\"CADETS\",'Feuille de match'!$K$5=\"MINIMESBENJAMINSPOUSSINS\",'Feuille de match'!$K$5=\"MIXTESD1FINALE\",'Feuille de match'!$K$5=\"VETERANSD1FINALE\",'Feuille de match'!$K$5=\"VETERANSD2FINALE\",'Feuille de match'!$K$5=\"JUNIORSFINALE\",'Feuille de match'!$K$5=\"CADETSFINALE\",'Feuille de match'!$K$5=\"MINIMESBENJAMINSPOUSSINSFINALE\"),'Feuille de match'!$J$11,\"\"))","v":""},{"$f":"IF(OR('Feuille de match'!$K$5=\"EXCELLENCE\",'Feuille de match'!$K$5=\"HONNEUR\",'Feuille de match'!$K$5=\"PROMOTIONNORD\",'Feuille de match'!$K$5=\"ADULTESDIVISION1NORD\",'Feuille de match'!$K$5=\"PROMOTIONSTRASBOURG\",'Feuille de match'!$K$5=\"PROMOTIONFINALE\"),'Feuille de match'!$D$11,IF(OR('Feuille de match'!$K$5=\"MIXTESD1NORD\",'Feuille de match'!$K$5=\"MIXTESD1STRASBOURG\",'Feuille de match'!$K$5=\"VETERANSD1STRASBOURG\",'Feuille de match'!$K$5=\"VETERANSD2STRASBOURG\",'Feuille de match'!$K$5=\"VETERANSD1NORD\",'Feuille de match'!$K$5=\"VETERANSD2NORD\",'Feuille de match'!$K$5=\"JUNIORS\",'Feuille de match'!$K$5=\"CADETS\",'Feuille de match'!$K$5=\"MINIMESBENJAMINSPOUSSINS\",'Feuille de match'!$K$5=\"MIXTESD1FINALE\",'Feuille de match'!$K$5=\"VETERANSD1FINALE\",'Feuille de match'!$K$5=\"VETERANSD2FINALE\",'Feuille de match'!$K$5=\"JUNIORSFINALE\",'Feuille de match'!$K$5=\"CADETSFINALE\",'Feuille de match'!$K$5=\"MINIMESBENJAMINSPOUSSINSFINALE\"),'Feuille de match'!$D$11,\"\"))","v":""},{"$f":"IF(OR('Feuille de match'!$K$5=\"EXCELLENCE\",'Feuille de match'!$K$5=\"HONNEUR\",'Feuille de match'!$K$5=\"PROMOTIONNORD\",'Feuille de match'!$K$5=\"ADULTESDIVISION1NORD\",'Feuille de match'!$K$5=\"PROMOTIONSTRASBOURG\",'Feuille de match'!$K$5=\"PROMOTIONFINALE\"),'Feuille de match'!$K$11,IF(OR('Feuille de match'!$K$5=\"MIXTESD1NORD\",'Feuille de match'!$K$5=\"MIXTESD1STRASBOURG\",'Feuille de match'!$K$5=\"VETERANSD1STRASBOURG\",'Feuille de match'!$K$5=\"VETERANSD2STRASBOURG\",'Feuille de match'!$K$5=\"VETERANSD1NORD\",'Feuille de match'!$K$5=\"VETERANSD2NORD\",'Feuille de match'!$K$5=\"JUNIORS\",'Feuille de match'!$K$5=\"CADETS\",'Feuille de match'!$K$5=\"MINIMESBENJAMINSPOUSSINS\",'Feuille de match'!$K$5=\"MIXTESD1FINALE\",'Feuille de match'!$K$5=\"VETERANSD1FINALE\",'Feuille de match'!$K$5=\"VETERANSD2FINALE\",'Feuille de match'!$K$5=\"JUNIORSFINALE\",'Feuille de match'!$K$5=\"CADETSFINALE\",'Feuille de match'!$K$5=\"MINIMESBENJAMINSPOUSSINSFINALE\"),'Feuille de match'!$K$11,\"\"))","v":""},{"$f":"IF($BG$39>$BH$39,1,0)","v":0},{"$f":"IF($BG$39<$BH$39,1,0)","v":0},{"$f":"IF($BI$23=0,0,IF(AND($BI$23=1,$BG$2>$BH$23),1,0))","v":0},{"$f":"IF($BJ$23=0,0,IF(AND($BJ$23=1,$BG$2<$BH$23),1,0))","v":0},{"$f":"IF($BG$2=0,0,IF($BI$23=0,0,IF(AND($BI$23=1,$BG$2<$BH$23-5),0,IF(AND($BI$23=1,$BG$2=$BH$23-5),1,IF(AND($BI$23=1,$BG$2=$BH$23),2,IF(AND($BI$23=1,$BG$2=$BH$23+5),3,IF(AND($BI$23=1,$BG$2>$BH$23+5),4)))))))","v":0},{"$f":"IF($BG$2=0,0,IF($BJ$23=0,0,IF(AND($BJ$23=1,$BG$2>$BH$23),0,IF(AND($BJ$23=1,$BG$2=$BH$23),2,IF(AND($BJ$23=1,$BG$2=$BH$23-5),3,IF(AND($BJ$23=1,$BG$2<$BH$23-5),4))))))","v":0},null,"Match 2 contre",{"$f":"IF(OR('Feuille de match'!$K$5=\"EXCELLENCE\",'Feuille de match'!$K$5=\"HONNEUR\",'Feuille de match'!$K$5=\"PROMOTIONNORD\",'Feuille de match'!$K$5=\"ADULTESDIVISION1NORD\",'Feuille de match'!$K$5=\"PROMOTIONSTRASBOURG\",'Feuille de match'!$K$5=\"PROMOTIONFINALE\"),'Feuille de match'!$J$12,IF(OR('Feuille de match'!$K$5=\"MIXTESD1NORD\",'Feuille de match'!$K$5=\"MIXTESD1STRASBOURG\",'Feuille de match'!$K$5=\"VETERANSD1STRASBOURG\",'Feuille de match'!$K$5=\"VETERANSD2STRASBOURG\",'Feuille de match'!$K$5=\"VETERANSD1NORD\",'Feuille de match'!$K$5=\"VETERANSD2NORD\",'Feuille de match'!$K$5=\"JUNIORS\",'Feuille de match'!$K$5=\"CADETS\",'Feuille de match'!$K$5=\"MINIMESBENJAMINSPOUSSINS\",'Feuille de match'!$K$5=\"MIXTESD1FINALE\",'Feuille de match'!$K$5=\"VETERANSD1FINALE\",'Feuille de match'!$K$5=\"VETERANSD2FINALE\",'Feuille de match'!$K$5=\"JUNIORSFINALE\",'Feuille de match'!$K$5=\"CADETSFINALE\",'Feuille de match'!$K$5=\"MINIMESBENJAMINSPOUSSINSFINALE\"),'Feuille de match'!$J$10,\"\"))","v":""},{"$f":"IF(OR('Feuille de match'!$K$5=\"EXCELLENCE\",'Feuille de match'!$K$5=\"HONNEUR\",'Feuille de match'!$K$5=\"PROMOTIONNORD\",'Feuille de match'!$K$5=\"ADULTESDIVISION1NORD\",'Feuille de match'!$K$5=\"PROMOTIONSTRASBOURG\",'Feuille de match'!$K$5=\"PROMOTIONFINALE\"),'Feuille de match'!$D$12,IF(OR('Feuille de match'!$K$5=\"MIXTESD1NORD\",'Feuille de match'!$K$5=\"MIXTESD1STRASBOURG\",'Feuille de match'!$K$5=\"VETERANSD1STRASBOURG\",'Feuille de match'!$K$5=\"VETERANSD2STRASBOURG\",'Feuille de match'!$K$5=\"VETERANSD1NORD\",'Feuille de match'!$K$5=\"VETERANSD2NORD\",'Feuille de match'!$K$5=\"JUNIORS\",'Feuille de match'!$K$5=\"CADETS\",'Feuille de match'!$K$5=\"MINIMESBENJAMINSPOUSSINS\",'Feuille de match'!$K$5=\"MIXTESD1FINALE\",'Feuille de match'!$K$5=\"VETERANSD1FINALE\",'Feuille de match'!$K$5=\"VETERANSD2FINALE\",'Feuille de match'!$K$5=\"JUNIORSFINALE\",'Feuille de match'!$K$5=\"CADETSFINALE\",'Feuille de match'!$K$5=\"MINIMESBENJAMINSPOUSSINSFINALE\"),'Feuille de match'!$D$10,\"\"))","v":""},{"$f":"IF(OR('Feuille de match'!$K$5=\"EXCELLENCE\",'Feuille de match'!$K$5=\"HONNEUR\",'Feuille de match'!$K$5=\"PROMOTIONNORD\",'Feuille de match'!$K$5=\"ADULTESDIVISION1NORD\",'Feuille de match'!$K$5=\"PROMOTIONSTRASBOURG\",'Feuille de match'!$K$5=\"PROMOTIONFINALE\"),'Feuille de match'!$K$12,IF(OR('Feuille de match'!$K$5=\"MIXTESD1NORD\",'Feuille de match'!$K$5=\"MIXTESD1STRASBOURG\",'Feuille de match'!$K$5=\"VETERANSD1STRASBOURG\",'Feuille de match'!$K$5=\"VETERANSD2STRASBOURG\",'Feuille de match'!$K$5=\"VETERANSD1NORD\",'Feuille de match'!$K$5=\"VETERANSD2NORD\",'Feuille de match'!$K$5=\"JUNIORS\",'Feuille de match'!$K$5=\"CADETS\",'Feuille de match'!$K$5=\"MINIMESBENJAMINSPOUSSINS\",'Feuille de match'!$K$5=\"MIXTESD1FINALE\",'Feuille de match'!$K$5=\"VETERANSD1FINALE\",'Feuille de match'!$K$5=\"VETERANSD2FINALE\",'Feuille de match'!$K$5=\"JUNIORSFINALE\",'Feuille de match'!$K$5=\"CADETSFINALE\",'Feuille de match'!$K$5=\"MINIMESBENJAMINSPOUSSINSFINALE\"),'Feuille de match'!$K$10,\"\"))","v":""},{"$f":"IF($BR$39>$BS$39,1,0)","v":0},{"$f":"IF($BR$39<$BS$39,1,0)","v":0},{"$f":"IF($BT$23=0,0,IF(AND($BT$23=1,$BR$2>$BS$23),1,0))","v":0},{"$f":"IF($BU$23=0,0,IF(AND($BU$23=1,$BR$2<$BS$23),1,0))","v":0},{"$f":"IF($BR$2=0,0,IF($BT$23=0,0,IF(AND($BT$23=1,$BR$2<$BS$23-5),0,IF(AND($BT$23=1,$BR$2=$BS$23-5),1,IF(AND($BT$23=1,$BR$2=$BS$23),2,IF(AND($BT$23=1,$BR$2=$BS$23+5),3,IF(AND($BT$23=1,$BR$2>$BS$23+5),4)))))))","v":0},{"$f":"IF($BR$2=0,0,IF($BU$23=0,0,IF(AND($BU$23=1,$BR$2>$BS$23),0,IF(AND($BU$23=1,$BR$2=$BS$23),2,IF(AND($BU$23=1,$BR$2=$BS$23-5),3,IF(AND($BU$23=1,$BR$2<$BS$23-5),4))))))","v":0},null,"Match 2 contre",{"$f":"IF(OR('Feuille de match'!$K$5=\"EXCELLENCE\",'Feuille de match'!$K$5=\"HONNEUR\",'Feuille de match'!$K$5=\"PROMOTIONNORD\",'Feuille de match'!$K$5=\"ADULTESDIVISION1NORD\",'Feuille de match'!$K$5=\"PROMOTIONSTRASBOURG\",'Feuille de match'!$K$5=\"PROMOTIONFINALE\"),'Feuille de match'!$J$10,IF(OR('Feuille de match'!$K$5=\"MIXTESD1NORD\",'Feuille de match'!$K$5=\"MIXTESD1STRASBOURG\",'Feuille de match'!$K$5=\"VETERANSD1STRASBOURG\",'Feuille de match'!$K$5=\"VETERANSD2STRASBOURG\",'Feuille de match'!$K$5=\"VETERANSD1NORD\",'Feuille de match'!$K$5=\"VETERANSD2NORD\",'Feuille de match'!$K$5=\"JUNIORS\",'Feuille de match'!$K$5=\"CADETS\",'Feuille de match'!$K$5=\"MINIMESBENJAMINSPOUSSINS\",'Feuille de match'!$K$5=\"MIXTESD1FINALE\",'Feuille de match'!$K$5=\"VETERANSD1FINALE\",'Feuille de match'!$K$5=\"VETERANSD2FINALE\",'Feuille de match'!$K$5=\"JUNIORSFINALE\",'Feuille de match'!$K$5=\"CADETSFINALE\",'Feuille de match'!$K$5=\"MINIMESBENJAMINSPOUSSINSFINALE\"),\"\",\"\"))","v":""},{"$f":"IF(OR('Feuille de match'!$K$5=\"EXCELLENCE\",'Feuille de match'!$K$5=\"HONNEUR\",'Feuille de match'!$K$5=\"PROMOTIONNORD\",'Feuille de match'!$K$5=\"ADULTESDIVISION1NORD\",'Feuille de match'!$K$5=\"PROMOTIONSTRASBOURG\",'Feuille de match'!$K$5=\"PROMOTIONFINALE\"),'Feuille de match'!$D$10,IF(OR('Feuille de match'!$K$5=\"MIXTESD1NORD\",'Feuille de match'!$K$5=\"MIXTESD1STRASBOURG\",'Feuille de match'!$K$5=\"VETERANSD1STRASBOURG\",'Feuille de match'!$K$5=\"VETERANSD2STRASBOURG\",'Feuille de match'!$K$5=\"VETERANSD1NORD\",'Feuille de match'!$K$5=\"VETERANSD2NORD\",'Feuille de match'!$K$5=\"JUNIORS\",'Feuille de match'!$K$5=\"CADETS\",'Feuille de match'!$K$5=\"MINIMESBENJAMINSPOUSSINS\",'Feuille de match'!$K$5=\"MIXTESD1FINALE\",'Feuille de match'!$K$5=\"VETERANSD1FINALE\",'Feuille de match'!$K$5=\"VETERANSD2FINALE\",'Feuille de match'!$K$5=\"JUNIORSFINALE\",'Feuille de match'!$K$5=\"CADETSFINALE\",'Feuille de match'!$K$5=\"MINIMESBENJAMINSPOUSSINSFINALE\"),\"\",\"\"))","v":""},{"$f":"IF(OR('Feuille de match'!$K$5=\"EXCELLENCE\",'Feuille de match'!$K$5=\"HONNEUR\",'Feuille de match'!$K$5=\"PROMOTIONNORD\",'Feuille de match'!$K$5=\"ADULTESDIVISION1NORD\",'Feuille de match'!$K$5=\"PROMOTIONSTRASBOURG\",'Feuille de match'!$K$5=\"PROMOTIONFINALE\"),'Feuille de match'!$K$10,IF(OR('Feuille de match'!$K$5=\"MIXTESD1NORD\",'Feuille de match'!$K$5=\"MIXTESD1STRASBOURG\",'Feuille de match'!$K$5=\"VETERANSD1STRASBOURG\",'Feuille de match'!$K$5=\"VETERANSD2STRASBOURG\",'Feuille de match'!$K$5=\"VETERANSD1NORD\",'Feuille de match'!$K$5=\"VETERANSD2NORD\",'Feuille de match'!$K$5=\"JUNIORS\",'Feuille de match'!$K$5=\"CADETS\",'Feuille de match'!$K$5=\"MINIMESBENJAMINSPOUSSINS\",'Feuille de match'!$K$5=\"MIXTESD1FINALE\",'Feuille de match'!$K$5=\"VETERANSD1FINALE\",'Feuille de match'!$K$5=\"VETERANSD2FINALE\",'Feuille de match'!$K$5=\"JUNIORSFINALE\",'Feuille de match'!$K$5=\"CADETSFINALE\",'Feuille de match'!$K$5=\"MINIMESBENJAMINSPOUSSINSFINALE\"),\"\",\"\"))","v":""},{"$f":"IF($CC$39>$CD$39,1,0)","v":0},{"$f":"IF($CC$39<$CD$39,1,0)","v":0},{"$f":"IF($CE$23=0,0,IF(AND($CE$23=1,$CC$2>$CD$23),1,0))","v":0},{"$f":"IF($CF$23=0,0,IF(AND($CF$23=1,$CC$2<$CD$23),1,0))","v":0},{"$f":"IF($CC$2=0,0,IF($CE$23=0,0,IF(AND($CE$23=1,$CC$2<$CD$23-5),0,IF(AND($CE$23=1,$CC$2=$CD$23-5),1,IF(AND($CE$23=1,$CC$2=$CD$23),2,IF(AND($CE$23=1,$CC$2=$CD$23+5),3,IF(AND($CE$23=1,$CC$2>$CD$23+5),4)))))))","v":0},{"$f":"IF($CC$2=0,0,IF($CF$23=0,0,IF(AND($CF$23=1,$CC$2>$CD$23),0,IF(AND($CF$23=1,$CC$2=$CD$23),2,IF(AND($CF$23=1,$CC$2=$CD$23-5),3,IF(AND($CF$23=1,$CC$2<$CD$23-5),4))))))","v":0}]
[null,null,null,null,null,null,null,null,null,null,null,null,"Manche 1",null,"Manche 1",null,null,null,null,null,null,null,null,"Manche 1",null,"Manche 1",null,null,null,null,null,null,null,null,"Manche 1",null,"Manche 1",null,null,null,null,null,null,null,null,null,null,null,null,null,null,null,null,null,null,null,"Manche 1",null,"Manche 1",null,null,null,null,null,null,null,null,"Manche 1",null,"Manche 1",null,null,null,null,null,null,null,null,"Manche 1",null,"Manche 1"]
[null,null,null,null,null,null,null,null,null,null,null,null,{"$f":"calcules!$AC$20","v":"0"},{"$f":"calcules!$AD$20","v":"0"},{"$f":"IF($M$25>$N$25,1,0)","v":0},{"$f":"IF($M$25<$N$25,1,0)","v":0},null,null,null,null,null,null,null,{"$f":"calcules!$AG$20","v":"0"},{"$f":"calcules!$AH$20","v":"0"},{"$f":"IF($X$25>$Y$25,1,0)","v":0},{"$f":"IF($X$25<$Y$25,1,0)","v":0},null,null,null,null,null,null,null,{"$f":"calcules!$AK$20","v":"0"},{"$f":"calcules!$AL$20","v":"0"},{"$f":"IF($AI$25>$AJ$25,1,0)","v":0},{"$f":"IF($AI$25<$AJ$25,1,0)","v":0},null,null,null,null,null,null,null,null,null,null,null,null,null,null,null,null,null,null,{"$f":"calcules!$AS$20","v":"0"},{"$f":"calcules!$AT$20","v":"0"},{"$f":"IF($BE$25>$BF$25,1,0)","v":0},{"$f":"IF($BE$25<$BF$25,1,0)","v":0},null,null,null,null,null,null,null,{"$f":"calcules!$AW$20","v":"0"},{"$f":"calcules!$AX$20","v":"0"},{"$f":"IF($BP$25>$BQ$25,1,0)","v":0},{"$f":"IF($BP$25<$BQ$25,1,0)","v":0},null,null,null,null,null,null,null,{"$f":"calcules!$BA$20","v":"0"},{"$f":"calcules!$BB$20","v":"0"},{"$f":"IF($CA$25>$CB$25,1,0)","v":0},{"$f":"IF($CA$25<$CB$25,1,0)","v":0}]
[null,null,null,null,null,null,null,null,null,null,null,null,"Manche 2",null,"Manche 2",null,null,null,null,null,null,null,null,"Manche 2",null,"Manche 2",null,null,null,null,null,null,null,null,"Manche 2",null,"Manche 2",null,null,null,null,null,null,null,null,null,null,null,null,null,null,null,null,null,null,null,"Manche 2",null,"Manche 2",null,null,null,null,null,null,null,null,"Manche 2",null,"Manche 2",null,null,null,null,null,null,null,null,"Manche 2",null,"Manche 2"]
[null,null,null,null,null,null,null,null,null,null,null,null,{"$f":"calcules!$AC$22","v":"0"},{"$f":"calcules!$AD$22","v":"0"},{"$f":"IF($M$27>$N$27,1,0)","v":0},{"$f":"IF($M$27<$N$27,1,0)","v":0},null,null,null,null,null,null,null,{"$f":"calcules!$AG$22","v":"0"},{"$f":"calcules!$AH$22","v":"0"},{"$f":"IF($X$27>$Y$27,1,0)","v":0},{"$f":"IF($X$27<$Y$27,1,0)","v":0},null,null,null,null,null,null,null,{"$f":"calcules!$AK$22","v":"0"},{"$f":"calcules!$AL$22","v":"0"},{"$f":"IF($AI$27>$AJ$27,1,0)","v":0},{"$f":"IF($AI$27<$AJ$27,1,0)","v":0},null,null,null,null,null,null,null,null,null,null,null,null,null,null,null,null,null,null,{"$f":"calcules!$AS$22","v":"0"},{"$f":"calcules!$AT$22","v":"0"},{"$f":"IF($BE$27>$BF$27,1,0)","v":0},{"$f":"IF($BE$27<$BF$27,1,0)","v":0},null,null,null,null,null,null,null,{"$f":"calcules!$AW$22","v":"0"},{"$f":"calcules!$AX$22","v":"0"},{"$f":"IF($BP$27>$BQ$27,1,0)","v":0},{"$f":"IF($BP$27<$BQ$27,1,0)","v":0},null,null,null,null,null,null,null,{"$f":"calcules!$BA$22","v":"0"},{"$f":"calcules!$BB$22","v":"0"},{"$f":"IF($CA$27>$CB$27,1,0)","v":0},{"$f":"IF($CA$27<$CB$27,1,0)","v":0}]
[null,null,null,null,null,null,null,null,null,null,null,null,"Manche 3",null,"Manche 3",null,null,null,null,null,null,null,null,"Manche 3",null,"Manche 3",null,null,null,null,null,null,null,null,"Manche 3",null,"Manche 3",null,null,null,null,null,null,null,null,null,null,null,null,null,null,null,null,null,null,null,"Manche 3",null,"Manche 3",null,null,null,null,null,null,null,null,"Manche 3",null,"Manche 3",null,null,null,null,null,null,null,null,"Manche 3",null,"Manche 3"]
[null,null,null,null,null,null,null,null,null,null,null,null,{"$f":"calcules!$AC$24","v":"0"},{"$f":"calcules!$AD$24","v":"0"},{"$f":"IF($M$29>$N$29,1,0)","v":0},{"$f":"IF($M$29<$N$29,1,0)","v":0},null,null,null,null,null,null,null,{"$f":"calcules!$AG$24","v":"0"},{"$f":"calcules!$AH$24","v":"0"},{"$f":"IF($X$29>$Y$29,1,0)","v":0},{"$f":"IF($X$29<$Y$29,1,0)","v":0},null,null,null,null,null,null,null,{"$f":"calcules!$AK$24","v":"0"},{"$f":"calcules!$AL$24","v":"0"},{"$f":"IF($AI$29>$AJ$29,1,0)","v":0},{"$f":"IF($AI$29<$AJ$29,1,0)","v":0},null,null,null,null,null,null,null,null,null,null,null,null,null,null,null,null,null,null,{"$f":"calcules!$AS$24","v":"0"},{"$f":"calcules!$AT$24","v":"0"},{"$f":"IF($BE$29>$BF$29,1,0)","v":0},{"$f":"IF($BE$29<$BF$29,1,0)","v":0},null,null,null,null,null,null,null,{"$f":"calcules!$AW$24","v":"0"},{"$f":"calcules!$AX$24","v":"0"},{"$f":"IF($BP$29>$BQ$29,1,0)","v":0},{"$f":"IF($BP$29<$BQ$29,1,0)","v":0},null,null,null,null,null,null,null,{"$f":"calcules!$BA$24","v":"0"},{"$f":"calcules!$BB$24","v":"0"},{"$f":"IF($CA$29>$CB$29,1,0)","v":0},{"$f":"IF($CA$29<$CB$29,1,0)","v":0}]
[null,null,null,null,null,null,null,null,null,null,null,null,"Manche 4",null,"Manche 4",null,null,null,null,null,null,null,null,"Manche 4",null,"Manche 4",null,null,null,null,null,null,null,null,"Manche 4",null,"Manche 4",null,null,null,null,null,null,null,null,null,null,null,null,null,null,null,null,null,null,null,"Manche 4",null,"Manche 4",null,null,null,null,null,null,null,null,"Manche 4",null,"Manche 4",null,null,null,null,null,null,null,null,"Manche 4",null,"Manche 4"]
[null,null,null,null,null,null,null,null,null,null,null,null,{"$f":"calcules!$AC$26","v":"0"},{"$f":"calcules!$AD$26","v":"0"},{"$f":"IF($M$31>$N$31,1,0)","v":0},{"$f":"IF($M$31<$N$31,1,0)","v":0},null,null,null,null,null,null,null,{"$f":"calcules!$AG$26","v":"0"},{"$f":"calcules!$AH$26","v":"0"},{"$f":"IF($X$31>$Y$31,1,0)","v":0},{"$f":"IF($X$31<$Y$31,1,0)","v":0},null,null,null,null,null,null,null,{"$f":"calcules!$AK$26","v":"0"},{"$f":"calcules!$AL$26","v":"0"},{"$f":"IF($AI$31>$AJ$31,1,0)","v":0},{"$f":"IF($AI$31<$AJ$31,1,0)","v":0},null,null,null,null,null,null,null,null,null,null,null,null,null,null,null,null,null,null,{"$f":"calcules!$AS$26","v":"0"},{"$f":"calcules!$AT$26","v":"0"},{"$f":"IF($BE$31>$BF$31,1,0)","v":0},{"$f":"IF($BE$31<$BF$31,1,0)","v":0},null,null,null,null,null,null,null,{"$f":"calcules!$AW$26","v":"0"},{"$f":"calcules!$AX$26","v":"0"},{"$f":"IF($BP$31>$BQ$31,1,0)","v":0},{"$f":"IF($BP$31<$BQ$31,1,0)","v":0},null,null,null,null,null,null,null,{"$f":"calcules!$BA$26","v":"0"},{"$f":"calcules!$BB$26","v":"0"},{"$f":"IF($CA$31>$CB$31,1,0)","v":0},{"$f":"IF($CA$31<$CB$31,1,0)","v":0}]
[null,null,null,null,null,null,null,null,null,null,null,null,"Manche 5",null,"Manche 5",null,null,null,null,null,null,null,null,"Manche 5",null,"Manche 5",null,null,null,null,null,null,null,null,"Manche 5",null,"Manche 5",null,null,null,null,null,null,null,null,null,null,null,null,null,null,null,null,null,null,null,"Manche 5",null,"Manche 5",null,null,null,null,null,null,null,null,"Manche 5",null,"Manche 5",null,null,null,null,null,null,null,null,"Manche 5",null,"Manche 5"]
[null,null,null,null,null,null,null,null,null,null,null,null,{"$f":"calcules!$AC$28","v":"0"},{"$f":"calcules!$AD$28","v":"0"},{"$f":"IF($M$33>$N$33,1,0)","v":0},{"$f":"IF($M$33<$N$33,1,0)","v":0},null,null,null,null,null,null,null,{"$f":"calcules!$AG$28","v":"0"},{"$f":"calcules!$AH$28","v":"0"},{"$f":"IF($X$33>$Y$33,1,0)","v":0},{"$f":"IF($X$33<$Y$33,1,0)","v":0},null,null,null,null,null,null,null,{"$f":"calcules!$AK$28","v":"0"},{"$f":"calcules!$AL$28","v":"0"},{"$f":"IF($AI$33>$AJ$33,1,0)","v":0},{"$f":"IF($AI$33<$AJ$33,1,0)","v":0},null,null,null,null,null,null,null,null,null,null,null,null,null,null,null,null,null,null,{"$f":"calcules!$AS$28","v":"0"},{"$f":"calcules!$AT$28","v":"0"},{"$f":"IF($BE$33>$BF$33,1,0)","v":0},{"$f":"IF($BE$33<$BF$33,1,0)","v":0},null,null,null,null,null,null,null,{"$f":"calcules!$AW$28","v":"0"},{"$f":"calcules!$AX$28","v":"0"},{"$f":"IF($BP$33>$BQ$33,1,0)","v":0},{"$f":"IF($BP$33<$BQ$33,1,0)","v":0},null,null,null,null,null,null,null,{"$f":"calcules!$BA$28","v":"0"},{"$f":"calcules!$BB$28","v":"0"},{"$f":"IF($CA$33>$CB$33,1,0)","v":0},{"$f":"IF($CA$33<$CB$33,1,0)","v":0}]
[null,null,null,null,null,null,null,null,null,null,null,null,"Manche 6",null,"Manche 6",null,null,null,null,null,null,null,null,"Manche 6",null,"Manche 6",null,null,null,null,null,null,null,null,"Manche 6",null,"Manche 6",null,null,null,null,null,null,null,null,null,null,null,null,null,null,null,null,null,null,null,"Manche 6",null,"Manche 6",null,null,null,null,null,null,null,null,"Manche 6",null,"Manche 6",null,null,null,null,null,null,null,null,"Manche 6",null,"Manche 6"]
[null,null,null,null,null,null,null,null,null,null,null,null,{"$f":"calcules!$AC$30","v":"0"},{"$f":"calcules!$AD$30","v":"0"},{"$f":"IF($M$35>$N$35,1,0)","v":0},{"$f":"IF($M$35<$N$35,1,0)","v":0},null,null,null,null,null,null,null,{"$f":"calcules!$AG$30","v":"0"},{"$f":"calcules!$AH$30","v":"0"},{"$f":"IF($X$35>$Y$35,1,0)","v":0},{"$f":"IF($X$35<$Y$35,1,0)","v":0},null,null,null,null,null,null,null,{"$f":"calcules!$AK$30","v":"0"},{"$f":"calcules!$AL$30","v":"0"},{"$f":"IF($AI$35>$AJ$35,1,0)","v":0},{"$f":"IF($AI$35<$AJ$35,1,0)","v":0},null,null,null,null,null,null,null,null,null,null,null,null,null,null,null,null,null,null,{"$f":"calcules!$AS$30","v":"0"},{"$f":"calcules!$AT$30","v":"0"},{"$f":"IF($BE$35>$BF$35,1,0)","v":0},{"$f":"IF($BE$35<$BF$35,1,0)","v":0},null,null,null,null,null,null,null,{"$f":"calcules!$AW$30","v":"0"},{"$f":"calcules!$AX$30","v":"0"},{"$f":"IF($BP$35>$BQ$35,1,0)","v":0},{"$f":"IF($BP$35<$BQ$35,1,0)","v":0},null,null,null,null,null,null,null,{"$f":"calcules!$BA$30","v":"0"},{"$f":"calcules!$BB$30","v":"0"},{"$f":"IF($CA$35>$CB$35,1,0)","v":0},{"$f":"IF($CA$35<$CB$35,1,0)","v":0}]
[null,null,null,null,null,null,null,null,null,null,null,null,"Manche 7",null,"Manche 7",null,null,null,null,null,null,null,null,"Manche 7",null,"Manche 7",null,null,null,null,null,null,null,null,"Manche 7",null,"Manche 7",null,null,null,null,null,null,null,null,null,null,null,null,null,null,null,null,null,null,null,"Manche 7",null,"Manche 7",null,null,null,null,null,null,null,null,"Manche 7",null,"Manche 7",null,null,null,null,null,null,null,null,"Manche 7",null,"Manche 7"]
[null,null,null,null,null,null,null,null,null,null,null,null,{"$f":"calcules!$AC$32","v":"0"},{"$f":"calcules!$AD$32","v":"0"},{"$f":"IF($M$37>$N$37,1,0)","v":0},{"$f":"IF($M$37<$N$37,1,0)","v":0},null,null,null,null,null,null,null,{"$f":"calcules!$AG$32","v":"0"},{"$f":"calcules!$AH$32","v":"0"},{"$f":"IF($X$37>$Y$37,1,0)","v":0},{"$f":"IF($X$37<$Y$37,1,0)","v":0},null,null,null,null,null,null,null,{"$f":"calcules!$AK$32","v":"0"},{"$f":"calcules!$AL$32","v":"0"},{"$f":"IF($AI$37>$AJ$37,1,0)","v":0},{"$f":"IF($AI$37<$AJ$37,1,0)","v":0},null,null,null,null,null,null,null,null,null,null,null,null,null,null,null,null,null,null,{"$f":"calcules!$AS$32","v":"0"},{"$f":"calcules!$AT$32","v":"0"},{"$f":"IF($BE$37>$BF$37,1,0)","v":0},{"$f":"IF($BE$37<$BF$37,1,0)","v":0},null,null,null,null,null,null,null,{"$f":"calcules!$AW$32","v":"0"},{"$f":"calcules!$AX$32","v":"0"},{"$f":"IF($BP$37>$BQ$37,1,0)","v":0},{"$f":"IF($BP$37<$BQ$37,1,0)","v":0},null,null,null,null,null,null,null,{"$f":"calcules!$BA$32","v":"0"},{"$f":"calcules!$BB$32","v":"0"},{"$f":"IF($CA$37>$CB$37,1,0)","v":0},{"$f":"IF($CA$37<$CB$37,1,0)","v":0}]
[null,null,null,null,null,null,null,null,null,null,null,null,"Total points Match 2",null,"Totale manches Match 2",null,null,null,null,null,null,null,null,"Total points Match 2",null,"Totale manches Match 2",null,null,null,null,null,null,null,null,"Total points Match 2",null,"Totale manches Match 2",null,null,null,null,null,null,null,null,null,null,null,null,null,null,null,null,null,null,null,"Total points Match 2",null,"Totale manches Match 2",null,null,null,null,null,null,null,null,"Total points Match 2",null,"Totale manches Match 2",null,null,null,null,null,null,null,null,"Total points Match 2",null,"Totale manches Match 2"]
[null,null,null,null,null,null,null,null,null,null,null,null,{"$f":"SUM($M$25+$M$27+$M$29+$M$31+$M$33+$M$35+$M$37)","v":0},{"$f":"SUM($N$25+$N$27+$N$29+$N$31+$N$33+$N$35+$N$37)","v":0},{"$f":"SUM($O$25+$O$27+$O$29+$O$31+$O$33+$O$35+$O$37)","v":0},{"$f":"SUM($P$25+$P$27+$P$29+$P$31+$P$33+$P$35+$P$37)","v":0},null,null,null,null,null,null,null,{"$f":"SUM($X$25+$X$27+$X$29+$X$31+$X$33+$X$35+$X$37)","v":0},{"$f":"SUM($Y$25+$Y$27+$Y$29+$Y$31+$Y$33+$Y$35+$Y$37)","v":0},{"$f":"$Z$25+$Z$27+$Z$29+$Z$31+$Z$33+$Z$35+$Z$37","v":0},{"$f":"$AA$25+$AA$27+$AA$29+$AA$31+$AA$33+$AA$35+$AA$37","v":0},null,null,null,null,null,null,null,{"$f":"SUM($AI$25+$AI$27+$AI$29+$AI$31+$AI$33+$AI$35+$AI$37)","v":0},{"$f":"SUM($AJ$25+$AJ$27+$AJ$29+$AJ$31+$AJ$33+$AJ$35+$AJ$37)","v":0},{"$f":"$AK$25+$AK$27+$AK$29+$AK$31+$AK$33+$AK$35+$AK$37","v":0},{"$f":"$AL$25+$AL$27+$AL$29+$AL$31+$AL$33+$AL$35+$AL$37","v":0},null,null,null,null,null,null,null,null,null,null,null,null,null,null,null,null,null,null,{"$f":"SUM($BE$25+$BE$27+$BE$29+$BE$31+$BE$33+$BE$35+$BE$37)","v":0},{"$f":"SUM($BF$25+$BF$27+$BF$29+$BF$31+$BF$33+$BF$35+$BF$37)","v":0},{"$f":"$BG$25+$BG$27+$BG$29+$BG$31+$BG$33+$BG$35+$BG$37","v":0},{"$f":"$BH$25+$BH$27+$BH$29+$BH$31+$BH$33+$BH$35+$BH$37","v":0},null,null,null,null,null,null,null,{"$f":"SUM($BP$25+$BP$27+$BP$29+$BP$31+$BP$33+$BP$35+$BP$37)","v":0},{"$f":"SUM($BQ$25+$BQ$27+$BQ$29+$BQ$31+$BQ$33+$BQ$35+$BQ$37)","v":0},{"$f":"$BR$25+$BR$27+$BR$29+$BR$31+$BR$33+$BR$35+$BR$37","v":0},{"$f":"$BS$25+$BS$27+$BS$29+$BS$31+$BS$33+$BS$35+$BS$37","v":0},null,null,null,null,null,null,null,{"$f":"SUM($CA$25+$CA$27+$CA$29+$CA$31+$CA$33+$CA$35+$CA$37)","v":0},{"$f":"SUM($CB$25+$CB$27+$CB$29+$CB$31+$CB$33+$CB$35+$CB$37)","v":0},{"$f":"$CC$25+$CC$27+$CC$29+$CC$31+$CC$33+$CC$35+$CC$37","v":0},{"$f":"$CD$25+$CD$27+$CD$29+$CD$31+$CD$33+$CD$35+$CD$37","v":0}]
[]
[null,null,null,null,null,null,null,null,null,null,null,null,"Match 3 contre",{"$f":"IF(OR('Feuille de match'!$K$5=\"EXCELLENCE\",'Feuille de match'!$K$5=\"HONNEUR\",'Feuille de match'!$K$5=\"PROMOTIONNORD\",'Feuille de match'!$K$5=\"ADULTESDIVISION1NORD\",'Feuille de match'!$K$5=\"PROMOTIONSTRASBOURG\",'Feuille de match'!$K$5=\"PROMOTIONFINALE\"),'Feuille de match'!$U$11,IF(OR('Feuille de match'!$K$5=\"MIXTESD1NORD\",'Feuille de match'!$K$5=\"MIXTESD1STRASBOURG\",'Feuille de match'!$K$5=\"VETERANSD1STRASBOURG\",'Feuille de match'!$K$5=\"VETERANSD2STRASBOURG\",'Feuille de match'!$K$5=\"VETERANSD1NORD\",'Feuille de match'!$K$5=\"VETERANSD2NORD\",'Feuille de match'!$K$5=\"JUNIORS\",'Feuille de match'!$K$5=\"CADETS\",'Feuille de match'!$K$5=\"MINIMESBENJAMINSPOUSSINS\",'Feuille de match'!$K$5=\"MIXTESD1FINALE\",'Feuille de match'!$K$5=\"VETERANSD1FINALE\",'Feuille de match'!$K$5=\"VETERANSD2FINALE\",'Feuille de match'!$K$5=\"JUNIORSFINALE\",'Feuille de match'!$K$5=\"CADETSFINALE\",'Feuille de match'!$K$5=\"MINIMESBENJAMINSPOUSSINSFINALE\"),\"\",\"\"))","v":""},{"$f":"IF(OR('Feuille de match'!$K$5=\"EXCELLENCE\",'Feuille de match'!$K$5=\"HONNEUR\",'Feuille de match'!$K$5=\"PROMOTIONNORD\",'Feuille de match'!$K$5=\"ADULTESDIVISION1NORD\",'Feuille de match'!$K$5=\"PROMOTIONSTRASBOURG\",'Feuille de match'!$K$5=\"PROMOTIONFINALE\"),'Feuille de match'!$O$11,IF(OR('Feuille de match'!$K$5=\"MIXTESD1NORD\",'Feuille de match'!$K$5=\"MIXTESD1STRASBOURG\",'Feuille de match'!$K$5=\"VETERANSD1STRASBOURG\",'Feuille de match'!$K$5=\"VETERANSD2STRASBOURG\",'Feuille de match'!$K$5=\"VETERANSD1NORD\",'Feuille de match'!$K$5=\"VETERANSD2NORD\",'Feuille de match'!$K$5=\"JUNIORS\",'Feuille de match'!$K$5=\"CADETS\",'Feuille de match'!$K$5=\"MINIMESBENJAMINSPOUSSINS\",'Feuille de match'!$K$5=\"MIXTESD1FINALE\",'Feuille de match'!$K$5=\"VETERANSD1FINALE\",'Feuille de match'!$K$5=\"VETERANSD2FINALE\",'Feuille de match'!$K$5=\"JUNIORSFINALE\",'Feuille de match'!$K$5=\"CADETSFINALE\",'Feuille de match'!$K$5=\"MINIMESBENJAMINSPOUSSINSFINALE\"),\"\",\"\"))","v":""},{"$f":"IF(OR('Feuille de match'!$K$5=\"EXCELLENCE\",'Feuille de match'!$K$5=\"HONNEUR\",'Feuille de match'!$K$5=\"PROMOTIONNORD\",'Feuille de match'!$K$5=\"ADULTESDIVISION1NORD\",'Feuille de match'!$K$5=\"PROMOTIONSTRASBOURG\",'Feuille de match'!$K$5=\"PROMOTIONFINALE\"),'Feuille de match'!$W$11,IF(OR('Feuille de match'!$K$5=\"MIXTESD1NORD\",'Feuille de match'!$K$5=\"MIXTESD1STRASBOURG\",'Feuille de match'!$K$5=\"VETERANSD1STRASBOURG\",'Feuille de match'!$K$5=\"VETERANSD2STRASBOURG\",'Feuille de match'!$K$5=\"VETERANSD1NORD\",'Feuille de match'!$K$5=\"VETERANSD2NORD\",'Feuille de match'!$K$5=\"JUNIORS\",'Feuille de match'!$K$5=\"CADETS\",'Feuille de match'!$K$5=\"MINIMESBENJAMINSPOUSSINS\",'Feuille de match'!$K$5=\"MIXTESD1FINALE\",'Feuille de match'!$K$5=\"VETERANSD1FINALE\",'Feuille de match'!$K$5=\"VETERANSD2FINALE\",'Feuille de match'!$K$5=\"JUNIORSFINALE\",'Feuille de match'!$K$5=\"CADETSFINALE\",'Feuille de match'!$K$5=\"MINIMESBENJAMINSPOUSSINSFINALE\"),\"\",\"\"))","v":""},{"$f":"IF($O$57>$P$57,1,0)","v":0},{"$f":"IF($O$57<$P$57,1,0)","v":0},{"$f":"IF($Q$41=0,0,IF(AND($Q$41=1,$O$2>$P$41),1,0))","v":0},{"$f":"IF($R$41=0,0,IF(AND($R$41=1,$O$2<$P$41),1,0))","v":0},{"$f":"IF($O$2=0,0,IF($Q$41=0,0,IF(AND($Q$41=1,$O$2<$P$41-5),0,IF(AND($Q$41=1,$O$2=$P$41-5),1,IF(AND($Q$41=1,$O$2=$P$41),2,IF(AND($Q$41=1,$O$2=$P$41+5),3,IF(AND($Q$41=1,$O$2>$P$41+5),4)))))))","v":0},{"$f":"IF($O$2=0,0,IF($R$41=0,0,IF(AND($R$41=1,$O$2>$P$41),0,IF(AND($R$41=1,$O$2=$P$41),2,IF(AND($R$41=1,$O$2=$P$41-5),3,IF(AND($R$41=1,$O$2<$P$41-5),4))))))","v":0},null,"Match 3 contre",{"$f":"IF(OR('Feuille de match'!$K$5=\"EXCELLENCE\",'Feuille de match'!$K$5=\"HONNEUR\",'Feuille de match'!$K$5=\"PROMOTIONNORD\",'Feuille de match'!$K$5=\"ADULTESDIVISION1NORD\",'Feuille de match'!$K$5=\"PROMOTIONSTRASBOURG\",'Feuille de match'!$K$5=\"PROMOTIONFINALE\"),'Feuille de match'!$U$12,IF(OR('Feuille de match'!$K$5=\"MIXTESD1NORD\",'Feuille de match'!$K$5=\"MIXTESD1STRASBOURG\",'Feuille de match'!$K$5=\"VETERANSD1STRASBOURG\",'Feuille de match'!$K$5=\"VETERANSD2STRASBOURG\",'Feuille de match'!$K$5=\"VETERANSD1NORD\",'Feuille de match'!$K$5=\"VETERANSD2NORD\",'Feuille de match'!$K$5=\"JUNIORS\",'Feuille de match'!$K$5=\"CADETS\",'Feuille de match'!$K$5=\"MINIMESBENJAMINSPOUSSINS\",'Feuille de match'!$K$5=\"MIXTESD1FINALE\",'Feuille de match'!$K$5=\"VETERANSD1FINALE\",'Feuille de match'!$K$5=\"VETERANSD2FINALE\",'Feuille de match'!$K$5=\"JUNIORSFINALE\",'Feuille de match'!$K$5=\"CADETSFINALE\",'Feuille de match'!$K$5=\"MINIMESBENJAMINSPOUSSINSFINALE\"),\"\",\"\"))","v":""},{"$f":"IF(OR('Feuille de match'!$K$5=\"EXCELLENCE\",'Feuille de match'!$K$5=\"HONNEUR\",'Feuille de match'!$K$5=\"PROMOTIONNORD\",'Feuille de match'!$K$5=\"ADULTESDIVISION1NORD\",'Feuille de match'!$K$5=\"PROMOTIONSTRASBOURG\",'Feuille de match'!$K$5=\"PROMOTIONFINALE\"),'Feuille de match'!$O$12,IF(OR('Feuille de match'!$K$5=\"MIXTESD1NORD\",'Feuille de match'!$K$5=\"MIXTESD1STRASBOURG\",'Feuille de match'!$K$5=\"VETERANSD1STRASBOURG\",'Feuille de match'!$K$5=\"VETERANSD2STRASBOURG\",'Feuille de match'!$K$5=\"VETERANSD1NORD\",'Feuille de match'!$K$5=\"VETERANSD2NORD\",'Feuille de match'!$K$5=\"JUNIORS\",'Feuille de match'!$K$5=\"CADETS\",'Feuille de match'!$K$5=\"MINIMESBENJAMINSPOUSSINS\",'Feuille de match'!$K$5=\"MIXTESD1FINALE\",'Feuille de match'!$K$5=\"VETERANSD1FINALE\",'Feuille de match'!$K$5=\"VETERANSD2FINALE\",'Feuille de match'!$K$5=\"JUNIORSFINALE\",'Feuille de match'!$K$5=\"CADETSFINALE\",'Feuille de match'!$K$5=\"MINIMESBENJAMINSPOUSSINSFINALE\"),\"\",\"\"))","v":""},{"$f":"IF(OR('Feuille de match'!$K$5=\"EXCELLENCE\",'Feuille de match'!$K$5=\"HONNEUR\",'Feuille de match'!$K$5=\"PROMOTIONNORD\",'Feuille de match'!$K$5=\"ADULTESDIVISION1NORD\",'Feuille de match'!$K$5=\"PROMOTIONSTRASBOURG\",'Feuille de match'!$K$5=\"PROMOTIONFINALE\"),'Feuille de match'!$W$12,IF(OR('Feuille de match'!$K$5=\"MIXTESD1NORD\",'Feuille de match'!$K$5=\"MIXTESD1STRASBOURG\",'Feuille de match'!$K$5=\"VETERANSD1STRASBOURG\",'Feuille de match'!$K$5=\"VETERANSD2STRASBOURG\",'Feuille de match'!$K$5=\"VETERANSD1NORD\",'Feuille de match'!$K$5=\"VETERANSD2NORD\",'Feuille de match'!$K$5=\"JUNIORS\",'Feuille de match'!$K$5=\"CADETS\",'Feuille de match'!$K$5=\"MINIMESBENJAMINSPOUSSINS\",'Feuille de match'!$K$5=\"MIXTESD1FINALE\",'Feuille de match'!$K$5=\"VETERANSD1FINALE\",'Feuille de match'!$K$5=\"VETERANSD2FINALE\",'Feuille de match'!$K$5=\"JUNIORSFINALE\",'Feuille de match'!$K$5=\"CADETSFINALE\",'Feuille de match'!$K$5=\"MINIMESBENJAMINSPOUSSINSFINALE\"),\"\",\"\"))","v":""},{"$f":"IF($Z$57>$AA$57,1,0)","v":0},{"$f":"IF($Z$57<$AA$57,1,0)","v":0},{"$f":"IF($AB$41=0,0,IF(AND($AB$41=1,$Z$2>$AA$41),1,0))","v":0},{"$f":"IF($AC$41=0,0,IF(AND($AC$41=1,$Z$2<$AA$41),1,0))","v":0},{"$f":"IF($Z$2=0,0,IF($AB$41=0,0,IF(AND($AB$41=1,$Z$2<$AA$41-5),0,IF(AND($AB$41=1,$Z$2=$AA$41-5),1,IF(AND($AB$41=1,$Z$2=$AA$41),2,IF(AND($AB$41=1,$Z$2=$AA$41+5),3,IF(AND($AB$41=1,$Z$2>$AA$41+5),4)))))))","v":0},{"$f":"IF($Z$2=0,0,IF($AC$41=0,0,IF(AND($AC$41=1,$Z$2>$AA$41),0,IF(AND($AC$41=1,$Z$2=$AA$41),2,IF(AND($AC$41=1,$Z$2=$AA$41-5),3,IF(AND($AC$41=1,$Z$2<$AA$41-5),4))))))","v":0},null,"Match 3 contre",{"$f":"IF(OR('Feuille de match'!$K$5=\"EXCELLENCE\",'Feuille de match'!$K$5=\"HONNEUR\",'Feuille de match'!$K$5=\"PROMOTIONNORD\",'Feuille de match'!$K$5=\"ADULTESDIVISION1NORD\",'Feuille de match'!$K$5=\"PROMOTIONSTRASBOURG\",'Feuille de match'!$K$5=\"PROMOTIONFINALE\"),'Feuille de match'!$U$10,IF(OR('Feuille de match'!$K$5=\"MIXTESD1NORD\",'Feuille de match'!$K$5=\"MIXTESD1STRASBOURG\",'Feuille de match'!$K$5=\"VETERANSD1STRASBOURG\",'Feuille de match'!$K$5=\"VETERANSD2STRASBOURG\",'Feuille de match'!$K$5=\"VETERANSD1NORD\",'Feuille de match'!$K$5=\"VETERANSD2NORD\",'Feuille de match'!$K$5=\"JUNIORS\",'Feuille de match'!$K$5=\"CADETS\",'Feuille de match'!$K$5=\"MINIMESBENJAMINSPOUSSINS\",'Feuille de match'!$K$5=\"MIXTESD1FINALE\",'Feuille de match'!$K$5=\"VETERANSD1FINALE\",'Feuille de match'!$K$5=\"VETERANSD2FINALE\",'Feuille de match'!$K$5=\"JUNIORSFINALE\",'Feuille de match'!$K$5=\"CADETSFINALE\",'Feuille de match'!$K$5=\"MINIMESBENJAMINSPOUSSINSFINALE\"),\"\",\"\"))","v":""},{"$f":"IF(OR('Feuille de match'!$K$5=\"EXCELLENCE\",'Feuille de match'!$K$5=\"HONNEUR\",'Feuille de match'!$K$5=\"PROMOTIONNORD\",'Feuille de match'!$K$5=\"ADULTESDIVISION1NORD\",'Feuille de match'!$K$5=\"PROMOTIONSTRASBOURG\",'Feuille de match'!$K$5=\"PROMOTIONFINALE\"),'Feuille de match'!$O$10,IF(OR('Feuille de match'!$K$5=\"MIXTESD1NORD\",'Feuille de match'!$K$5=\"MIXTESD1STRASBOURG\",'Feuille de match'!$K$5=\"VETERANSD1STRASBOURG\",'Feuille de match'!$K$5=\"VETERANSD2STRASBOURG\",'Feuille de match'!$K$5=\"VETERANSD1NORD\",'Feuille de match'!$K$5=\"VETERANSD2NORD\",'Feuille de match'!$K$5=\"JUNIORS\",'Feuille de match'!$K$5=\"CADETS\",'Feuille de match'!$K$5=\"MINIMESBENJAMINSPOUSSINS\",'Feuille de match'!$K$5=\"MIXTESD1FINALE\",'Feuille de match'!$K$5=\"VETERANSD1FINALE\",'Feuille de match'!$K$5=\"VETERANSD2FINALE\",'Feuille de match'!$K$5=\"JUNIORSFINALE\",'Feuille de match'!$K$5=\"CADETSFINALE\",'Feuille de match'!$K$5=\"MINIMESBENJAMINSPOUSSINSFINALE\"),\"\",\"\"))","v":""},{"$f":"IF(OR('Feuille de match'!$K$5=\"EXCELLENCE\",'Feuille de match'!$K$5=\"HONNEUR\",'Feuille de match'!$K$5=\"PROMOTIONNORD\",'Feuille de match'!$K$5=\"ADULTESDIVISION1NORD\",'Feuille de match'!$K$5=\"PROMOTIONSTRASBOURG\",'Feuille de match'!$K$5=\"PROMOTIONFINALE\"),'Feuille de match'!$W$10,IF(OR('Feuille de match'!$K$5=\"MIXTESD1NORD\",'Feuille de match'!$K$5=\"MIXTESD1STRASBOURG\",'Feuille de match'!$K$5=\"VETERANSD1STRASBOURG\",'Feuille de match'!$K$5=\"VETERANSD2STRASBOURG\",'Feuille de match'!$K$5=\"VETERANSD1NORD\",'Feuille de match'!$K$5=\"VETERANSD2NORD\",'Feuille de match'!$K$5=\"JUNIORS\",'Feuille de match'!$K$5=\"CADETS\",'Feuille de match'!$K$5=\"MINIMESBENJAMINSPOUSSINS\",'Feuille de match'!$K$5=\"MIXTESD1FINALE\",'Feuille de match'!$K$5=\"VETERANSD1FINALE\",'Feuille de match'!$K$5=\"VETERANSD2FINALE\",'Feuille de match'!$K$5=\"JUNIORSFINALE\",'Feuille de match'!$K$5=\"CADETSFINALE\",'Feuille de match'!$K$5=\"MINIMESBENJAMINSPOUSSINSFINALE\"),\"\",\"\"))","v":""},{"$f":"IF($AK$57>$AL$57,1,0)","v":0},{"$f":"IF($AK$57<$AL$57,1,0)","v":0},{"$f":"IF($AM$41=0,0,IF(AND($AM$41=1,$AK$2>$AL$41),1,0))","v":0},{"$f":"IF($AN$41=0,0,IF(AND($AN$41=1,$AK$2<$AL$41),1,0))","v":0},{"$f":"IF($AK$2=0,0,IF($AM$41=0,0,IF(AND($AM$41=1,$AK$2<$AL$41-5),0,IF(AND($AM$41=1,$AK$2=$AL$41-5),1,IF(AND($AM$41=1,$AK$2=$AL$41),2,IF(AND($AM$41=1,$AK$2=$AL$41+5),3,IF(AND($AM$41=1,$AK$2>$AL$41+5),4)))))))","v":0},{"$f":"IF($AK$2=0,0,IF($AN$41=0,0,IF(AND($AN$41=1,$AK$2>$AL$41),0,IF(AND($AN$41=1,$AK$2=$AL$41),2,IF(AND($AN$41=1,$AK$2=$AL$41-5),3,IF(AND($AN$41=1,$AK$2<$AL$41-5),4))))))","v":0},null,null,null,null,null,null,null,null,null,null,null,null,"Match 3 contre",{"$f":"IF(OR('Feuille de match'!$K$5=\"EXCELLENCE\",'Feuille de match'!$K$5=\"HONNEUR\",'Feuille de match'!$K$5=\"PROMOTIONNORD\",'Feuille de match'!$K$5=\"ADULTESDIVISION1NORD\",'Feuille de match'!$K$5=\"PROMOTIONSTRASBOURG\",'Feuille de match'!$K$5=\"PROMOTIONFINALE\"),'Feuille de match'!$J$12,IF(OR('Feuille de match'!$K$5=\"MIXTESD1NORD\",'Feuille de match'!$K$5=\"MIXTESD1STRASBOURG\",'Feuille de match'!$K$5=\"VETERANSD1STRASBOURG\",'Feuille de match'!$K$5=\"VETERANSD2STRASBOURG\",'Feuille de match'!$K$5=\"VETERANSD1NORD\",'Feuille de match'!$K$5=\"VETERANSD2NORD\",'Feuille de match'!$K$5=\"JUNIORS\",'Feuille de match'!$K$5=\"CADETS\",'Feuille de match'!$K$5=\"MINIMESBENJAMINSPOUSSINS\",'Feuille de match'!$K$5=\"MIXTESD1FINALE\",'Feuille de match'!$K$5=\"VETERANSD1FINALE\",'Feuille de match'!$K$5=\"VETERANSD2FINALE\",'Feuille de match'!$K$5=\"JUNIORSFINALE\",'Feuille de match'!$K$5=\"CADETSFINALE\",'Feuille de match'!$K$5=\"MINIMESBENJAMINSPOUSSINSFINALE\"),\"\",\"\"))","v":""},{"$f":"IF(OR('Feuille de match'!$K$5=\"EXCELLENCE\",'Feuille de match'!$K$5=\"HONNEUR\",'Feuille de match'!$K$5=\"PROMOTIONNORD\",'Feuille de match'!$K$5=\"ADULTESDIVISION1NORD\",'Feuille de match'!$K$5=\"PROMOTIONSTRASBOURG\",'Feuille de match'!$K$5=\"PROMOTIONFINALE\"),'Feuille de match'!$D$12,IF(OR('Feuille de match'!$K$5=\"MIXTESD1NORD\",'Feuille de match'!$K$5=\"MIXTESD1STRASBOURG\",'Feuille de match'!$K$5=\"VETERANSD1STRASBOURG\",'Feuille de match'!$K$5=\"VETERANSD2STRASBOURG\",'Feuille de match'!$K$5=\"VETERANSD1NORD\",'Feuille de match'!$K$5=\"VETERANSD2NORD\",'Feuille de match'!$K$5=\"JUNIORS\",'Feuille de match'!$K$5=\"CADETS\",'Feuille de match'!$K$5=\"MINIMESBENJAMINSPOUSSINS\",'Feuille de match'!$K$5=\"MIXTESD1FINALE\",'Feuille de match'!$K$5=\"VETERANSD1FINALE\",'Feuille de match'!$K$5=\"VETERANSD2FINALE\",'Feuille de match'!$K$5=\"JUNIORSFINALE\",'Feuille de match'!$K$5=\"CADETSFINALE\",'Feuille de match'!$K$5=\"MINIMESBENJAMINSPOUSSINSFINALE\"),\"\",\"\"))","v":""},{"$f":"IF(OR('Feuille de match'!$K$5=\"EXCELLENCE\",'Feuille de match'!$K$5=\"HONNEUR\",'Feuille de match'!$K$5=\"PROMOTIONNORD\",'Feuille de match'!$K$5=\"ADULTESDIVISION1NORD\",'Feuille de match'!$K$5=\"PROMOTIONSTRASBOURG\",'Feuille de match'!$K$5=\"PROMOTIONFINALE\"),'Feuille de match'!$K$12,IF(OR('Feuille de match'!$K$5=\"MIXTESD1NORD\",'Feuille de match'!$K$5=\"MIXTESD1STRASBOURG\",'Feuille de match'!$K$5=\"VETERANSD1STRASBOURG\",'Feuille de match'!$K$5=\"VETERANSD2STRASBOURG\",'Feuille de match'!$K$5=\"VETERANSD1NORD\",'Feuille de match'!$K$5=\"VETERANSD2NORD\",'Feuille de match'!$K$5=\"JUNIORS\",'Feuille de match'!$K$5=\"CADETS\",'Feuille de match'!$K$5=\"MINIMESBENJAMINSPOUSSINS\",'Feuille de match'!$K$5=\"MIXTESD1FINALE\",'Feuille de match'!$K$5=\"VETERANSD1FINALE\",'Feuille de match'!$K$5=\"VETERANSD2FINALE\",'Feuille de match'!$K$5=\"JUNIORSFINALE\",'Feuille de match'!$K$5=\"CADETSFINALE\",'Feuille de match'!$K$5=\"MINIMESBENJAMINSPOUSSINSFINALE\"),\"\",\"\"))","v":""},{"$f":"IF($BG$57>$BH$57,1,0)","v":0},{"$f":"IF($BG$57<$BH$57,1,0)","v":0},{"$f":"IF($BI$41=0,0,IF(AND($BI$41=1,$BG$2>$BH$41),1,0))","v":0},{"$f":"IF($BJ$41=0,0,IF(AND($BJ$41=1,$BG$2<$BH$41),1,0))","v":0},{"$f":"IF($BG$2=0,0,IF($BI$41=0,0,IF(AND($BI$41=1,$BG$2<$BH$41-5),0,IF(AND($BI$41=1,$BG$2=$BH$41-5),1,IF(AND($BI$41=1,$BG$2=$BH$41),2,IF(AND($BI$41=1,$BG$2=$BH$41+5),3,IF(AND($BI$41=1,$BG$2>$BH$41+5),4)))))))","v":0},{"$f":"IF($BG$2=0,0,IF($BJ$41=0,0,IF(AND($BJ$41=1,$BG$2>$BH$41),0,IF(AND($BJ$41=1,$BG$2=$BH$41),2,IF(AND($BJ$41=1,$BG$2=$BH$41-5),3,IF(AND($BJ$41=1,$BG$2<$BH$41-5),4))))))","v":0},null,"Match 3 contre",{"$f":"IF(OR('Feuille de match'!$K$5=\"EXCELLENCE\",'Feuille de match'!$K$5=\"HONNEUR\",'Feuille de match'!$K$5=\"PROMOTIONNORD\",'Feuille de match'!$K$5=\"ADULTESDIVISION1NORD\",'Feuille de match'!$K$5=\"PROMOTIONSTRASBOURG\",'Feuille de match'!$K$5=\"PROMOTIONFINALE\"),'Feuille de match'!$J$10,IF(OR('Feuille de match'!$K$5=\"MIXTESD1NORD\",'Feuille de match'!$K$5=\"MIXTESD1STRASBOURG\",'Feuille de match'!$K$5=\"VETERANSD1STRASBOURG\",'Feuille de match'!$K$5=\"VETERANSD2STRASBOURG\",'Feuille de match'!$K$5=\"VETERANSD1NORD\",'Feuille de match'!$K$5=\"VETERANSD2NORD\",'Feuille de match'!$K$5=\"JUNIORS\",'Feuille de match'!$K$5=\"CADETS\",'Feuille de match'!$K$5=\"MINIMESBENJAMINSPOUSSINS\",'Feuille de match'!$K$5=\"MIXTESD1FINALE\",'Feuille de match'!$K$5=\"VETERANSD1FINALE\",'Feuille de match'!$K$5=\"VETERANSD2FINALE\",'Feuille de match'!$K$5=\"JUNIORSFINALE\",'Feuille de match'!$K$5=\"CADETSFINALE\",'Feuille de match'!$K$5=\"MINIMESBENJAMINSPOUSSINSFINALE\"),\"\",\"\"))","v":""},{"$f":"IF(OR('Feuille de match'!$K$5=\"EXCELLENCE\",'Feuille de match'!$K$5=\"HONNEUR\",'Feuille de match'!$K$5=\"PROMOTIONNORD\",'Feuille de match'!$K$5=\"ADULTESDIVISION1NORD\",'Feuille de match'!$K$5=\"PROMOTIONSTRASBOURG\",'Feuille de match'!$K$5=\"PROMOTIONFINALE\"),'Feuille de match'!$D$10,IF(OR('Feuille de match'!$K$5=\"MIXTESD1NORD\",'Feuille de match'!$K$5=\"MIXTESD1STRASBOURG\",'Feuille de match'!$K$5=\"VETERANSD1STRASBOURG\",'Feuille de match'!$K$5=\"VETERANSD2STRASBOURG\",'Feuille de match'!$K$5=\"VETERANSD1NORD\",'Feuille de match'!$K$5=\"VETERANSD2NORD\",'Feuille de match'!$K$5=\"JUNIORS\",'Feuille de match'!$K$5=\"CADETS\",'Feuille de match'!$K$5=\"MINIMESBENJAMINSPOUSSINS\",'Feuille de match'!$K$5=\"MIXTESD1FINALE\",'Feuille de match'!$K$5=\"VETERANSD1FINALE\",'Feuille de match'!$K$5=\"VETERANSD2FINALE\",'Feuille de match'!$K$5=\"JUNIORSFINALE\",'Feuille de match'!$K$5=\"CADETSFINALE\",'Feuille de match'!$K$5=\"MINIMESBENJAMINSPOUSSINSFINALE\"),\"\",\"\"))","v":""},{"$f":"IF(OR('Feuille de match'!$K$5=\"EXCELLENCE\",'Feuille de match'!$K$5=\"HONNEUR\",'Feuille de match'!$K$5=\"PROMOTIONNORD\",'Feuille de match'!$K$5=\"ADULTESDIVISION1NORD\",'Feuille de match'!$K$5=\"PROMOTIONSTRASBOURG\",'Feuille de match'!$K$5=\"PROMOTIONFINALE\"),'Feuille de match'!$K$10,IF(OR('Feuille de match'!$K$5=\"MIXTESD1NORD\",'Feuille de match'!$K$5=\"MIXTESD1STRASBOURG\",'Feuille de match'!$K$5=\"VETERANSD1STRASBOURG\",'Feuille de match'!$K$5=\"VETERANSD2STRASBOURG\",'Feuille de match'!$K$5=\"VETERANSD1NORD\",'Feuille de match'!$K$5=\"VETERANSD2NORD\",'Feuille de match'!$K$5=\"JUNIORS\",'Feuille de match'!$K$5=\"CADETS\",'Feuille de match'!$K$5=\"MINIMESBENJAMINSPOUSSINS\",'Feuille de match'!$K$5=\"MIXTESD1FINALE\",'Feuille de match'!$K$5=\"VETERANSD1FINALE\",'Feuille de match'!$K$5=\"VETERANSD2FINALE\",'Feuille de match'!$K$5=\"JUNIORSFINALE\",'Feuille de match'!$K$5=\"CADETSFINALE\",'Feuille de match'!$K$5=\"MINIMESBENJAMINSPOUSSINSFINALE\"),\"\",\"\"))","v":""},{"$f":"IF($BR$57>$BS$57,1,0)","v":0},{"$f":"IF($BR$57<$BS$57,1,0)","v":0},{"$f":"IF($BT$41=0,0,IF(AND($BT$41=1,$BR$2>$BS$41),1,0))","v":0},{"$f":"IF($BU$41=0,0,IF(AND($BU$41=1,$BR$2<$BS$41),1,0))","v":0},{"$f":"IF($BR$2=0,0,IF($BT$41=0,0,IF(AND($BT$41=1,$BR$2<$BS$41-5),0,IF(AND($BT$41=1,$BR$2=$BS$41-5),1,IF(AND($BT$41=1,$BR$2=$BS$41),2,IF(AND($BT$41=1,$BR$2=$BS$41+5),3,IF(AND($BT$41=1,$BR$2>$BS$41+5),4)))))))","v":0},{"$f":"IF($BR$2=0,0,IF($BU$41=0,0,IF(AND($BU$41=1,$BR$2>$BS$41),0,IF(AND($BU$41=1,$BR$2=$BS$41),2,IF(AND($BU$41=1,$BR$2=$BS$41-5),3,IF(AND($BU$41=1,$BR$2<$BS$41-5),4))))))","v":0},null,"Match 3 contre",{"$f":"IF(OR('Feuille de match'!$K$5=\"EXCELLENCE\",'Feuille de match'!$K$5=\"HONNEUR\",'Feuille de match'!$K$5=\"PROMOTIONNORD\",'Feuille de match'!$K$5=\"ADULTESDIVISION1NORD\",'Feuille de match'!$K$5=\"PROMOTIONSTRASBOURG\",'Feuille de match'!$K$5=\"PROMOTIONFINALE\"),'Feuille de match'!$J$11,IF(OR('Feuille de match'!$K$5=\"MIXTESD1NORD\",'Feuille de match'!$K$5=\"MIXTESD1STRASBOURG\",'Feuille de match'!$K$5=\"VETERANSD1STRASBOURG\",'Feuille de match'!$K$5=\"VETERANSD2STRASBOURG\",'Feuille de match'!$K$5=\"VETERANSD1NORD\",'Feuille de match'!$K$5=\"VETERANSD2NORD\",'Feuille de match'!$K$5=\"JUNIORS\",'Feuille de match'!$K$5=\"CADETS\",'Feuille de match'!$K$5=\"MINIMESBENJAMINSPOUSSINS\",'Feuille de match'!$K$5=\"MIXTESD1FINALE\",'Feuille de match'!$K$5=\"VETERANSD1FINALE\",'Feuille de match'!$K$5=\"VETERANSD2FINALE\",'Feuille de match'!$K$5=\"JUNIORSFINALE\",'Feuille de match'!$K$5=\"CADETSFINALE\",'Feuille de match'!$K$5=\"MINIMESBENJAMINSPOUSSINSFINALE\"),\"\",\"\"))","v":""},{"$f":"IF(OR('Feuille de match'!$K$5=\"EXCELLENCE\",'Feuille de match'!$K$5=\"HONNEUR\",'Feuille de match'!$K$5=\"PROMOTIONNORD\",'Feuille de match'!$K$5=\"ADULTESDIVISION1NORD\",'Feuille de match'!$K$5=\"PROMOTIONSTRASBOURG\",'Feuille de match'!$K$5=\"PROMOTIONFINALE\"),'Feuille de match'!$D$11,IF(OR('Feuille de match'!$K$5=\"MIXTESD1NORD\",'Feuille de match'!$K$5=\"MIXTESD1STRASBOURG\",'Feuille de match'!$K$5=\"VETERANSD1STRASBOURG\",'Feuille de match'!$K$5=\"VETERANSD2STRASBOURG\",'Feuille de match'!$K$5=\"VETERANSD1NORD\",'Feuille de match'!$K$5=\"VETERANSD2NORD\",'Feuille de match'!$K$5=\"JUNIORS\",'Feuille de match'!$K$5=\"CADETS\",'Feuille de match'!$K$5=\"MINIMESBENJAMINSPOUSSINS\",'Feuille de match'!$K$5=\"MIXTESD1FINALE\",'Feuille de match'!$K$5=\"VETERANSD1FINALE\",'Feuille de match'!$K$5=\"VETERANSD2FINALE\",'Feuille de match'!$K$5=\"JUNIORSFINALE\",'Feuille de match'!$K$5=\"CADETSFINALE\",'Feuille de match'!$K$5=\"MINIMESBENJAMINSPOUSSINSFINALE\"),\"\",\"\"))","v":""},{"$f":"IF(OR('Feuille de match'!$K$5=\"EXCELLENCE\",'Feuille de match'!$K$5=\"HONNEUR\",'Feuille de match'!$K$5=\"PROMOTIONNORD\",'Feuille de match'!$K$5=\"ADULTESDIVISION1NORD\",'Feuille de match'!$K$5=\"PROMOTIONSTRASBOURG\",'Feuille de match'!$K$5=\"PROMOTIONFINALE\"),'Feuille de match'!$K$11,IF(OR('Feuille de match'!$K$5=\"MIXTESD1NORD\",'Feuille de match'!$K$5=\"MIXTESD1STRASBOURG\",'Feuille de match'!$K$5=\"VETERANSD1STRASBOURG\",'Feuille de match'!$K$5=\"VETERANSD2STRASBOURG\",'Feuille de match'!$K$5=\"VETERANSD1NORD\",'Feuille de match'!$K$5=\"VETERANSD2NORD\",'Feuille de match'!$K$5=\"JUNIORS\",'Feuille de match'!$K$5=\"CADETS\",'Feuille de match'!$K$5=\"MINIMESBENJAMINSPOUSSINS\",'Feuille de match'!$K$5=\"MIXTESD1FINALE\",'Feuille de match'!$K$5=\"VETERANSD1FINALE\",'Feuille de match'!$K$5=\"VETERANSD2FINALE\",'Feuille de match'!$K$5=\"JUNIORSFINALE\",'Feuille de match'!$K$5=\"CADETSFINALE\",'Feuille de match'!$K$5=\"MINIMESBENJAMINSPOUSSINSFINALE\"),\"\",\"\"))","v":""},{"$f":"IF($CC$57>$CD$57,1,0)","v":0},{"$f":"IF($CC$57<$CD$57,1,0)","v":0},{"$f":"IF($CE$41=0,0,IF(AND($CE$41=1,$CC$2>$CD$41),1,0))","v":0},{"$f":"IF($CF$41=0,0,IF(AND($CF$41=1,$CC$2<$CD$41),1,0))","v":0},{"$f":"IF($CC$2=0,0,IF($CE$41=0,0,IF(AND($CE$41=1,$CC$2<$CD$41-5),0,IF(AND($CE$41=1,$CC$2=$CD$41-5),1,IF(AND($CE$41=1,$CC$2=$CD$41),2,IF(AND($CE$41=1,$CC$2=$CD$41+5),3,IF(AND($CE$41=1,$CC$2>$CD$41+5),4)))))))","v":0},{"$f":"IF($CC$2=0,0,IF($CF$41=0,0,IF(AND($CF$41=1,$CC$2>$CD$41),0,IF(AND($CF$41=1,$CC$2=$CD$41),2,IF(AND($CF$41=1,$CC$2=$CD$41-5),3,IF(AND($CF$41=1,$CC$2<$CD$41-5),4))))))","v":0}]
[null,null,null,null,null,null,null,null,null,null,null,null,"Manche 1",null,"Manche 1",null,null,null,null,null,null,null,null,"Manche 1",null,"Manche 1",null,null,null,null,null,null,null,null,"Manche 1",null,"Manche 1",null,null,null,null,null,null,null,null,null,null,null,null,null,null,null,null,null,null,null,"Manche 1",null,"Manche 1",null,null,null,null,null,null,null,null,"Manche 1",null,"Manche 1",null,null,null,null,null,null,null,null,"Manche 1",null,"Manche 1"]
[null,null,null,null,null,null,null,null,null,null,null,null,{"$f":"calcules!$AC$36","v":"0"},{"$f":"calcules!$AD$36","v":"0"},{"$f":"IF($M$43>$N$43,1,0)","v":0},{"$f":"IF($M$43<$N$43,1,0)","v":0},null,null,null,null,null,"  ",null,{"$f":"calcules!$AG$36","v":"0"},{"$f":"calcules!$AH$36","v":"0"},{"$f":"IF($X$43>$Y$43,1,0)","v":0},{"$f":"IF($X$43<$Y$43,1,0)","v":0},null,null,null,null,null,"  ",null,{"$f":"calcules!$AK$36","v":"0"},{"$f":"calcules!$AL$36","v":"0"},{"$f":"IF($AI$43>$AJ$43,1,0)","v":0},{"$f":"IF($AI$43<$AJ$43,1,0)","v":0},null,null,null,null,null,"  ",null,null,null,null,null,null,null,null,null,null,null,null,{"$f":"calcules!$AS$36","v":"0"},{"$f":"calcules!$AT$36","v":"0"},{"$f":"IF($BE$43>$BF$43,1,0)","v":0},{"$f":"IF($BE$43<$BF$43,1,0)","v":0},null,null,null,null,null,"  ",null,{"$f":"calcules!$AW$36","v":"0"},{"$f":"calcules!$AX$36","v":"0"},{"$f":"IF($BP$43>$BQ$43,1,0)","v":0},{"$f":"IF($BP$43<$BQ$43,1,0)","v":0},null,null,null,null,null,"  ",null,{"$f":"calcules!$BA$36","v":"0"},{"$f":"calcules!$BB$36","v":"0"},{"$f":"IF($CA$43>$CB$43,1,0)","v":0},{"$f":"IF($CA$43<$CB$43,1,0)","v":0},null,null,null,null,null,"  "]
[null,null,null,null,null,null,null,null,null,null,null,null,"Manche 2",null,"Manche 2",null,null,null,null,null,null,null,null,"Manche 2",null,"Manche 2",null,null,null,null,null,null,null,null,"Manche 2",null,"Manche 2",null,null,null,null,null,null,null,null,null,null,null,null,null,null,null,null,null,null,null,"Manche 2",null,"Manche 2",null,null,null,null,null,null,null,null,"Manche 2",null,"Manche 2",null,null,null,null,null,null,null,null,"Manche 2",null,"Manche 2"]
[null,null,null,null,null,null,null,null,null,null,null,null,{"$f":"calcules!$AC$38","v":"0"},{"$f":"calcules!$AD$38","v":"0"},{"$f":"IF($M$45>$N$45,1,0)","v":0},{"$f":"IF($M$45<$N$45,1,0)","v":0},null,null,null,null,null,null,null,{"$f":"calcules!$AG$38","v":"0"},{"$f":"calcules!$AH$38","v":"0"},{"$f":"IF($X$45>$Y$45,1,0)","v":0},{"$f":"IF($X$45<$Y$45,1,0)","v":0},null,null,null,null,null,null,null,{"$f":"calcules!$AK$38","v":"0"},{"$f":"calcules!$AL$38","v":"0"},{"$f":"IF($AI$45>$AJ$45,1,0)","v":0},{"$f":"IF($AI$45<$AJ$45,1,0)","v":0},null,null,null,null,null,null,null,null,null,null,null,null,null,null,null,null,null,null,{"$f":"calcules!$AS$38","v":"0"},{"$f":"calcules!$AT$38","v":"0"},{"$f":"IF($BE$45>$BF$45,1,0)","v":0},{"$f":"IF($BE$45<$BF$45,1,0)","v":0},null,null,null,null,null,null,null,{"$f":"calcules!$AW$38","v":"0"},{"$f":"calcules!$AX$38","v":"0"},{"$f":"IF($BP$45>$BQ$45,1,0)","v":0},{"$f":"IF($BP$45<$BQ$45,1,0)","v":0},null,null,null,null,null,null,null,{"$f":"calcules!$BA$38","v":"0"},{"$f":"calcules!$BB$38","v":"0"},{"$f":"IF($CA$45>$CB$45,1,0)","v":0},{"$f":"IF($CA$45<$CB$45,1,0)","v":0}]
[null,null,null,null,null,null,null,null,null,null,null,null,"Manche 3",null,"Manche 3",null,null,null,null,null,null,null,null,"Manche 3",null,"Manche 3",null,null,null,null,null,null,null,null,"Manche 3",null,"Manche 3",null,null,null,null,null,null,null,null,null,null,null,null,null,null,null,null,null,null,null,"Manche 3",null,"Manche 3",null,null,null,null,null,null,null,null,"Manche 3",null,"Manche 3",null,null,null,null,null,null,null,null,"Manche 3",null,"Manche 3"]
[null,null,null,null,null,null,null,null,null,null,null,null,{"$f":"calcules!$AC$40","v":"0"},{"$f":"calcules!$AD$40","v":"0"},{"$f":"IF($M$47>$N$47,1,0)","v":0},{"$f":"IF($M$47<$N$47,1,0)","v":0},null,null,null,null,null,null,null,{"$f":"calcules!$AG$40","v":"0"},{"$f":"calcules!$AH$40","v":"0"},{"$f":"IF($X$47>$Y$47,1,0)","v":0},{"$f":"IF($X$47<$Y$47,1,0)","v":0},null,null,null,null,null,null,null,{"$f":"calcules!$AK$40","v":"0"},{"$f":"calcules!$AL$40","v":"0"},{"$f":"IF($AI$47>$AJ$47,1,0)","v":0},{"$f":"IF($AI$47<$AJ$47,1,0)","v":0},null,null,null,null,null,null,null,null,null,null,null,null,null,null,null,null,null,null,{"$f":"calcules!$AS$40","v":"0"},{"$f":"calcules!$AT$40","v":"0"},{"$f":"IF($BE$47>$BF$47,1,0)","v":0},{"$f":"IF($BE$47<$BF$47,1,0)","v":0},null,null,null,null,null,null,null,{"$f":"calcules!$AW$40","v":"0"},{"$f":"calcules!$AX$40","v":"0"},{"$f":"IF($BP$47>$BQ$47,1,0)","v":0},{"$f":"IF($BP$47<$BQ$47,1,0)","v":0},null,null,null,null,null,null,null,{"$f":"calcules!$BA$40","v":"0"},{"$f":"calcules!$BB$40","v":"0"},{"$f":"IF($CA$47>$CB$47,1,0)","v":0},{"$f":"IF($CA$47<$CB$47,1,0)","v":0}]
[null,null,null,null,null,null,null,null,null,null,null,null,"Manche 4",null,"Manche 4",null,null,null,null,null,null,null,null,"Manche 4",null,"Manche 4",null,null,null,null,null,null,null,null,"Manche 4",null,"Manche 4",null,null,null,null,null,null,null,null,null,null,null,null,null,null,null,null,null,null,null,"Manche 4",null,"Manche 4",null,null,null,null,null,null,null,null,"Manche 4",null,"Manche 4",null,null,null,null,null,null,null,null,"Manche 4",null,"Manche 4"]
[null,null,null,null,null,null,null,null,null,null,null,null,{"$f":"calcules!$AC$42","v":"0"},{"$f":"calcules!$AD$42","v":"0"},{"$f":"IF($M$49>$N$49,1,0)","v":0},{"$f":"IF($M$49<$N$49,1,0)","v":0},null,null,null,null,null,null,null,{"$f":"calcules!$AG$42","v":"0"},{"$f":"calcules!$AH$42","v":"0"},{"$f":"IF($X$49>$Y$49,1,0)","v":0},{"$f":"IF($X$49<$Y$49,1,0)","v":0},null,null,null,null,null,null,null,{"$f":"calcules!$AK$42","v":"0"},{"$f":"calcules!$AL$42","v":"0"},{"$f":"IF($AI$49>$AJ$49,1,0)","v":0},{"$f":"IF($AI$49<$AJ$49,1,0)","v":0},null,null,null,null,null,null,null,null,null,null,null,null,null,null,null,null,null,null,{"$f":"calcules!$AS$42","v":"0"},{"$f":"calcules!$AT$42","v":"0"},{"$f":"IF($BE$49>$BF$49,1,0)","v":0},{"$f":"IF($BE$49<$BF$49,1,0)","v":0},null,null,null,null,null,null,null,{"$f":"calcules!$AW$42","v":"0"},{"$f":"calcules!$AX$42","v":"0"},{"$f":"IF($BP$49>$BQ$49,1,0)","v":0},{"$f":"IF($BP$49<$BQ$49,1,0)","v":0},null,null,null,null,null,null,null,{"$f":"calcules!$BA$42","v":"0"},{"$f":"calcules!$BB$42","v":"0"},{"$f":"IF($CA$49>$CB$49,1,0)","v":0},{"$f":"IF($CA$49<$CB$49,1,0)","v":0}]
[null,null,null,null,null,null,null,null,null,null,null,null,"Manche 5",null,"Manche 5",null,null,null,null,null,null,null,null,"Manche 5",null,"Manche 5",null,null,null,null,null,null,null,null,"Manche 5",null,"Manche 5",null,null,null,null,null,null,null,null,null,null,null,null,null,null,null,null,null,null,null,"Manche 5",null,"Manche 5",null,null,null,null,null,null,null,null,"Manche 5",null,"Manche 5",null,null,null,null,null,null,null,null,"Manche 5",null,"Manche 5"]
[null,null,null,null,null,null,null,null,null,null,null,null,{"$f":"calcules!$AC$44","v":"0"},{"$f":"calcules!$AD$44","v":"0"},{"$f":"IF($M$51>$N$51,1,0)","v":0},{"$f":"IF($M$51<$N$51,1,0)","v":0},null,null,null,null,null,null,null,{"$f":"calcules!$AG$44","v":"0"},{"$f":"calcules!$AH$44","v":"0"},{"$f":"IF($X$51>$Y$51,1,0)","v":0},{"$f":"IF($X$51<$Y$51,1,0)","v":0},null,null,null,null,null,null,null,{"$f":"calcules!$AK$44","v":"0"},{"$f":"calcules!$AL$44","v":"0"},{"$f":"IF($AI$51>$AJ$51,1,0)","v":0},{"$f":"IF($AI$51<$AJ$51,1,0)","v":0},null,null,null,null,null,null,null,null,null,null,null,null,null,null,null,null,null,null,{"$f":"calcules!$AS$44","v":"0"},{"$f":"calcules!$AT$44","v":"0"},{"$f":"IF($BE$51>$BF$51,1,0)","v":0},{"$f":"IF($BE$51<$BF$51,1,0)","v":0},null,null,null,null,null,null,null,{"$f":"calcules!$AW$44","v":"0"},{"$f":"calcules!$AX$44","v":"0"},{"$f":"IF($BP$51>$BQ$51,1,0)","v":0},{"$f":"IF($BP$51<$BQ$51,1,0)","v":0},null,null,null,null,null,null,null,{"$f":"calcules!$BA$44","v":"0"},{"$f":"calcules!$BB$44","v":"0"},{"$f":"IF($CA$51>$CB$51,1,0)","v":0},{"$f":"IF($CA$51<$CB$51,1,0)","v":0}]
[null,null,null,null,null,null,null,null,null,null,null,null,"Manche 6",null,"Manche 6",null,null,null,null,null,null,null,null,"Manche 6",null,"Manche 6",null,null,null,null,null,null,null,null,"Manche 6",null,"Manche 6",null,null,null,null,null,null,null,null,null,null,null,null,null,null,null,null,null,null,null,"Manche 6",null,"Manche 6",null,null,null,null,null,null,null,null,"Manche 6",null,"Manche 6",null,null,null,null,null,null,null,null,"Manche 6",null,"Manche 6"]
[null,null,null,null,null,null,null,null,null,null,null,null,{"$f":"calcules!$AC$46","v":"0"},{"$f":"calcules!$AD$46","v":"0"},{"$f":"IF($M$53>$N$53,1,0)","v":0},{"$f":"IF($M$53<$N$53,1,0)","v":0},null,null,null,null,null,null,null,{"$f":"calcules!$AG$46","v":"0"},{"$f":"calcules!$AH$46","v":"0"},{"$f":"IF($X$53>$Y$53,1,0)","v":0},{"$f":"IF($X$53<$Y$53,1,0)","v":0},null,null,null,null,null,null,null,{"$f":"calcules!$AK$46","v":"0"},{"$f":"calcules!$AL$46","v":"0"},{"$f":"IF($AI$53>$AJ$53,1,0)","v":0},{"$f":"IF($AI$53<$AJ$53,1,0)","v":0},null,null,null,null,null,null,null,null,null,null,null,null,null,null,null,null,null,null,{"$f":"calcules!$AS$46","v":"0"},{"$f":"calcules!$AT$46","v":"0"},{"$f":"IF($BE$53>$BF$53,1,0)","v":0},{"$f":"IF($BE$53<$BF$53,1,0)","v":0},null,null,null,null,null,null,null,{"$f":"calcules!$AW$46","v":"0"},{"$f":"calcules!$AX$46","v":"0"},{"$f":"IF($BP$53>$BQ$53,1,0)","v":0},{"$f":"IF($BP$53<$BQ$53,1,0)","v":0},null,null,null,null,null,null,null,{"$f":"calcules!$BA$46","v":"0"},{"$f":"calcules!$BB$46","v":"0"},{"$f":"IF($CA$53>$CB$53,1,0)","v":0},{"$f":"IF($CA$53<$CB$53,1,0)","v":0}]
[null,null,null,null,null,null,null,null,null,null,null,null,"Manche 7",null,"Manche 7",null,null,null,null,null,null,null,null,"Manche 7",null,"Manche 7",null,null,null,null,null,null,null,null,"Manche 7",null,"Manche 7",null,null,null,null,null,null,null,null,null,null,null,null,null,null,null,null,null,null,null,"Manche 7",null,"Manche 7",null,null,null,null,null,null,null,null,"Manche 7",null,"Manche 7",null,null,null,null,null,null,null,null,"Manche 7",null,"Manche 7"]
[null,null,null,null,null,null,null,null,null,null,null,null,{"$f":"calcules!$AC$48","v":"0"},{"$f":"calcules!$AD$48","v":"0"},{"$f":"IF($M$55>$N$55,1,0)","v":0},{"$f":"IF($M$55<$N$55,1,0)","v":0},null,null,null,null,null,null,null,{"$f":"calcules!$AG$48","v":"0"},{"$f":"calcules!$AH$48","v":"0"},{"$f":"IF($X$55>$Y$55,1,0)","v":0},{"$f":"IF($X$55<$Y$55,1,0)","v":0},null,null,null,null,null,null,null,{"$f":"calcules!$AK$48","v":"0"},{"$f":"calcules!$AL$48","v":"0"},{"$f":"IF($AI$55>$AJ$55,1,0)","v":0},{"$f":"IF($AI$55<$AJ$55,1,0)","v":0},null,null,null,null,null,null,null,null,null,null,null,null,null,null,null,null,null,null,{"$f":"calcules!$AS$48","v":"0"},{"$f":"calcules!$AT$48","v":"0"},{"$f":"IF($BE$55>$BF$55,1,0)","v":0},{"$f":"IF($M$55<$BF$55,1,0)","v":0},null,null,null,null,null,null,null,{"$f":"calcules!$AW$48","v":"0"},{"$f":"calcules!$AX$48","v":"0"},{"$f":"IF($BP$55>$BQ$55,1,0)","v":0},{"$f":"IF($BP$55<$BQ$55,1,0)","v":0},null,null,null,null,null,null,null,{"$f":"calcules!$BA$48","v":"0"},{"$f":"calcules!$BB$48","v":"0"},{"$f":"IF($CA$55>$CB$55,1,0)","v":0},{"$f":"IF($CA$55<$CB$55,1,0)","v":0}]
[null,null,null,null,null,null,null,null,null,null,null,null,"total points Match 3",null,"Total manches Match 3",null,null,null,null,null,null,null,null,"total points Match 3",null,"Total manches Match 3",null,null,null,null,null,null,null,null,"total points Match 3",null,"Total manches Match 3",null,null,null,null,null,null,null,null,null,null,null,null,null,null,null,null,null,null,null,"total points Match 3",null,"Total manches Match 3",null,null,null,null,null,null,null,null,"total points Match 3",null,"Total manches Match 3",null,null,null,null,null,null,null,null,"total points Match 3",null,"Total manches Match 3"]
[null,null,null,null,null,null,null,null,null,null,null,null,{"$f":"SUM($M$43+$M$45+$M$47+$M$49+$M$51+$M$53+$M$55)","v":0},{"$f":"SUM($N$43+$N$45+$N$47+$N$49+$N$51+$N$53+$N$55)","v":0},{"$f":"SUM($O$43+$O$45+$O$47+$O$49+$O$51+$O$53+$O$55)","v":0},{"$f":"SUM($P$43+$P$45+$P$47+$P$49+$P$51+$P$53+$P$55)","v":0},null,null,null,null,null,null,null,{"$f":"SUM($X$43+$X$45+$X$47+$X$49+$X$51+$X$53+$X$55)","v":0},{"$f":"SUM($Y$43+$Y$45+$Y$47+$Y$49+$Y$51+$Y$53+$Y$55)","v":0},{"$f":"$Z$43+$Z$45+$Z$47+$Z$49+$Z$51+$Z$53+$Z$55","v":0},{"$f":"$AA$43+$AA$45+$AA$47+$AA$49+$AA$51+$AA$53+$AA$55","v":0},null,null,null,null,null,null,null,{"$f":"SUM($AI$43+$AI$45+$AI$47+$AI$49+$AI$51+$AI$53+$AI$55)","v":0},{"$f":"SUM($AJ$43+$AJ$45+$AJ$47+$AJ$49+$AJ$51+$AJ$53+$AJ$55)","v":0},{"$f":"$AK$43+$AK$45+$AK$47+$AK$49+$AK$51+$AK$53+$AK$55","v":0},{"$f":"$AL$43+$AL$45+$AL$47+$AL$49+$AL$51+$AL$53+$AL$55","v":0},null,null,null,null,null,null,null,null,null,null,null,null,null,null,null,null,null,null,{"$f":"SUM($BE$43+$BE$45+$BE$47+$BE$49+$BE$51+$BE$53+$BE$55)","v":0},{"$f":"SUM($BF$43+$BF$45+$BF$47+$BF$49+$BF$51+$BF$53+$BF$55)","v":0},{"$f":"$BG$43+$BG$45+$BG$47+$BG$49+$BG$51+$BG$53+$BG$55","v":0},{"$f":"$BH$43+$BH$45+$BH$47+$BH$49+$BH$51+$BH$53+$BH$55","v":0},null,null,null,null,null,null,null,{"$f":"SUM($BP$43+$BP$45+$BP$47+$BP$49+$BP$51+$BP$53+$BP$55)","v":0},{"$f":"SUM($BQ$43+$BQ$45+$BQ$47+$BQ$49+$BQ$51+$BQ$53+$BQ$55)","v":0},{"$f":"$BR$43+$BR$45+$BR$47+$BR$49+$BR$51+$BR$53+$BR$55","v":0},{"$f":"$BS$43+$BS$45+$BS$47+$BS$49+$BS$51+$BS$53+$BS$55","v":0},null,null,null,null,null,null,null,{"$f":"SUM($CA$43+$CA$45+$CA$47+$CA$49+$CA$51+$CA$53+$CA$55)","v":0},{"$f":"SUM($CB$43+$CB$45+$CB$47+$CB$49+$CB$51+$CB$53+$CB$55)","v":0},{"$f":"$CC$43+$CC$45+$CC$47+$CC$49+$CC$51+$CC$53+$CC$55","v":0},{"$f":"$CD$43+$CD$45+$CD$47+$CD$49+$CD$51+$CD$53+$CD$55","v":0}]

{"sheet":"Listedesmatchs","index":4,"n_rows":578,"n_cols":44,"rows_kept":578,"cut":false,"hidden":true,"merged":[]}
["Id","Equipe&Division","Division","Sect.","Club 1","Equipe 1","Club 2","Equipe 2","Journée","Date théor.","jour de semaine planifie","heure","journée","Score club 1","Score club 2","divisions","EQUIPES","Jour de match souhaité","Heure de match souhaité","Date de match","exporte score club 1","exporte score club 2","date théorique du match joué ET  compatibilité","rencontre jouée","semaine planifiée ISO 8601 Europe France","semaine Pair-Impair planifiée","semaine proposée par le club","semaine pair impaire proposée par le club","jour 1 a ne pas mettre","jour 2 a ne pas mettre","jour 3 a ne pas mettre","jour 4 a ne pas mettre","jour 5 a ne pas mettre","jour 6 a ne pas mettre","jour 7 a ne pas mettre","jour 8 a ne pas mettre","jour 9 a ne pas mettre","jour 10 a ne pas mettre","jour 11 a ne pas mettre","copier rencontre vers calndrier base","copie de equipe 1","copie de équipe2","equipe1","equipe2"]
[null,{"$f":"C2&E2","v":"EXCELLENCECP Zutzendorf 1"},"EXCELLENCE","NORDETSTRASBOURG","CP Zutzendorf 1",1,null,null,1,"2024-10-11",{"$f":"IF(J2=\"\",\"\",TEXT(J2,\"JJJJ\"))","v":"vendredi"},"20h00",{"$f":"I$1&\" \"&I2","v":"Journée 1"},{"$f":"IF(AND('resultats a exporter'!$CW$4=$I$2:$I$1100,'resultats a exporter'!$CX$4=$C$2:$C$1100,'resultats a exporter'!$CY$4=$E$2:$E$1100,'resultats a exporter'!$CZ$4=$G$2:$G$1100),'resultats a exporter'!$DA$4,\"\")","v":""},{"$f":"IF(AND('resultats a exporter'!$CW$4=$I$2:$I$1100,'resultats a exporter'!$CX$4=$C$2:$C$1100,'resultats a exporter'!$CY$4=$E$2:$E$1100,'resultats a exporter'!$CZ$4=$G$2:$G$1100),'resultats a exporter'!$DB$4,\"\")","v":""},"EXCELLENCE",null,{"$f":"IFERROR(VLOOKUP(B2,calcules!$DZ$3:$ED$94, 4, FALSE),\"\")","v":"Vendredi"},{"$f":"IFERROR(VLOOKUP(B2,calcules!$DZ$3:$ED$94, 5, FALSE),\"\")","v":"20H00"},{"$f":"IF(J2=\"\",\"\",$K2&\" \"&TEXT($J2,\"jj-mmm-aaaa\")&\", \"&$L2)","v":"vendredi 11-oct-2024, 20h00"},null,null,{"$f":"IF(AND(N2<>\"\",O2<>\"\"),T2,\"\")","v":""},{"$f":"IF(AND(N2<>\"\",O2<>\"\"),E2&\" - \"&G2,\"\")","v":""},{"$f":"INT(MOD(MOD(MOD(INT((J2+692501)/7),20871)*28+4383,146096),1461)/28+1)","v":41},{"$f":"IF(Y2=\"\",\"\", IF(ISEVEN(Y2),\"PAIR\",IF(ISODD(Y2),\"IMPAIR\")))","v":"IMPAIR"},{"$f":"IF(VLOOKUP(B2,calcules!$DZ$3:$EE$87, 6, FALSE)=\"\",\"\",VLOOKUP(B2,calcules!$DZ$3:$EE$87, 6, FALSE))","v":""},{"$f":"IF(AA2=\"\",\"\", IF(ISEVEN(AA2),\"PAIR\",IF(ISODD(AA2),\"IMPAIR\")))","v":""},{"$f":"IF(VLOOKUP(B2,calcules!$DZ$3:$EF$87, 7, FALSE)=\"\",\"\",VLOOKUP(B2,calcules!$DZ$3:$EF$87, 7, FALSE))","v":""},{"$f":"IF(VLOOKUP(B2,calcules!$DZ$3:$EG$87, 8, FALSE)=\"\",\"\",VLOOKUP(B2,calcules!$DZ$3:$EG$87, 8, FALSE))","v":""},{"$f":"IF(VLOOKUP(B2,calcules!$DZ$3:$EH$87, 9, FALSE)=\"\",\"\",VLOOKUP(B2,calcules!$DZ$3:$EH$87, 9, FALSE))","v":""},{"$f":"IF(VLOOKUP(B2,calcules!$DZ$3:$EI$87, 10, FALSE)=\"\",\"\",VLOOKUP(B2,calcules!$DZ$3:$EI$87, 10, FALSE))","v":""},{"$f":"IF(VLOOKUP(B2,calcules!$DZ$3:$EJ$87, 11, FALSE)=\"\",\"\",VLOOKUP(B2,calcules!$DZ$3:$EJ$87, 11, FALSE))","v":""},{"$f":"IF(VLOOKUP(B2,calcules!$DZ$3:$EK$87, 12, FALSE)=\"\",\"\",VLOOKUP(B2,calcules!$DZ$3:$EK$87, 12, FALSE))","v":""},{"$f":"IF(VLOOKUP(B2,calcules!$DZ$3:$EL$87, 13, FALSE)=\"\",\"\",VLOOKUP(B2,calcules!$DZ$3:$EL$87, 13, FALSE))","v":""},{"$f":"IF(VLOOKUP(B2,calcules!$DZ$3:$EM$87, 14, FALSE)=\"\",\"\",VLOOKUP(B2,calcules!$DZ$3:$EM$87, 14, FALSE))","v":""},{"$f":"IF(VLOOKUP(B2,calcules!$DZ$3:$EN$87, 15, FALSE)=\"\",\"\",VLOOKUP(B2,calcules!$DZ$3:$EN$87, 15, FALSE))","v":""},{"$f":"IF(VLOOKUP(B2,calcules!$DZ$3:$EO$87, 16, FALSE)=\"\",\"\",VLOOKUP(B2,calcules!$DZ$3:$EO$87, 16, FALSE))","v":""},{"$f":"IF(VLOOKUP(B2,calcules!$DZ$3:$EP$87,17, FALSE)=\"\",\"\",VLOOKUP(B2,calcules!$DZ$3:$EP$87, 17, FALSE))","v":""},null,null,null,{"$f":"IF(AND(N2<>\"\",O2<>\"\"),E2,\"\")","v":""},{"$f":"IF(AND(N2<>\"\",O2<>\"\"),G2,\"\")","v":""}]
[null,null,"EXCELLENCE","NORDETSTRASBOURG","CLTT Menchhoffen 1",1,"AS Electricité Strasbourg 1",1,1,"2024-10-11",{"$f":"IF(J3=\"\",\"\",TEXT(J3,\"JJJJ\"))","v":"vendredi"},"20h00",{"$f":"I$1&\" \"&I3","v":"Journée 1"},{"$f":"IF(AND('resultats a exporter'!$CW$4=$I$2:$I$1100,'resultats a exporter'!$CX$4=$C$2:$C$1100,'resultats a exporter'!$CY$4=$E$2:$E$1100,'resultats a exporter'!$CZ$4=$G$2:$G$1100),'resultats a exporter'!$DA$4,\"\")","v":""},{"$f":"IF(AND('resultats a exporter'!$CW$4=$I$2:$I$1100,'resultats a exporter'!$CX$4=$C$2:$C$1100,'resultats a exporter'!$CY$4=$E$2:$E$1100,'resultats a exporter'!$CZ$4=$G$2:$G$1100),'resultats a exporter'!$DB$4,\"\")","v":""},null,"Amitié Lingolsheim 1",null,null,{"$f":"IF(J3=\"\",\"\",$K3&\" \"&TEXT($J3,\"jj-mmm-aaaa\")&\", \"&$L3)","v":"vendredi 11-oct-2024, 20h00"},null,null,{"$f":"IF(AND(N3<>\"\",O3<>\"\"),T3,\"\")","v":""},{"$f":"IF(AND(N3<>\"\",O3<>\"\"),E3&\" - \"&G3,\"\")","v":""},null,null,null,null,null,null,null,null,null,null,null,null,null,null,null,null,null,null,{"$f":"IF(AND(N3<>\"\",O3<>\"\"),E3,\"\")","v":""},{"$f":"IF(AND(N3<>\"\",O3<>\"\"),G3,\"\")","v":""}]
[null,null,"EXCELLENCE","NORDETSTRASBOURG","CTT 77 Val de Moder 1",1,"Hanau TT 1",1,1,"2024-09-29","dimanche","09h00",{"$f":"I$1&\" \"&I4","v":"Journée 1"},{"$f":"IF(AND('resultats a exporter'!$CW$4=$I$2:$I$1100,'resultats a exporter'!$CX$4=$C$2:$C$1100,'resultats a exporter'!$CY$4=$E$2:$E$1100,'resultats a exporter'!$CZ$4=$G$2:$G$1100),'resultats a exporter'!$DA$4,\"\")","v":""},{"$f":"IF(AND('resultats a exporter'!$CW$4=$I$2:$I$1100,'resultats a exporter'!$CX$4=$C$2:$C$1100,'resultats a exporter'!$CY$4=$E$2:$E$1100,'resultats a exporter'!$CZ$4=$G$2:$G$1100),'resultats a exporter'!$DB$4,\"\")","v":""},null,"CP Zutzendorf 1",null,null,"dimanche 29-sept-2024, 09h00",null,null,"","",null,null,null,null,null,null,null,null,null,null,null,null,null,null,null,null,null,null,"",""]
[null,null,"EXCELLENCE","NORDETSTRASBOURG","CS Tricolore Saverne 1",1,"Amitié Lingolsheim 1",1,1,"2024-10-11","vendredi","20h30","Journée 1",{"$f":"IF(AND('resultats a exporter'!$CW$4=$I$2:$I$1100,'resultats a exporter'!$CX$4=$C$2:$C$1100,'resultats a exporter'!$CY$4=$E$2:$E$1100,'resultats a exporter'!$CZ$4=$G$2:$G$1100),'resultats a exporter'!$DA$4,\"\")","v":""},{"$f":"IF(AND('resultats a exporter'!$CW$4=$I$2:$I$1100,'resultats a exporter'!$CX$4=$C$2:$C$1100,'resultats a exporter'!$CY$4=$E$2:$E$1100,'resultats a exporter'!$CZ$4=$G$2:$G$1100),'resultats a exporter'!$DB$4,\"\")","v":""},null,"Hanau TT 1",null,null,"vendredi 11-oct-2024, 20h30",null,null,"","",null,null,null,null,null,null,null,null,null,null,null,null,null,null,null,null,null,null,"",""]
[null,null,"EXCELLENCE","NORDETSTRASBOURG","AS Electricité Strasbourg 1",1,"CP Zutzendorf 1",1,2,"2024-10-22","mardi","20h00","Journée 2",{"$f":"IF(AND('resultats a exporter'!$CW$4=$I$2:$I$1100,'resultats a exporter'!$CX$4=$C$2:$C$1100,'resultats a exporter'!$CY$4=$E$2:$E$1100,'resultats a exporter'!$CZ$4=$G$2:$G$1100),'resultats a exporter'!$DA$4,\"\")","v":""},{"$f":"IF(AND('resultats a exporter'!$CW$4=$I$2:$I$1100,'resultats a exporter'!$CX$4=$C$2:$C$1100,'resultats a exporter'!$CY$4=$E$2:$E$1100,'resultats a exporter'!$CZ$4=$G$2:$G$1100),'resultats a exporter'!$DB$4,\"\")","v":""},null,"CLTT Menchhoffen 1",null,null,"mardi 22-oct-2024, 20h00",null,null,"","",null,null,null,null,null,null,null,null,null,null,null,null,null,null,null,null,null,null,"",""]
[null,null,"EXCELLENCE","NORDETSTRASBOURG","Hanau TT 1",1,"CLTT Menchhoffen 1",1,2,"2024-10-25","vendredi","20h00","Journée 2",{"$f":"IF(AND('resultats a exporter'!$CW$4=$I$2:$I$1100,'resultats a exporter'!$CX$4=$C$2:$C$1100,'resultats a exporter'!$CY$4=$E$2:$E$1100,'resultats a exporter'!$CZ$4=$G$2:$G$1100),'resultats a exporter'!$DA$4,\"\")","v":""},{"$f":"IF(AND('resultats a exporter'!$CW$4=$I$2:$I$1100,'resultats a exporter'!$CX$4=$C$2:$C$1100,'resultats a exporter'!$CY$4=$E$2:$E$1100,'resultats a exporter'!$CZ$4=$G$2:$G$1100),'resultats a exporter'!$DB$4,\"\")","v":""},null,"CS Tricolore Saverne 1",null,null,"vendredi 25-oct-2024, 20h00",null,null,"","",null,null,null,null,null,null,null,null,null,null,null,null,null,null,null,null,null,null,"",""]
[null,null,"EXCELLENCE","NORDETSTRASBOURG","Amitié Lingolsheim 1",1,"CTT 77 Val de Moder 1",1,2,"2024-10-23","mercredi","20h00","Journée 2",{"$f":"IF(AND('resultats a exporter'!$CW$4=$I$2:$I$1100,'resultats a exporter'!$CX$4=$C$2:$C$1100,'resultats a exporter'!$CY$4=$E$2:$E$1100,'resultats a exporter'!$CZ$4=$G$2:$G$1100),'resultats a exporter'!$DA$4,\"\")","v":""},{"$f":"IF(AND('resultats a exporter'!$CW$4=$I$2:$I$1100,'resultats a exporter'!$CX$4=$C$2:$C$1100,'resultats a exporter'!$CY$4=$E$2:$E$1100,'resultats a exporter'!$CZ$4=$G$2:$G$1100),'resultats a exporter'!$DB$4,\"\")","v":""},null,"CTT 77 Val de Moder 1",null,null,"mercredi 23-oct-2024, 20h00",null,null,"","",null,null,null,null,null,null,null,null,null,null,null,null,null,null,null,null,null,null,"",""]
[null,null,"EXCELLENCE","NORDETSTRASBOURG",null,null,"CS Tricolore Saverne 1",1,2,null,"",null,"Journée 2",{"$f":"IF(AND('resultats a exporter'!$CW$4=$I$2:$I$1100,'resultats a exporter'!$CX$4=$C$2:$C$1100,'resultats a exporter'!$CY$4=$E$2:$E$1100,'resultats a exporter'!$CZ$4=$G$2:$G$1100),'resultats a exporter'!$DA$4,\"\")","v":""},{"$f":"IF(AND('resultats a exporter'!$CW$4=$I$2:$I$1100,'resultats a exporter'!$CX$4=$C$2:$C$1100,'resultats a exporter'!$CY$4=$E$2:$E$1100,'resultats a exporter'!$CZ$4=$G$2:$G$1100),'resultats a exporter'!$DB$4,\"\")","v":""},null,"AS Electricité Strasbourg 1",null,null,"",null,null,"","",null,null,null,null,null,null,null,null,null,null,null,null,null,null,null,null,null,null,"",""]
[null,null,"EXCELLENCE","NORDETSTRASBOURG","CP Zutzendorf 1",1,"Hanau TT 1",1,3,"2024-11-08","vendredi","20h00","Journée 3",{"$f":"IF(AND('resultats a exporter'!$CW$4=$I$2:$I$1100,'resultats a exporter'!$CX$4=$C$2:$C$1100,'resultats a exporter'!$CY$4=$E$2:$E$1100,'resultats a exporter'!$CZ$4=$G$2:$G$1100),'resultats a exporter'!$DA$4,\"\")","v":""},{"$f":"IF(AND('resultats a exporter'!$CW$4=$I$2:$I$1100,'resultats a exporter'!$CX$4=$C$2:$C$1100,'resultats a exporter'!$CY$4=$E$2:$E$1100,'resultats a exporter'!$CZ$4=$G$2:$G$1100),'resultats a exporter'!$DB$4,\"\")","v":""},null,null,null,null,"vendredi 08-nov-2024, 20h00",null,null,"","",null,null,null,null,null,null,null,null,null,null,null,null,null,null,null,null,null,null,"",""]
[null,null,"EXCELLENCE","NORDETSTRASBOURG","CLTT Menchhoffen 1",1,"Amitié Lingolsheim 1",1,3,"2024-11-08","vendredi","20h00","Journée 3",{"$f":"IF(AND('resultats a exporter'!$CW$4=$I$2:$I$1100,'resultats a exporter'!$CX$4=$C$2:$C$1100,'resultats a exporter'!$CY$4=$E$2:$E$1100,'resultats a exporter'!$CZ$4=$G$2:$G$1100),'resultats a exporter'!$DA$4,\"\")","v":""},{"$f":"IF(AND('resultats a exporter'!$CW$4=$I$2:$I$1100,'resultats a exporter'!$CX$4=$C$2:$C$1100,'resultats a exporter'!$CY$4=$E$2:$E$1100,'resultats a exporter'!$CZ$4=$G$2:$G$1100),'resultats a exporter'!$DB$4,\"\")","v":""},null,null,null,null,"vendredi 08-nov-2024, 20h00",null,null,"","",null,null,null,null,null,null,null,null,null,null,null,null,null,null,null,null,null,null,"",""]
[null,null,"EXCELLENCE","NORDETSTRASBOURG","CTT 77 Val de Moder 1",1,"CS Tricolore Saverne 1",1,3,"2024-11-10","dimanche","09h00","Journée 3",{"$f":"IF(AND('resultats a exporter'!$CW$4=$I$2:$I$1100,'resultats a exporter'!$CX$4=$C$2:$C$1100,'resultats a exporter'!$CY$4=$E$2:$E$1100,'resultats a exporter'!$CZ$4=$G$2:$G$1100),'resultats a exporter'!$DA$4,\"\")","v":""},{"$f":"IF(AND('resultats a exporter'!$CW$4=$I$2:$I$1100,'resultats a exporter'!$CX$4=$C$2:$C$1100,'resultats a exporter'!$CY$4=$E$2:$E$1100,'resultats a exporter'!$CZ$4=$G$2:$G$1100),'resultats a exporter'!$DB$4,\"\")","v":""},null,null,null,null,"dimanche 10-nov-2024, 09h00",null,null,"","",null,null,null,null,null,null,null,null,null,null,null,null,null,null,null,null,null,null,"",""]
[null,null,"EXCELLENCE","NORDETSTRASBOURG",null,1,"AS Electricité Strasbourg 1",1,3,null,"",null,"Journée 3",{"$f":"IF(AND('resultats a exporter'!$CW$4=$I$2:$I$1100,'resultats a exporter'!$CX$4=$C$2:$C$1100,'resultats a exporter'!$CY$4=$E$2:$E$1100,'resultats a exporter'!$CZ$4=$G$2:$G$1100),'resultats a exporter'!$DA$4,\"\")","v":""},{"$f":"IF(AND('resultats a exporter'!$CW$4=$I$2:$I$1100,'resultats a exporter'!$CX$4=$C$2:$C$1100,'resultats a exporter'!$CY$4=$E$2:$E$1100,'resultats a exporter'!$CZ$4=$G$2:$G$1100),'resultats a exporter'!$DB$4,\"\")","v":""},null,null,null,null,"",null,null,"","",null,null,null,null,null,null,null,null,null,null,null,null,null,null,null,null,null,null,"",""]
[null,null,"EXCELLENCE","NORDETSTRASBOURG","Amitié Lingolsheim 1",1,"CP Zutzendorf 1",1,4,"2024-11-20","mercredi","20h00","Journée 4",{"$f":"IF(AND('resultats a exporter'!$CW$4=$I$2:$I$1100,'resultats a exporter'!$CX$4=$C$2:$C$1100,'resultats a exporter'!$CY$4=$E$2:$E$1100,'resultats a exporter'!$CZ$4=$G$2:$G$1100),'resultats a exporter'!$DA$4,\"\")","v":""},{"$f":"IF(AND('resultats a exporter'!$CW$4=$I$2:$I$1100,'resultats a exporter'!$CX$4=$C$2:$C$1100,'resultats a exporter'!$CY$4=$E$2:$E$1100,'resultats a exporter'!$CZ$4=$G$2:$G$1100),'resultats a exporter'!$DB$4,\"\")","v":""},null,null,null,null,"mercredi 20-nov-2024, 20h00",null,null,"","",null,null,null,null,null,null,null,null,null,null,null,null,null,null,null,null,null,null,"",""]
[null,null,"EXCELLENCE","NORDETSTRASBOURG","CS Tricolore Saverne 1",1,"CLTT Menchhoffen 1",1,4,"2024-11-22","vendredi","20h30","Journée 4",{"$f":"IF(AND('resultats a exporter'!$CW$4=$I$2:$I$1100,'resultats a exporter'!$CX$4=$C$2:$C$1100,'resultats a exporter'!$CY$4=$E$2:$E$1100,'resultats a exporter'!$CZ$4=$G$2:$G$1100),'resultats a exporter'!$DA$4,\"\")","v":""},{"$f":"IF(AND('resultats a exporter'!$CW$4=$I$2:$I$1100,'resultats a exporter'!$CX$4=$C$2:$C$1100,'resultats a exporter'!$CY$4=$E$2:$E$1100,'resultats a exporter'!$CZ$4=$G$2:$G$1100),'resultats a exporter'!$DB$4,\"\")","v":""},null,null,null,null,"vendredi 22-nov-2024, 20h30",null,null,"","",null,null,null,null,null,null,null,null,null,null,null,null,null,null,null,null,null,null,"",""]
[null,null,"EXCELLENCE","NORDETSTRASBOURG","CTT 77 Val de Moder 1",1,null,null,4,"2024-11-24","dimanche","09h00","Journée 4",{"$f":"IF(AND('resultats a exporter'!$CW$4=$I$2:$I$1100,'resultats a exporter'!$CX$4=$C$2:$C$1100,'resultats a exporter'!$CY$4=$E$2:$E$1100,'resultats a exporter'!$CZ$4=$G$2:$G$1100),'resultats a exporter'!$DA$4,\"\")","v":""},{"$f":"IF(AND('resultats a exporter'!$CW$4=$I$2:$I$1100,'resultats a exporter'!$CX$4=$C$2:$C$1100,'resultats a exporter'!$CY$4=$E$2:$E$1100,'resultats a exporter'!$CZ$4=$G$2:$G$1100),'resultats a exporter'!$DB$4,\"\")","v":""},null,null,null,null,"dimanche 24-nov-2024, 09h00",null,null,"","",null,null,null,null,null,null,null,null,null,null,null,null,null,null,null,null,null,null,"",""]
[null,null,"EXCELLENCE","NORDETSTRASBOURG","Hanau TT 1",1,"AS Electricité Strasbourg 1",1,4,"2024-11-22","vendredi","20h00","Journée 4",{"$f":"IF(AND('resultats a exporter'!$CW$4=$I$2:$I$1100,'resultats a exporter'!$CX$4=$C$2:$C$1100,'resultats a exporter'!$CY$4=$E$2:$E$1100,'resultats a exporter'!$CZ$4=$G$2:$G$1100),'resultats a exporter'!$DA$4,\"\")","v":""},{"$f":"IF(AND('resultats a exporter'!$CW$4=$I$2:$I$1100,'resultats a exporter'!$CX$4=$C$2:$C$1100,'resultats a exporter'!$CY$4=$E$2:$E$1100,'resultats a exporter'!$CZ$4=$G$2:$G$1100),'resultats a exporter'!$DB$4,\"\")","v":""},null,null,null,null,"vendredi 22-nov-2024, 20h00",null,null,"","",null,null,null,null,null,null,null,null,null,null,null,null,null,null,null,null,null,null,"",""]
[null,null,"EXCELLENCE","NORDETSTRASBOURG","CP Zutzendorf 1",1,"CS Tricolore Saverne 1",1,5,"2024-12-06","vendredi","20h00","Journée 5",{"$f":"IF(AND('resultats a exporter'!$CW$4=$I$2:$I$1100,'resultats a exporter'!$CX$4=$C$2:$C$1100,'resultats a exporter'!$CY$4=$E$2:$E$1100,'resultats a exporter'!$CZ$4=$G$2:$G$1100),'resultats a exporter'!$DA$4,\"\")","v":""},{"$f":"IF(AND('resultats a exporter'!$CW$4=$I$2:$I$1100,'resultats a exporter'!$CX$4=$C$2:$C$1100,'resultats a exporter'!$CY$4=$E$2:$E$1100,'resultats a exporter'!$CZ$4=$G$2:$G$1100),'resultats a exporter'!$DB$4,\"\")","v":""},null,null,null,null,"vendredi 06-déc-2024, 20h00",null,null,"","",null,null,null,null,null,null,null,null,null,null,null,null,null,null,null,null,null,null,"",""]
[null,null,"EXCELLENCE","NORDETSTRASBOURG","CLTT Menchhoffen 1",1,"CTT 77 Val de Moder 1",1,5,"2024-12-06","vendredi","20h00","Journée 5",{"$f":"IF(AND('resultats a exporter'!$CW$4=$I$2:$I$1100,'resultats a exporter'!$CX$4=$C$2:$C$1100,'resultats a exporter'!$CY$4=$E$2:$E$1100,'resultats a exporter'!$CZ$4=$G$2:$G$1100),'resultats a exporter'!$DA$4,\"\")","v":""},{"$f":"IF(AND('resultats a exporter'!$CW$4=$I$2:$I$1100,'resultats a exporter'!$CX$4=$C$2:$C$1100,'resultats a exporter'!$CY$4=$E$2:$E$1100,'resultats a exporter'!$CZ$4=$G$2:$G$1100),'resultats a exporter'!$DB$4,\"\")","v":""},null,null,null,null,"vendredi 06-déc-2024, 20h00",null,null,"","",null,null,null,null,null,null,null,null,null,null,null,null,null,null,null,null,null,null,"",""]
[null,null,"EXCELLENCE","NORDETSTRASBOURG","Amitié Lingolsheim 1",1,"AS Electricité Strasbourg 1",1,5,"2024-12-04","mercredi","20h00","Journée 5",{"$f":"IF(AND('resultats a exporter'!$CW$4=$I$2:$I$1100,'resultats a exporter'!$CX$4=$C$2:$C$1100,'resultats a exporter'!$CY$4=$E$2:$E$1100,'resultats a exporter'!$CZ$4=$G$2:$G$1100),'resultats a exporter'!$DA$4,\"\")","v":""},{"$f":"IF(AND('resultats a exporter'!$CW$4=$I$2:$I$1100,'resultats a exporter'!$CX$4=$C$2:$C$1100,'resultats a exporter'!$CY$4=$E$2:$E$1100,'resultats a exporter'!$CZ$4=$G$2:$G$1100),'resultats a exporter'!$DB$4,\"\")","v":""},null,null,null,null,"mercredi 04-déc-2024, 20h00",null,null,"","",null,null,null,null,null,null,null,null,null,null,null,null,null,null,null,null,null,null,"",""]
[null,null,"EXCELLENCE","NORDETSTRASBOURG",null,null,"Hanau TT 1",1,5,null,"",null,"Journée 5",{"$f":"IF(AND('resultats a exporter'!$CW$4=$I$2:$I$1100,'resultats a exporter'!$CX$4=$C$2:$C$1100,'resultats a exporter'!$CY$4=$E$2:$E$1100,'resultats a exporter'!$CZ$4=$G$2:$G$1100),'resultats a exporter'!$DA$4,\"\")","v":""},{"$f":"IF(AND('resultats a exporter'!$CW$4=$I$2:$I$1100,'resultats a exporter'!$CX$4=$C$2:$C$1100,'resultats a exporter'!$CY$4=$E$2:$E$1100,'resultats a exporter'!$CZ$4=$G$2:$G$1100),'resultats a exporter'!$DB$4,\"\")","v":""},null,null,null,null,"",null,null,"","",null,null,null,null,null,null,null,null,null,null,null,null,null,null,null,null,null,null,"",""]
[null,null,"EXCELLENCE","NORDETSTRASBOURG","CTT 77 Val de Moder 1",1,"CP Zutzendorf 1",1,6,"2024-12-22","dimanche","09h00","Journée 6",{"$f":"IF(AND('resultats a exporter'!$CW$4=$I$2:$I$1100,'resultats a exporter'!$CX$4=$C$2:$C$1100,'resultats a exporter'!$CY$4=$E$2:$E$1100,'resultats a exporter'!$CZ$4=$G$2:$G$1100),'resultats a exporter'!$DA$4,\"\")","v":""},{"$f":"IF(AND('resultats a exporter'!$CW$4=$I$2:$I$1100,'resultats a exporter'!$CX$4=$C$2:$C$1100,'resultats a exporter'!$CY$4=$E$2:$E$1100,'resultats a exporter'!$CZ$4=$G$2:$G$1100),'resultats a exporter'!$DB$4,\"\")","v":""},null,null,null,null,"dimanche 22-déc-2024, 09h00",null,null,"","",null,null,null,null,null,null,null,null,null,null,null,null,null,null,null,null,null,null,"",""]
[null,null,"EXCELLENCE","NORDETSTRASBOURG","CLTT Menchhoffen 1",1,null,null,6,"2024-12-20","vendredi","20h00","Journée 6",{"$f":"IF(AND('resultats a exporter'!$CW$4=$I$2:$I$1100,'resultats a exporter'!$CX$4=$C$2:$C$1100,'resultats a exporter'!$CY$4=$E$2:$E$1100,'resultats a exporter'!$CZ$4=$G$2:$G$1100),'resultats a exporter'!$DA$4,\"\")","v":""},{"$f":"IF(AND('resultats a exporter'!$CW$4=$I$2:$I$1100,'resultats a exporter'!$CX$4=$C$2:$C$1100,'resultats a exporter'!$CY$4=$E$2:$E$1100,'resultats a exporter'!$CZ$4=$G$2:$G$1100),'resultats a exporter'!$DB$4,\"\")","v":""},null,null,null,null,"vendredi 20-déc-2024, 20h00",null,null,"","",null,null,null,null,null,null,null,null,null,null,null,null,null,null,null,null,null,null,"",""]
[null,null,"EXCELLENCE","NORDETSTRASBOURG","AS Electricité Strasbourg 1",1,"CS Tricolore Saverne 1",1,6,"2024-12-17","mardi","20h00","Journée 6",{"$f":"IF(AND('resultats a exporter'!$CW$4=$I$2:$I$1100,'resultats a exporter'!$CX$4=$C$2:$C$1100,'resultats a exporter'!$CY$4=$E$2:$E$1100,'resultats a exporter'!$CZ$4=$G$2:$G$1100),'resultats a exporter'!$DA$4,\"\")","v":""},{"$f":"IF(AND('resultats a exporter'!$CW$4=$I$2:$I$1100,'resultats a exporter'!$CX$4=$C$2:$C$1100,'resultats a exporter'!$CY$4=$E$2:$E$1100,'resultats a exporter'!$CZ$4=$G$2:$G$1100),'resultats a exporter'!$DB$4,\"\")","v":""},null,null,null,null,"mardi 17-déc-2024, 20h00",null,null,"","",null,null,null,null,null,null,null,null,null,null,null,null,null,null,null,null,null,null,"",""]
[null,null,"EXCELLENCE","NORDETSTRASBOURG","Amitié Lingolsheim 1",1,"Hanau TT 1",1,6,"2024-12-18","mercredi","20h00","Journée 6",{"$f":"IF(AND('resultats a exporter'!$CW$4=$I$2:$I$1100,'resultats a exporter'!$CX$4=$C$2:$C$1100,'resultats a exporter'!$CY$4=$E$2:$E$1100,'resultats a exporter'!$CZ$4=$G$2:$G$1100),'resultats a exporter'!$DA$4,\"\")","v":""},{"$f":"IF(AND('resultats a exporter'!$CW$4=$I$2:$I$1100,'resultats a exporter'!$CX$4=$C$2:$C$1100,'resultats a exporter'!$CY$4=$E$2:$E$1100,'resultats a exporter'!$CZ$4=$G$2:$G$1100),'resultats a exporter'!$DB$4,\"\")","v":""},null,null,null,null,"mercredi 18-déc-2024, 20h00",null,null,"","",null,null,null,null,null,null,null,null,null,null,null,null,null,null,null,null,null,null,"",""]
[null,null,"EXCELLENCE","NORDETSTRASBOURG","CP Zutzendorf 1",1,"CLTT Menchhoffen 1",1,7,"2025-01-10","vendredi","20h00","Journée 7",{"$f":"IF(AND('resultats a exporter'!$CW$4=$I$2:$I$1100,'resultats a exporter'!$CX$4=$C$2:$C$1100,'resultats a exporter'!$CY$4=$E$2:$E$1100,'resultats a exporter'!$CZ$4=$G$2:$G$1100),'resultats a exporter'!$DA$4,\"\")","v":""},{"$f":"IF(AND('resultats a exporter'!$CW$4=$I$2:$I$1100,'resultats a exporter'!$CX$4=$C$2:$C$1100,'resultats a exporter'!$CY$4=$E$2:$E$1100,'resultats a exporter'!$CZ$4=$G$2:$G$1100),'resultats a exporter'!$DB$4,\"\")","v":""},null,null,null,null,"vendredi 10-janv-2025, 20h00",null,null,"","",null,null,null,null,null,null,null,null,null,null,null,null,null,null,null,null,null,null,"",""]
[null,null,"EXCELLENCE","NORDETSTRASBOURG","AS Electricité Strasbourg 1",1,"CTT 77 Val de Moder 1",1,7,"2025-01-07","mardi","20h00","Journée 7",{"$f":"IF(AND('resultats a exporter'!$CW$4=$I$2:$I$1100,'resultats a exporter'!$CX$4=$C$2:$C$1100,'resultats a exporter'!$CY$4=$E$2:$E$1100,'resultats a exporter'!$CZ$4=$G$2:$G$1100),'resultats a exporter'!$DA$4,\"\")","v":""},{"$f":"IF(AND('resultats a exporter'!$CW$4=$I$2:$I$1100,'resultats a exporter'!$CX$4=$C$2:$C$1100,'resultats a exporter'!$CY$4=$E$2:$E$1100,'resultats a exporter'!$CZ$4=$G$2:$G$1100),'resultats a exporter'!$DB$4,\"\")","v":""},null,null,null,null,"mardi 07-janv-2025, 20h00",null,null,"","",null,null,null,null,null,null,null,null,null,null,null,null,null,null,null,null,null,null,"",""]
[null,null,"EXCELLENCE","NORDETSTRASBOURG","Hanau TT 1",1,"CS Tricolore Saverne 1",1,7,"2025-01-10","vendredi","20h00","Journée 7",{"$f":"IF(AND('resultats a exporter'!$CW$4=$I$2:$I$1100,'resultats a exporter'!$CX$4=$C$2:$C$1100,'resultats a exporter'!$CY$4=$E$2:$E$1100,'resultats a exporter'!$CZ$4=$G$2:$G$1100),'resultats a exporter'!$DA$4,\"\")","v":""},{"$f":"IF(AND('resultats a exporter'!$CW$4=$I$2:$I$1100,'resultats a exporter'!$CX$4=$C$2:$C$1100,'resultats a exporter'!$CY$4=$E$2:$E$1100,'resultats a exporter'!$CZ$4=$G$2:$G$1100),'resultats a exporter'!$DB$4,\"\")","v":""},null,null,null,null,"vendredi 10-janv-2025, 20h00",null,null,"","",null,null,null,null,null,null,null,null,null,null,null,null,null,null,null,null,null,null,"",""]
[null,null,"EXCELLENCE","NORDETSTRASBOURG",null,null,"Amitié Lingolsheim 1",1,7,null,"",null,"Journée 7",{"$f":"IF(AND('resultats a exporter'!$CW$4=$I$2:$I$1100,'resultats a exporter'!$CX$4=$C$2:$C$1100,'resultats a exporter'!$CY$4=$E$2:$E$1100,'resultats a exporter'!$CZ$4=$G$2:$G$1100),'resultats a exporter'!$DA$4,\"\")","v":""},{"$f":"IF(AND('resultats a exporter'!$CW$4=$I$2:$I$1100,'resultats a exporter'!$CX$4=$C$2:$C$1100,'resultats a exporter'!$CY$4=$E$2:$E$1100,'resultats a exporter'!$CZ$4=$G$2:$G$1100),'resultats a exporter'!$DB$4,\"\")","v":""},null,null,null,null,"",null,null,"","",null,null,null,null,null,null,null,null,null,null,null,null,null,null,null,null,null,null,"",""]
[null,null,"EXCELLENCE","NORDETSTRASBOURG",null,null,"CP Zutzendorf 1",1,8,null,"",null,"Journée 8",{"$f":"IF(AND('resultats a exporter'!$CW$4=$I$2:$I$1100,'resultats a exporter'!$CX$4=$C$2:$C$1100,'resultats a exporter'!$CY$4=$E$2:$E$1100,'resultats a exporter'!$CZ$4=$G$2:$G$1100),'resultats a exporter'!$DA$4,\"\")","v":""},{"$f":"IF(AND('resultats a exporter'!$CW$4=$I$2:$I$1100,'resultats a exporter'!$CX$4=$C$2:$C$1100,'resultats a exporter'!$CY$4=$E$2:$E$1100,'resultats a exporter'!$CZ$4=$G$2:$G$1100),'resultats a exporter'!$DB$4,\"\")","v":""},null,null,null,null,"",null,null,"","",null,null,null,null,null,null,null,null,null,null,null,null,null,null,null,null,null,null,"",""]
[null,null,"EXCELLENCE","NORDETSTRASBOURG","AS Electricité Strasbourg 1",1,"CLTT Menchhoffen 1",1,8,"2025-01-21","mardi","20h00","Journée 8",{"$f":"IF(AND('resultats a exporter'!$CW$4=$I$2:$I$1100,'resultats a exporter'!$CX$4=$C$2:$C$1100,'resultats a exporter'!$CY$4=$E$2:$E$1100,'resultats a exporter'!$CZ$4=$G$2:$G$1100),'resultats a exporter'!$DA$4,\"\")","v":""},{"$f":"IF(AND('resultats a exporter'!$CW$4=$I$2:$I$1100,'resultats a exporter'!$CX$4=$C$2:$C$1100,'resultats a exporter'!$CY$4=$E$2:$E$1100,'resultats a exporter'!$CZ$4=$G$2:$G$1100),'resultats a exporter'!$DB$4,\"\")","v":""},null,null,null,null,"mardi 21-janv-2025, 20h00",null,null,"","",null,null,null,null,null,null,null,null,null,null,null,null,null,null,null,null,null,null,"",""]
[null,null,"EXCELLENCE","NORDETSTRASBOURG","Hanau TT 1",1,"CTT 77 Val de Moder 1",1,8,"2025-01-24","vendredi","20h00","Journée 8",{"$f":"IF(AND('resultats a exporter'!$CW$4=$I$2:$I$1100,'resultats a exporter'!$CX$4=$C$2:$C$1100,'resultats a exporter'!$CY$4=$E$2:$E$1100,'resultats a exporter'!$CZ$4=$G$2:$G$1100),'resultats a exporter'!$DA$4,\"\")","v":""},{"$f":"IF(AND('resultats a exporter'!$CW$4=$I$2:$I$1100,'resultats a exporter'!$CX$4=$C$2:$C$1100,'resultats a exporter'!$CY$4=$E$2:$E$1100,'resultats a exporter'!$CZ$4=$G$2:$G$1100),'resultats a exporter'!$DB$4,\"\")","v":""},null,null,null,null,"vendredi 24-janv-2025, 20h00",null,null,"","",null,null,null,null,null,null,null,null,null,null,null,null,null,null,null,null,null,null,"",""]
[null,null,"EXCELLENCE","NORDETSTRASBOURG","Amitié Lingolsheim 1",1,"CS Tricolore Saverne 1",1,8,"2025-01-22","mercredi","20h00","Journée 8",{"$f":"IF(AND('resultats a exporter'!$CW$4=$I$2:$I$1100,'resultats a exporter'!$CX$4=$C$2:$C$1100,'resultats a exporter'!$CY$4=$E$2:$E$1100,'resultats a exporter'!$CZ$4=$G$2:$G$1100),'resultats a exporter'!$DA$4,\"\")","v":""},{"$f":"IF(AND('resultats a exporter'!$CW$4=$I$2:$I$1100,'resultats a exporter'!$CX$4=$C$2:$C$1100,'resultats a exporter'!$CY$4=$E$2:$E$1100,'resultats a exporter'!$CZ$4=$G$2:$G$1100),'resultats a exporter'!$DB$4,\"\")","v":""},null,null,null,null,"mercredi 22-janv-2025, 20h00",null,null,"","",null,null,null,null,null,null,null,null,null,null,null,null,null,null,null,null,null,null,"",""]
[null,null,"EXCELLENCE","NORDETSTRASBOURG","CP Zutzendorf 1",1,"AS Electricité Strasbourg 1",1,9,"2025-02-07","vendredi","20h00","Journée 9",{"$f":"IF(AND('resultats a exporter'!$CW$4=$I$2:$I$1100,'resultats a exporter'!$CX$4=$C$2:$C$1100,'resultats a exporter'!$CY$4=$E$2:$E$1100,'resultats a exporter'!$CZ$4=$G$2:$G$1100),'resultats a exporter'!$DA$4,\"\")","v":""},{"$f":"IF(AND('resultats a exporter'!$CW$4=$I$2:$I$1100,'resultats a exporter'!$CX$4=$C$2:$C$1100,'resultats a exporter'!$CY$4=$E$2:$E$1100,'resultats a exporter'!$CZ$4=$G$2:$G$1100),'resultats a exporter'!$DB$4,\"\")","v":""},null,null,null,null,"vendredi 07-févr-2025, 20h00",null,null,"","",null,null,null,null,null,null,null,null,null,null,null,null,null,null,null,null,null,null,"",""]
[null,null,"EXCELLENCE","NORDETSTRASBOURG","CLTT Menchhoffen 1",1,"Hanau TT 1",1,9,"2025-02-07","vendredi","20h00","Journée 9",{"$f":"IF(AND('resultats a exporter'!$CW$4=$I$2:$I$1100,'resultats a exporter'!$CX$4=$C$2:$C$1100,'resultats a exporter'!$CY$4=$E$2:$E$1100,'resultats a exporter'!$CZ$4=$G$2:$G$1100),'resultats a exporter'!$DA$4,\"\")","v":""},{"$f":"IF(AND('resultats a exporter'!$CW$4=$I$2:$I$1100,'resultats a exporter'!$CX$4=$C$2:$C$1100,'resultats a exporter'!$CY$4=$E$2:$E$1100,'resultats a exporter'!$CZ$4=$G$2:$G$1100),'resultats a exporter'!$DB$4,\"\")","v":""},null,null,null,null,"vendredi 07-févr-2025, 20h00",null,null,"","",null,null,null,null,null,null,null,null,null,null,null,null,null,null,null,null,null,null,"",""]
[null,null,"EXCELLENCE","NORDETSTRASBOURG","CTT 77 Val de Moder 1",1,"Amitié Lingolsheim 1",1,9,"2025-02-09","dimanche","09h00","Journée 9",{"$f":"IF(AND('resultats a exporter'!$CW$4=$I$2:$I$1100,'resultats a exporter'!$CX$4=$C$2:$C$1100,'resultats a exporter'!$CY$4=$E$2:$E$1100,'resultats a exporter'!$CZ$4=$G$2:$G$1100),'resultats a exporter'!$DA$4,\"\")","v":""},{"$f":"IF(AND('resultats a exporter'!$CW$4=$I$2:$I$1100,'resultats a exporter'!$CX$4=$C$2:$C$1100,'resultats a exporter'!$CY$4=$E$2:$E$1100,'resultats a exporter'!$CZ$4=$G$2:$G$1100),'resultats a exporter'!$DB$4,\"\")","v":""},null,null,null,null,"dimanche 09-févr-2025, 09h00",null,null,"","",null,null,null,null,null,null,null,null,null,null,null,null,null,null,null,null,null,null,"",""]
[null,null,"EXCELLENCE","NORDETSTRASBOURG","CS Tricolore Saverne 1",1,null,null,9,"2025-02-07","vendredi","20h30","Journée 9",{"$f":"IF(AND('resultats a exporter'!$CW$4=$I$2:$I$1100,'resultats a exporter'!$CX$4=$C$2:$C$1100,'resultats a exporter'!$CY$4=$E$2:$E$1100,'resultats a exporter'!$CZ$4=$G$2:$G$1100),'resultats a exporter'!$DA$4,\"\")","v":""},{"$f":"IF(AND('resultats a exporter'!$CW$4=$I$2:$I$1100,'resultats a exporter'!$CX$4=$C$2:$C$1100,'resultats a exporter'!$CY$4=$E$2:$E$1100,'resultats a exporter'!$CZ$4=$G$2:$G$1100),'resultats a exporter'!$DB$4,\"\")","v":""},null,null,null,null,"vendredi 07-févr-2025, 20h30",null,null,"","",null,null,null,null,null,null,null,null,null,null,null,null,null,null,null,null,null,null,"",""]
[null,null,"EXCELLENCE","NORDETSTRASBOURG","Hanau TT 1",1,"CP Zutzendorf 1",1,10,"2025-02-28","vendredi","20h00","Journée 10",{"$f":"IF(AND('resultats a exporter'!$CW$4=$I$2:$I$1100,'resultats a exporter'!$CX$4=$C$2:$C$1100,'resultats a exporter'!$CY$4=$E$2:$E$1100,'resultats a exporter'!$CZ$4=$G$2:$G$1100),'resultats a exporter'!$DA$4,\"\")","v":""},{"$f":"IF(AND('resultats a exporter'!$CW$4=$I$2:$I$1100,'resultats a exporter'!$CX$4=$C$2:$C$1100,'resultats a exporter'!$CY$4=$E$2:$E$1100,'resultats a exporter'!$CZ$4=$G$2:$G$1100),'resultats a exporter'!$DB$4,\"\")","v":""},null,null,null,null,"vendredi 28-févr-2025, 20h00",null,null,"","",null,null,null,null,null,null,null,null,null,null,null,null,null,null,null,null,null,null,"",""]
[null,null,"EXCELLENCE","NORDETSTRASBOURG","Amitié Lingolsheim 1",1,"CLTT Menchhoffen 1",1,10,"2025-02-26","mercredi","20h00","Journée 10",{"$f":"IF(AND('resultats a exporter'!$CW$4=$I$2:$I$1100,'resultats a exporter'!$CX$4=$C$2:$C$1100,'resultats a exporter'!$CY$4=$E$2:$E$1100,'resultats a exporter'!$CZ$4=$G$2:$G$1100),'resultats a exporter'!$DA$4,\"\")","v":""},{"$f":"IF(AND('resultats a exporter'!$CW$4=$I$2:$I$1100,'resultats a exporter'!$CX$4=$C$2:$C$1100,'resultats a exporter'!$CY$4=$E$2:$E$1100,'resultats a exporter'!$CZ$4=$G$2:$G$1100),'resultats a exporter'!$DB$4,\"\")","v":""},null,null,null,null,"mercredi 26-févr-2025, 20h00",null,null,"","",null,null,null,null,null,null,null,null,null,null,null,null,null,null,null,null,null,null,"",""]
[null,null,"EXCELLENCE","NORDETSTRASBOURG","CS Tricolore Saverne 1",1,"CTT 77 Val de Moder 1",1,10,"2025-02-28","vendredi","20h30","Journée 10",{"$f":"IF(AND('resultats a exporter'!$CW$4=$I$2:$I$1100,'resultats a exporter'!$CX$4=$C$2:$C$1100,'resultats a exporter'!$CY$4=$E$2:$E$1100,'resultats a exporter'!$CZ$4=$G$2:$G$1100),'resultats a exporter'!$DA$4,\"\")","v":""},{"$f":"IF(AND('resultats a exporter'!$CW$4=$I$2:$I$1100,'resultats a exporter'!$CX$4=$C$2:$C$1100,'resultats a exporter'!$CY$4=$E$2:$E$1100,'resultats a exporter'!$CZ$4=$G$2:$G$1100),'resultats a exporter'!$DB$4,\"\")","v":""},null,null,null,null,"vendredi 28-févr-2025, 20h30",null,null,"","",null,null,null,null,null,null,null,null,null,null,null,null,null,null,null,null,null,null,"",""]
[null,null,"EXCELLENCE","NORDETSTRASBOURG","AS Electricité Strasbourg 1",1,null,null,10,"2025-02-25","mardi","20h00","Journée 10",{"$f":"IF(AND('resultats a exporter'!$CW$4=$I$2:$I$1100,'resultats a exporter'!$CX$4=$C$2:$C$1100,'resultats a exporter'!$CY$4=$E$2:$E$1100,'resultats a exporter'!$CZ$4=$G$2:$G$1100),'resultats a exporter'!$DA$4,\"\")","v":""},{"$f":"IF(AND('resultats a exporter'!$CW$4=$I$2:$I$1100,'resultats a exporter'!$CX$4=$C$2:$C$1100,'resultats a exporter'!$CY$4=$E$2:$E$1100,'resultats a exporter'!$CZ$4=$G$2:$G$1100),'resultats a exporter'!$DB$4,\"\")","v":""},null,null,null,null,"mardi 25-févr-2025, 20h00",null,null,"","",null,null,null,null,null,null,null,null,null,null,null,null,null,null,null,null,null,null,"",""]
[null,null,"EXCELLENCE","NORDETSTRASBOURG","CP Zutzendorf 1",1,"Amitié Lingolsheim 1",1,11,"2025-03-14","vendredi","20h00","Journée 11",{"$f":"IF(AND('resultats a exporter'!$CW$4=$I$2:$I$1100,'resultats a exporter'!$CX$4=$C$2:$C$1100,'resultats a exporter'!$CY$4=$E$2:$E$1100,'resultats a exporter'!$CZ$4=$G$2:$G$1100),'resultats a exporter'!$DA$4,\"\")","v":""},{"$f":"IF(AND('resultats a exporter'!$CW$4=$I$2:$I$1100,'resultats a exporter'!$CX$4=$C$2:$C$1100,'resultats a exporter'!$CY$4=$E$2:$E$1100,'resultats a exporter'!$CZ$4=$G$2:$G$1100),'resultats a exporter'!$DB$4,\"\")","v":""},null,null,null,null,"vendredi 14-mars-2025, 20h00",null,null,"","",null,null,null,null,null,null,null,null,null,null,null,null,null,null,null,null,null,null,"",""]
[null,null,"EXCELLENCE","NORDETSTRASBOURG","CLTT Menchhoffen 1",1,"CS Tricolore Saverne 1",1,11,"2025-03-14","vendredi","20h00","Journée 11",{"$f":"IF(AND('resultats a exporter'!$CW$4=$I$2:$I$1100,'resultats a exporter'!$CX$4=$C$2:$C$1100,'resultats a exporter'!$CY$4=$E$2:$E$1100,'resultats a exporter'!$CZ$4=$G$2:$G$1100),'resultats a exporter'!$DA$4,\"\")","v":""},{"$f":"IF(AND('resultats a exporter'!$CW$4=$I$2:$I$1100,'resultats a exporter'!$CX$4=$C$2:$C$1100,'resultats a exporter'!$CY$4=$E$2:$E$1100,'resultats a exporter'!$CZ$4=$G$2:$G$1100),'resultats a exporter'!$DB$4,\"\")","v":""},null,null,null,null,"vendredi 14-mars-2025, 20h00",null,null,"","",null,null,null,null,null,null,null,null,null,null,null,null,null,null,null,null,null,null,"",""]
[null,null,"EXCELLENCE","NORDETSTRASBOURG",null,null,"CTT 77 Val de Moder 1",1,11,null,"",null,"Journée 11",{"$f":"IF(AND('resultats a exporter'!$CW$4=$I$2:$I$1100,'resultats a exporter'!$CX$4=$C$2:$C$1100,'resultats a exporter'!$CY$4=$E$2:$E$1100,'resultats a exporter'!$CZ$4=$G$2:$G$1100),'resultats a exporter'!$DA$4,\"\")","v":""},{"$f":"IF(AND('resultats a exporter'!$CW$4=$I$2:$I$1100,'resultats a exporter'!$CX$4=$C$2:$C$1100,'resultats a exporter'!$CY$4=$E$2:$E$1100,'resultats a exporter'!$CZ$4=$G$2:$G$1100),'resultats a exporter'!$DB$4,\"\")","v":""},null,null,null,null,"",null,null,"","",null,null,null,null,null,null,null,null,null,null,null,null,null,null,null,null,null,null,"",""]
[null,null,"EXCELLENCE","NORDETSTRASBOURG","AS Electricité Strasbourg 1",1,"Hanau TT 1",1,11,"2025-03-11","mardi","20h00","Journée 11",{"$f":"IF(AND('resultats a exporter'!$CW$4=$I$2:$I$1100,'resultats a exporter'!$CX$4=$C$2:$C$1100,'resultats a exporter'!$CY$4=$E$2:$E$1100,'resultats a exporter'!$CZ$4=$G$2:$G$1100),'resultats a exporter'!$DA$4,\"\")","v":""},{"$f":"IF(AND('resultats a exporter'!$CW$4=$I$2:$I$1100,'resultats a exporter'!$CX$4=$C$2:$C$1100,'resultats a exporter'!$CY$4=$E$2:$E$1100,'resultats a exporter'!$CZ$4=$G$2:$G$1100),'resultats a exporter'!$DB$4,\"\")","v":""},null,null,null,null,"mardi 11-mars-2025, 20h00",null,null,"","",null,null,null,null,null,null,null,null,null,null,null,null,null,null,null,null,null,null,"",""]
[null,null,"EXCELLENCE","NORDETSTRASBOURG","CS Tricolore Saverne 1",1,"CP Zutzendorf 1",1,12,"2025-03-21","vendredi","20h30","Journée 12",{"$f":"IF(AND('resultats a exporter'!$CW$4=$I$2:$I$1100,'resultats a exporter'!$CX$4=$C$2:$C$1100,'resultats a exporter'!$CY$4=$E$2:$E$1100,'resultats a exporter'!$CZ$4=$G$2:$G$1100),'resultats a exporter'!$DA$4,\"\")","v":""},{"$f":"IF(AND('resultats a exporter'!$CW$4=$I$2:$I$1100,'resultats a exporter'!$CX$4=$C$2:$C$1100,'resultats a exporter'!$CY$4=$E$2:$E$1100,'resultats a exporter'!$CZ$4=$G$2:$G$1100),'resultats a exporter'!$DB$4,\"\")","v":""},null,null,null,null,"vendredi 21-mars-2025, 20h30",null,null,"","",null,null,null,null,null,null,null,null,null,null,null,null,null,null,null,null,null,null,"",""]
[null,null,"EXCELLENCE","NORDETSTRASBOURG","CTT 77 Val de Moder 1",1,"CLTT Menchhoffen 1",1,12,"2025-03-23","dimanche","09h00","Journée 12",{"$f":"IF(AND('resultats a exporter'!$CW$4=$I$2:$I$1100,'resultats a exporter'!$CX$4=$C$2:$C$1100,'resultats a exporter'!$CY$4=$E$2:$E$1100,'resultats a exporter'!$CZ$4=$G$2:$G$1100),'resultats a exporter'!$DA$4,\"\")","v":""},{"$f":"IF(AND('resultats a exporter'!$CW$4=$I$2:$I$1100,'resultats a exporter'!$CX$4=$C$2:$C$1100,'resultats a exporter'!$CY$4=$E$2:$E$1100,'resultats a exporter'!$CZ$4=$G$2:$G$1100),'resultats a exporter'!$DB$4,\"\")","v":""},null,null,null,null,"dimanche 23-mars-2025, 09h00",null,null,"","",null,null,null,null,null,null,null,null,null,null,null,null,null,null,null,null,null,null,"",""]
[null,null,"EXCELLENCE","NORDETSTRASBOURG","AS Electricité Strasbourg 1",1,"Amitié Lingolsheim 1",1,12,"2025-03-18","mardi","20h00","Journée 12",{"$f":"IF(AND('resultats a exporter'!$CW$4=$I$2:$I$1100,'resultats a exporter'!$CX$4=$C$2:$C$1100,'resultats a exporter'!$CY$4=$E$2:$E$1100,'resultats a exporter'!$CZ$4=$G$2:$G$1100),'resultats a exporter'!$DA$4,\"\")","v":""},{"$f":"IF(AND('resultats a exporter'!$CW$4=$I$2:$I$1100,'resultats a exporter'!$CX$4=$C$2:$C$1100,'resultats a exporter'!$CY$4=$E$2:$E$1100,'resultats a exporter'!$CZ$4=$G$2:$G$1100),'resultats a exporter'!$DB$4,\"\")","v":""},null,null,null,null,"mardi 18-mars-2025, 20h00",null,null,"","",null,null,null,null,null,null,null,null,null,null,null,null,null,null,null,null,null,null,"",""]
[null,null,"EXCELLENCE","NORDETSTRASBOURG","Hanau TT 1",1,null,null,12,"2025-03-21","vendredi","20h00","Journée 12",{"$f":"IF(AND('resultats a exporter'!$CW$4=$I$2:$I$1100,'resultats a exporter'!$CX$4=$C$2:$C$1100,'resultats a exporter'!$CY$4=$E$2:$E$1100,'resultats a exporter'!$CZ$4=$G$2:$G$1100),'resultats a exporter'!$DA$4,\"\")","v":""},{"$f":"IF(AND('resultats a exporter'!$CW$4=$I$2:$I$1100,'resultats a exporter'!$CX$4=$C$2:$C$1100,'resultats a exporter'!$CY$4=$E$2:$E$1100,'resultats a exporter'!$CZ$4=$G$2:$G$1100),'resultats a exporter'!$DB$4,\"\")","v":""},null,null,null,null,"vendredi 21-mars-2025, 20h00",null,null,"","",null,null,null,null,null,null,null,null,null,null,null,null,null,null,null,null,null,null,"",""]
[null,null,"EXCELLENCE","NORDETSTRASBOURG","CP Zutzendorf 1",1,"CTT 77 Val de Moder 1",1,13,"2025-04-11","vendredi","20h00","Journée 13",{"$f":"IF(AND('resultats a exporter'!$CW$4=$I$2:$I$1100,'resultats a exporter'!$CX$4=$C$2:$C$1100,'resultats a exporter'!$CY$4=$E$2:$E$1100,'resultats a exporter'!$CZ$4=$G$2:$G$1100),'resultats a exporter'!$DA$4,\"\")","v":""},{"$f":"IF(AND('resultats a exporter'!$CW$4=$I$2:$I$1100,'resultats a exporter'!$CX$4=$C$2:$C$1100,'resultats a exporter'!$CY$4=$E$2:$E$1100,'resultats a exporter'!$CZ$4=$G$2:$G$1100),'resultats a exporter'!$DB$4,\"\")","v":""},null,null,null,null,"vendredi 11-avr-2025, 20h00",null,null,"","",null,null,null,null,null,null,null,null,null,null,null,null,null,null,null,null,null,null,"",""]
[null,null,"EXCELLENCE","NORDETSTRASBOURG",null,null,"CLTT Menchhoffen 1",1,13,null,"",null,"Journée 13",{"$f":"IF(AND('resultats a exporter'!$CW$4=$I$2:$I$1100,'resultats a exporter'!$CX$4=$C$2:$C$1100,'resultats a exporter'!$CY$4=$E$2:$E$1100,'resultats a exporter'!$CZ$4=$G$2:$G$1100),'resultats a exporter'!$DA$4,\"\")","v":""},{"$f":"IF(AND('resultats a exporter'!$CW$4=$I$2:$I$1100,'resultats a exporter'!$CX$4=$C$2:$C$1100,'resultats a exporter'!$CY$4=$E$2:$E$1100,'resultats a exporter'!$CZ$4=$G$2:$G$1100),'resultats a exporter'!$DB$4,\"\")","v":""},null,null,null,null,"",null,null,"","",null,null,null,null,null,null,null,null,null,null,null,null,null,null,null,null,null,null,"",""]
[null,null,"EXCELLENCE","NORDETSTRASBOURG","CS Tricolore Saverne 1",1,"AS Electricité Strasbourg 1",1,13,"2025-04-11","vendredi","20h30","Journée 13",{"$f":"IF(AND('resultats a exporter'!$CW$4=$I$2:$I$1100,'resultats a exporter'!$CX$4=$C$2:$C$1100,'resultats a exporter'!$CY$4=$E$2:$E$1100,'resultats a exporter'!$CZ$4=$G$2:$G$1100),'resultats a exporter'!$DA$4,\"\")","v":""},{"$f":"IF(AND('resultats a exporter'!$CW$4=$I$2:$I$1100,'resultats a exporter'!$CX$4=$C$2:$C$1100,'resultats a exporter'!$CY$4=$E$2:$E$1100,'resultats a exporter'!$CZ$4=$G$2:$G$1100),'resultats a exporter'!$DB$4,\"\")","v":""},null,null,null,null,"vendredi 11-avr-2025, 20h30",null,null,"","",null,null,null,null,null,null,null,null,null,null,null,null,null,null,null,null,null,null,"",""]
[null,null,"EXCELLENCE","NORDETSTRASBOURG","Hanau TT 1",1,"Amitié Lingolsheim 1",1,13,"2025-04-11","vendredi","20h00","Journée 13",{"$f":"IF(AND('resultats a exporter'!$CW$4=$I$2:$I$1100,'resultats a exporter'!$CX$4=$C$2:$C$1100,'resultats a exporter'!$CY$4=$E$2:$E$1100,'resultats a exporter'!$CZ$4=$G$2:$G$1100),'resultats a exporter'!$DA$4,\"\")","v":""},{"$f":"IF(AND('resultats a exporter'!$CW$4=$I$2:$I$1100,'resultats a exporter'!$CX$4=$C$2:$C$1100,'resultats a exporter'!$CY$4=$E$2:$E$1100,'resultats a exporter'!$CZ$4=$G$2:$G$1100),'resultats a exporter'!$DB$4,\"\")","v":""},null,null,null,null,"vendredi 11-avr-2025, 20h00",null,null,"","",null,null,null,null,null,null,null,null,null,null,null,null,null,null,null,null,null,null,"",""]
[null,null,"EXCELLENCE","NORDETSTRASBOURG","CLTT Menchhoffen 1",1,"CP Zutzendorf 1",1,14,"2025-05-09","vendredi","20h00","Journée 14",{"$f":"IF(AND('resultats a exporter'!$CW$4=$I$2:$I$1100,'resultats a exporter'!$CX$4=$C$2:$C$1100,'resultats a exporter'!$CY$4=$E$2:$E$1100,'resultats a exporter'!$CZ$4=$G$2:$G$1100),'resultats a exporter'!$DA$4,\"\")","v":""},{"$f":"IF(AND('resultats a exporter'!$CW$4=$I$2:$I$1100,'resultats a exporter'!$CX$4=$C$2:$C$1100,'resultats a exporter'!$CY$4=$E$2:$E$1100,'resultats a exporter'!$CZ$4=$G$2:$G$1100),'resultats a exporter'!$DB$4,\"\")","v":""},null,null,null,null,"vendredi 09-mai-2025, 20h00",null,null,"","",null,null,null,null,null,null,null,null,null,null,null,null,null,null,null,null,null,null,"",""]
[null,null,"EXCELLENCE","NORDETSTRASBOURG","CTT 77 Val de Moder 1",1,"AS Electricité Strasbourg 1",1,14,"2025-04-27","dimanche","09h00","Journée 14",{"$f":"IF(AND('resultats a exporter'!$CW$4=$I$2:$I$1100,'resultats a exporter'!$CX$4=$C$2:$C$1100,'resultats a exporter'!$CY$4=$E$2:$E$1100,'resultats a exporter'!$CZ$4=$G$2:$G$1100),'resultats a exporter'!$DA$4,\"\")","v":""},{"$f":"IF(AND('resultats a exporter'!$CW$4=$I$2:$I$1100,'resultats a exporter'!$CX$4=$C$2:$C$1100,'resultats a exporter'!$CY$4=$E$2:$E$1100,'resultats a exporter'!$CZ$4=$G$2:$G$1100),'resultats a exporter'!$DB$4,\"\")","v":""},null,null,null,null,"dimanche 27-avr-2025, 09h00",null,null,"","",null,null,null,null,null,null,null,null,null,null,null,null,null,null,null,null,null,null,"",""]
[null,null,"EXCELLENCE","NORDETSTRASBOURG","CS Tricolore Saverne 1",1,"Hanau TT 1",1,14,"2025-05-09","vendredi","20h30","Journée 14",{"$f":"IF(AND('resultats a exporter'!$CW$4=$I$2:$I$1100,'resultats a exporter'!$CX$4=$C$2:$C$1100,'resultats a exporter'!$CY$4=$E$2:$E$1100,'resultats a exporter'!$CZ$4=$G$2:$G$1100),'resultats a exporter'!$DA$4,\"\")","v":""},{"$f":"IF(AND('resultats a exporter'!$CW$4=$I$2:$I$1100,'resultats a exporter'!$CX$4=$C$2:$C$1100,'resultats a exporter'!$CY$4=$E$2:$E$1100,'resultats a exporter'!$CZ$4=$G$2:$G$1100),'resultats a exporter'!$DB$4,\"\")","v":""},null,null,null,null,"vendredi 09-mai-2025, 20h30",null,null,"","",null,null,null,null,null,null,null,null,null,null,null,null,null,null,null,null,null,null,"",""]
[null,null,"EXCELLENCE","NORDETSTRASBOURG","Amitié Lingolsheim 1",1,null,null,14,"2025-05-07","mercredi","20h00","Journée 14",{"$f":"IF(AND('resultats a exporter'!$CW$4=$I$2:$I$1100,'resultats a exporter'!$CX$4=$C$2:$C$1100,'resultats a exporter'!$CY$4=$E$2:$E$1100,'resultats a exporter'!$CZ$4=$G$2:$G$1100),'resultats a exporter'!$DA$4,\"\")","v":""},{"$f":"IF(AND('resultats a exporter'!$CW$4=$I$2:$I$1100,'resultats a exporter'!$CX$4=$C$2:$C$1100,'resultats a exporter'!$CY$4=$E$2:$E$1100,'resultats a exporter'!$CZ$4=$G$2:$G$1100),'resultats a exporter'!$DB$4,\"\")","v":""},null,null,null,null,"mercredi 07-mai-2025, 20h00",null,null,"","",null,null,null,null,null,null,null,null,null,null,null,null,null,null,null,null,null,null,"",""]
[null,null,"HONNEUR","NORDETSTRASBOURG","Amitié Lingolsheim 2",2,"Amitié Lingolsheim 3",3,1,"2024-10-09","mercredi","20h00","Journée 1",{"$f":"IF(AND('resultats a exporter'!$CW$4=$I$2:$I$1100,'resultats a exporter'!$CX$4=$C$2:$C$1100,'resultats a exporter'!$CY$4=$E$2:$E$1100,'resultats a exporter'!$CZ$4=$G$2:$G$1100),'resultats a exporter'!$DA$4,\"\")","v":""},{"$f":"IF(AND('resultats a exporter'!$CW$4=$I$2:$I$1100,'resultats a exporter'!$CX$4=$C$2:$C$1100,'resultats a exporter'!$CY$4=$E$2:$E$1100,'resultats a exporter'!$CZ$4=$G$2:$G$1100),'resultats a exporter'!$DB$4,\"\")","v":""},"HONNEUR",null,null,null,"mercredi 09-oct-2024, 20h00",null,null,"","",null,null,null,null,null,null,null,null,null,null,null,null,null,null,null,null,null,null,"",""]
[null,null,"HONNEUR","NORDETSTRASBOURG","US Egalitaire Neudorf 1",1,"Hanau TT 2",2,1,"2024-10-10","jeudi","20h00","Journée 1",{"$f":"IF(AND('resultats a exporter'!$CW$4=$I$2:$I$1100,'resultats a exporter'!$CX$4=$C$2:$C$1100,'resultats a exporter'!$CY$4=$E$2:$E$1100,'resultats a exporter'!$CZ$4=$G$2:$G$1100),'resultats a exporter'!$DA$4,\"\")","v":""},{"$f":"IF(AND('resultats a exporter'!$CW$4=$I$2:$I$1100,'resultats a exporter'!$CX$4=$C$2:$C$1100,'resultats a exporter'!$CY$4=$E$2:$E$1100,'resultats a exporter'!$CZ$4=$G$2:$G$1100),'resultats a exporter'!$DB$4,\"\")","v":""},null,"MJC Kirrwiller 1",null,null,"jeudi 10-oct-2024, 20h00",null,null,"","",null,null,null,null,null,null,null,null,null,null,null,null,null,null,null,null,null,null,"",""]
[null,null,"HONNEUR","NORDETSTRASBOURG","CP Zutzendorf 2",2,"ASP Gottenhouse 1",1,1,"2024-10-11","vendredi","20h00","Journée 1",{"$f":"IF(AND('resultats a exporter'!$CW$4=$I$2:$I$1100,'resultats a exporter'!$CX$4=$C$2:$C$1100,'resultats a exporter'!$CY$4=$E$2:$E$1100,'resultats a exporter'!$CZ$4=$G$2:$G$1100),'resultats a exporter'!$DA$4,\"\")","v":""},{"$f":"IF(AND('resultats a exporter'!$CW$4=$I$2:$I$1100,'resultats a exporter'!$CX$4=$C$2:$C$1100,'resultats a exporter'!$CY$4=$E$2:$E$1100,'resultats a exporter'!$CZ$4=$G$2:$G$1100),'resultats a exporter'!$DB$4,\"\")","v":""},null,"ASP Gottenhouse 1",null,null,"vendredi 11-oct-2024, 20h00",null,null,"","",null,null,null,null,null,null,null,null,null,null,null,null,null,null,null,null,null,null,"",""]
[null,null,"HONNEUR","NORDETSTRASBOURG","MJC Kirrwiller 1",1,null,null,1,"2024-10-08","mardi","20h00","Journée 1",{"$f":"IF(AND('resultats a exporter'!$CW$4=$I$2:$I$1100,'resultats a exporter'!$CX$4=$C$2:$C$1100,'resultats a exporter'!$CY$4=$E$2:$E$1100,'resultats a exporter'!$CZ$4=$G$2:$G$1100),'resultats a exporter'!$DA$4,\"\")","v":""},{"$f":"IF(AND('resultats a exporter'!$CW$4=$I$2:$I$1100,'resultats a exporter'!$CX$4=$C$2:$C$1100,'resultats a exporter'!$CY$4=$E$2:$E$1100,'resultats a exporter'!$CZ$4=$G$2:$G$1100),'resultats a exporter'!$DB$4,\"\")","v":""},null,"Amitié Lingolsheim 2",null,null,"mardi 08-oct-2024, 20h00",null,null,"","",null,null,null,null,null,null,null,null,null,null,null,null,null,null,null,null,null,null,"",""]
[null,null,"HONNEUR","NORDETSTRASBOURG","Hanau TT 2",2,"Amitié Lingolsheim 2",2,2,"2024-10-25","vendredi","20h00","Journée 2",{"$f":"IF(AND('resultats a exporter'!$CW$4=$I$2:$I$1100,'resultats a exporter'!$CX$4=$C$2:$C$1100,'resultats a exporter'!$CY$4=$E$2:$E$1100,'resultats a exporter'!$CZ$4=$G$2:$G$1100),'resultats a exporter'!$DA$4,\"\")","v":""},{"$f":"IF(AND('resultats a exporter'!$CW$4=$I$2:$I$1100,'resultats a exporter'!$CX$4=$C$2:$C$1100,'resultats a exporter'!$CY$4=$E$2:$E$1100,'resultats a exporter'!$CZ$4=$G$2:$G$1100),'resultats a exporter'!$DB$4,\"\")","v":""},null,"Amitié Lingolsheim 3",null,null,"vendredi 25-oct-2024, 20h00",null,null,"","",null,null,null,null,null,null,null,null,null,null,null,null,null,null,null,null,null,null,"",""]
[null,null,"HONNEUR","NORDETSTRASBOURG","ASP Gottenhouse 1",1,"US Egalitaire Neudorf 1",1,2,"2024-10-22","mardi","20h00","Journée 2",{"$f":"IF(AND('resultats a exporter'!$CW$4=$I$2:$I$1100,'resultats a exporter'!$CX$4=$C$2:$C$1100,'resultats a exporter'!$CY$4=$E$2:$E$1100,'resultats a exporter'!$CZ$4=$G$2:$G$1100),'resultats a exporter'!$DA$4,\"\")","v":""},{"$f":"IF(AND('resultats a exporter'!$CW$4=$I$2:$I$1100,'resultats a exporter'!$CX$4=$C$2:$C$1100,'resultats a exporter'!$CY$4=$E$2:$E$1100,'resultats a exporter'!$CZ$4=$G$2:$G$1100),'resultats a exporter'!$DB$4,\"\")","v":""},null,"Hanau TT 2",null,null,"mardi 22-oct-2024, 20h00",null,null,"","",null,null,null,null,null,null,null,null,null,null,null,null,null,null,null,null,null,null,"",""]
[null,null,"HONNEUR","NORDETSTRASBOURG",null,null,"CP Zutzendorf 2",2,2,null,"",null,"Journée 2",{"$f":"IF(AND('resultats a exporter'!$CW$4=$I$2:$I$1100,'resultats a exporter'!$CX$4=$C$2:$C$1100,'resultats a exporter'!$CY$4=$E$2:$E$1100,'resultats a exporter'!$CZ$4=$G$2:$G$1100),'resultats a exporter'!$DA$4,\"\")","v":""},{"$f":"IF(AND('resultats a exporter'!$CW$4=$I$2:$I$1100,'resultats a exporter'!$CX$4=$C$2:$C$1100,'resultats a exporter'!$CY$4=$E$2:$E$1100,'resultats a exporter'!$CZ$4=$G$2:$G$1100),'resultats a exporter'!$DB$4,\"\")","v":""},null,"CP Zutzendorf 2",null,null,"",null,null,"","",null,null,null,null,null,null,null,null,null,null,null,null,null,null,null,null,null,null,"",""]
[null,null,"HONNEUR","NORDETSTRASBOURG","Amitié Lingolsheim 3",3,"MJC Kirrwiller 1",1,2,"2024-10-23","mercredi","20h00","Journée 2",{"$f":"IF(AND('resultats a exporter'!$CW$4=$I$2:$I$1100,'resultats a exporter'!$CX$4=$C$2:$C$1100,'resultats a exporter'!$CY$4=$E$2:$E$1100,'resultats a exporter'!$CZ$4=$G$2:$G$1100),'resultats a exporter'!$DA$4,\"\")","v":""},{"$f":"IF(AND('resultats a exporter'!$CW$4=$I$2:$I$1100,'resultats a exporter'!$CX$4=$C$2:$C$1100,'resultats a exporter'!$CY$4=$E$2:$E$1100,'resultats a exporter'!$CZ$4=$G$2:$G$1100),'resultats a exporter'!$DB$4,\"\")","v":""},null,"US Egalitaire Neudorf 1",null,null,"mercredi 23-oct-2024, 20h00",null,null,"","",null,null,null,null,null,null,null,null,null,null,null,null,null,null,null,null,null,null,"",""]
[null,null,"HONNEUR","NORDETSTRASBOURG","Amitié Lingolsheim 2",2,"ASP Gottenhouse 1",1,3,"2024-11-06","mercredi","20h00","Journée 3",{"$f":"IF(AND('resultats a exporter'!$CW$4=$I$2:$I$1100,'resultats a exporter'!$CX$4=$C$2:$C$1100,'resultats a exporter'!$CY$4=$E$2:$E$1100,'resultats a exporter'!$CZ$4=$G$2:$G$1100),'resultats a exporter'!$DA$4,\"\")","v":""},{"$f":"IF(AND('resultats a exporter'!$CW$4=$I$2:$I$1100,'resultats a exporter'!$CX$4=$C$2:$C$1100,'resultats a exporter'!$CY$4=$E$2:$E$1100,'resultats a exporter'!$CZ$4=$G$2:$G$1100),'resultats a exporter'!$DB$4,\"\")","v":""},null,null,null,null,"mercredi 06-nov-2024, 20h00",null,null,"","",null,null,null,null,null,null,null,null,null,null,null,null,null,null,null,null,null,null,"",""]
[null,null,"HONNEUR","NORDETSTRASBOURG","US Egalitaire Neudorf 1",1,null,null,3,"2024-11-07",{"$f":"IF(J67=\"\",\"\",TEXT(J67,\"JJJJ\"))","v":"jeudi"},"20h00","Journée 3",{"$f":"IF(AND('resultats a exporter'!$CW$4=$I$2:$I$1100,'resultats a exporter'!$CX$4=$C$2:$C$1100,'resultats a exporter'!$CY$4=$E$2:$E$1100,'resultats a exporter'!$CZ$4=$G$2:$G$1100),'resultats a exporter'!$DA$4,\"\")","v":""},{"$f":"IF(AND('resultats a exporter'!$CW$4=$I$2:$I$1100,'resultats a exporter'!$CX$4=$C$2:$C$1100,'resultats a exporter'!$CY$4=$E$2:$E$1100,'resultats a exporter'!$CZ$4=$G$2:$G$1100),'resultats a exporter'!$DB$4,\"\")","v":""},null,null,null,null,{"$f":"IF(J67=\"\",\"\",$K67&\" \"&TEXT($J67,\"jj-mmm-aaaa\")&\", \"&$L67)","v":"jeudi 07-nov-2024, 20h00"},null,null,{"$f":"IF(AND(N67<>\"\",O67<>\"\"),T67,\"\")","v":""},{"$f":"IF(AND(N67<>\"\",O67<>\"\"),E67&\" - \"&G67,\"\")","v":""},null,null,null,null,null,null,null,null,null,null,null,null,null,null,null,null,null,null,{"$f":"IF(AND(N67<>\"\",O67<>\"\"),E67,\"\")","v":""},{"$f":"IF(AND(N67<>\"\",O67<>\"\"),G67,\"\")","v":""}]
[null,null,"HONNEUR","NORDETSTRASBOURG","CP Zutzendorf 2",2,"MJC Kirrwiller 1",1,3,"2024-11-08","vendredi","20h00",{"$f":"I$1&\" \"&I68","v":"Journée 3"},{"$f":"IF(AND('resultats a exporter'!$CW$4=$I$2:$I$1100,'resultats a exporter'!$CX$4=$C$2:$C$1100,'resultats a exporter'!$CY$4=$E$2:$E$1100,'resultats a exporter'!$CZ$4=$G$2:$G$1100),'resultats a exporter'!$DA$4,\"\")","v":""},{"$f":"IF(AND('resultats a exporter'!$CW$4=$I$2:$I$1100,'resultats a exporter'!$CX$4=$C$2:$C$1100,'resultats a exporter'!$CY$4=$E$2:$E$1100,'resultats a exporter'!$CZ$4=$G$2:$G$1100),'resultats a exporter'!$DB$4,\"\")","v":""},null,null,null,null,"vendredi 08-nov-2024, 20h00",null,null,"","",null,null,null,null,null,null,null,null,null,null,null,null,null,null,null,null,null,null,"",""]
[null,null,"HONNEUR","NORDETSTRASBOURG","Amitié Lingolsheim 3",3,"Hanau TT 2",2,3,"2024-11-06","mercredi","20h00","Journée 3",{"$f":"IF(AND('resultats a exporter'!$CW$4=$I$2:$I$1100,'resultats a exporter'!$CX$4=$C$2:$C$1100,'resultats a exporter'!$CY$4=$E$2:$E$1100,'resultats a exporter'!$CZ$4=$G$2:$G$1100),'resultats a exporter'!$DA$4,\"\")","v":""},{"$f":"IF(AND('resultats a exporter'!$CW$4=$I$2:$I$1100,'resultats a exporter'!$CX$4=$C$2:$C$1100,'resultats a exporter'!$CY$4=$E$2:$E$1100,'resultats a exporter'!$CZ$4=$G$2:$G$1100),'resultats a exporter'!$DB$4,\"\")","v":""},null,null,null,null,"mercredi 06-nov-2024, 20h00",null,null,"","",null,null,null,null,null,null,null,null,null,null,null,null,null,null,null,null,null,null,"",""]
[null,null,"HONNEUR","NORDETSTRASBOURG",null,null,"Amitié Lingolsheim 2",2,4,null,"",null,"Journée 4",{"$f":"IF(AND('resultats a exporter'!$CW$4=$I$2:$I$1100,'resultats a exporter'!$CX$4=$C$2:$C$1100,'resultats a exporter'!$CY$4=$E$2:$E$1100,'resultats a exporter'!$CZ$4=$G$2:$G$1100),'resultats a exporter'!$DA$4,\"\")","v":""},{"$f":"IF(AND('resultats a exporter'!$CW$4=$I$2:$I$1100,'resultats a exporter'!$CX$4=$C$2:$C$1100,'resultats a exporter'!$CY$4=$E$2:$E$1100,'resultats a exporter'!$CZ$4=$G$2:$G$1100),'resultats a exporter'!$DB$4,\"\")","v":""},null,null,null,null,"",null,null,"","",null,null,null,null,null,null,null,null,null,null,null,null,null,null,null,null,null,null,"",""]
[null,null,"HONNEUR","NORDETSTRASBOURG","MJC Kirrwiller 1",1,"US Egalitaire Neudorf 1",1,4,"2024-11-19","mardi","20h00","Journée 4",{"$f":"IF(AND('resultats a exporter'!$CW$4=$I$2:$I$1100,'resultats a exporter'!$CX$4=$C$2:$C$1100,'resultats a exporter'!$CY$4=$E$2:$E$1100,'resultats a exporter'!$CZ$4=$G$2:$G$1100),'resultats a exporter'!$DA$4,\"\")","v":""},{"$f":"IF(AND('resultats a exporter'!$CW$4=$I$2:$I$1100,'resultats a exporter'!$CX$4=$C$2:$C$1100,'resultats a exporter'!$CY$4=$E$2:$E$1100,'resultats a exporter'!$CZ$4=$G$2:$G$1100),'resultats a exporter'!$DB$4,\"\")","v":""},null,null,null,null,"mardi 19-nov-2024, 20h00",null,null,"","",null,null,null,null,null,null,null,null,null,null,null,null,null,null,null,null,null,null,"",""]
[null,null,"HONNEUR","NORDETSTRASBOURG","CP Zutzendorf 2",2,"Amitié Lingolsheim 3",3,4,"2024-11-22","vendredi","20h00","Journée 4",{"$f":"IF(AND('resultats a exporter'!$CW$4=$I$2:$I$1100,'resultats a exporter'!$CX$4=$C$2:$C$1100,'resultats a exporter'!$CY$4=$E$2:$E$1100,'resultats a exporter'!$CZ$4=$G$2:$G$1100),'resultats a exporter'!$DA$4,\"\")","v":""},{"$f":"IF(AND('resultats a exporter'!$CW$4=$I$2:$I$1100,'resultats a exporter'!$CX$4=$C$2:$C$1100,'resultats a exporter'!$CY$4=$E$2:$E$1100,'resultats a exporter'!$CZ$4=$G$2:$G$1100),'resultats a exporter'!$DB$4,\"\")","v":""},null,null,null,null,"vendredi 22-nov-2024, 20h00",null,null,"","",null,null,null,null,null,null,null,null,null,null,null,null,null,null,null,null,null,null,"",""]
[null,null,"HONNEUR","NORDETSTRASBOURG","Hanau TT 2",2,"ASP Gottenhouse 1",1,4,"2024-11-22","vendredi","20h00","Journée 4",{"$f":"IF(AND('resultats a exporter'!$CW$4=$I$2:$I$1100,'resultats a exporter'!$CX$4=$C$2:$C$1100,'resultats a exporter'!$CY$4=$E$2:$E$1100,'resultats a exporter'!$CZ$4=$G$2:$G$1100),'resultats a exporter'!$DA$4,\"\")","v":""},{"$f":"IF(AND('resultats a exporter'!$CW$4=$I$2:$I$1100,'resultats a exporter'!$CX$4=$C$2:$C$1100,'resultats a exporter'!$CY$4=$E$2:$E$1100,'resultats a exporter'!$CZ$4=$G$2:$G$1100),'resultats a exporter'!$DB$4,\"\")","v":""},null,null,null,null,"vendredi 22-nov-2024, 20h00",null,null,"","",null,null,null,null,null,null,null,null,null,null,null,null,null,null,null,null,null,null,"",""]
[null,null,"HONNEUR","NORDETSTRASBOURG","Amitié Lingolsheim 2",2,"MJC Kirrwiller 1",1,5,"2024-12-04","mercredi","20h00","Journée 5",{"$f":"IF(AND('resultats a exporter'!$CW$4=$I$2:$I$1100,'resultats a exporter'!$CX$4=$C$2:$C$1100,'resultats a exporter'!$CY$4=$E$2:$E$1100,'resultats a exporter'!$CZ$4=$G$2:$G$1100),'resultats a exporter'!$DA$4,\"\")","v":""},{"$f":"IF(AND('resultats a exporter'!$CW$4=$I$2:$I$1100,'resultats a exporter'!$CX$4=$C$2:$C$1100,'resultats a exporter'!$CY$4=$E$2:$E$1100,'resultats a exporter'!$CZ$4=$G$2:$G$1100),'resultats a exporter'!$DB$4,\"\")","v":""},null,null,null,null,"mercredi 04-déc-2024, 20h00",null,null,"","",null,null,null,null,null,null,null,null,null,null,null,null,null,null,null,null,null,null,"",""]
[null,null,"HONNEUR","NORDETSTRASBOURG","US Egalitaire Neudorf 1",1,"CP Zutzendorf 2",2,5,"2024-12-05","jeudi","20h00","Journée 5",{"$f":"IF(AND('resultats a exporter'!$CW$4=$I$2:$I$1100,'resultats a exporter'!$CX$4=$C$2:$C$1100,'resultats a exporter'!$CY$4=$E$2:$E$1100,'resultats a exporter'!$CZ$4=$G$2:$G$1100),'resultats a exporter'!$DA$4,\"\")","v":""},{"$f":"IF(AND('resultats a exporter'!$CW$4=$I$2:$I$1100,'resultats a exporter'!$CX$4=$C$2:$C$1100,'resultats a exporter'!$CY$4=$E$2:$E$1100,'resultats a exporter'!$CZ$4=$G$2:$G$1100),'resultats a exporter'!$DB$4,\"\")","v":""},null,null,null,null,"jeudi 05-déc-2024, 20h00",null,null,"","",null,null,null,null,null,null,null,null,null,null,null,null,null,null,null,null,null,null,"",""]
[null,null,"HONNEUR","NORDETSTRASBOURG",null,null,"Hanau TT 2",2,5,null,"",null,"Journée 5",{"$f":"IF(AND('resultats a exporter'!$CW$4=$I$2:$I$1100,'resultats a exporter'!$CX$4=$C$2:$C$1100,'resultats a exporter'!$CY$4=$E$2:$E$1100,'resultats a exporter'!$CZ$4=$G$2:$G$1100),'resultats a exporter'!$DA$4,\"\")","v":""},{"$f":"IF(AND('resultats a exporter'!$CW$4=$I$2:$I$1100,'resultats a exporter'!$CX$4=$C$2:$C$1100,'resultats a exporter'!$CY$4=$E$2:$E$1100,'resultats a exporter'!$CZ$4=$G$2:$G$1100),'resultats a exporter'!$DB$4,\"\")","v":""},null,null,null,null,"",null,null,"","",null,null,null,null,null,null,null,null,null,null,null,null,null,null,null,null,null,null,"",""]
[null,null,"HONNEUR","NORDETSTRASBOURG","ASP Gottenhouse 1",1,"Amitié Lingolsheim 3",3,5,"2024-12-03","mardi","20h00","Journée 5",{"$f":"IF(AND('resultats a exporter'!$CW$4=$I$2:$I$1100,'resultats a exporter'!$CX$4=$C$2:$C$1100,'resultats a exporter'!$CY$4=$E$2:$E$1100,'resultats a exporter'!$CZ$4=$G$2:$G$1100),'resultats a exporter'!$DA$4,\"\")","v":""},{"$f":"IF(AND('resultats a exporter'!$CW$4=$I$2:$I$1100,'resultats a exporter'!$CX$4=$C$2:$C$1100,'resultats a exporter'!$CY$4=$E$2:$E$1100,'resultats a exporter'!$CZ$4=$G$2:$G$1100),'resultats a exporter'!$DB$4,\"\")","v":""},null,null,null,null,"mardi 03-déc-2024, 20h00",null,null,"","",null,null,null,null,null,null,null,null,null,null,null,null,null,null,null,null,null,null,"",""]
[null,null,"HONNEUR","NORDETSTRASBOURG","CP Zutzendorf 2",2,"Amitié Lingolsheim 2",2,6,"2024-12-20","vendredi","20h00","Journée 6",{"$f":"IF(AND('resultats a exporter'!$CW$4=$I$2:$I$1100,'resultats a exporter'!$CX$4=$C$2:$C$1100,'resultats a exporter'!$CY$4=$E$2:$E$1100,'resultats a exporter'!$CZ$4=$G$2:$G$1100),'resultats a exporter'!$DA$4,\"\")","v":""},{"$f":"IF(AND('resultats a exporter'!$CW$4=$I$2:$I$1100,'resultats a exporter'!$CX$4=$C$2:$C$1100,'resultats a exporter'!$CY$4=$E$2:$E$1100,'resultats a exporter'!$CZ$4=$G$2:$G$1100),'resultats a exporter'!$DB$4,\"\")","v":""},null,null,null,null,"vendredi 20-déc-2024, 20h00",null,null,"","",null,null,null,null,null,null,null,null,null,null,null,null,null,null,null,null,null,null,"",""]
[null,null,"HONNEUR","NORDETSTRASBOURG","US Egalitaire Neudorf 1",1,"Amitié Lingolsheim 3",2,6,"2024-12-19","jeudi","20h00","Journée 6",{"$f":"IF(AND('resultats a exporter'!$CW$4=$I$2:$I$1100,'resultats a exporter'!$CX$4=$C$2:$C$1100,'resultats a exporter'!$CY$4=$E$2:$E$1100,'resultats a exporter'!$CZ$4=$G$2:$G$1100),'resultats a exporter'!$DA$4,\"\")","v":""},{"$f":"IF(AND('resultats a exporter'!$CW$4=$I$2:$I$1100,'resultats a exporter'!$CX$4=$C$2:$C$1100,'resultats a exporter'!$CY$4=$E$2:$E$1100,'resultats a exporter'!$CZ$4=$G$2:$G$1100),'resultats a exporter'!$DB$4,\"\")","v":""},null,null,null,null,"jeudi 19-déc-2024, 20h00",null,null,"","",null,null,null,null,null,null,null,null,null,null,null,null,null,null,null,null,null,null,"",""]
[null,null,"HONNEUR","NORDETSTRASBOURG","Hanau TT 2",2,"MJC Kirrwiller 1",1,6,"2024-12-20","vendredi","20h00","Journée 6",{"$f":"IF(AND('resultats a exporter'!$CW$4=$I$2:$I$1100,'resultats a exporter'!$CX$4=$C$2:$C$1100,'resultats a exporter'!$CY$4=$E$2:$E$1100,'resultats a exporter'!$CZ$4=$G$2:$G$1100),'resultats a exporter'!$DA$4,\"\")","v":""},{"$f":"IF(AND('resultats a exporter'!$CW$4=$I$2:$I$1100,'resultats a exporter'!$CX$4=$C$2:$C$1100,'resultats a exporter'!$CY$4=$E$2:$E$1100,'resultats a exporter'!$CZ$4=$G$2:$G$1100),'resultats a exporter'!$DB$4,\"\")","v":""},null,null,null,null,"vendredi 20-déc-2024, 20h00",null,null,"","",null,null,null,null,null,null,null,null,null,null,null,null,null,null,null,null,null,null,"",""]
[null,null,"HONNEUR","NORDETSTRASBOURG",null,null,"ASP Gottenhouse 1",1,6,null,"",null,"Journée 6",{"$f":"IF(AND('resultats a exporter'!$CW$4=$I$2:$I$1100,'resultats a exporter'!$CX$4=$C$2:$C$1100,'resultats a exporter'!$CY$4=$E$2:$E$1100,'resultats a exporter'!$CZ$4=$G$2:$G$1100),'resultats a exporter'!$DA$4,\"\")","v":""},{"$f":"IF(AND('resultats a exporter'!$CW$4=$I$2:$I$1100,'resultats a exporter'!$CX$4=$C$2:$C$1100,'resultats a exporter'!$CY$4=$E$2:$E$1100,'resultats a exporter'!$CZ$4=$G$2:$G$1100),'resultats a exporter'!$DB$4,\"\")","v":""},null,null,null,null,"",null,null,"","",null,null,null,null,null,null,null,null,null,null,null,null,null,null,null,null,null,null,"",""]
[null,null,"HONNEUR","NORDETSTRASBOURG","Amitié Lingolsheim 2",2,"US Egalitaire Neudorf 1",1,7,"2025-01-08","mercredi","20h00","Journée 7",{"$f":"IF(AND('resultats a exporter'!$CW$4=$I$2:$I$1100,'resultats a exporter'!$CX$4=$C$2:$C$1100,'resultats a exporter'!$CY$4=$E$2:$E$1100,'resultats a exporter'!$CZ$4=$G$2:$G$1100),'resultats a exporter'!$DA$4,\"\")","v":""},{"$f":"IF(AND('resultats a exporter'!$CW$4=$I$2:$I$1100,'resultats a exporter'!$CX$4=$C$2:$C$1100,'resultats a exporter'!$CY$4=$E$2:$E$1100,'resultats a exporter'!$CZ$4=$G$2:$G$1100),'resultats a exporter'!$DB$4,\"\")","v":""},null,null,null,null,"mercredi 08-janv-2025, 20h00",null,null,"","",null,null,null,null,null,null,null,null,null,null,null,null,null,null,null,null,null,null,"",""]
[null,null,"HONNEUR","NORDETSTRASBOURG","Hanau TT 2",2,"CP Zutzendorf 2",2,7,"2025-01-10","vendredi","20h00","Journée 7",{"$f":"IF(AND('resultats a exporter'!$CW$4=$I$2:$I$1100,'resultats a exporter'!$CX$4=$C$2:$C$1100,'resultats a exporter'!$CY$4=$E$2:$E$1100,'resultats a exporter'!$CZ$4=$G$2:$G$1100),'resultats a exporter'!$DA$4,\"\")","v":""},{"$f":"IF(AND('resultats a exporter'!$CW$4=$I$2:$I$1100,'resultats a exporter'!$CX$4=$C$2:$C$1100,'resultats a exporter'!$CY$4=$E$2:$E$1100,'resultats a exporter'!$CZ$4=$G$2:$G$1100),'resultats a exporter'!$DB$4,\"\")","v":""},null,null,null,null,"vendredi 10-janv-2025, 20h00",null,null,"","",null,null,null,null,null,null,null,null,null,null,null,null,null,null,null,null,null,null,"",""]
[null,null,"HONNEUR","NORDETSTRASBOURG","ASP Gottenhouse 1",1,"MJC Kirrwiller 1",3,7,"2025-01-07","mardi","20h00","Journée 7",{"$f":"IF(AND('resultats a exporter'!$CW$4=$I$2:$I$1100,'resultats a exporter'!$CX$4=$C$2:$C$1100,'resultats a exporter'!$CY$4=$E$2:$E$1100,'resultats a exporter'!$CZ$4=$G$2:$G$1100),'resultats a exporter'!$DA$4,\"\")","v":""},{"$f":"IF(AND('resultats a exporter'!$CW$4=$I$2:$I$1100,'resultats a exporter'!$CX$4=$C$2:$C$1100,'resultats a exporter'!$CY$4=$E$2:$E$1100,'resultats a exporter'!$CZ$4=$G$2:$G$1100),'resultats a exporter'!$DB$4,\"\")","v":""},null,null,null,null,"mardi 07-janv-2025, 20h00",null,null,"","",null,null,null,null,null,null,null,null,null,null,null,null,null,null,null,null,null,null,"",""]
[null,null,"HONNEUR","NORDETSTRASBOURG","Amitié Lingolsheim 3",3,null,null,7,"2025-01-08","mercredi","20h00","Journée 7",{"$f":"IF(AND('resultats a exporter'!$CW$4=$I$2:$I$1100,'resultats a exporter'!$CX$4=$C$2:$C$1100,'resultats a exporter'!$CY$4=$E$2:$E$1100,'resultats a exporter'!$CZ$4=$G$2:$G$1100),'resultats a exporter'!$DA$4,\"\")","v":""},{"$f":"IF(AND('resultats a exporter'!$CW$4=$I$2:$I$1100,'resultats a exporter'!$CX$4=$C$2:$C$1100,'resultats a exporter'!$CY$4=$E$2:$E$1100,'resultats a exporter'!$CZ$4=$G$2:$G$1100),'resultats a exporter'!$DB$4,\"\")","v":""},null,null,null,null,"mercredi 08-janv-2025, 20h00",null,null,"","",null,null,null,null,null,null,null,null,null,null,null,null,null,null,null,null,null,null,"",""]
[null,null,"HONNEUR","NORDETSTRASBOURG","Amitié Lingolsheim 3",3,"Amitié Lingolsheim 2",2,8,"2025-01-22","mercredi","20h00","Journée 8",{"$f":"IF(AND('resultats a exporter'!$CW$4=$I$2:$I$1100,'resultats a exporter'!$CX$4=$C$2:$C$1100,'resultats a exporter'!$CY$4=$E$2:$E$1100,'resultats a exporter'!$CZ$4=$G$2:$G$1100),'resultats a exporter'!$DA$4,\"\")","v":""},{"$f":"IF(AND('resultats a exporter'!$CW$4=$I$2:$I$1100,'resultats a exporter'!$CX$4=$C$2:$C$1100,'resultats a exporter'!$CY$4=$E$2:$E$1100,'resultats a exporter'!$CZ$4=$G$2:$G$1100),'resultats a exporter'!$DB$4,\"\")","v":""},null,null,null,null,"mercredi 22-janv-2025, 20h00",null,null,"","",null,null,null,null,null,null,null,null,null,null,null,null,null,null,null,null,null,null,"",""]
[null,null,"HONNEUR","NORDETSTRASBOURG","Hanau TT 2",2,"US Egalitaire Neudorf 1",1,8,"2025-01-24","vendredi","20h00","Journée 8",{"$f":"IF(AND('resultats a exporter'!$CW$4=$I$2:$I$1100,'resultats a exporter'!$CX$4=$C$2:$C$1100,'resultats a exporter'!$CY$4=$E$2:$E$1100,'resultats a exporter'!$CZ$4=$G$2:$G$1100),'resultats a exporter'!$DA$4,\"\")","v":""},{"$f":"IF(AND('resultats a exporter'!$CW$4=$I$2:$I$1100,'resultats a exporter'!$CX$4=$C$2:$C$1100,'resultats a exporter'!$CY$4=$E$2:$E$1100,'resultats a exporter'!$CZ$4=$G$2:$G$1100),'resultats a exporter'!$DB$4,\"\")","v":""},null,null,null,null,"vendredi 24-janv-2025, 20h00",null,null,"","",null,null,null,null,null,null,null,null,null,null,null,null,null,null,null,null,null,null,"",""]
[null,null,"HONNEUR","NORDETSTRASBOURG","ASP Gottenhouse 1",1,"CP Zutzendorf 2",2,8,"2025-01-21","mardi","20h00","Journée 8",{"$f":"IF(AND('resultats a exporter'!$CW$4=$I$2:$I$1100,'resultats a exporter'!$CX$4=$C$2:$C$1100,'resultats a exporter'!$CY$4=$E$2:$E$1100,'resultats a exporter'!$CZ$4=$G$2:$G$1100),'resultats a exporter'!$DA$4,\"\")","v":""},{"$f":"IF(AND('resultats a exporter'!$CW$4=$I$2:$I$1100,'resultats a exporter'!$CX$4=$C$2:$C$1100,'resultats a exporter'!$CY$4=$E$2:$E$1100,'resultats a exporter'!$CZ$4=$G$2:$G$1100),'resultats a exporter'!$DB$4,\"\")","v":""},null,null,null,null,"mardi 21-janv-2025, 20h00",null,null,"","",null,null,null,null,null,null,null,null,null,null,null,null,null,null,null,null,null,null,"",""]
[null,null,"HONNEUR","NORDETSTRASBOURG",null,null,"MJC Kirrwiller 1",1,8,null,"",null,"Journée 8",{"$f":"IF(AND('resultats a exporter'!$CW$4=$I$2:$I$1100,'resultats a exporter'!$CX$4=$C$2:$C$1100,'resultats a exporter'!$CY$4=$E$2:$E$1100,'resultats a exporter'!$CZ$4=$G$2:$G$1100),'resultats a exporter'!$DA$4,\"\")","v":""},{"$f":"IF(AND('resultats a exporter'!$CW$4=$I$2:$I$1100,'resultats a exporter'!$CX$4=$C$2:$C$1100,'resultats a exporter'!$CY$4=$E$2:$E$1100,'resultats a exporter'!$CZ$4=$G$2:$G$1100),'resultats a exporter'!$DB$4,\"\")","v":""},null,null,null,null,"",null,null,"","",null,null,null,null,null,null,null,null,null,null,null,null,null,null,null,null,null,null,"",""]
[null,null,"HONNEUR","NORDETSTRASBOURG","Amitié Lingolsheim 2",2,"Hanau TT 2",2,9,"2025-02-05","mercredi","20h00","Journée 9",{"$f":"IF(AND('resultats a exporter'!$CW$4=$I$2:$I$1100,'resultats a exporter'!$CX$4=$C$2:$C$1100,'resultats a exporter'!$CY$4=$E$2:$E$1100,'resultats a exporter'!$CZ$4=$G$2:$G$1100),'resultats a exporter'!$DA$4,\"\")","v":""},{"$f":"IF(AND('resultats a exporter'!$CW$4=$I$2:$I$1100,'resultats a exporter'!$CX$4=$C$2:$C$1100,'resultats a exporter'!$CY$4=$E$2:$E$1100,'resultats a exporter'!$CZ$4=$G$2:$G$1100),'resultats a exporter'!$DB$4,\"\")","v":""},null,null,null,null,"mercredi 05-févr-2025, 20h00",null,null,"","",null,null,null,null,null,null,null,null,null,null,null,null,null,null,null,null,null,null,"",""]
[null,null,"HONNEUR","NORDETSTRASBOURG","US Egalitaire Neudorf 1",1,"ASP Gottenhouse 1",1,9,"2025-02-06","jeudi","20h00","Journée 9",{"$f":"IF(AND('resultats a exporter'!$CW$4=$I$2:$I$1100,'resultats a exporter'!$CX$4=$C$2:$C$1100,'resultats a exporter'!$CY$4=$E$2:$E$1100,'resultats a exporter'!$CZ$4=$G$2:$G$1100),'resultats a exporter'!$DA$4,\"\")","v":""},{"$f":"IF(AND('resultats a exporter'!$CW$4=$I$2:$I$1100,'resultats a exporter'!$CX$4=$C$2:$C$1100,'resultats a exporter'!$CY$4=$E$2:$E$1100,'resultats a exporter'!$CZ$4=$G$2:$G$1100),'resultats a exporter'!$DB$4,\"\")","v":""},null,null,null,null,"jeudi 06-févr-2025, 20h00",null,null,"","",null,null,null,null,null,null,null,null,null,null,null,null,null,null,null,null,null,null,"",""]
[null,null,"HONNEUR","NORDETSTRASBOURG","CP Zutzendorf 2",2,null,null,9,"2025-02-07","vendredi","20h00","Journée 9",{"$f":"IF(AND('resultats a exporter'!$CW$4=$I$2:$I$1100,'resultats a exporter'!$CX$4=$C$2:$C$1100,'resultats a exporter'!$CY$4=$E$2:$E$1100,'resultats a exporter'!$CZ$4=$G$2:$G$1100),'resultats a exporter'!$DA$4,\"\")","v":""},{"$f":"IF(AND('resultats a exporter'!$CW$4=$I$2:$I$1100,'resultats a exporter'!$CX$4=$C$2:$C$1100,'resultats a exporter'!$CY$4=$E$2:$E$1100,'resultats a exporter'!$CZ$4=$G$2:$G$1100),'resultats a exporter'!$DB$4,\"\")","v":""},null,null,null,null,"vendredi 07-févr-2025, 20h00",null,null,"","",null,null,null,null,null,null,null,null,null,null,null,null,null,null,null,null,null,null,"",""]
[null,null,"HONNEUR","NORDETSTRASBOURG","MJC Kirrwiller 1",1,"Amitié Lingolsheim 3",3,9,"2025-02-04","mardi","20h00","Journée 9",{"$f":"IF(AND('resultats a exporter'!$CW$4=$I$2:$I$1100,'resultats a exporter'!$CX$4=$C$2:$C$1100,'resultats a exporter'!$CY$4=$E$2:$E$1100,'resultats a exporter'!$CZ$4=$G$2:$G$1100),'resultats a exporter'!$DA$4,\"\")","v":""},{"$f":"IF(AND('resultats a exporter'!$CW$4=$I$2:$I$1100,'resultats a exporter'!$CX$4=$C$2:$C$1100,'resultats a exporter'!$CY$4=$E$2:$E$1100,'resultats a exporter'!$CZ$4=$G$2:$G$1100),'resultats a exporter'!$DB$4,\"\")","v":""},null,null,null,null,"mardi 04-févr-2025, 20h00",null,null,"","",null,null,null,null,null,null,null,null,null,null,null,null,null,null,null,null,null,null,"",""]
[null,null,"HONNEUR","NORDETSTRASBOURG","ASP Gottenhouse 1",1,"Amitié Lingolsheim 2",2,10,"2025-02-25","mardi","20h00","Journée 10",{"$f":"IF(AND('resultats a exporter'!$CW$4=$I$2:$I$1100,'resultats a exporter'!$CX$4=$C$2:$C$1100,'resultats a exporter'!$CY$4=$E$2:$E$1100,'resultats a exporter'!$CZ$4=$G$2:$G$1100),'resultats a exporter'!$DA$4,\"\")","v":""},{"$f":"IF(AND('resultats a exporter'!$CW$4=$I$2:$I$1100,'resultats a exporter'!$CX$4=$C$2:$C$1100,'resultats a exporter'!$CY$4=$E$2:$E$1100,'resultats a exporter'!$CZ$4=$G$2:$G$1100),'resultats a exporter'!$DB$4,\"\")","v":""},null,null,null,null,"mardi 25-févr-2025, 20h00",null,null,"","",null,null,null,null,null,null,null,null,null,null,null,null,null,null,null,null,null,null,"",""]
[null,null,"HONNEUR","NORDETSTRASBOURG",null,null,"US Egalitaire Neudorf 1",1,10,null,"",null,"Journée 10",{"$f":"IF(AND('resultats a exporter'!$CW$4=$I$2:$I$1100,'resultats a exporter'!$CX$4=$C$2:$C$1100,'resultats a exporter'!$CY$4=$E$2:$E$1100,'resultats a exporter'!$CZ$4=$G$2:$G$1100),'resultats a exporter'!$DA$4,\"\")","v":""},{"$f":"IF(AND('resultats a exporter'!$CW$4=$I$2:$I$1100,'resultats a exporter'!$CX$4=$C$2:$C$1100,'resultats a exporter'!$CY$4=$E$2:$E$1100,'resultats a exporter'!$CZ$4=$G$2:$G$1100),'resultats a exporter'!$DB$4,\"\")","v":""},null,null,null,null,"",null,null,"","",null,null,null,null,null,null,null,null,null,null,null,null,null,null,null,null,null,null,"",""]
[null,null,"HONNEUR","NORDETSTRASBOURG","MJC Kirrwiller 1",1,"CP Zutzendorf 2",2,10,"2025-02-25","mardi","20h00","Journée 10",{"$f":"IF(AND('resultats a exporter'!$CW$4=$I$2:$I$1100,'resultats a exporter'!$CX$4=$C$2:$C$1100,'resultats a exporter'!$CY$4=$E$2:$E$1100,'resultats a exporter'!$CZ$4=$G$2:$G$1100),'resultats a exporter'!$DA$4,\"\")","v":""},{"$f":"IF(AND('resultats a exporter'!$CW$4=$I$2:$I$1100,'resultats a exporter'!$CX$4=$C$2:$C$1100,'resultats a exporter'!$CY$4=$E$2:$E$1100,'resultats a exporter'!$CZ$4=$G$2:$G$1100),'resultats a exporter'!$DB$4,\"\")","v":""},null,null,null,null,"mardi 25-févr-2025, 20h00",null,null,"","",null,null,null,null,null,null,null,null,null,null,null,null,null,null,null,null,null,null,"",""]
[null,null,"HONNEUR","NORDETSTRASBOURG","Hanau TT 2",2,"Amitié Lingolsheim 3",3,10,"2025-02-28","vendredi","20h00","Journée 10",{"$f":"IF(AND('resultats a exporter'!$CW$4=$I$2:$I$1100,'resultats a exporter'!$CX$4=$C$2:$C$1100,'resultats a exporter'!$CY$4=$E$2:$E$1100,'resultats a exporter'!$CZ$4=$G$2:$G$1100),'resultats a exporter'!$DA$4,\"\")","v":""},{"$f":"IF(AND('resultats a exporter'!$CW$4=$I$2:$I$1100,'resultats a exporter'!$CX$4=$C$2:$C$1100,'resultats a exporter'!$CY$4=$E$2:$E$1100,'resultats a exporter'!$CZ$4=$G$2:$G$1100),'resultats a exporter'!$DB$4,\"\")","v":""},null,null,null,null,"vendredi 28-févr-2025, 20h00",null,null,"","",null,null,null,null,null,null,null,null,null,null,null,null,null,null,null,null,null,null,"",""]
[null,null,"HONNEUR","NORDETSTRASBOURG","Amitié Lingolsheim 2",2,null,null,11,"2025-03-12","mercredi","20h00","Journée 11",{"$f":"IF(AND('resultats a exporter'!$CW$4=$I$2:$I$1100,'resultats a exporter'!$CX$4=$C$2:$C$1100,'resultats a exporter'!$CY$4=$E$2:$E$1100,'resultats a exporter'!$CZ$4=$G$2:$G$1100),'resultats a exporter'!$DA$4,\"\")","v":""},{"$f":"IF(AND('resultats a exporter'!$CW$4=$I$2:$I$1100,'resultats a exporter'!$CX$4=$C$2:$C$1100,'resultats a exporter'!$CY$4=$E$2:$E$1100,'resultats a exporter'!$CZ$4=$G$2:$G$1100),'resultats a exporter'!$DB$4,\"\")","v":""},null,null,null,null,"mercredi 12-mars-2025, 20h00",null,null,"","",null,null,null,null,null,null,null,null,null,null,null,null,null,null,null,null,null,null,"",""]
[null,null,"HONNEUR","NORDETSTRASBOURG","US Egalitaire Neudorf 1",1,"MJC Kirrwiller 1",1,11,"2025-03-13","jeudi","20h00","Journée 11",{"$f":"IF(AND('resultats a exporter'!$CW$4=$I$2:$I$1100,'resultats a exporter'!$CX$4=$C$2:$C$1100,'resultats a exporter'!$CY$4=$E$2:$E$1100,'resultats a exporter'!$CZ$4=$G$2:$G$1100),'resultats a exporter'!$DA$4,\"\")","v":""},{"$f":"IF(AND('resultats a exporter'!$CW$4=$I$2:$I$1100,'resultats a exporter'!$CX$4=$C$2:$C$1100,'resultats a exporter'!$CY$4=$E$2:$E$1100,'resultats a exporter'!$CZ$4=$G$2:$G$1100),'resultats a exporter'!$DB$4,\"\")","v":""},null,null,null,null,"jeudi 13-mars-2025, 20h00",null,null,"","",null,null,null,null,null,null,null,null,null,null,null,null,null,null,null,null,null,null,"",""]
[null,null,"HONNEUR","NORDETSTRASBOURG","Amitié Lingolsheim 3",3,"CP Zutzendorf 2",2,11,"2025-03-12","mercredi","20h00","Journée 11",{"$f":"IF(AND('resultats a exporter'!$CW$4=$I$2:$I$1100,'resultats a exporter'!$CX$4=$C$2:$C$1100,'resultats a exporter'!$CY$4=$E$2:$E$1100,'resultats a exporter'!$CZ$4=$G$2:$G$1100),'resultats a exporter'!$DA$4,\"\")","v":""},{"$f":"IF(AND('resultats a exporter'!$CW$4=$I$2:$I$1100,'resultats a exporter'!$CX$4=$C$2:$C$1100,'resultats a exporter'!$CY$4=$E$2:$E$1100,'resultats a exporter'!$CZ$4=$G$2:$G$1100),'resultats a exporter'!$DB$4,\"\")","v":""},null,null,null,null,"mercredi 12-mars-2025, 20h00",null,null,"","",null,null,null,null,null,null,null,null,null,null,null,null,null,null,null,null,null,null,"",""]
[null,null,"HONNEUR","NORDETSTRASBOURG","ASP Gottenhouse 1",1,"Hanau TT 2",2,11,"2025-03-11","mardi","20h00","Journée 11",{"$f":"IF(AND('resultats a exporter'!$CW$4=$I$2:$I$1100,'resultats a exporter'!$CX$4=$C$2:$C$1100,'resultats a exporter'!$CY$4=$E$2:$E$1100,'resultats a exporter'!$CZ$4=$G$2:$G$1100),'resultats a exporter'!$DA$4,\"\")","v":""},{"$f":"IF(AND('resultats a exporter'!$CW$4=$I$2:$I$1100,'resultats a exporter'!$CX$4=$C$2:$C$1100,'resultats a exporter'!$CY$4=$E$2:$E$1100,'resultats a exporter'!$CZ$4=$G$2:$G$1100),'resultats a exporter'!$DB$4,\"\")","v":""},null,null,null,null,"mardi 11-mars-2025, 20h00",null,null,"","",null,null,null,null,null,null,null,null,null,null,null,null,null,null,null,null,null,null,"",""]
[null,null,"HONNEUR","NORDETSTRASBOURG","MJC Kirrwiller 1",1,"Amitié Lingolsheim 2",2,12,"2025-03-18","mardi","20h00","Journée 12",{"$f":"IF(AND('resultats a exporter'!$CW$4=$I$2:$I$1100,'resultats a exporter'!$CX$4=$C$2:$C$1100,'resultats a exporter'!$CY$4=$E$2:$E$1100,'resultats a exporter'!$CZ$4=$G$2:$G$1100),'resultats a exporter'!$DA$4,\"\")","v":""},{"$f":"IF(AND('resultats a exporter'!$CW$4=$I$2:$I$1100,'resultats a exporter'!$CX$4=$C$2:$C$1100,'resultats a exporter'!$CY$4=$E$2:$E$1100,'resultats a exporter'!$CZ$4=$G$2:$G$1100),'resultats a exporter'!$DB$4,\"\")","v":""},null,null,null,null,"mardi 18-mars-2025, 20h00",null,null,"","",null,null,null,null,null,null,null,null,null,null,null,null,null,null,null,null,null,null,"",""]
[null,null,"HONNEUR","NORDETSTRASBOURG","CP Zutzendorf 2",2,"US Egalitaire Neudorf 1",1,12,"2025-03-21","vendredi","20h00","Journée 12",{"$f":"IF(AND('resultats a exporter'!$CW$4=$I$2:$I$1100,'resultats a exporter'!$CX$4=$C$2:$C$1100,'resultats a exporter'!$CY$4=$E$2:$E$1100,'resultats a exporter'!$CZ$4=$G$2:$G$1100),'resultats a exporter'!$DA$4,\"\")","v":""},{"$f":"IF(AND('resultats a exporter'!$CW$4=$I$2:$I$1100,'resultats a exporter'!$CX$4=$C$2:$C$1100,'resultats a exporter'!$CY$4=$E$2:$E$1100,'resultats a exporter'!$CZ$4=$G$2:$G$1100),'resultats a exporter'!$DB$4,\"\")","v":""},null,null,null,null,"vendredi 21-mars-2025, 20h00",null,null,"","",null,null,null,null,null,null,null,null,null,null,null,null,null,null,null,null,null,null,"",""]
[null,null,"HONNEUR","NORDETSTRASBOURG","Hanau TT 2",2,null,null,12,"2025-03-21","vendredi","20h00","Journée 12",{"$f":"IF(AND('resultats a exporter'!$CW$4=$I$2:$I$1100,'resultats a exporter'!$CX$4=$C$2:$C$1100,'resultats a exporter'!$CY$4=$E$2:$E$1100,'resultats a exporter'!$CZ$4=$G$2:$G$1100),'resultats a exporter'!$DA$4,\"\")","v":""},{"$f":"IF(AND('resultats a exporter'!$CW$4=$I$2:$I$1100,'resultats a exporter'!$CX$4=$C$2:$C$1100,'resultats a exporter'!$CY$4=$E$2:$E$1100,'resultats a exporter'!$CZ$4=$G$2:$G$1100),'resultats a exporter'!$DB$4,\"\")","v":""},null,null,null,null,"vendredi 21-mars-2025, 20h00",null,null,"","",null,null,null,null,null,null,null,null,null,null,null,null,null,null,null,null,null,null,"",""]
[null,null,"HONNEUR","NORDETSTRASBOURG","Amitié Lingolsheim 3",3,"ASP Gottenhouse 1",1,12,"2025-03-19","mercredi","20h00","Journée 12",{"$f":"IF(AND('resultats a exporter'!$CW$4=$I$2:$I$1100,'resultats a exporter'!$CX$4=$C$2:$C$1100,'resultats a exporter'!$CY$4=$E$2:$E$1100,'resultats a exporter'!$CZ$4=$G$2:$G$1100),'resultats a exporter'!$DA$4,\"\")","v":""},{"$f":"IF(AND('resultats a exporter'!$CW$4=$I$2:$I$1100,'resultats a exporter'!$CX$4=$C$2:$C$1100,'resultats a exporter'!$CY$4=$E$2:$E$1100,'resultats a exporter'!$CZ$4=$G$2:$G$1100),'resultats a exporter'!$DB$4,\"\")","v":""},null,null,null,null,"mercredi 19-mars-2025, 20h00",null,null,"","",null,null,null,null,null,null,null,null,null,null,null,null,null,null,null,null,null,null,"",""]
[null,null,"HONNEUR","NORDETSTRASBOURG","Amitié Lingolsheim 2",2,"CP Zutzendorf 2",2,13,"2025-04-09","mercredi","20h00","Journée 13",{"$f":"IF(AND('resultats a exporter'!$CW$4=$I$2:$I$1100,'resultats a exporter'!$CX$4=$C$2:$C$1100,'resultats a exporter'!$CY$4=$E$2:$E$1100,'resultats a exporter'!$CZ$4=$G$2:$G$1100),'resultats a exporter'!$DA$4,\"\")","v":""},{"$f":"IF(AND('resultats a exporter'!$CW$4=$I$2:$I$1100,'resultats a exporter'!$CX$4=$C$2:$C$1100,'resultats a exporter'!$CY$4=$E$2:$E$1100,'resultats a exporter'!$CZ$4=$G$2:$G$1100),'resultats a exporter'!$DB$4,\"\")","v":""},null,null,null,null,"mercredi 09-avr-2025, 20h00",null,null,"","",null,null,null,null,null,null,null,null,null,null,null,null,null,null,null,null,null,null,"",""]
[null,null,"HONNEUR","NORDETSTRASBOURG","Amitié Lingolsheim 3",3,"US Egalitaire Neudorf 1",1,13,"2025-04-09","mercredi","20h00","Journée 13",{"$f":"IF(AND('resultats a exporter'!$CW$4=$I$2:$I$1100,'resultats a exporter'!$CX$4=$C$2:$C$1100,'resultats a exporter'!$CY$4=$E$2:$E$1100,'resultats a exporter'!$CZ$4=$G$2:$G$1100),'resultats a exporter'!$DA$4,\"\")","v":""},{"$f":"IF(AND('resultats a exporter'!$CW$4=$I$2:$I$1100,'resultats a exporter'!$CX$4=$C$2:$C$1100,'resultats a exporter'!$CY$4=$E$2:$E$1100,'resultats a exporter'!$CZ$4=$G$2:$G$1100),'resultats a exporter'!$DB$4,\"\")","v":""},null,null,null,null,"mercredi 09-avr-2025, 20h00",null,null,"","",null,null,null,null,null,null,null,null,null,null,null,null,null,null,null,null,null,null,"",""]
[null,null,"HONNEUR","NORDETSTRASBOURG","MJC Kirrwiller 1",1,"Hanau TT 2",2,13,"2025-04-08","mardi","20h00","Journée 13",{"$f":"IF(AND('resultats a exporter'!$CW$4=$I$2:$I$1100,'resultats a exporter'!$CX$4=$C$2:$C$1100,'resultats a exporter'!$CY$4=$E$2:$E$1100,'resultats a exporter'!$CZ$4=$G$2:$G$1100),'resultats a exporter'!$DA$4,\"\")","v":""},{"$f":"IF(AND('resultats a exporter'!$CW$4=$I$2:$I$1100,'resultats a exporter'!$CX$4=$C$2:$C$1100,'resultats a exporter'!$CY$4=$E$2:$E$1100,'resultats a exporter'!$CZ$4=$G$2:$G$1100),'resultats a exporter'!$DB$4,\"\")","v":""},null,null,null,null,"mardi 08-avr-2025, 20h00",null,null,"","",null,null,null,null,null,null,null,null,null,null,null,null,null,null,null,null,null,null,"",""]
[null,null,"HONNEUR","NORDETSTRASBOURG","ASP Gottenhouse 1",1,null,null,13,"2025-04-08","mardi","20h00","Journée 13",{"$f":"IF(AND('resultats a exporter'!$CW$4=$I$2:$I$1100,'resultats a exporter'!$CX$4=$C$2:$C$1100,'resultats a exporter'!$CY$4=$E$2:$E$1100,'resultats a exporter'!$CZ$4=$G$2:$G$1100),'resultats a exporter'!$DA$4,\"\")","v":""},{"$f":"IF(AND('resultats a exporter'!$CW$4=$I$2:$I$1100,'resultats a exporter'!$CX$4=$C$2:$C$1100,'resultats a exporter'!$CY$4=$E$2:$E$1100,'resultats a exporter'!$CZ$4=$G$2:$G$1100),'resultats a exporter'!$DB$4,\"\")","v":""},null,null,null,null,"mardi 08-avr-2025, 20h00",null,null,"","",null,null,null,null,null,null,null,null,null,null,null,null,null,null,null,null,null,null,"",""]
[null,null,"HONNEUR","NORDETSTRASBOURG","US Egalitaire Neudorf 1",1,"Amitié Lingolsheim 2",2,14,"2025-04-24","jeudi","20h00","Journée 14",{"$f":"IF(AND('resultats a exporter'!$CW$4=$I$2:$I$1100,'resultats a exporter'!$CX$4=$C$2:$C$1100,'resultats a exporter'!$CY$4=$E$2:$E$1100,'resultats a exporter'!$CZ$4=$G$2:$G$1100),'resultats a exporter'!$DA$4,\"\")","v":""},{"$f":"IF(AND('resultats a exporter'!$CW$4=$I$2:$I$1100,'resultats a exporter'!$CX$4=$C$2:$C$1100,'resultats a exporter'!$CY$4=$E$2:$E$1100,'resultats a exporter'!$CZ$4=$G$2:$G$1100),'resultats a exporter'!$DB$4,\"\")","v":""},null,null,null,null,"jeudi 24-avr-2025, 20h00",null,null,"","",null,null,null,null,null,null,null,null,null,null,null,null,null,null,null,null,null,null,"",""]
[null,null,"HONNEUR","NORDETSTRASBOURG","CP Zutzendorf 2",2,"Hanau TT 2",2,14,"2025-05-09","vendredi","20h00","Journée 14",{"$f":"IF(AND('resultats a exporter'!$CW$4=$I$2:$I$1100,'resultats a exporter'!$CX$4=$C$2:$C$1100,'resultats a exporter'!$CY$4=$E$2:$E$1100,'resultats a exporter'!$CZ$4=$G$2:$G$1100),'resultats a exporter'!$DA$4,\"\")","v":""},{"$f":"IF(AND('resultats a exporter'!$CW$4=$I$2:$I$1100,'resultats a exporter'!$CX$4=$C$2:$C$1100,'resultats a exporter'!$CY$4=$E$2:$E$1100,'resultats a exporter'!$CZ$4=$G$2:$G$1100),'resultats a exporter'!$DB$4,\"\")","v":""},null,null,null,null,"vendredi 09-mai-2025, 20h00",null,null,"","",null,null,null,null,null,null,null,null,null,null,null,null,null,null,null,null,null,null,"",""]
[null,null,"HONNEUR","NORDETSTRASBOURG","MJC Kirrwiller 1",1,"ASP Gottenhouse 1",1,14,"2025-05-06","mardi","20h00","Journée 14",{"$f":"IF(AND('resultats a exporter'!$CW$4=$I$2:$I$1100,'resultats a exporter'!$CX$4=$C$2:$C$1100,'resultats a exporter'!$CY$4=$E$2:$E$1100,'resultats a exporter'!$CZ$4=$G$2:$G$1100),'resultats a exporter'!$DA$4,\"\")","v":""},{"$f":"IF(AND('resultats a exporter'!$CW$4=$I$2:$I$1100,'resultats a exporter'!$CX$4=$C$2:$C$1100,'resultats a exporter'!$CY$4=$E$2:$E$1100,'resultats a exporter'!$CZ$4=$G$2:$G$1100),'resultats a exporter'!$DB$4,\"\")","v":""},null,null,null,null,"mardi 06-mai-2025, 20h00",null,null,"","",null,null,null,null,null,null,null,null,null,null,null,null,null,null,null,null,null,null,"",""]
[null,null,"HONNEUR","NORDETSTRASBOURG","Amitié Lingolsheim 3",3,null,null,14,null,"",null,"Journée 14",{"$f":"IF(AND('resultats a exporter'!$CW$4=$I$2:$I$1100,'resultats a exporter'!$CX$4=$C$2:$C$1100,'resultats a exporter'!$CY$4=$E$2:$E$1100,'resultats a exporter'!$CZ$4=$G$2:$G$1100),'resultats a exporter'!$DA$4,\"\")","v":""},{"$f":"IF(AND('resultats a exporter'!$CW$4=$I$2:$I$1100,'resultats a exporter'!$CX$4=$C$2:$C$1100,'resultats a exporter'!$CY$4=$E$2:$E$1100,'resultats a exporter'!$CZ$4=$G$2:$G$1100),'resultats a exporter'!$DB$4,\"\")","v":""},null,null,null,null,"",null,null,"","",null,null,null,null,null,null,null,null,null,null,null,null,null,null,null,null,null,null,"",""]
[null,null,"PROMOTIONNORD","NORD","CLTT Menchhoffen 2",2,"CTT 77 Val de Moder 2",2,1,"2024-10-10","jeudi","20h00","Journée 1",{"$f":"IF(AND('resultats a exporter'!$CW$4=$I$2:$I$1100,'resultats a exporter'!$CX$4=$C$2:$C$1100,'resultats a exporter'!$CY$4=$E$2:$E$1100,'resultats a exporter'!$CZ$4=$G$2:$G$1100),'resultats a exporter'!$DA$4,\"\")","v":""},{"$f":"IF(AND('resultats a exporter'!$CW$4=$I$2:$I$1100,'resultats a exporter'!$CX$4=$C$2:$C$1100,'resultats a exporter'!$CY$4=$E$2:$E$1100,'resultats a exporter'!$CZ$4=$G$2:$G$1100),'resultats a exporter'!$DB$4,\"\")","v":""},"PROMOTIONNORD",null,null,null,"jeudi 10-oct-2024, 20h00",null,null,"","",null,null,null,null,null,null,null,null,null,null,null,null,null,null,null,null,null,null,"",""]
[null,null,"PROMOTIONNORD","NORD","Hanau TT 3",3,"CS Tricolore Saverne 2",2,1,"2024-10-11","vendredi","20h00","Journée 1",{"$f":"IF(AND('resultats a exporter'!$CW$4=$I$2:$I$1100,'resultats a exporter'!$CX$4=$C$2:$C$1100,'resultats a exporter'!$CY$4=$E$2:$E$1100,'resultats a exporter'!$CZ$4=$G$2:$G$1100),'resultats a exporter'!$DA$4,\"\")","v":""},{"$f":"IF(AND('resultats a exporter'!$CW$4=$I$2:$I$1100,'resultats a exporter'!$CX$4=$C$2:$C$1100,'resultats a exporter'!$CY$4=$E$2:$E$1100,'resultats a exporter'!$CZ$4=$G$2:$G$1100),'resultats a exporter'!$DB$4,\"\")","v":""},null,"CLTT Menchhoffen 2",null,null,"vendredi 11-oct-2024, 20h00",null,null,"","",null,null,null,null,null,null,null,null,null,null,null,null,null,null,null,null,null,null,"",""]
[null,null,"PROMOTIONNORD","NORD","Liberté Dettwiller 1",1,"MJC Kirrwiller 2",2,1,"2024-10-10","jeudi","20h00","Journée 1",{"$f":"IF(AND('resultats a exporter'!$CW$4=$I$2:$I$1100,'resultats a exporter'!$CX$4=$C$2:$C$1100,'resultats a exporter'!$CY$4=$E$2:$E$1100,'resultats a exporter'!$CZ$4=$G$2:$G$1100),'resultats a exporter'!$DA$4,\"\")","v":""},{"$f":"IF(AND('resultats a exporter'!$CW$4=$I$2:$I$1100,'resultats a exporter'!$CX$4=$C$2:$C$1100,'resultats a exporter'!$CY$4=$E$2:$E$1100,'resultats a exporter'!$CZ$4=$G$2:$G$1100),'resultats a exporter'!$DB$4,\"\")","v":""},null,"CTT 77 Val de Moder 2",null,null,"jeudi 10-oct-2024, 20h00",null,null,"","",null,null,null,null,null,null,null,null,null,null,null,null,null,null,null,null,null,null,"",""]
[null,null,"PROMOTIONNORD","NORD","CS Tricolore Saverne 2",2,"CLTT Menchhoffen 2",2,2,"2024-11-08","vendredi","20h30","Journée 2",{"$f":"IF(AND('resultats a exporter'!$CW$4=$I$2:$I$1100,'resultats a exporter'!$CX$4=$C$2:$C$1100,'resultats a exporter'!$CY$4=$E$2:$E$1100,'resultats a exporter'!$CZ$4=$G$2:$G$1100),'resultats a exporter'!$DA$4,\"\")","v":""},{"$f":"IF(AND('resultats a exporter'!$CW$4=$I$2:$I$1100,'resultats a exporter'!$CX$4=$C$2:$C$1100,'resultats a exporter'!$CY$4=$E$2:$E$1100,'resultats a exporter'!$CZ$4=$G$2:$G$1100),'resultats a exporter'!$DB$4,\"\")","v":""},null,"Hanau TT 3",null,null,"vendredi 08-nov-2024, 20h30",null,null,"","",null,null,null,null,null,null,null,null,null,null,null,null,null,null,null,null,null,null,"",""]
[null,null,"PROMOTIONNORD","NORD","MJC Kirrwiller 2",2,"Hanau TT 3",3,2,"2024-11-07","jeudi","20h30","Journée 2",{"$f":"IF(AND('resultats a exporter'!$CW$4=$I$2:$I$1100,'resultats a exporter'!$CX$4=$C$2:$C$1100,'resultats a exporter'!$CY$4=$E$2:$E$1100,'resultats a exporter'!$CZ$4=$G$2:$G$1100),'resultats a exporter'!$DA$4,\"\")","v":""},{"$f":"IF(AND('resultats a exporter'!$CW$4=$I$2:$I$1100,'resultats a exporter'!$CX$4=$C$2:$C$1100,'resultats a exporter'!$CY$4=$E$2:$E$1100,'resultats a exporter'!$CZ$4=$G$2:$G$1100),'resultats a exporter'!$DB$4,\"\")","v":""},null,"CS Tricolore Saverne 2",null,null,"jeudi 07-nov-2024, 20h30",null,null,"","",null,null,null,null,null,null,null,null,null,null,null,null,null,null,null,null,null,null,"",""]
[null,null,"PROMOTIONNORD","NORD","CTT 77 Val de Moder 2",2,"Liberté Dettwiller 1",1,2,"2024-11-07","jeudi","19h30","Journée 2",{"$f":"IF(AND('resultats a exporter'!$CW$4=$I$2:$I$1100,'resultats a exporter'!$CX$4=$C$2:$C$1100,'resultats a exporter'!$CY$4=$E$2:$E$1100,'resultats a exporter'!$CZ$4=$G$2:$G$1100),'resultats a exporter'!$DA$4,\"\")","v":""},{"$f":"IF(AND('resultats a exporter'!$CW$4=$I$2:$I$1100,'resultats a exporter'!$CX$4=$C$2:$C$1100,'resultats a exporter'!$CY$4=$E$2:$E$1100,'resultats a exporter'!$CZ$4=$G$2:$G$1100),'resultats a exporter'!$DB$4,\"\")","v":""},null,"Liberté Dettwiller 1",null,null,"jeudi 07-nov-2024, 19h30",null,null,"","",null,null,null,null,null,null,null,null,null,null,null,null,null,null,null,null,null,null,"",""]
[null,null,"PROMOTIONNORD","NORD","CLTT Menchhoffen 2",2,"MJC Kirrwiller 2",2,3,"2024-11-21","jeudi","20h00","Journée 3",{"$f":"IF(AND('resultats a exporter'!$CW$4=$I$2:$I$1100,'resultats a exporter'!$CX$4=$C$2:$C$1100,'resultats a exporter'!$CY$4=$E$2:$E$1100,'resultats a exporter'!$CZ$4=$G$2:$G$1100),'resultats a exporter'!$DA$4,\"\")","v":""},{"$f":"IF(AND('resultats a exporter'!$CW$4=$I$2:$I$1100,'resultats a exporter'!$CX$4=$C$2:$C$1100,'resultats a exporter'!$CY$4=$E$2:$E$1100,'resultats a exporter'!$CZ$4=$G$2:$G$1100),'resultats a exporter'!$DB$4,\"\")","v":""},null,"MJC Kirrwiller 2",null,null,"jeudi 21-nov-2024, 20h00",null,null,"","",null,null,null,null,null,null,null,null,null,null,null,null,null,null,null,null,null,null,"",""]
[null,null,"PROMOTIONNORD","NORD","Liberté Dettwiller 1",1,"Hanau TT 3",3,3,"2024-11-21","jeudi","20h00","Journée 3",{"$f":"IF(AND('resultats a exporter'!$CW$4=$I$2:$I$1100,'resultats a exporter'!$CX$4=$C$2:$C$1100,'resultats a exporter'!$CY$4=$E$2:$E$1100,'resultats a exporter'!$CZ$4=$G$2:$G$1100),'resultats a exporter'!$DA$4,\"\")","v":""},{"$f":"IF(AND('resultats a exporter'!$CW$4=$I$2:$I$1100,'resultats a exporter'!$CX$4=$C$2:$C$1100,'resultats a exporter'!$CY$4=$E$2:$E$1100,'resultats a exporter'!$CZ$4=$G$2:$G$1100),'resultats a exporter'!$DB$4,\"\")","v":""},null,null,null,null,"jeudi 21-nov-2024, 20h00",null,null,"","",null,null,null,null,null,null,null,null,null,null,null,null,null,null,null,null,null,null,"",""]
[null,null,"PROMOTIONNORD","NORD","CS Tricolore Saverne 2",2,"CTT 77 Val de Moder 2",2,3,"2024-11-22","vendredi","20h30","Journée 3",{"$f":"IF(AND('resultats a exporter'!$CW$4=$I$2:$I$1100,'resultats a exporter'!$CX$4=$C$2:$C$1100,'resultats a exporter'!$CY$4=$E$2:$E$1100,'resultats a exporter'!$CZ$4=$G$2:$G$1100),'resultats a exporter'!$DA$4,\"\")","v":""},{"$f":"IF(AND('resultats a exporter'!$CW$4=$I$2:$I$1100,'resultats a exporter'!$CX$4=$C$2:$C$1100,'resultats a exporter'!$CY$4=$E$2:$E$1100,'resultats a exporter'!$CZ$4=$G$2:$G$1100),'resultats a exporter'!$DB$4,\"\")","v":""},null,null,null,null,"vendredi 22-nov-2024, 20h30",null,null,"","",null,null,null,null,null,null,null,null,null,null,null,null,null,null,null,null,null,null,"",""]
[null,null,"PROMOTIONNORD","NORD","Liberté Dettwiller 1",1,"CLTT Menchhoffen 2",2,4,"2024-12-05","jeudi","20h00","Journée 4",{"$f":"IF(AND('resultats a exporter'!$CW$4=$I$2:$I$1100,'resultats a exporter'!$CX$4=$C$2:$C$1100,'resultats a exporter'!$CY$4=$E$2:$E$1100,'resultats a exporter'!$CZ$4=$G$2:$G$1100),'resultats a exporter'!$DA$4,\"\")","v":""},{"$f":"IF(AND('resultats a exporter'!$CW$4=$I$2:$I$1100,'resultats a exporter'!$CX$4=$C$2:$C$1100,'resultats a exporter'!$CY$4=$E$2:$E$1100,'resultats a exporter'!$CZ$4=$G$2:$G$1100),'resultats a exporter'!$DB$4,\"\")","v":""},null,null,null,null,"jeudi 05-déc-2024, 20h00",null,null,"","",null,null,null,null,null,null,null,null,null,null,null,null,null,null,null,null,null,null,"",""]
[null,null,"PROMOTIONNORD","NORD","Hanau TT 3",3,"CTT 77 Val de Moder 2",2,4,"2024-12-06","vendredi","20h00","Journée 4",{"$f":"IF(AND('resultats a exporter'!$CW$4=$I$2:$I$1100,'resultats a exporter'!$CX$4=$C$2:$C$1100,'resultats a exporter'!$CY$4=$E$2:$E$1100,'resultats a exporter'!$CZ$4=$G$2:$G$1100),'resultats a exporter'!$DA$4,\"\")","v":""},{"$f":"IF(AND('resultats a exporter'!$CW$4=$I$2:$I$1100,'resultats a exporter'!$CX$4=$C$2:$C$1100,'resultats a exporter'!$CY$4=$E$2:$E$1100,'resultats a exporter'!$CZ$4=$G$2:$G$1100),'resultats a exporter'!$DB$4,\"\")","v":""},null,null,null,null,"vendredi 06-déc-2024, 20h00",null,null,"","",null,null,null,null,null,null,null,null,null,null,null,null,null,null,null,null,null,null,"",""]
[null,null,"PROMOTIONNORD","NORD","MJC Kirrwiller 2",2,"CS Tricolore Saverne 2",2,4,"2024-12-05","jeudi","20h30","Journée 4",{"$f":"IF(AND('resultats a exporter'!$CW$4=$I$2:$I$1100,'resultats a exporter'!$CX$4=$C$2:$C$1100,'resultats a exporter'!$CY$4=$E$2:$E$1100,'resultats a exporter'!$CZ$4=$G$2:$G$1100),'resultats a exporter'!$DA$4,\"\")","v":""},{"$f":"IF(AND('resultats a exporter'!$CW$4=$I$2:$I$1100,'resultats a exporter'!$CX$4=$C$2:$C$1100,'resultats a exporter'!$CY$4=$E$2:$E$1100,'resultats a exporter'!$CZ$4=$G$2:$G$1100),'resultats a exporter'!$DB$4,\"\")","v":""},null,null,null,null,"jeudi 05-déc-2024, 20h30",null,null,"","",null,null,null,null,null,null,null,null,null,null,null,null,null,null,null,null,null,null,"",""]
[null,null,"PROMOTIONNORD","NORD","CLTT Menchhoffen 2",2,"Hanau TT 3",3,5,"2024-12-19","jeudi","20h00","Journée 5",{"$f":"IF(AND('resultats a exporter'!$CW$4=$I$2:$I$1100,'resultats a exporter'!$CX$4=$C$2:$C$1100,'resultats a exporter'!$CY$4=$E$2:$E$1100,'resultats a exporter'!$CZ$4=$G$2:$G$1100),'resultats a exporter'!$DA$4,\"\")","v":""},{"$f":"IF(AND('resultats a exporter'!$CW$4=$I$2:$I$1100,'resultats a exporter'!$CX$4=$C$2:$C$1100,'resultats a exporter'!$CY$4=$E$2:$E$1100,'resultats a exporter'!$CZ$4=$G$2:$G$1100),'resultats a exporter'!$DB$4,\"\")","v":""},null,null,null,null,"jeudi 19-déc-2024, 20h00",null,null,"","",null,null,null,null,null,null,null,null,null,null,null,null,null,null,null,null,null,null,"",""]
[null,null,"PROMOTIONNORD","NORD","CS Tricolore Saverne 2",2,"Liberté Dettwiller 1",1,5,"2024-12-20","vendredi","20h30","Journée 5",{"$f":"IF(AND('resultats a exporter'!$CW$4=$I$2:$I$1100,'resultats a exporter'!$CX$4=$C$2:$C$1100,'resultats a exporter'!$CY$4=$E$2:$E$1100,'resultats a exporter'!$CZ$4=$G$2:$G$1100),'resultats a exporter'!$DA$4,\"\")","v":""},{"$f":"IF(AND('resultats a exporter'!$CW$4=$I$2:$I$1100,'resultats a exporter'!$CX$4=$C$2:$C$1100,'resultats a exporter'!$CY$4=$E$2:$E$1100,'resultats a exporter'!$CZ$4=$G$2:$G$1100),'resultats a exporter'!$DB$4,\"\")","v":""},null,null,null,null,"vendredi 20-déc-2024, 20h30",null,null,"","",null,null,null,null,null,null,null,null,null,null,null,null,null,null,null,null,null,null,"",""]
[null,null,"PROMOTIONNORD","NORD","CTT 77 Val de Moder 2",2,"MJC Kirrwiller 2",2,5,"2024-12-19","jeudi","19h30","Journée 5",{"$f":"IF(AND('resultats a exporter'!$CW$4=$I$2:$I$1100,'resultats a exporter'!$CX$4=$C$2:$C$1100,'resultats a exporter'!$CY$4=$E$2:$E$1100,'resultats a exporter'!$CZ$4=$G$2:$G$1100),'resultats a exporter'!$DA$4,\"\")","v":""},{"$f":"IF(AND('resultats a exporter'!$CW$4=$I$2:$I$1100,'resultats a exporter'!$CX$4=$C$2:$C$1100,'resultats a exporter'!$CY$4=$E$2:$E$1100,'resultats a exporter'!$CZ$4=$G$2:$G$1100),'resultats a exporter'!$DB$4,\"\")","v":""},null,null,null,null,"jeudi 19-déc-2024, 19h30",null,null,"","",null,null,null,null,null,null,null,null,null,null,null,null,null,null,null,null,null,null,"",""]
[null,null,"PROMOTIONNORD","NORD","CTT 77 Val de Moder 2",2,"CLTT Menchhoffen 2",2,6,"2025-01-23","jeudi","19h30","Journée 6",{"$f":"IF(AND('resultats a exporter'!$CW$4=$I$2:$I$1100,'resultats a exporter'!$CX$4=$C$2:$C$1100,'resultats a exporter'!$CY$4=$E$2:$E$1100,'resultats a exporter'!$CZ$4=$G$2:$G$1100),'resultats a exporter'!$DA$4,\"\")","v":""},{"$f":"IF(AND('resultats a exporter'!$CW$4=$I$2:$I$1100,'resultats a exporter'!$CX$4=$C$2:$C$1100,'resultats a exporter'!$CY$4=$E$2:$E$1100,'resultats a exporter'!$CZ$4=$G$2:$G$1100),'resultats a exporter'!$DB$4,\"\")","v":""},null,null,null,null,"jeudi 23-janv-2025, 19h30",null,null,"","",null,null,null,null,null,null,null,null,null,null,null,null,null,null,null,null,null,null,"",""]
[null,null,"PROMOTIONNORD","NORD","CS Tricolore Saverne 2",2,"Hanau TT 3",3,6,"2025-01-24","vendredi","20h30","Journée 6",{"$f":"IF(AND('resultats a exporter'!$CW$4=$I$2:$I$1100,'resultats a exporter'!$CX$4=$C$2:$C$1100,'resultats a exporter'!$CY$4=$E$2:$E$1100,'resultats a exporter'!$CZ$4=$G$2:$G$1100),'resultats a exporter'!$DA$4,\"\")","v":""},{"$f":"IF(AND('resultats a exporter'!$CW$4=$I$2:$I$1100,'resultats a exporter'!$CX$4=$C$2:$C$1100,'resultats a exporter'!$CY$4=$E$2:$E$1100,'resultats a exporter'!$CZ$4=$G$2:$G$1100),'resultats a exporter'!$DB$4,\"\")","v":""},null,null,null,null,"vendredi 24-janv-2025, 20h30",null,null,"","",null,null,null,null,null,null,null,null,null,null,null,null,null,null,null,null,null,null,"",""]
[null,null,"PROMOTIONNORD","NORD","MJC Kirrwiller 2",2,"Liberté Dettwiller 1",1,6,"2025-01-23",{"$f":"IF(J131=\"\",\"\",TEXT(J131,\"JJJJ\"))","v":"jeudi"},"20h30","Journée 6",{"$f":"IF(AND('resultats a exporter'!$CW$4=$I$2:$I$1100,'resultats a exporter'!$CX$4=$C$2:$C$1100,'resultats a exporter'!$CY$4=$E$2:$E$1100,'resultats a exporter'!$CZ$4=$G$2:$G$1100),'resultats a exporter'!$DA$4,\"\")","v":""},{"$f":"IF(AND('resultats a exporter'!$CW$4=$I$2:$I$1100,'resultats a exporter'!$CX$4=$C$2:$C$1100,'resultats a exporter'!$CY$4=$E$2:$E$1100,'resultats a exporter'!$CZ$4=$G$2:$G$1100),'resultats a exporter'!$DB$4,\"\")","v":""},null,null,null,null,{"$f":"IF(J131=\"\",\"\",$K131&\" \"&TEXT($J131,\"jj-mmm-aaaa\")&\", \"&$L131)","v":"jeudi 23-janv-2025, 20h30"},null,null,{"$f":"IF(AND(N131<>\"\",O131<>\"\"),T131,\"\")","v":""},{"$f":"IF(AND(N131<>\"\",O131<>\"\"),E131&\" - \"&G131,\"\")","v":""},null,null,null,null,null,null,null,null,null,null,null,null,null,null,null,null,null,null,{"$f":"IF(AND(N131<>\"\",O131<>\"\"),E131,\"\")","v":""},{"$f":"IF(AND(N131<>\"\",O131<>\"\"),G131,\"\")","v":""}]
[null,null,"PROMOTIONNORD","NORD","CLTT Menchhoffen 2",2,"CS Tricolore Saverne 2",2,7,"2025-02-06","jeudi","20h00",{"$f":"I$1&\" \"&I132","v":"Journée 7"},{"$f":"IF(AND('resultats a exporter'!$CW$4=$I$2:$I$1100,'resultats a exporter'!$CX$4=$C$2:$C$1100,'resultats a exporter'!$CY$4=$E$2:$E$1100,'resultats a exporter'!$CZ$4=$G$2:$G$1100),'resultats a exporter'!$DA$4,\"\")","v":""},{"$f":"IF(AND('resultats a exporter'!$CW$4=$I$2:$I$1100,'resultats a exporter'!$CX$4=$C$2:$C$1100,'resultats a exporter'!$CY$4=$E$2:$E$1100,'resultats a exporter'!$CZ$4=$G$2:$G$1100),'resultats a exporter'!$DB$4,\"\")","v":""},null,null,null,null,"jeudi 06-févr-2025, 20h00",null,null,"","",null,null,null,null,null,null,null,null,null,null,null,null,null,null,null,null,null,null,"",""]
[null,null,"PROMOTIONNORD","NORD","Hanau TT 3",3,"MJC Kirrwiller 2",2,7,"2025-02-07","vendredi","20h00","Journée 7",{"$f":"IF(AND('resultats a exporter'!$CW$4=$I$2:$I$1100,'resultats a exporter'!$CX$4=$C$2:$C$1100,'resultats a exporter'!$CY$4=$E$2:$E$1100,'resultats a exporter'!$CZ$4=$G$2:$G$1100),'resultats a exporter'!$DA$4,\"\")","v":""},{"$f":"IF(AND('resultats a exporter'!$CW$4=$I$2:$I$1100,'resultats a exporter'!$CX$4=$C$2:$C$1100,'resultats a exporter'!$CY$4=$E$2:$E$1100,'resultats a exporter'!$CZ$4=$G$2:$G$1100),'resultats a exporter'!$DB$4,\"\")","v":""},null,null,null,null,"vendredi 07-févr-2025, 20h00",null,null,"","",null,null,null,null,null,null,null,null,null,null,null,null,null,null,null,null,null,null,"",""]
[null,null,"PROMOTIONNORD","NORD","Liberté Dettwiller 1",1,"CTT 77 Val de Moder 2",2,7,"2025-02-06","jeudi","20h00","Journée 7",{"$f":"IF(AND('resultats a exporter'!$CW$4=$I$2:$I$1100,'resultats a exporter'!$CX$4=$C$2:$C$1100,'resultats a exporter'!$CY$4=$E$2:$E$1100,'resultats a exporter'!$CZ$4=$G$2:$G$1100),'resultats a exporter'!$DA$4,\"\")","v":""},{"$f":"IF(AND('resultats a exporter'!$CW$4=$I$2:$I$1100,'resultats a exporter'!$CX$4=$C$2:$C$1100,'resultats a exporter'!$CY$4=$E$2:$E$1100,'resultats a exporter'!$CZ$4=$G$2:$G$1100),'resultats a exporter'!$DB$4,\"\")","v":""},null,null,null,null,"jeudi 06-févr-2025, 20h00",null,null,"","",null,null,null,null,null,null,null,null,null,null,null,null,null,null,null,null,null,null,"",""]
[null,null,"PROMOTIONNORD","NORD","MJC Kirrwiller 2",2,"CLTT Menchhoffen 2",2,8,"2025-02-27","jeudi","20h30","Journée 8",{"$f":"IF(AND('resultats a exporter'!$CW$4=$I$2:$I$1100,'resultats a exporter'!$CX$4=$C$2:$C$1100,'resultats a exporter'!$CY$4=$E$2:$E$1100,'resultats a exporter'!$CZ$4=$G$2:$G$1100),'resultats a exporter'!$DA$4,\"\")","v":""},{"$f":"IF(AND('resultats a exporter'!$CW$4=$I$2:$I$1100,'resultats a exporter'!$CX$4=$C$2:$C$1100,'resultats a exporter'!$CY$4=$E$2:$E$1100,'resultats a exporter'!$CZ$4=$G$2:$G$1100),'resultats a exporter'!$DB$4,\"\")","v":""},null,null,null,null,"jeudi 27-févr-2025, 20h30",null,null,"","",null,null,null,null,null,null,null,null,null,null,null,null,null,null,null,null,null,null,"",""]
[null,null,"PROMOTIONNORD","NORD","Hanau TT 3",3,"Liberté Dettwiller 1",1,8,"2025-02-21","vendredi","20h00","Journée 8",{"$f":"IF(AND('resultats a exporter'!$CW$4=$I$2:$I$1100,'resultats a exporter'!$CX$4=$C$2:$C$1100,'resultats a exporter'!$CY$4=$E$2:$E$1100,'resultats a exporter'!$CZ$4=$G$2:$G$1100),'resultats a exporter'!$DA$4,\"\")","v":""},{"$f":"IF(AND('resultats a exporter'!$CW$4=$I$2:$I$1100,'resultats a exporter'!$CX$4=$C$2:$C$1100,'resultats a exporter'!$CY$4=$E$2:$E$1100,'resultats a exporter'!$CZ$4=$G$2:$G$1100),'resultats a exporter'!$DB$4,\"\")","v":""},null,null,null,null,"vendredi 21-févr-2025, 20h00",null,null,"","",null,null,null,null,null,null,null,null,null,null,null,null,null,null,null,null,null,null,"",""]
[null,null,"PROMOTIONNORD","NORD","CTT 77 Val de Moder 2",2,"CS Tricolore Saverne 2",2,8,"2025-02-27","jeudi","19h30","Journée 8",{"$f":"IF(AND('resultats a exporter'!$CW$4=$I$2:$I$1100,'resultats a exporter'!$CX$4=$C$2:$C$1100,'resultats a exporter'!$CY$4=$E$2:$E$1100,'resultats a exporter'!$CZ$4=$G$2:$G$1100),'resultats a exporter'!$DA$4,\"\")","v":""},{"$f":"IF(AND('resultats a exporter'!$CW$4=$I$2:$I$1100,'resultats a exporter'!$CX$4=$C$2:$C$1100,'resultats a exporter'!$CY$4=$E$2:$E$1100,'resultats a exporter'!$CZ$4=$G$2:$G$1100),'resultats a exporter'!$DB$4,\"\")","v":""},null,null,null,null,"jeudi 27-févr-2025, 19h30",null,null,"","",null,null,null,null,null,null,null,null,null,null,null,null,null,null,null,null,null,null,"",""]
[null,null,"PROMOTIONNORD","NORD","CLTT Menchhoffen 2",2,"Liberté Dettwiller 1",1,9,"2025-03-20","jeudi","20h00","Journée 9",{"$f":"IF(AND('resultats a exporter'!$CW$4=$I$2:$I$1100,'resultats a exporter'!$CX$4=$C$2:$C$1100,'resultats a exporter'!$CY$4=$E$2:$E$1100,'resultats a exporter'!$CZ$4=$G$2:$G$1100),'resultats a exporter'!$DA$4,\"\")","v":""},{"$f":"IF(AND('resultats a exporter'!$CW$4=$I$2:$I$1100,'resultats a exporter'!$CX$4=$C$2:$C$1100,'resultats a exporter'!$CY$4=$E$2:$E$1100,'resultats a exporter'!$CZ$4=$G$2:$G$1100),'resultats a exporter'!$DB$4,\"\")","v":""},null,null,null,null,"jeudi 20-mars-2025, 20h00",null,null,"","",null,null,null,null,null,null,null,null,null,null,null,null,null,null,null,null,null,null,"",""]
[null,null,"PROMOTIONNORD","NORD","CTT 77 Val de Moder 2",2,"Hanau TT 3",3,9,"2025-03-20","jeudi","19h30","Journée 9",{"$f":"IF(AND('resultats a exporter'!$CW$4=$I$2:$I$1100,'resultats a exporter'!$CX$4=$C$2:$C$1100,'resultats a exporter'!$CY$4=$E$2:$E$1100,'resultats a exporter'!$CZ$4=$G$2:$G$1100),'resultats a exporter'!$DA$4,\"\")","v":""},{"$f":"IF(AND('resultats a exporter'!$CW$4=$I$2:$I$1100,'resultats a exporter'!$CX$4=$C$2:$C$1100,'resultats a exporter'!$CY$4=$E$2:$E$1100,'resultats a exporter'!$CZ$4=$G$2:$G$1100),'resultats a exporter'!$DB$4,\"\")","v":""},null,null,null,null,"jeudi 20-mars-2025, 19h30",null,null,"","",null,null,null,null,null,null,null,null,null,null,null,null,null,null,null,null,null,null,"",""]
[null,null,"PROMOTIONNORD","NORD","CS Tricolore Saverne 2",2,"MJC Kirrwiller 2",2,9,"2025-03-21","vendredi","20h30","Journée 9",{"$f":"IF(AND('resultats a exporter'!$CW$4=$I$2:$I$1100,'resultats a exporter'!$CX$4=$C$2:$C$1100,'resultats a exporter'!$CY$4=$E$2:$E$1100,'resultats a exporter'!$CZ$4=$G$2:$G$1100),'resultats a exporter'!$DA$4,\"\")","v":""},{"$f":"IF(AND('resultats a exporter'!$CW$4=$I$2:$I$1100,'resultats a exporter'!$CX$4=$C$2:$C$1100,'resultats a exporter'!$CY$4=$E$2:$E$1100,'resultats a exporter'!$CZ$4=$G$2:$G$1100),'resultats a exporter'!$DB$4,\"\")","v":""},null,null,null,null,"vendredi 21-mars-2025, 20h30",null,null,"","",null,null,null,null,null,null,null,null,null,null,null,null,null,null,null,null,null,null,"",""]
[null,null,"PROMOTIONNORD","NORD","Hanau TT 3",3,"CLTT Menchhoffen 2",2,10,"2025-04-25","vendredi","20h00","Journée 10",{"$f":"IF(AND('resultats a exporter'!$CW$4=$I$2:$I$1100,'resultats a exporter'!$CX$4=$C$2:$C$1100,'resultats a exporter'!$CY$4=$E$2:$E$1100,'resultats a exporter'!$CZ$4=$G$2:$G$1100),'resultats a exporter'!$DA$4,\"\")","v":""},{"$f":"IF(AND('resultats a exporter'!$CW$4=$I$2:$I$1100,'resultats a exporter'!$CX$4=$C$2:$C$1100,'resultats a exporter'!$CY$4=$E$2:$E$1100,'resultats a exporter'!$CZ$4=$G$2:$G$1100),'resultats a exporter'!$DB$4,\"\")","v":""},null,null,null,null,"vendredi 25-avr-2025, 20h00",null,null,"","",null,null,null,null,null,null,null,null,null,null,null,null,null,null,null,null,null,null,"",""]
[null,null,"PROMOTIONNORD","NORD","Liberté Dettwiller 1",1,"CS Tricolore Saverne 2",2,10,"2025-04-24","jeudi","20h00","Journée 10",{"$f":"IF(AND('resultats a exporter'!$CW$4=$I$2:$I$1100,'resultats a exporter'!$CX$4=$C$2:$C$1100,'resultats a exporter'!$CY$4=$E$2:$E$1100,'resultats a exporter'!$CZ$4=$G$2:$G$1100),'resultats a exporter'!$DA$4,\"\")","v":""},{"$f":"IF(AND('resultats a exporter'!$CW$4=$I$2:$I$1100,'resultats a exporter'!$CX$4=$C$2:$C$1100,'resultats a exporter'!$CY$4=$E$2:$E$1100,'resultats a exporter'!$CZ$4=$G$2:$G$1100),'resultats a exporter'!$DB$4,\"\")","v":""},null,null,null,null,"jeudi 24-avr-2025, 20h00",null,null,"","",null,null,null,null,null,null,null,null,null,null,null,null,null,null,null,null,null,null,"",""]
[null,null,"PROMOTIONNORD","NORD","MJC Kirrwiller 2",2,"CTT 77 Val de Moder 2",2,10,"2025-04-24","jeudi","20h30","Journée 10",{"$f":"IF(AND('resultats a exporter'!$CW$4=$I$2:$I$1100,'resultats a exporter'!$CX$4=$C$2:$C$1100,'resultats a exporter'!$CY$4=$E$2:$E$1100,'resultats a exporter'!$CZ$4=$G$2:$G$1100),'resultats a exporter'!$DA$4,\"\")","v":""},{"$f":"IF(AND('resultats a exporter'!$CW$4=$I$2:$I$1100,'resultats a exporter'!$CX$4=$C$2:$C$1100,'resultats a exporter'!$CY$4=$E$2:$E$1100,'resultats a exporter'!$CZ$4=$G$2:$G$1100),'resultats a exporter'!$DB$4,\"\")","v":""},null,null,null,null,"jeudi 24-avr-2025, 20h30",null,null,"","",null,null,null,null,null,null,null,null,null,null,null,null,null,null,null,null,null,null,"",""]
[null,null,"ADULTESDIVISION1NORD","NORD","CLTT Menchhoffen 3",3,"CLTT Menchhoffen 4",4,1,"2024-10-10","jeudi","20h00","Journée 1",{"$f":"IF(AND('resultats a exporter'!$CW$4=$I$2:$I$1100,'resultats a exporter'!$CX$4=$C$2:$C$1100,'resultats a exporter'!$CY$4=$E$2:$E$1100,'resultats a exporter'!$CZ$4=$G$2:$G$1100),'resultats a exporter'!$DA$4,\"\")","v":""},{"$f":"IF(AND('resultats a exporter'!$CW$4=$I$2:$I$1100,'resultats a exporter'!$CX$4=$C$2:$C$1100,'resultats a exporter'!$CY$4=$E$2:$E$1100,'resultats a exporter'!$CZ$4=$G$2:$G$1100),'resultats a exporter'!$DB$4,\"\")","v":""},"ADULTESDIVISION1NORD",null,null,null,"jeudi 10-oct-2024, 20h00",null,null,"","",null,null,null,null,null,null,null,null,null,null,null,null,null,null,null,null,null,null,"",""]
[null,null,"ADULTESDIVISION1NORD","NORD","CS Tricolore Saverne 3",3,null,null,1,"2024-10-11","vendredi","20h30","Journée 1",{"$f":"IF(AND('resultats a exporter'!$CW$4=$I$2:$I$1100,'resultats a exporter'!$CX$4=$C$2:$C$1100,'resultats a exporter'!$CY$4=$E$2:$E$1100,'resultats a exporter'!$CZ$4=$G$2:$G$1100),'resultats a exporter'!$DA$4,\"\")","v":""},{"$f":"IF(AND('resultats a exporter'!$CW$4=$I$2:$I$1100,'resultats a exporter'!$CX$4=$C$2:$C$1100,'resultats a exporter'!$CY$4=$E$2:$E$1100,'resultats a exporter'!$CZ$4=$G$2:$G$1100),'resultats a exporter'!$DB$4,\"\")","v":""},null,"MJC Kirrwiller 3",null,null,"vendredi 11-oct-2024, 20h30",null,null,"","",null,null,null,null,null,null,null,null,null,null,null,null,null,null,null,null,null,null,"",""]
[null,null,"ADULTESDIVISION1NORD","NORD","CTT 77 Val de Moder 3",3,"TT Dossenheim sur Zintel 1",1,1,"2024-10-10","jeudi","19h30","Journée 1",{"$f":"IF(AND('resultats a exporter'!$CW$4=$I$2:$I$1100,'resultats a exporter'!$CX$4=$C$2:$C$1100,'resultats a exporter'!$CY$4=$E$2:$E$1100,'resultats a exporter'!$CZ$4=$G$2:$G$1100),'resultats a exporter'!$DA$4,\"\")","v":""},{"$f":"IF(AND('resultats a exporter'!$CW$4=$I$2:$I$1100,'resultats a exporter'!$CX$4=$C$2:$C$1100,'resultats a exporter'!$CY$4=$E$2:$E$1100,'resultats a exporter'!$CZ$4=$G$2:$G$1100),'resultats a exporter'!$DB$4,\"\")","v":""},null,"Liberté Dettwiller 2",null,null,"jeudi 10-oct-2024, 19h30",null,null,"","",null,null,null,null,null,null,null,null,null,null,null,null,null,null,null,null,null,null,"",""]
[null,null,"ADULTESDIVISION1NORD","NORD","MJC Kirrwiller 3",3,"Liberté Dettwiller 2",2,1,"2024-10-08","mardi","20h00","Journée 1",{"$f":"IF(AND('resultats a exporter'!$CW$4=$I$2:$I$1100,'resultats a exporter'!$CX$4=$C$2:$C$1100,'resultats a exporter'!$CY$4=$E$2:$E$1100,'resultats a exporter'!$CZ$4=$G$2:$G$1100),'resultats a exporter'!$DA$4,\"\")","v":""},{"$f":"IF(AND('resultats a exporter'!$CW$4=$I$2:$I$1100,'resultats a exporter'!$CX$4=$C$2:$C$1100,'resultats a exporter'!$CY$4=$E$2:$E$1100,'resultats a exporter'!$CZ$4=$G$2:$G$1100),'resultats a exporter'!$DB$4,\"\")","v":""},null,"CLTT Menchhoffen 4",null,null,"mardi 08-oct-2024, 20h00",null,null,"","",null,null,null,null,null,null,null,null,null,null,null,null,null,null,null,null,null,null,"",""]
[null,null,"ADULTESDIVISION1NORD","NORD",null,null,"CLTT Menchhoffen 3",3,2,null,"",null,"Journée 2",{"$f":"IF(AND('resultats a exporter'!$CW$4=$I$2:$I$1100,'resultats a exporter'!$CX$4=$C$2:$C$1100,'resultats a exporter'!$CY$4=$E$2:$E$1100,'resultats a exporter'!$CZ$4=$G$2:$G$1100),'resultats a exporter'!$DA$4,\"\")","v":""},{"$f":"IF(AND('resultats a exporter'!$CW$4=$I$2:$I$1100,'resultats a exporter'!$CX$4=$C$2:$C$1100,'resultats a exporter'!$CY$4=$E$2:$E$1100,'resultats a exporter'!$CZ$4=$G$2:$G$1100),'resultats a exporter'!$DB$4,\"\")","v":""},null,"CLTT Menchhoffen 3",null,null,"",null,null,"","",null,null,null,null,null,null,null,null,null,null,null,null,null,null,null,null,null,null,"",""]
[null,null,"ADULTESDIVISION1NORD","NORD","TT Dossenheim sur Zintel 1",1,"CS Tricolore Saverne 3",3,2,"2024-10-21","lundi","20h00","Journée 2",{"$f":"IF(AND('resultats a exporter'!$CW$4=$I$2:$I$1100,'resultats a exporter'!$CX$4=$C$2:$C$1100,'resultats a exporter'!$CY$4=$E$2:$E$1100,'resultats a exporter'!$CZ$4=$G$2:$G$1100),'resultats a exporter'!$DA$4,\"\")","v":""},{"$f":"IF(AND('resultats a exporter'!$CW$4=$I$2:$I$1100,'resultats a exporter'!$CX$4=$C$2:$C$1100,'resultats a exporter'!$CY$4=$E$2:$E$1100,'resultats a exporter'!$CZ$4=$G$2:$G$1100),'resultats a exporter'!$DB$4,\"\")","v":""},null,"CS Tricolore Saverne 3",null,null,"lundi 21-oct-2024, 20h00",null,null,"","",null,null,null,null,null,null,null,null,null,null,null,null,null,null,null,null,null,null,"",""]
[null,null,"ADULTESDIVISION1NORD","NORD","Liberté Dettwiller 2",2,"CTT 77 Val de Moder 3",3,2,"2024-10-23","mercredi","20h00","Journée 2",{"$f":"IF(AND('resultats a exporter'!$CW$4=$I$2:$I$1100,'resultats a exporter'!$CX$4=$C$2:$C$1100,'resultats a exporter'!$CY$4=$E$2:$E$1100,'resultats a exporter'!$CZ$4=$G$2:$G$1100),'resultats a exporter'!$DA$4,\"\")","v":""},{"$f":"IF(AND('resultats a exporter'!$CW$4=$I$2:$I$1100,'resultats a exporter'!$CX$4=$C$2:$C$1100,'resultats a exporter'!$CY$4=$E$2:$E$1100,'resultats a exporter'!$CZ$4=$G$2:$G$1100),'resultats a exporter'!$DB$4,\"\")","v":""},null,"CTT 77 Val de Moder 3",null,null,"mercredi 23-oct-2024, 20h00",null,null,"","",null,null,null,null,null,null,null,null,null,null,null,null,null,null,null,null,null,null,"",""]
[null,null,"ADULTESDIVISION1NORD","NORD","CLTT Menchhoffen 4",4,"MJC Kirrwiller 3",3,2,"2024-10-25","vendredi","20h00","Journée 2",{"$f":"IF(AND('resultats a exporter'!$CW$4=$I$2:$I$1100,'resultats a exporter'!$CX$4=$C$2:$C$1100,'resultats a exporter'!$CY$4=$E$2:$E$1100,'resultats a exporter'!$CZ$4=$G$2:$G$1100),'resultats a exporter'!$DA$4,\"\")","v":""},{"$f":"IF(AND('resultats a exporter'!$CW$4=$I$2:$I$1100,'resultats a exporter'!$CX$4=$C$2:$C$1100,'resultats a exporter'!$CY$4=$E$2:$E$1100,'resultats a exporter'!$CZ$4=$G$2:$G$1100),'resultats a exporter'!$DB$4,\"\")","v":""},null,"TT Dossenheim sur Zintel 1",null,null,"vendredi 25-oct-2024, 20h00",null,null,"","",null,null,null,null,null,null,null,null,null,null,null,null,null,null,null,null,null,null,"",""]
[null,null,"ADULTESDIVISION1NORD","NORD","CLTT Menchhoffen 3",3,"TT Dossenheim sur Zintel 1",1,3,"2024-11-07","jeudi","20h00","Journée 3",{"$f":"IF(AND('resultats a exporter'!$CW$4=$I$2:$I$1100,'resultats a exporter'!$CX$4=$C$2:$C$1100,'resultats a exporter'!$CY$4=$E$2:$E$1100,'resultats a exporter'!$CZ$4=$G$2:$G$1100),'resultats a exporter'!$DA$4,\"\")","v":""},{"$f":"IF(AND('resultats a exporter'!$CW$4=$I$2:$I$1100,'resultats a exporter'!$CX$4=$C$2:$C$1100,'resultats a exporter'!$CY$4=$E$2:$E$1100,'resultats a exporter'!$CZ$4=$G$2:$G$1100),'resultats a exporter'!$DB$4,\"\")","v":""},null,null,null,null,"jeudi 07-nov-2024, 20h00",null,null,"","",null,null,null,null,null,null,null,null,null,null,null,null,null,null,null,null,null,null,"",""]
[null,null,"ADULTESDIVISION1NORD","NORD","CS Tricolore Saverne 3",3,"Liberté Dettwiller 2",2,3,"2024-11-08","vendredi","20h30","Journée 3",{"$f":"IF(AND('resultats a exporter'!$CW$4=$I$2:$I$1100,'resultats a exporter'!$CX$4=$C$2:$C$1100,'resultats a exporter'!$CY$4=$E$2:$E$1100,'resultats a exporter'!$CZ$4=$G$2:$G$1100),'resultats a exporter'!$DA$4,\"\")","v":""},{"$f":"IF(AND('resultats a exporter'!$CW$4=$I$2:$I$1100,'resultats a exporter'!$CX$4=$C$2:$C$1100,'resultats a exporter'!$CY$4=$E$2:$E$1100,'resultats a exporter'!$CZ$4=$G$2:$G$1100),'resultats a exporter'!$DB$4,\"\")","v":""},null,null,null,null,"vendredi 08-nov-2024, 20h30",null,null,"","",null,null,null,null,null,null,null,null,null,null,null,null,null,null,null,null,null,null,"",""]
[null,null,"ADULTESDIVISION1NORD","NORD","CTT 77 Val de Moder 3",3,"MJC Kirrwiller 3",3,3,"2024-11-07","jeudi","19h30","Journée 3",{"$f":"IF(AND('resultats a exporter'!$CW$4=$I$2:$I$1100,'resultats a exporter'!$CX$4=$C$2:$C$1100,'resultats a exporter'!$CY$4=$E$2:$E$1100,'resultats a exporter'!$CZ$4=$G$2:$G$1100),'resultats a exporter'!$DA$4,\"\")","v":""},{"$f":"IF(AND('resultats a exporter'!$CW$4=$I$2:$I$1100,'resultats a exporter'!$CX$4=$C$2:$C$1100,'resultats a exporter'!$CY$4=$E$2:$E$1100,'resultats a exporter'!$CZ$4=$G$2:$G$1100),'resultats a exporter'!$DB$4,\"\")","v":""},null,null,null,null,"jeudi 07-nov-2024, 19h30",null,null,"","",null,null,null,null,null,null,null,null,null,null,null,null,null,null,null,null,null,null,"",""]
[null,null,"ADULTESDIVISION1NORD","NORD","CLTT Menchhoffen 4",4,null,null,3,"2024-11-08","vendredi","20h00","Journée 3",{"$f":"IF(AND('resultats a exporter'!$CW$4=$I$2:$I$1100,'resultats a exporter'!$CX$4=$C$2:$C$1100,'resultats a exporter'!$CY$4=$E$2:$E$1100,'resultats a exporter'!$CZ$4=$G$2:$G$1100),'resultats a exporter'!$DA$4,\"\")","v":""},{"$f":"IF(AND('resultats a exporter'!$CW$4=$I$2:$I$1100,'resultats a exporter'!$CX$4=$C$2:$C$1100,'resultats a exporter'!$CY$4=$E$2:$E$1100,'resultats a exporter'!$CZ$4=$G$2:$G$1100),'resultats a exporter'!$DB$4,\"\")","v":""},null,null,null,null,"vendredi 08-nov-2024, 20h00",null,null,"","",null,null,null,null,null,null,null,null,null,null,null,null,null,null,null,null,null,null,"",""]
[null,null,"ADULTESDIVISION1NORD","NORD","Liberté Dettwiller 2",2,"CLTT Menchhoffen 3",3,4,"2024-11-20","mercredi","20h00","Journée 4",{"$f":"IF(AND('resultats a exporter'!$CW$4=$I$2:$I$1100,'resultats a exporter'!$CX$4=$C$2:$C$1100,'resultats a exporter'!$CY$4=$E$2:$E$1100,'resultats a exporter'!$CZ$4=$G$2:$G$1100),'resultats a exporter'!$DA$4,\"\")","v":""},{"$f":"IF(AND('resultats a exporter'!$CW$4=$I$2:$I$1100,'resultats a exporter'!$CX$4=$C$2:$C$1100,'resultats a exporter'!$CY$4=$E$2:$E$1100,'resultats a exporter'!$CZ$4=$G$2:$G$1100),'resultats a exporter'!$DB$4,\"\")","v":""},null,null,null,null,"mercredi 20-nov-2024, 20h00",null,null,"","",null,null,null,null,null,null,null,null,null,null,null,null,null,null,null,null,null,null,"",""]
[null,null,"ADULTESDIVISION1NORD","NORD","MJC Kirrwiller 3",3,"CS Tricolore Saverne 3",3,4,"2024-11-19","mardi","20h00","Journée 4",{"$f":"IF(AND('resultats a exporter'!$CW$4=$I$2:$I$1100,'resultats a exporter'!$CX$4=$C$2:$C$1100,'resultats a exporter'!$CY$4=$E$2:$E$1100,'resultats a exporter'!$CZ$4=$G$2:$G$1100),'resultats a exporter'!$DA$4,\"\")","v":""},{"$f":"IF(AND('resultats a exporter'!$CW$4=$I$2:$I$1100,'resultats a exporter'!$CX$4=$C$2:$C$1100,'resultats a exporter'!$CY$4=$E$2:$E$1100,'resultats a exporter'!$CZ$4=$G$2:$G$1100),'resultats a exporter'!$DB$4,\"\")","v":""},null,null,null,null,"mardi 19-nov-2024, 20h00",null,null,"","",null,null,null,null,null,null,null,null,null,null,null,null,null,null,null,null,null,null,"",""]
[null,null,"ADULTESDIVISION1NORD","NORD","CLTT Menchhoffen 4",4,"CTT 77 Val de Moder 3",3,4,"2024-11-22","vendredi","20h00","Journée 4",{"$f":"IF(AND('resultats a exporter'!$CW$4=$I$2:$I$1100,'resultats a exporter'!$CX$4=$C$2:$C$1100,'resultats a exporter'!$CY$4=$E$2:$E$1100,'resultats a exporter'!$CZ$4=$G$2:$G$1100),'resultats a exporter'!$DA$4,\"\")","v":""},{"$f":"IF(AND('resultats a exporter'!$CW$4=$I$2:$I$1100,'resultats a exporter'!$CX$4=$C$2:$C$1100,'resultats a exporter'!$CY$4=$E$2:$E$1100,'resultats a exporter'!$CZ$4=$G$2:$G$1100),'resultats a exporter'!$DB$4,\"\")","v":""},null,null,null,null,"vendredi 22-nov-2024, 20h00",null,null,"","",null,null,null,null,null,null,null,null,null,null,null,null,null,null,null,null,null,null,"",""]
[null,null,"ADULTESDIVISION1NORD","NORD","TT Dossenheim sur Zintel 1",1,null,null,4,"2024-11-18","lundi","20h00","Journée 4",{"$f":"IF(AND('resultats a exporter'!$CW$4=$I$2:$I$1100,'resultats a exporter'!$CX$4=$C$2:$C$1100,'resultats a exporter'!$CY$4=$E$2:$E$1100,'resultats a exporter'!$CZ$4=$G$2:$G$1100),'resultats a exporter'!$DA$4,\"\")","v":""},{"$f":"IF(AND('resultats a exporter'!$CW$4=$I$2:$I$1100,'resultats a exporter'!$CX$4=$C$2:$C$1100,'resultats a exporter'!$CY$4=$E$2:$E$1100,'resultats a exporter'!$CZ$4=$G$2:$G$1100),'resultats a exporter'!$DB$4,\"\")","v":""},null,null,null,null,"lundi 18-nov-2024, 20h00",null,null,"","",null,null,null,null,null,null,null,null,null,null,null,null,null,null,null,null,null,null,"",""]
[null,null,"ADULTESDIVISION1NORD","NORD","CLTT Menchhoffen 3",3,"MJC Kirrwiller 3",3,5,"2024-12-05","jeudi","20h00","Journée 5",{"$f":"IF(AND('resultats a exporter'!$CW$4=$I$2:$I$1100,'resultats a exporter'!$CX$4=$C$2:$C$1100,'resultats a exporter'!$CY$4=$E$2:$E$1100,'resultats a exporter'!$CZ$4=$G$2:$G$1100),'resultats a exporter'!$DA$4,\"\")","v":""},{"$f":"IF(AND('resultats a exporter'!$CW$4=$I$2:$I$1100,'resultats a exporter'!$CX$4=$C$2:$C$1100,'resultats a exporter'!$CY$4=$E$2:$E$1100,'resultats a exporter'!$CZ$4=$G$2:$G$1100),'resultats a exporter'!$DB$4,\"\")","v":""},null,null,null,null,"jeudi 05-déc-2024, 20h00",null,null,"","",null,null,null,null,null,null,null,null,null,null,null,null,null,null,null,null,null,null,"",""]
[null,null,"ADULTESDIVISION1NORD","NORD","CS Tricolore Saverne 3",3,"CTT 77 Val de Moder 3",3,5,"2024-12-06","vendredi","20h30","Journée 5",{"$f":"IF(AND('resultats a exporter'!$CW$4=$I$2:$I$1100,'resultats a exporter'!$CX$4=$C$2:$C$1100,'resultats a exporter'!$CY$4=$E$2:$E$1100,'resultats a exporter'!$CZ$4=$G$2:$G$1100),'resultats a exporter'!$DA$4,\"\")","v":""},{"$f":"IF(AND('resultats a exporter'!$CW$4=$I$2:$I$1100,'resultats a exporter'!$CX$4=$C$2:$C$1100,'resultats a exporter'!$CY$4=$E$2:$E$1100,'resultats a exporter'!$CZ$4=$G$2:$G$1100),'resultats a exporter'!$DB$4,\"\")","v":""},null,null,null,null,"vendredi 06-déc-2024, 20h30",null,null,"","",null,null,null,null,null,null,null,null,null,null,null,null,null,null,null,null,null,null,"",""]
[null,null,"ADULTESDIVISION1NORD","NORD","Liberté Dettwiller 2",2,null,null,5,"2024-12-04","mercredi","20h00","Journée 5",{"$f":"IF(AND('resultats a exporter'!$CW$4=$I$2:$I$1100,'resultats a exporter'!$CX$4=$C$2:$C$1100,'resultats a exporter'!$CY$4=$E$2:$E$1100,'resultats a exporter'!$CZ$4=$G$2:$G$1100),'resultats a exporter'!$DA$4,\"\")","v":""},{"$f":"IF(AND('resultats a exporter'!$CW$4=$I$2:$I$1100,'resultats a exporter'!$CX$4=$C$2:$C$1100,'resultats a exporter'!$CY$4=$E$2:$E$1100,'resultats a exporter'!$CZ$4=$G$2:$G$1100),'resultats a exporter'!$DB$4,\"\")","v":""},null,null,null,null,"mercredi 04-déc-2024, 20h00",null,null,"","",null,null,null,null,null,null,null,null,null,null,null,null,null,null,null,null,null,null,"",""]
[null,null,"ADULTESDIVISION1NORD","NORD","TT Dossenheim sur Zintel 1",1,"CLTT Menchhoffen 4",4,5,"2024-12-02","lundi","20h00","Journée 5",{"$f":"IF(AND('resultats a exporter'!$CW$4=$I$2:$I$1100,'resultats a exporter'!$CX$4=$C$2:$C$1100,'resultats a exporter'!$CY$4=$E$2:$E$1100,'resultats a exporter'!$CZ$4=$G$2:$G$1100),'resultats a exporter'!$DA$4,\"\")","v":""},{"$f":"IF(AND('resultats a exporter'!$CW$4=$I$2:$I$1100,'resultats a exporter'!$CX$4=$C$2:$C$1100,'resultats a exporter'!$CY$4=$E$2:$E$1100,'resultats a exporter'!$CZ$4=$G$2:$G$1100),'resultats a exporter'!$DB$4,\"\")","v":""},null,null,null,null,"lundi 02-déc-2024, 20h00",null,null,"","",null,null,null,null,null,null,null,null,null,null,null,null,null,null,null,null,null,null,"",""]
[null,null,"ADULTESDIVISION1NORD","NORD","CTT 77 Val de Moder 3",3,"CLTT Menchhoffen 3",3,6,"2024-12-19","jeudi","19h30","Journée 6",{"$f":"IF(AND('resultats a exporter'!$CW$4=$I$2:$I$1100,'resultats a exporter'!$CX$4=$C$2:$C$1100,'resultats a exporter'!$CY$4=$E$2:$E$1100,'resultats a exporter'!$CZ$4=$G$2:$G$1100),'resultats a exporter'!$DA$4,\"\")","v":""},{"$f":"IF(AND('resultats a exporter'!$CW$4=$I$2:$I$1100,'resultats a exporter'!$CX$4=$C$2:$C$1100,'resultats a exporter'!$CY$4=$E$2:$E$1100,'resultats a exporter'!$CZ$4=$G$2:$G$1100),'resultats a exporter'!$DB$4,\"\")","v":""},null,null,null,null,"jeudi 19-déc-2024, 19h30",null,null,"","",null,null,null,null,null,null,null,null,null,null,null,null,null,null,null,null,null,null,"",""]
[null,null,"ADULTESDIVISION1NORD","NORD","CS Tricolore Saverne 3",3,"CLTT Menchhoffen 4",4,6,"2024-12-20","vendredi","20h30","Journée 6",{"$f":"IF(AND('resultats a exporter'!$CW$4=$I$2:$I$1100,'resultats a exporter'!$CX$4=$C$2:$C$1100,'resultats a exporter'!$CY$4=$E$2:$E$1100,'resultats a exporter'!$CZ$4=$G$2:$G$1100),'resultats a exporter'!$DA$4,\"\")","v":""},{"$f":"IF(AND('resultats a exporter'!$CW$4=$I$2:$I$1100,'resultats a exporter'!$CX$4=$C$2:$C$1100,'resultats a exporter'!$CY$4=$E$2:$E$1100,'resultats a exporter'!$CZ$4=$G$2:$G$1100),'resultats a exporter'!$DB$4,\"\")","v":""},null,null,null,null,"vendredi 20-déc-2024, 20h30",null,null,"","",null,null,null,null,null,null,null,null,null,null,null,null,null,null,null,null,null,null,"",""]
[null,null,"ADULTESDIVISION1NORD","NORD",null,null,"MJC Kirrwiller 3",3,6,null,"",null,"Journée 6",{"$f":"IF(AND('resultats a exporter'!$CW$4=$I$2:$I$1100,'resultats a exporter'!$CX$4=$C$2:$C$1100,'resultats a exporter'!$CY$4=$E$2:$E$1100,'resultats a exporter'!$CZ$4=$G$2:$G$1100),'resultats a exporter'!$DA$4,\"\")","v":""},{"$f":"IF(AND('resultats a exporter'!$CW$4=$I$2:$I$1100,'resultats a exporter'!$CX$4=$C$2:$C$1100,'resultats a exporter'!$CY$4=$E$2:$E$1100,'resultats a exporter'!$CZ$4=$G$2:$G$1100),'resultats a exporter'!$DB$4,\"\")","v":""},null,null,null,null,"",null,null,"","",null,null,null,null,null,null,null,null,null,null,null,null,null,null,null,null,null,null,"",""]
[null,null,"ADULTESDIVISION1NORD","NORD","Liberté Dettwiller 2",2,"TT Dossenheim sur Zintel 1",1,6,"2024-12-18","mercredi","20h00","Journée 6",{"$f":"IF(AND('resultats a exporter'!$CW$4=$I$2:$I$1100,'resultats a exporter'!$CX$4=$C$2:$C$1100,'resultats a exporter'!$CY$4=$E$2:$E$1100,'resultats a exporter'!$CZ$4=$G$2:$G$1100),'resultats a exporter'!$DA$4,\"\")","v":""},{"$f":"IF(AND('resultats a exporter'!$CW$4=$I$2:$I$1100,'resultats a exporter'!$CX$4=$C$2:$C$1100,'resultats a exporter'!$CY$4=$E$2:$E$1100,'resultats a exporter'!$CZ$4=$G$2:$G$1100),'resultats a exporter'!$DB$4,\"\")","v":""},null,null,null,null,"mercredi 18-déc-2024, 20h00",null,null,"","",null,null,null,null,null,null,null,null,null,null,null,null,null,null,null,null,null,null,"",""]
[null,null,"ADULTESDIVISION1NORD","NORD","CLTT Menchhoffen 3",3,"CS Tricolore Saverne 3",3,7,"2025-01-09","jeudi","20h00","Journée 7",{"$f":"IF(AND('resultats a exporter'!$CW$4=$I$2:$I$1100,'resultats a exporter'!$CX$4=$C$2:$C$1100,'resultats a exporter'!$CY$4=$E$2:$E$1100,'resultats a exporter'!$CZ$4=$G$2:$G$1100),'resultats a exporter'!$DA$4,\"\")","v":""},{"$f":"IF(AND('resultats a exporter'!$CW$4=$I$2:$I$1100,'resultats a exporter'!$CX$4=$C$2:$C$1100,'resultats a exporter'!$CY$4=$E$2:$E$1100,'resultats a exporter'!$CZ$4=$G$2:$G$1100),'resultats a exporter'!$DB$4,\"\")","v":""},null,null,null,null,"jeudi 09-janv-2025, 20h00",null,null,"","",null,null,null,null,null,null,null,null,null,null,null,null,null,null,null,null,null,null,"",""]
[null,null,"ADULTESDIVISION1NORD","NORD",null,null,"CTT 77 Val de Moder 3",3,7,null,"",null,"Journée 7",{"$f":"IF(AND('resultats a exporter'!$CW$4=$I$2:$I$1100,'resultats a exporter'!$CX$4=$C$2:$C$1100,'resultats a exporter'!$CY$4=$E$2:$E$1100,'resultats a exporter'!$CZ$4=$G$2:$G$1100),'resultats a exporter'!$DA$4,\"\")","v":""},{"$f":"IF(AND('resultats a exporter'!$CW$4=$I$2:$I$1100,'resultats a exporter'!$CX$4=$C$2:$C$1100,'resultats a exporter'!$CY$4=$E$2:$E$1100,'resultats a exporter'!$CZ$4=$G$2:$G$1100),'resultats a exporter'!$DB$4,\"\")","v":""},null,null,null,null,"",null,null,"","",null,null,null,null,null,null,null,null,null,null,null,null,null,null,null,null,null,null,"",""]
[null,null,"ADULTESDIVISION1NORD","NORD","TT Dossenheim sur Zintel 1",1,"MJC Kirrwiller 3",3,7,"2025-01-06","lundi","20h00","Journée 7",{"$f":"IF(AND('resultats a exporter'!$CW$4=$I$2:$I$1100,'resultats a exporter'!$CX$4=$C$2:$C$1100,'resultats a exporter'!$CY$4=$E$2:$E$1100,'resultats a exporter'!$CZ$4=$G$2:$G$1100),'resultats a exporter'!$DA$4,\"\")","v":""},{"$f":"IF(AND('resultats a exporter'!$CW$4=$I$2:$I$1100,'resultats a exporter'!$CX$4=$C$2:$C$1100,'resultats a exporter'!$CY$4=$E$2:$E$1100,'resultats a exporter'!$CZ$4=$G$2:$G$1100),'resultats a exporter'!$DB$4,\"\")","v":""},null,null,null,null,"lundi 06-janv-2025, 20h00",null,null,"","",null,null,null,null,null,null,null,null,null,null,null,null,null,null,null,null,null,null,"",""]
[null,null,"ADULTESDIVISION1NORD","NORD","CLTT Menchhoffen 4",4,"Liberté Dettwiller 2",2,7,"2025-01-10","vendredi","20h00","Journée 7",{"$f":"IF(AND('resultats a exporter'!$CW$4=$I$2:$I$1100,'resultats a exporter'!$CX$4=$C$2:$C$1100,'resultats a exporter'!$CY$4=$E$2:$E$1100,'resultats a exporter'!$CZ$4=$G$2:$G$1100),'resultats a exporter'!$DA$4,\"\")","v":""},{"$f":"IF(AND('resultats a exporter'!$CW$4=$I$2:$I$1100,'resultats a exporter'!$CX$4=$C$2:$C$1100,'resultats a exporter'!$CY$4=$E$2:$E$1100,'resultats a exporter'!$CZ$4=$G$2:$G$1100),'resultats a exporter'!$DB$4,\"\")","v":""},null,null,null,null,"vendredi 10-janv-2025, 20h00",null,null,"","",null,null,null,null,null,null,null,null,null,null,null,null,null,null,null,null,null,null,"",""]
[null,null,"ADULTESDIVISION1NORD","NORD","CLTT Menchhoffen 4",4,"CLTT Menchhoffen 3",3,8,"2025-01-24","vendredi","20h00","Journée 8",{"$f":"IF(AND('resultats a exporter'!$CW$4=$I$2:$I$1100,'resultats a exporter'!$CX$4=$C$2:$C$1100,'resultats a exporter'!$CY$4=$E$2:$E$1100,'resultats a exporter'!$CZ$4=$G$2:$G$1100),'resultats a exporter'!$DA$4,\"\")","v":""},{"$f":"IF(AND('resultats a exporter'!$CW$4=$I$2:$I$1100,'resultats a exporter'!$CX$4=$C$2:$C$1100,'resultats a exporter'!$CY$4=$E$2:$E$1100,'resultats a exporter'!$CZ$4=$G$2:$G$1100),'resultats a exporter'!$DB$4,\"\")","v":""},null,null,null,null,"vendredi 24-janv-2025, 20h00",null,null,"","",null,null,null,null,null,null,null,null,null,null,null,null,null,null,null,null,null,null,"",""]
[null,null,"ADULTESDIVISION1NORD","NORD",null,null,"CS Tricolore Saverne 3",3,8,null,"",null,"Journée 8",{"$f":"IF(AND('resultats a exporter'!$CW$4=$I$2:$I$1100,'resultats a exporter'!$CX$4=$C$2:$C$1100,'resultats a exporter'!$CY$4=$E$2:$E$1100,'resultats a exporter'!$CZ$4=$G$2:$G$1100),'resultats a exporter'!$DA$4,\"\")","v":""},{"$f":"IF(AND('resultats a exporter'!$CW$4=$I$2:$I$1100,'resultats a exporter'!$CX$4=$C$2:$C$1100,'resultats a exporter'!$CY$4=$E$2:$E$1100,'resultats a exporter'!$CZ$4=$G$2:$G$1100),'resultats a exporter'!$DB$4,\"\")","v":""},null,null,null,null,"",null,null,"","",null,null,null,null,null,null,null,null,null,null,null,null,null,null,null,null,null,null,"",""]
[null,null,"ADULTESDIVISION1NORD","NORD","TT Dossenheim sur Zintel 1",1,"CTT 77 Val de Moder 3",3,8,"2025-01-20","lundi","20h00","Journée 8",{"$f":"IF(AND('resultats a exporter'!$CW$4=$I$2:$I$1100,'resultats a exporter'!$CX$4=$C$2:$C$1100,'resultats a exporter'!$CY$4=$E$2:$E$1100,'resultats a exporter'!$CZ$4=$G$2:$G$1100),'resultats a exporter'!$DA$4,\"\")","v":""},{"$f":"IF(AND('resultats a exporter'!$CW$4=$I$2:$I$1100,'resultats a exporter'!$CX$4=$C$2:$C$1100,'resultats a exporter'!$CY$4=$E$2:$E$1100,'resultats a exporter'!$CZ$4=$G$2:$G$1100),'resultats a exporter'!$DB$4,\"\")","v":""},null,null,null,null,"lundi 20-janv-2025, 20h00",null,null,"","",null,null,null,null,null,null,null,null,null,null,null,null,null,null,null,null,null,null,"",""]
[null,null,"ADULTESDIVISION1NORD","NORD","Liberté Dettwiller 2",2,"MJC Kirrwiller 3",3,8,"2025-01-22","mercredi","20h00","Journée 8",{"$f":"IF(AND('resultats a exporter'!$CW$4=$I$2:$I$1100,'resultats a exporter'!$CX$4=$C$2:$C$1100,'resultats a exporter'!$CY$4=$E$2:$E$1100,'resultats a exporter'!$CZ$4=$G$2:$G$1100),'resultats a exporter'!$DA$4,\"\")","v":""},{"$f":"IF(AND('resultats a exporter'!$CW$4=$I$2:$I$1100,'resultats a exporter'!$CX$4=$C$2:$C$1100,'resultats a exporter'!$CY$4=$E$2:$E$1100,'resultats a exporter'!$CZ$4=$G$2:$G$1100),'resultats a exporter'!$DB$4,\"\")","v":""},null,null,null,null,"mercredi 22-janv-2025, 20h00",null,null,"","",null,null,null,null,null,null,null,null,null,null,null,null,null,null,null,null,null,null,"",""]
[null,null,"ADULTESDIVISION1NORD","NORD","CLTT Menchhoffen 3",3,null,null,9,"2025-02-06","jeudi","20h00","Journée 9",{"$f":"IF(AND('resultats a exporter'!$CW$4=$I$2:$I$1100,'resultats a exporter'!$CX$4=$C$2:$C$1100,'resultats a exporter'!$CY$4=$E$2:$E$1100,'resultats a exporter'!$CZ$4=$G$2:$G$1100),'resultats a exporter'!$DA$4,\"\")","v":""},{"$f":"IF(AND('resultats a exporter'!$CW$4=$I$2:$I$1100,'resultats a exporter'!$CX$4=$C$2:$C$1100,'resultats a exporter'!$CY$4=$E$2:$E$1100,'resultats a exporter'!$CZ$4=$G$2:$G$1100),'resultats a exporter'!$DB$4,\"\")","v":""},null,null,null,null,"jeudi 06-févr-2025, 20h00",null,null,"","",null,null,null,null,null,null,null,null,null,null,null,null,null,null,null,null,null,null,"",""]
[null,null,"ADULTESDIVISION1NORD","NORD","CS Tricolore Saverne 3",3,"TT Dossenheim sur Zintel 1",1,9,"2025-02-07","vendredi","20h30","Journée 9",{"$f":"IF(AND('resultats a exporter'!$CW$4=$I$2:$I$1100,'resultats a exporter'!$CX$4=$C$2:$C$1100,'resultats a exporter'!$CY$4=$E$2:$E$1100,'resultats a exporter'!$CZ$4=$G$2:$G$1100),'resultats a exporter'!$DA$4,\"\")","v":""},{"$f":"IF(AND('resultats a exporter'!$CW$4=$I$2:$I$1100,'resultats a exporter'!$CX$4=$C$2:$C$1100,'resultats a exporter'!$CY$4=$E$2:$E$1100,'resultats a exporter'!$CZ$4=$G$2:$G$1100),'resultats a exporter'!$DB$4,\"\")","v":""},null,null,null,null,"vendredi 07-févr-2025, 20h30",null,null,"","",null,null,null,null,null,null,null,null,null,null,null,null,null,null,null,null,null,null,"",""]
[null,null,"ADULTESDIVISION1NORD","NORD","CTT 77 Val de Moder 3",3,"Liberté Dettwiller 2",2,9,"2025-02-06","jeudi","19h30","Journée 9",{"$f":"IF(AND('resultats a exporter'!$CW$4=$I$2:$I$1100,'resultats a exporter'!$CX$4=$C$2:$C$1100,'resultats a exporter'!$CY$4=$E$2:$E$1100,'resultats a exporter'!$CZ$4=$G$2:$G$1100),'resultats a exporter'!$DA$4,\"\")","v":""},{"$f":"IF(AND('resultats a exporter'!$CW$4=$I$2:$I$1100,'resultats a exporter'!$CX$4=$C$2:$C$1100,'resultats a exporter'!$CY$4=$E$2:$E$1100,'resultats a exporter'!$CZ$4=$G$2:$G$1100),'resultats a exporter'!$DB$4,\"\")","v":""},null,null,null,null,"jeudi 06-févr-2025, 19h30",null,null,"","",null,null,null,null,null,null,null,null,null,null,null,null,null,null,null,null,null,null,"",""]
[null,null,"ADULTESDIVISION1NORD","NORD","MJC Kirrwiller 3",3,"CLTT Menchhoffen 4",4,9,"2025-02-04","mardi","20h00","Journée 9",{"$f":"IF(AND('resultats a exporter'!$CW$4=$I$2:$I$1100,'resultats a exporter'!$CX$4=$C$2:$C$1100,'resultats a exporter'!$CY$4=$E$2:$E$1100,'resultats a exporter'!$CZ$4=$G$2:$G$1100),'resultats a exporter'!$DA$4,\"\")","v":""},{"$f":"IF(AND('resultats a exporter'!$CW$4=$I$2:$I$1100,'resultats a exporter'!$CX$4=$C$2:$C$1100,'resultats a exporter'!$CY$4=$E$2:$E$1100,'resultats a exporter'!$CZ$4=$G$2:$G$1100),'resultats a exporter'!$DB$4,\"\")","v":""},null,null,null,null,"mardi 04-févr-2025, 20h00",null,null,"","",null,null,null,null,null,null,null,null,null,null,null,null,null,null,null,null,null,null,"",""]
[null,null,"ADULTESDIVISION1NORD","NORD","TT Dossenheim sur Zintel 1",1,"CLTT Menchhoffen 3",3,10,"2025-02-24","lundi","20h00","Journée 10",{"$f":"IF(AND('resultats a exporter'!$CW$4=$I$2:$I$1100,'resultats a exporter'!$CX$4=$C$2:$C$1100,'resultats a exporter'!$CY$4=$E$2:$E$1100,'resultats a exporter'!$CZ$4=$G$2:$G$1100),'resultats a exporter'!$DA$4,\"\")","v":""},{"$f":"IF(AND('resultats a exporter'!$CW$4=$I$2:$I$1100,'resultats a exporter'!$CX$4=$C$2:$C$1100,'resultats a exporter'!$CY$4=$E$2:$E$1100,'resultats a exporter'!$CZ$4=$G$2:$G$1100),'resultats a exporter'!$DB$4,\"\")","v":""},null,null,null,null,"lundi 24-févr-2025, 20h00",null,null,"","",null,null,null,null,null,null,null,null,null,null,null,null,null,null,null,null,null,null,"",""]
[null,null,"ADULTESDIVISION1NORD","NORD","Liberté Dettwiller 2",2,"CS Tricolore Saverne 3",3,10,"2025-02-26","mercredi","20h00","Journée 10",{"$f":"IF(AND('resultats a exporter'!$CW$4=$I$2:$I$1100,'resultats a exporter'!$CX$4=$C$2:$C$1100,'resultats a exporter'!$CY$4=$E$2:$E$1100,'resultats a exporter'!$CZ$4=$G$2:$G$1100),'resultats a exporter'!$DA$4,\"\")","v":""},{"$f":"IF(AND('resultats a exporter'!$CW$4=$I$2:$I$1100,'resultats a exporter'!$CX$4=$C$2:$C$1100,'resultats a exporter'!$CY$4=$E$2:$E$1100,'resultats a exporter'!$CZ$4=$G$2:$G$1100),'resultats a exporter'!$DB$4,\"\")","v":""},null,null,null,null,"mercredi 26-févr-2025, 20h00",null,null,"","",null,null,null,null,null,null,null,null,null,null,null,null,null,null,null,null,null,null,"",""]
[null,null,"ADULTESDIVISION1NORD","NORD","MJC Kirrwiller 3",3,"CTT 77 Val de Moder 3",3,10,"2025-02-25","mardi","20h00","Journée 10",{"$f":"IF(AND('resultats a exporter'!$CW$4=$I$2:$I$1100,'resultats a exporter'!$CX$4=$C$2:$C$1100,'resultats a exporter'!$CY$4=$E$2:$E$1100,'resultats a exporter'!$CZ$4=$G$2:$G$1100),'resultats a exporter'!$DA$4,\"\")","v":""},{"$f":"IF(AND('resultats a exporter'!$CW$4=$I$2:$I$1100,'resultats a exporter'!$CX$4=$C$2:$C$1100,'resultats a exporter'!$CY$4=$E$2:$E$1100,'resultats a exporter'!$CZ$4=$G$2:$G$1100),'resultats a exporter'!$DB$4,\"\")","v":""},null,null,null,null,"mardi 25-févr-2025, 20h00",null,null,"","",null,null,null,null,null,null,null,null,null,null,null,null,null,null,null,null,null,null,"",""]
[null,null,"ADULTESDIVISION1NORD","NORD",null,null,"CLTT Menchhoffen 4",4,10,null,"",null,"Journée 10",{"$f":"IF(AND('resultats a exporter'!$CW$4=$I$2:$I$1100,'resultats a exporter'!$CX$4=$C$2:$C$1100,'resultats a exporter'!$CY$4=$E$2:$E$1100,'resultats a exporter'!$CZ$4=$G$2:$G$1100),'resultats a exporter'!$DA$4,\"\")","v":""},{"$f":"IF(AND('resultats a exporter'!$CW$4=$I$2:$I$1100,'resultats a exporter'!$CX$4=$C$2:$C$1100,'resultats a exporter'!$CY$4=$E$2:$E$1100,'resultats a exporter'!$CZ$4=$G$2:$G$1100),'resultats a exporter'!$DB$4,\"\")","v":""},null,null,null,null,"",null,null,"","",null,null,null,null,null,null,null,null,null,null,null,null,null,null,null,null,null,null,"",""]
[null,null,"ADULTESDIVISION1NORD","NORD","CLTT Menchhoffen 3",3,"Liberté Dettwiller 2",2,11,"2025-03-13","jeudi","20h00","Journée 11",{"$f":"IF(AND('resultats a exporter'!$CW$4=$I$2:$I$1100,'resultats a exporter'!$CX$4=$C$2:$C$1100,'resultats a exporter'!$CY$4=$E$2:$E$1100,'resultats a exporter'!$CZ$4=$G$2:$G$1100),'resultats a exporter'!$DA$4,\"\")","v":""},{"$f":"IF(AND('resultats a exporter'!$CW$4=$I$2:$I$1100,'resultats a exporter'!$CX$4=$C$2:$C$1100,'resultats a exporter'!$CY$4=$E$2:$E$1100,'resultats a exporter'!$CZ$4=$G$2:$G$1100),'resultats a exporter'!$DB$4,\"\")","v":""},null,null,null,null,"jeudi 13-mars-2025, 20h00",null,null,"","",null,null,null,null,null,null,null,null,null,null,null,null,null,null,null,null,null,null,"",""]
[null,null,"ADULTESDIVISION1NORD","NORD","CS Tricolore Saverne 3",3,"MJC Kirrwiller 3",3,11,"2025-03-14","vendredi","20h30","Journée 11",{"$f":"IF(AND('resultats a exporter'!$CW$4=$I$2:$I$1100,'resultats a exporter'!$CX$4=$C$2:$C$1100,'resultats a exporter'!$CY$4=$E$2:$E$1100,'resultats a exporter'!$CZ$4=$G$2:$G$1100),'resultats a exporter'!$DA$4,\"\")","v":""},{"$f":"IF(AND('resultats a exporter'!$CW$4=$I$2:$I$1100,'resultats a exporter'!$CX$4=$C$2:$C$1100,'resultats a exporter'!$CY$4=$E$2:$E$1100,'resultats a exporter'!$CZ$4=$G$2:$G$1100),'resultats a exporter'!$DB$4,\"\")","v":""},null,null,null,null,"vendredi 14-mars-2025, 20h30",null,null,"","",null,null,null,null,null,null,null,null,null,null,null,null,null,null,null,null,null,null,"",""]
[null,null,"ADULTESDIVISION1NORD","NORD","CTT 77 Val de Moder 3",3,"CLTT Menchhoffen 4",4,11,"2025-03-13","jeudi","19h30","Journée 11",{"$f":"IF(AND('resultats a exporter'!$CW$4=$I$2:$I$1100,'resultats a exporter'!$CX$4=$C$2:$C$1100,'resultats a exporter'!$CY$4=$E$2:$E$1100,'resultats a exporter'!$CZ$4=$G$2:$G$1100),'resultats a exporter'!$DA$4,\"\")","v":""},{"$f":"IF(AND('resultats a exporter'!$CW$4=$I$2:$I$1100,'resultats a exporter'!$CX$4=$C$2:$C$1100,'resultats a exporter'!$CY$4=$E$2:$E$1100,'resultats a exporter'!$CZ$4=$G$2:$G$1100),'resultats a exporter'!$DB$4,\"\")","v":""},null,null,null,null,"jeudi 13-mars-2025, 19h30",null,null,"","",null,null,null,null,null,null,null,null,null,null,null,null,null,null,null,null,null,null,"",""]
[null,null,"ADULTESDIVISION1NORD","NORD",null,null,"TT Dossenheim sur Zintel 1",1,11,null,"",null,"Journée 11",{"$f":"IF(AND('resultats a exporter'!$CW$4=$I$2:$I$1100,'resultats a exporter'!$CX$4=$C$2:$C$1100,'resultats a exporter'!$CY$4=$E$2:$E$1100,'resultats a exporter'!$CZ$4=$G$2:$G$1100),'resultats a exporter'!$DA$4,\"\")","v":""},{"$f":"IF(AND('resultats a exporter'!$CW$4=$I$2:$I$1100,'resultats a exporter'!$CX$4=$C$2:$C$1100,'resultats a exporter'!$CY$4=$E$2:$E$1100,'resultats a exporter'!$CZ$4=$G$2:$G$1100),'resultats a exporter'!$DB$4,\"\")","v":""},null,null,null,null,"",null,null,"","",null,null,null,null,null,null,null,null,null,null,null,null,null,null,null,null,null,null,"",""]
[null,null,"ADULTESDIVISION1NORD","NORD","MJC Kirrwiller 3",3,"CLTT Menchhoffen 3",3,12,"2025-03-18","mardi","20h00","Journée 12",{"$f":"IF(AND('resultats a exporter'!$CW$4=$I$2:$I$1100,'resultats a exporter'!$CX$4=$C$2:$C$1100,'resultats a exporter'!$CY$4=$E$2:$E$1100,'resultats a exporter'!$CZ$4=$G$2:$G$1100),'resultats a exporter'!$DA$4,\"\")","v":""},{"$f":"IF(AND('resultats a exporter'!$CW$4=$I$2:$I$1100,'resultats a exporter'!$CX$4=$C$2:$C$1100,'resultats a exporter'!$CY$4=$E$2:$E$1100,'resultats a exporter'!$CZ$4=$G$2:$G$1100),'resultats a exporter'!$DB$4,\"\")","v":""},null,null,null,null,"mardi 18-mars-2025, 20h00",null,null,"","",null,null,null,null,null,null,null,null,null,null,null,null,null,null,null,null,null,null,"",""]
[null,null,"ADULTESDIVISION1NORD","NORD","CTT 77 Val de Moder 3",3,"CS Tricolore Saverne 3",3,12,"2025-03-20","jeudi","19h30","Journée 12",{"$f":"IF(AND('resultats a exporter'!$CW$4=$I$2:$I$1100,'resultats a exporter'!$CX$4=$C$2:$C$1100,'resultats a exporter'!$CY$4=$E$2:$E$1100,'resultats a exporter'!$CZ$4=$G$2:$G$1100),'resultats a exporter'!$DA$4,\"\")","v":""},{"$f":"IF(AND('resultats a exporter'!$CW$4=$I$2:$I$1100,'resultats a exporter'!$CX$4=$C$2:$C$1100,'resultats a exporter'!$CY$4=$E$2:$E$1100,'resultats a exporter'!$CZ$4=$G$2:$G$1100),'resultats a exporter'!$DB$4,\"\")","v":""},null,null,null,null,"jeudi 20-mars-2025, 19h30",null,null,"","",null,null,null,null,null,null,null,null,null,null,null,null,null,null,null,null,null,null,"",""]
[null,null,"ADULTESDIVISION1NORD","NORD",null,null,"Liberté Dettwiller 2",2,12,null,"",null,"Journée 12",{"$f":"IF(AND('resultats a exporter'!$CW$4=$I$2:$I$1100,'resultats a exporter'!$CX$4=$C$2:$C$1100,'resultats a exporter'!$CY$4=$E$2:$E$1100,'resultats a exporter'!$CZ$4=$G$2:$G$1100),'resultats a exporter'!$DA$4,\"\")","v":""},{"$f":"IF(AND('resultats a exporter'!$CW$4=$I$2:$I$1100,'resultats a exporter'!$CX$4=$C$2:$C$1100,'resultats a exporter'!$CY$4=$E$2:$E$1100,'resultats a exporter'!$CZ$4=$G$2:$G$1100),'resultats a exporter'!$DB$4,\"\")","v":""},null,null,null,null,"",null,null,"","",null,null,null,null,null,null,null,null,null,null,null,null,null,null,null,null,null,null,"",""]
[null,null,"ADULTESDIVISION1NORD","NORD","CLTT Menchhoffen 4",4,"TT Dossenheim sur Zintel 1",1,12,"2025-03-21","vendredi","20h00","Journée 12",{"$f":"IF(AND('resultats a exporter'!$CW$4=$I$2:$I$1100,'resultats a exporter'!$CX$4=$C$2:$C$1100,'resultats a exporter'!$CY$4=$E$2:$E$1100,'resultats a exporter'!$CZ$4=$G$2:$G$1100),'resultats a exporter'!$DA$4,\"\")","v":""},{"$f":"IF(AND('resultats a exporter'!$CW$4=$I$2:$I$1100,'resultats a exporter'!$CX$4=$C$2:$C$1100,'resultats a exporter'!$CY$4=$E$2:$E$1100,'resultats a exporter'!$CZ$4=$G$2:$G$1100),'resultats a exporter'!$DB$4,\"\")","v":""},null,null,null,null,"vendredi 21-mars-2025, 20h00",null,null,"","",null,null,null,null,null,null,null,null,null,null,null,null,null,null,null,null,null,null,"",""]
[null,null,"ADULTESDIVISION1NORD","NORD","CLTT Menchhoffen 3",3,"CTT 77 Val de Moder 3",3,13,"2025-04-10","jeudi","20h00","Journée 13",{"$f":"IF(AND('resultats a exporter'!$CW$4=$I$2:$I$1100,'resultats a exporter'!$CX$4=$C$2:$C$1100,'resultats a exporter'!$CY$4=$E$2:$E$1100,'resultats a exporter'!$CZ$4=$G$2:$G$1100),'resultats a exporter'!$DA$4,\"\")","v":""},{"$f":"IF(AND('resultats a exporter'!$CW$4=$I$2:$I$1100,'resultats a exporter'!$CX$4=$C$2:$C$1100,'resultats a exporter'!$CY$4=$E$2:$E$1100,'resultats a exporter'!$CZ$4=$G$2:$G$1100),'resultats a exporter'!$DB$4,\"\")","v":""},null,null,null,null,"jeudi 10-avr-2025, 20h00",null,null,"","",null,null,null,null,null,null,null,null,null,null,null,null,null,null,null,null,null,null,"",""]
[null,null,"ADULTESDIVISION1NORD","NORD","CLTT Menchhoffen 4",4,"CS Tricolore Saverne 3",3,13,"2025-04-11","vendredi","20h00","Journée 13",{"$f":"IF(AND('resultats a exporter'!$CW$4=$I$2:$I$1100,'resultats a exporter'!$CX$4=$C$2:$C$1100,'resultats a exporter'!$CY$4=$E$2:$E$1100,'resultats a exporter'!$CZ$4=$G$2:$G$1100),'resultats a exporter'!$DA$4,\"\")","v":""},{"$f":"IF(AND('resultats a exporter'!$CW$4=$I$2:$I$1100,'resultats a exporter'!$CX$4=$C$2:$C$1100,'resultats a exporter'!$CY$4=$E$2:$E$1100,'resultats a exporter'!$CZ$4=$G$2:$G$1100),'resultats a exporter'!$DB$4,\"\")","v":""},null,null,null,null,"vendredi 11-avr-2025, 20h00",null,null,"","",null,null,null,null,null,null,null,null,null,null,null,null,null,null,null,null,null,null,"",""]
[null,null,"ADULTESDIVISION1NORD","NORD","MJC Kirrwiller 3",3,null,null,13,"2025-04-08","mardi","20h00","Journée 13",{"$f":"IF(AND('resultats a exporter'!$CW$4=$I$2:$I$1100,'resultats a exporter'!$CX$4=$C$2:$C$1100,'resultats a exporter'!$CY$4=$E$2:$E$1100,'resultats a exporter'!$CZ$4=$G$2:$G$1100),'resultats a exporter'!$DA$4,\"\")","v":""},{"$f":"IF(AND('resultats a exporter'!$CW$4=$I$2:$I$1100,'resultats a exporter'!$CX$4=$C$2:$C$1100,'resultats a exporter'!$CY$4=$E$2:$E$1100,'resultats a exporter'!$CZ$4=$G$2:$G$1100),'resultats a exporter'!$DB$4,\"\")","v":""},null,null,null,null,"mardi 08-avr-2025, 20h00",null,null,"","",null,null,null,null,null,null,null,null,null,null,null,null,null,null,null,null,null,null,"",""]
[null,null,"ADULTESDIVISION1NORD","NORD","TT Dossenheim sur Zintel 1",1,"Liberté Dettwiller 2",2,13,"2025-04-07",{"$f":"IF(J195=\"\",\"\",TEXT(J195,\"JJJJ\"))","v":"lundi"},"20h00","Journée 13",{"$f":"IF(AND('resultats a exporter'!$CW$4=$I$2:$I$1100,'resultats a exporter'!$CX$4=$C$2:$C$1100,'resultats a exporter'!$CY$4=$E$2:$E$1100,'resultats a exporter'!$CZ$4=$G$2:$G$1100),'resultats a exporter'!$DA$4,\"\")","v":""},{"$f":"IF(AND('resultats a exporter'!$CW$4=$I$2:$I$1100,'resultats a exporter'!$CX$4=$C$2:$C$1100,'resultats a exporter'!$CY$4=$E$2:$E$1100,'resultats a exporter'!$CZ$4=$G$2:$G$1100),'resultats a exporter'!$DB$4,\"\")","v":""},null,null,null,null,{"$f":"IF(J195=\"\",\"\",$K195&\" \"&TEXT($J195,\"jj-mmm-aaaa\")&\", \"&$L195)","v":"lundi 07-avr-2025, 20h00"},null,null,{"$f":"IF(AND(N195<>\"\",O195<>\"\"),T195,\"\")","v":""},{"$f":"IF(AND(N195<>\"\",O195<>\"\"),E195&\" - \"&G195,\"\")","v":""},null,null,null,null,null,null,null,null,null,null,null,null,null,null,null,null,null,null,{"$f":"IF(AND(N195<>\"\",O195<>\"\"),E195,\"\")","v":""},{"$f":"IF(AND(N195<>\"\",O195<>\"\"),G195,\"\")","v":""}]
[null,null,"ADULTESDIVISION1NORD","NORD","CS Tricolore Saverne 3",3,"CLTT Menchhoffen 3",3,14,"2025-05-09","vendredi","20h30",{"$f":"I$1&\" \"&I196","v":"Journée 14"},{"$f":"IF(AND('resultats a exporter'!$CW$4=$I$2:$I$1100,'resultats a exporter'!$CX$4=$C$2:$C$1100,'resultats a exporter'!$CY$4=$E$2:$E$1100,'resultats a exporter'!$CZ$4=$G$2:$G$1100),'resultats a exporter'!$DA$4,\"\")","v":""},{"$f":"IF(AND('resultats a exporter'!$CW$4=$I$2:$I$1100,'resultats a exporter'!$CX$4=$C$2:$C$1100,'resultats a exporter'!$CY$4=$E$2:$E$1100,'resultats a exporter'!$CZ$4=$G$2:$G$1100),'resultats a exporter'!$DB$4,\"\")","v":""},null,null,null,null,"vendredi 09-mai-2025, 20h30",null,null,"","",null,null,null,null,null,null,null,null,null,null,null,null,null,null,null,null,null,null,"",""]
[null,null,"ADULTESDIVISION1NORD","NORD","CTT 77 Val de Moder 3",3,null,null,14,"2025-05-08","jeudi","19h30","Journée 14",{"$f":"IF(AND('resultats a exporter'!$CW$4=$I$2:$I$1100,'resultats a exporter'!$CX$4=$C$2:$C$1100,'resultats a exporter'!$CY$4=$E$2:$E$1100,'resultats a exporter'!$CZ$4=$G$2:$G$1100),'resultats a exporter'!$DA$4,\"\")","v":""},{"$f":"IF(AND('resultats a exporter'!$CW$4=$I$2:$I$1100,'resultats a exporter'!$CX$4=$C$2:$C$1100,'resultats a exporter'!$CY$4=$E$2:$E$1100,'resultats a exporter'!$CZ$4=$G$2:$G$1100),'resultats a exporter'!$DB$4,\"\")","v":""},null,null,null,null,"jeudi 08-mai-2025, 19h30",null,null,"","",null,null,null,null,null,null,null,null,null,null,null,null,null,null,null,null,null,null,"",""]
[null,null,"ADULTESDIVISION1NORD","NORD","MJC Kirrwiller 3",3,"TT Dossenheim sur Zintel 1",1,14,"2025-05-06","mardi","20h00","Journée 14",{"$f":"IF(AND('resultats a exporter'!$CW$4=$I$2:$I$1100,'resultats a exporter'!$CX$4=$C$2:$C$1100,'resultats a exporter'!$CY$4=$E$2:$E$1100,'resultats a exporter'!$CZ$4=$G$2:$G$1100),'resultats a exporter'!$DA$4,\"\")","v":""},{"$f":"IF(AND('resultats a exporter'!$CW$4=$I$2:$I$1100,'resultats a exporter'!$CX$4=$C$2:$C$1100,'resultats a exporter'!$CY$4=$E$2:$E$1100,'resultats a exporter'!$CZ$4=$G$2:$G$1100),'resultats a exporter'!$DB$4,\"\")","v":""},null,null,null,null,"mardi 06-mai-2025, 20h00",null,null,"","",null,null,null,null,null,null,null,null,null,null,null,null,null,null,null,null,null,null,"",""]
[null,null,"ADULTESDIVISION1NORD","NORD","Liberté Dettwiller 2",2,"CLTT Menchhoffen 4",4,14,"2025-05-07","mercredi","20h00","Journée 14",{"$f":"IF(AND('resultats a exporter'!$CW$4=$I$2:$I$1100,'resultats a exporter'!$CX$4=$C$2:$C$1100,'resultats a exporter'!$CY$4=$E$2:$E$1100,'resultats a exporter'!$CZ$4=$G$2:$G$1100),'resultats a exporter'!$DA$4,\"\")","v":""},{"$f":"IF(AND('resultats a exporter'!$CW$4=$I$2:$I$1100,'resultats a exporter'!$CX$4=$C$2:$C$1100,'resultats a exporter'!$CY$4=$E$2:$E$1100,'resultats a exporter'!$CZ$4=$G$2:$G$1100),'resultats a exporter'!$DB$4,\"\")","v":""},null,null,null,null,"mercredi 07-mai-2025, 20h00",null,null,"","",null,null,null,null,null,null,null,null,null,null,null,null,null,null,null,null,null,null,"",""]
[null,null,"PROMOTIONSTRASBOURG","STRASBOURG","US Egalitaire Neudorf 3",3,"US Egalitaire Neudorf 2",2,1,"2024-10-08","mardi","20h00","Journée 1",{"$f":"IF(AND('resultats a exporter'!$CW$4=$I$2:$I$1100,'resultats a exporter'!$CX$4=$C$2:$C$1100,'resultats a exporter'!$CY$4=$E$2:$E$1100,'resultats a exporter'!$CZ$4=$G$2:$G$1100),'resultats a exporter'!$DA$4,\"\")","v":""},{"$f":"IF(AND('resultats a exporter'!$CW$4=$I$2:$I$1100,'resultats a exporter'!$CX$4=$C$2:$C$1100,'resultats a exporter'!$CY$4=$E$2:$E$1100,'resultats a exporter'!$CZ$4=$G$2:$G$1100),'resultats a exporter'!$DB$4,\"\")","v":""},"PROMOTIONSTRASBOURG",null,null,null,"mardi 08-oct-2024, 20h00",null,null,"","",null,null,null,null,null,null,null,null,null,null,null,null,null,null,null,null,null,null,"",""]
[null,null,"PROMOTIONSTRASBOURG","STRASBOURG",null,null,"US Egalitaire Neudorf 4",4,1,null,"",null,"Journée 1",{"$f":"IF(AND('resultats a exporter'!$CW$4=$I$2:$I$1100,'resultats a exporter'!$CX$4=$C$2:$C$1100,'resultats a exporter'!$CY$4=$E$2:$E$1100,'resultats a exporter'!$CZ$4=$G$2:$G$1100),'resultats a exporter'!$DA$4,\"\")","v":""},{"$f":"IF(AND('resultats a exporter'!$CW$4=$I$2:$I$1100,'resultats a exporter'!$CX$4=$C$2:$C$1100,'resultats a exporter'!$CY$4=$E$2:$E$1100,'resultats a exporter'!$CZ$4=$G$2:$G$1100),'resultats a exporter'!$DB$4,\"\")","v":""},null,"US Egalitaire Neudorf 2",null,null,"",null,null,"","",null,null,null,null,null,null,null,null,null,null,null,null,null,null,null,null,null,null,"",""]
[null,null,"PROMOTIONSTRASBOURG","STRASBOURG","UT AURORA Schilt.-B. 1",1,"UT AURORA Schilt.-B. 2",2,1,"2024-10-10","jeudi","20h00","Journée 1",{"$f":"IF(AND('resultats a exporter'!$CW$4=$I$2:$I$1100,'resultats a exporter'!$CX$4=$C$2:$C$1100,'resultats a exporter'!$CY$4=$E$2:$E$1100,'resultats a exporter'!$CZ$4=$G$2:$G$1100),'resultats a exporter'!$DA$4,\"\")","v":""},{"$f":"IF(AND('resultats a exporter'!$CW$4=$I$2:$I$1100,'resultats a exporter'!$CX$4=$C$2:$C$1100,'resultats a exporter'!$CY$4=$E$2:$E$1100,'resultats a exporter'!$CZ$4=$G$2:$G$1100),'resultats a exporter'!$DB$4,\"\")","v":""},null,"US Egalitaire Neudorf 3",null,null,"jeudi 10-oct-2024, 20h00",null,null,"","",null,null,null,null,null,null,null,null,null,null,null,null,null,null,null,null,null,null,"",""]
[null,null,"PROMOTIONSTRASBOURG","STRASBOURG","AS Electricité Strasbourg 2",2,"Amitié Lingolsheim 4",4,1,"2024-10-09","mercredi","19h00","Journée 1",{"$f":"IF(AND('resultats a exporter'!$CW$4=$I$2:$I$1100,'resultats a exporter'!$CX$4=$C$2:$C$1100,'resultats a exporter'!$CY$4=$E$2:$E$1100,'resultats a exporter'!$CZ$4=$G$2:$G$1100),'resultats a exporter'!$DA$4,\"\")","v":""},{"$f":"IF(AND('resultats a exporter'!$CW$4=$I$2:$I$1100,'resultats a exporter'!$CX$4=$C$2:$C$1100,'resultats a exporter'!$CY$4=$E$2:$E$1100,'resultats a exporter'!$CZ$4=$G$2:$G$1100),'resultats a exporter'!$DB$4,\"\")","v":""},null,"US Egalitaire Neudorf 4",null,null,"mercredi 09-oct-2024, 19h00",null,null,"","",null,null,null,null,null,null,null,null,null,null,null,null,null,null,null,null,null,null,"",""]
[null,null,"PROMOTIONSTRASBOURG","STRASBOURG","US Egalitaire Neudorf 4",4,"US Egalitaire Neudorf 3",3,2,"2024-10-21","lundi","20h00","Journée 2",{"$f":"IF(AND('resultats a exporter'!$CW$4=$I$2:$I$1100,'resultats a exporter'!$CX$4=$C$2:$C$1100,'resultats a exporter'!$CY$4=$E$2:$E$1100,'resultats a exporter'!$CZ$4=$G$2:$G$1100),'resultats a exporter'!$DA$4,\"\")","v":""},{"$f":"IF(AND('resultats a exporter'!$CW$4=$I$2:$I$1100,'resultats a exporter'!$CX$4=$C$2:$C$1100,'resultats a exporter'!$CY$4=$E$2:$E$1100,'resultats a exporter'!$CZ$4=$G$2:$G$1100),'resultats a exporter'!$DB$4,\"\")","v":""},null,"Amitié Lingolsheim 4",null,null,"lundi 21-oct-2024, 20h00",null,null,"","",null,null,null,null,null,null,null,null,null,null,null,null,null,null,null,null,null,null,"",""]
[null,null,"PROMOTIONSTRASBOURG","STRASBOURG","UT AURORA Schilt.-B. 2",2,null,null,2,"2024-10-24","jeudi","20h00","Journée 2",{"$f":"IF(AND('resultats a exporter'!$CW$4=$I$2:$I$1100,'resultats a exporter'!$CX$4=$C$2:$C$1100,'resultats a exporter'!$CY$4=$E$2:$E$1100,'resultats a exporter'!$CZ$4=$G$2:$G$1100),'resultats a exporter'!$DA$4,\"\")","v":""},{"$f":"IF(AND('resultats a exporter'!$CW$4=$I$2:$I$1100,'resultats a exporter'!$CX$4=$C$2:$C$1100,'resultats a exporter'!$CY$4=$E$2:$E$1100,'resultats a exporter'!$CZ$4=$G$2:$G$1100),'resultats a exporter'!$DB$4,\"\")","v":""},null,"UT AURORA Schilt.-B. 1",null,null,"jeudi 24-oct-2024, 20h00",null,null,"","",null,null,null,null,null,null,null,null,null,null,null,null,null,null,null,null,null,null,"",""]
[null,null,"PROMOTIONSTRASBOURG","STRASBOURG","Amitié Lingolsheim 4",4,"UT AURORA Schilt.-B. 1",1,2,"2024-10-21","lundi","19h30","Journée 2",{"$f":"IF(AND('resultats a exporter'!$CW$4=$I$2:$I$1100,'resultats a exporter'!$CX$4=$C$2:$C$1100,'resultats a exporter'!$CY$4=$E$2:$E$1100,'resultats a exporter'!$CZ$4=$G$2:$G$1100),'resultats a exporter'!$DA$4,\"\")","v":""},{"$f":"IF(AND('resultats a exporter'!$CW$4=$I$2:$I$1100,'resultats a exporter'!$CX$4=$C$2:$C$1100,'resultats a exporter'!$CY$4=$E$2:$E$1100,'resultats a exporter'!$CZ$4=$G$2:$G$1100),'resultats a exporter'!$DB$4,\"\")","v":""},null,"AS Electricité Strasbourg 2",null,null,"lundi 21-oct-2024, 19h30",null,null,"","",null,null,null,null,null,null,null,null,null,null,null,null,null,null,null,null,null,null,"",""]
[null,null,"PROMOTIONSTRASBOURG","STRASBOURG","US Egalitaire Neudorf 2",2,"AS Electricité Strasbourg 2",2,2,"2024-10-22","mardi","20h00","Journée 2",{"$f":"IF(AND('resultats a exporter'!$CW$4=$I$2:$I$1100,'resultats a exporter'!$CX$4=$C$2:$C$1100,'resultats a exporter'!$CY$4=$E$2:$E$1100,'resultats a exporter'!$CZ$4=$G$2:$G$1100),'resultats a exporter'!$DA$4,\"\")","v":""},{"$f":"IF(AND('resultats a exporter'!$CW$4=$I$2:$I$1100,'resultats a exporter'!$CX$4=$C$2:$C$1100,'resultats a exporter'!$CY$4=$E$2:$E$1100,'resultats a exporter'!$CZ$4=$G$2:$G$1100),'resultats a exporter'!$DB$4,\"\")","v":""},null,"UT AURORA Schilt.-B. 2",null,null,"mardi 22-oct-2024, 20h00",null,null,"","",null,null,null,null,null,null,null,null,null,null,null,null,null,null,null,null,null,null,"",""]
[null,null,"PROMOTIONSTRASBOURG","STRASBOURG","US Egalitaire Neudorf 3",3,"UT AURORA Schilt.-B. 2",2,3,"2024-11-05","mardi","20h00","Journée 3",{"$f":"IF(AND('resultats a exporter'!$CW$4=$I$2:$I$1100,'resultats a exporter'!$CX$4=$C$2:$C$1100,'resultats a exporter'!$CY$4=$E$2:$E$1100,'resultats a exporter'!$CZ$4=$G$2:$G$1100),'resultats a exporter'!$DA$4,\"\")","v":""},{"$f":"IF(AND('resultats a exporter'!$CW$4=$I$2:$I$1100,'resultats a exporter'!$CX$4=$C$2:$C$1100,'resultats a exporter'!$CY$4=$E$2:$E$1100,'resultats a exporter'!$CZ$4=$G$2:$G$1100),'resultats a exporter'!$DB$4,\"\")","v":""},null,null,null,null,"mardi 05-nov-2024, 20h00",null,null,"","",null,null,null,null,null,null,null,null,null,null,null,null,null,null,null,null,null,null,"",""]
[null,null,"PROMOTIONSTRASBOURG","STRASBOURG",null,null,"Amitié Lingolsheim 4",4,3,null,"",null,"Journée 3",{"$f":"IF(AND('resultats a exporter'!$CW$4=$I$2:$I$1100,'resultats a exporter'!$CX$4=$C$2:$C$1100,'resultats a exporter'!$CY$4=$E$2:$E$1100,'resultats a exporter'!$CZ$4=$G$2:$G$1100),'resultats a exporter'!$DA$4,\"\")","v":""},{"$f":"IF(AND('resultats a exporter'!$CW$4=$I$2:$I$1100,'resultats a exporter'!$CX$4=$C$2:$C$1100,'resultats a exporter'!$CY$4=$E$2:$E$1100,'resultats a exporter'!$CZ$4=$G$2:$G$1100),'resultats a exporter'!$DB$4,\"\")","v":""},null,null,null,null,"",null,null,"","",null,null,null,null,null,null,null,null,null,null,null,null,null,null,null,null,null,null,"",""]
[null,null,"PROMOTIONSTRASBOURG","STRASBOURG","UT AURORA Schilt.-B. 1",1,"AS Electricité Strasbourg 2",2,3,"2024-11-07","jeudi","20h00","Journée 3",{"$f":"IF(AND('resultats a exporter'!$CW$4=$I$2:$I$1100,'resultats a exporter'!$CX$4=$C$2:$C$1100,'resultats a exporter'!$CY$4=$E$2:$E$1100,'resultats a exporter'!$CZ$4=$G$2:$G$1100),'resultats a exporter'!$DA$4,\"\")","v":""},{"$f":"IF(AND('resultats a exporter'!$CW$4=$I$2:$I$1100,'resultats a exporter'!$CX$4=$C$2:$C$1100,'resultats a exporter'!$CY$4=$E$2:$E$1100,'resultats a exporter'!$CZ$4=$G$2:$G$1100),'resultats a exporter'!$DB$4,\"\")","v":""},null,null,null,null,"jeudi 07-nov-2024, 20h00",null,null,"","",null,null,null,null,null,null,null,null,null,null,null,null,null,null,null,null,null,null,"",""]
[null,null,"PROMOTIONSTRASBOURG","STRASBOURG","US Egalitaire Neudorf 4",4,"US Egalitaire Neudorf 2",2,3,"2024-11-04","lundi","20h00","Journée 3",{"$f":"IF(AND('resultats a exporter'!$CW$4=$I$2:$I$1100,'resultats a exporter'!$CX$4=$C$2:$C$1100,'resultats a exporter'!$CY$4=$E$2:$E$1100,'resultats a exporter'!$CZ$4=$G$2:$G$1100),'resultats a exporter'!$DA$4,\"\")","v":""},{"$f":"IF(AND('resultats a exporter'!$CW$4=$I$2:$I$1100,'resultats a exporter'!$CX$4=$C$2:$C$1100,'resultats a exporter'!$CY$4=$E$2:$E$1100,'resultats a exporter'!$CZ$4=$G$2:$G$1100),'resultats a exporter'!$DB$4,\"\")","v":""},null,null,null,null,"lundi 04-nov-2024, 20h00",null,null,"","",null,null,null,null,null,null,null,null,null,null,null,null,null,null,null,null,null,null,"",""]
[null,null,"PROMOTIONSTRASBOURG","STRASBOURG","Amitié Lingolsheim 4",4,"US Egalitaire Neudorf 3",3,4,"2024-11-18","lundi","19h30","Journée 4",{"$f":"IF(AND('resultats a exporter'!$CW$4=$I$2:$I$1100,'resultats a exporter'!$CX$4=$C$2:$C$1100,'resultats a exporter'!$CY$4=$E$2:$E$1100,'resultats a exporter'!$CZ$4=$G$2:$G$1100),'resultats a exporter'!$DA$4,\"\")","v":""},{"$f":"IF(AND('resultats a exporter'!$CW$4=$I$2:$I$1100,'resultats a exporter'!$CX$4=$C$2:$C$1100,'resultats a exporter'!$CY$4=$E$2:$E$1100,'resultats a exporter'!$CZ$4=$G$2:$G$1100),'resultats a exporter'!$DB$4,\"\")","v":""},null,null,null,null,"lundi 18-nov-2024, 19h30",null,null,"","",null,null,null,null,null,null,null,null,null,null,null,null,null,null,null,null,null,null,"",""]
[null,null,"PROMOTIONSTRASBOURG","STRASBOURG","AS Electricité Strasbourg 2",2,null,null,4,"2024-11-20","mercredi","19h00","Journée 4",{"$f":"IF(AND('resultats a exporter'!$CW$4=$I$2:$I$1100,'resultats a exporter'!$CX$4=$C$2:$C$1100,'resultats a exporter'!$CY$4=$E$2:$E$1100,'resultats a exporter'!$CZ$4=$G$2:$G$1100),'resultats a exporter'!$DA$4,\"\")","v":""},{"$f":"IF(AND('resultats a exporter'!$CW$4=$I$2:$I$1100,'resultats a exporter'!$CX$4=$C$2:$C$1100,'resultats a exporter'!$CY$4=$E$2:$E$1100,'resultats a exporter'!$CZ$4=$G$2:$G$1100),'resultats a exporter'!$DB$4,\"\")","v":""},null,null,null,null,"mercredi 20-nov-2024, 19h00",null,null,"","",null,null,null,null,null,null,null,null,null,null,null,null,null,null,null,null,null,null,"",""]
[null,null,"PROMOTIONSTRASBOURG","STRASBOURG","US Egalitaire Neudorf 2",2,"UT AURORA Schilt.-B. 1",1,4,"2024-11-19","mardi","20h00","Journée 4",{"$f":"IF(AND('resultats a exporter'!$CW$4=$I$2:$I$1100,'resultats a exporter'!$CX$4=$C$2:$C$1100,'resultats a exporter'!$CY$4=$E$2:$E$1100,'resultats a exporter'!$CZ$4=$G$2:$G$1100),'resultats a exporter'!$DA$4,\"\")","v":""},{"$f":"IF(AND('resultats a exporter'!$CW$4=$I$2:$I$1100,'resultats a exporter'!$CX$4=$C$2:$C$1100,'resultats a exporter'!$CY$4=$E$2:$E$1100,'resultats a exporter'!$CZ$4=$G$2:$G$1100),'resultats a exporter'!$DB$4,\"\")","v":""},null,null,null,null,"mardi 19-nov-2024, 20h00",null,null,"","",null,null,null,null,null,null,null,null,null,null,null,null,null,null,null,null,null,null,"",""]
[null,null,"PROMOTIONSTRASBOURG","STRASBOURG","UT AURORA Schilt.-B. 2",2,"US Egalitaire Neudorf 4",4,4,"2024-11-21","jeudi","20h00","Journée 4",{"$f":"IF(AND('resultats a exporter'!$CW$4=$I$2:$I$1100,'resultats a exporter'!$CX$4=$C$2:$C$1100,'resultats a exporter'!$CY$4=$E$2:$E$1100,'resultats a exporter'!$CZ$4=$G$2:$G$1100),'resultats a exporter'!$DA$4,\"\")","v":""},{"$f":"IF(AND('resultats a exporter'!$CW$4=$I$2:$I$1100,'resultats a exporter'!$CX$4=$C$2:$C$1100,'resultats a exporter'!$CY$4=$E$2:$E$1100,'resultats a exporter'!$CZ$4=$G$2:$G$1100),'resultats a exporter'!$DB$4,\"\")","v":""},null,null,null,null,"jeudi 21-nov-2024, 20h00",null,null,"","",null,null,null,null,null,null,null,null,null,null,null,null,null,null,null,null,null,null,"",""]
[null,null,"PROMOTIONSTRASBOURG","STRASBOURG","AS Electricité Strasbourg 2",2,"US Egalitaire Neudorf 3",3,5,"2024-12-04","mercredi","19h00","Journée 5",{"$f":"IF(AND('resultats a exporter'!$CW$4=$I$2:$I$1100,'resultats a exporter'!$CX$4=$C$2:$C$1100,'resultats a exporter'!$CY$4=$E$2:$E$1100,'resultats a exporter'!$CZ$4=$G$2:$G$1100),'resultats a exporter'!$DA$4,\"\")","v":""},{"$f":"IF(AND('resultats a exporter'!$CW$4=$I$2:$I$1100,'resultats a exporter'!$CX$4=$C$2:$C$1100,'resultats a exporter'!$CY$4=$E$2:$E$1100,'resultats a exporter'!$CZ$4=$G$2:$G$1100),'resultats a exporter'!$DB$4,\"\")","v":""},null,null,null,null,"mercredi 04-déc-2024, 19h00",null,null,"","",null,null,null,null,null,null,null,null,null,null,null,null,null,null,null,null,null,null,"",""]
[null,null,"PROMOTIONSTRASBOURG","STRASBOURG",null,null,"UT AURORA Schilt.-B. 1",1,5,null,"",null,"Journée 5",{"$f":"IF(AND('resultats a exporter'!$CW$4=$I$2:$I$1100,'resultats a exporter'!$CX$4=$C$2:$C$1100,'resultats a exporter'!$CY$4=$E$2:$E$1100,'resultats a exporter'!$CZ$4=$G$2:$G$1100),'resultats a exporter'!$DA$4,\"\")","v":""},{"$f":"IF(AND('resultats a exporter'!$CW$4=$I$2:$I$1100,'resultats a exporter'!$CX$4=$C$2:$C$1100,'resultats a exporter'!$CY$4=$E$2:$E$1100,'resultats a exporter'!$CZ$4=$G$2:$G$1100),'resultats a exporter'!$DB$4,\"\")","v":""},null,null,null,null,"",null,null,"","",null,null,null,null,null,null,null,null,null,null,null,null,null,null,null,null,null,null,"",""]
[null,null,"PROMOTIONSTRASBOURG","STRASBOURG","Amitié Lingolsheim 4",4,"US Egalitaire Neudorf 4",4,5,"2024-12-02","lundi","19h30","Journée 5",{"$f":"IF(AND('resultats a exporter'!$CW$4=$I$2:$I$1100,'resultats a exporter'!$CX$4=$C$2:$C$1100,'resultats a exporter'!$CY$4=$E$2:$E$1100,'resultats a exporter'!$CZ$4=$G$2:$G$1100),'resultats a exporter'!$DA$4,\"\")","v":""},{"$f":"IF(AND('resultats a exporter'!$CW$4=$I$2:$I$1100,'resultats a exporter'!$CX$4=$C$2:$C$1100,'resultats a exporter'!$CY$4=$E$2:$E$1100,'resultats a exporter'!$CZ$4=$G$2:$G$1100),'resultats a exporter'!$DB$4,\"\")","v":""},null,null,null,null,"lundi 02-déc-2024, 19h30",null,null,"","",null,null,null,null,null,null,null,null,null,null,null,null,null,null,null,null,null,null,"",""]
[null,null,"PROMOTIONSTRASBOURG","STRASBOURG","US Egalitaire Neudorf 2",2,"UT AURORA Schilt.-B. 2",2,5,"2024-12-03","mardi","20h00","Journée 5",{"$f":"IF(AND('resultats a exporter'!$CW$4=$I$2:$I$1100,'resultats a exporter'!$CX$4=$C$2:$C$1100,'resultats a exporter'!$CY$4=$E$2:$E$1100,'resultats a exporter'!$CZ$4=$G$2:$G$1100),'resultats a exporter'!$DA$4,\"\")","v":""},{"$f":"IF(AND('resultats a exporter'!$CW$4=$I$2:$I$1100,'resultats a exporter'!$CX$4=$C$2:$C$1100,'resultats a exporter'!$CY$4=$E$2:$E$1100,'resultats a exporter'!$CZ$4=$G$2:$G$1100),'resultats a exporter'!$DB$4,\"\")","v":""},null,null,null,null,"mardi 03-déc-2024, 20h00",null,null,"","",null,null,null,null,null,null,null,null,null,null,null,null,null,null,null,null,null,null,"",""]
[null,null,"PROMOTIONSTRASBOURG","STRASBOURG","UT AURORA Schilt.-B. 1",1,"US Egalitaire Neudorf 3",3,6,"2024-12-19","jeudi","20h00","Journée 6",{"$f":"IF(AND('resultats a exporter'!$CW$4=$I$2:$I$1100,'resultats a exporter'!$CX$4=$C$2:$C$1100,'resultats a exporter'!$CY$4=$E$2:$E$1100,'resultats a exporter'!$CZ$4=$G$2:$G$1100),'resultats a exporter'!$DA$4,\"\")","v":""},{"$f":"IF(AND('resultats a exporter'!$CW$4=$I$2:$I$1100,'resultats a exporter'!$CX$4=$C$2:$C$1100,'resultats a exporter'!$CY$4=$E$2:$E$1100,'resultats a exporter'!$CZ$4=$G$2:$G$1100),'resultats a exporter'!$DB$4,\"\")","v":""},null,null,null,null,"jeudi 19-déc-2024, 20h00",null,null,"","",null,null,null,null,null,null,null,null,null,null,null,null,null,null,null,null,null,null,"",""]
[null,null,"PROMOTIONSTRASBOURG","STRASBOURG",null,null,"US Egalitaire Neudorf 2",2,6,null,"",null,"Journée 6",{"$f":"IF(AND('resultats a exporter'!$CW$4=$I$2:$I$1100,'resultats a exporter'!$CX$4=$C$2:$C$1100,'resultats a exporter'!$CY$4=$E$2:$E$1100,'resultats a exporter'!$CZ$4=$G$2:$G$1100),'resultats a exporter'!$DA$4,\"\")","v":""},{"$f":"IF(AND('resultats a exporter'!$CW$4=$I$2:$I$1100,'resultats a exporter'!$CX$4=$C$2:$C$1100,'resultats a exporter'!$CY$4=$E$2:$E$1100,'resultats a exporter'!$CZ$4=$G$2:$G$1100),'resultats a exporter'!$DB$4,\"\")","v":""},null,null,null,null,"",null,null,"","",null,null,null,null,null,null,null,null,null,null,null,null,null,null,null,null,null,null,"",""]
[null,null,"PROMOTIONSTRASBOURG","STRASBOURG","US Egalitaire Neudorf 4",4,"AS Electricité Strasbourg 2",2,6,"2024-12-16","lundi","20h00","Journée 6",{"$f":"IF(AND('resultats a exporter'!$CW$4=$I$2:$I$1100,'resultats a exporter'!$CX$4=$C$2:$C$1100,'resultats a exporter'!$CY$4=$E$2:$E$1100,'resultats a exporter'!$CZ$4=$G$2:$G$1100),'resultats a exporter'!$DA$4,\"\")","v":""},{"$f":"IF(AND('resultats a exporter'!$CW$4=$I$2:$I$1100,'resultats a exporter'!$CX$4=$C$2:$C$1100,'resultats a exporter'!$CY$4=$E$2:$E$1100,'resultats a exporter'!$CZ$4=$G$2:$G$1100),'resultats a exporter'!$DB$4,\"\")","v":""},null,null,null,null,"lundi 16-déc-2024, 20h00",null,null,"","",null,null,null,null,null,null,null,null,null,null,null,null,null,null,null,null,null,null,"",""]
[null,null,"PROMOTIONSTRASBOURG","STRASBOURG","Amitié Lingolsheim 4",4,"UT AURORA Schilt.-B. 2",2,6,"2024-12-16","lundi","19h30","Journée 6",{"$f":"IF(AND('resultats a exporter'!$CW$4=$I$2:$I$1100,'resultats a exporter'!$CX$4=$C$2:$C$1100,'resultats a exporter'!$CY$4=$E$2:$E$1100,'resultats a exporter'!$CZ$4=$G$2:$G$1100),'resultats a exporter'!$DA$4,\"\")","v":""},{"$f":"IF(AND('resultats a exporter'!$CW$4=$I$2:$I$1100,'resultats a exporter'!$CX$4=$C$2:$C$1100,'resultats a exporter'!$CY$4=$E$2:$E$1100,'resultats a exporter'!$CZ$4=$G$2:$G$1100),'resultats a exporter'!$DB$4,\"\")","v":""},null,null,null,null,"lundi 16-déc-2024, 19h30",null,null,"","",null,null,null,null,null,null,null,null,null,null,null,null,null,null,null,null,null,null,"",""]
[null,null,"PROMOTIONSTRASBOURG","STRASBOURG","US Egalitaire Neudorf 3",3,null,null,7,"2025-01-07","mardi","20h00","Journée 7",{"$f":"IF(AND('resultats a exporter'!$CW$4=$I$2:$I$1100,'resultats a exporter'!$CX$4=$C$2:$C$1100,'resultats a exporter'!$CY$4=$E$2:$E$1100,'resultats a exporter'!$CZ$4=$G$2:$G$1100),'resultats a exporter'!$DA$4,\"\")","v":""},{"$f":"IF(AND('resultats a exporter'!$CW$4=$I$2:$I$1100,'resultats a exporter'!$CX$4=$C$2:$C$1100,'resultats a exporter'!$CY$4=$E$2:$E$1100,'resultats a exporter'!$CZ$4=$G$2:$G$1100),'resultats a exporter'!$DB$4,\"\")","v":""},null,null,null,null,"mardi 07-janv-2025, 20h00",null,null,"","",null,null,null,null,null,null,null,null,null,null,null,null,null,null,null,null,null,null,"",""]
[null,null,"PROMOTIONSTRASBOURG","STRASBOURG","UT AURORA Schilt.-B. 1",1,"US Egalitaire Neudorf 4",4,7,"2025-01-09","jeudi","20h00","Journée 7",{"$f":"IF(AND('resultats a exporter'!$CW$4=$I$2:$I$1100,'resultats a exporter'!$CX$4=$C$2:$C$1100,'resultats a exporter'!$CY$4=$E$2:$E$1100,'resultats a exporter'!$CZ$4=$G$2:$G$1100),'resultats a exporter'!$DA$4,\"\")","v":""},{"$f":"IF(AND('resultats a exporter'!$CW$4=$I$2:$I$1100,'resultats a exporter'!$CX$4=$C$2:$C$1100,'resultats a exporter'!$CY$4=$E$2:$E$1100,'resultats a exporter'!$CZ$4=$G$2:$G$1100),'resultats a exporter'!$DB$4,\"\")","v":""},null,null,null,null,"jeudi 09-janv-2025, 20h00",null,null,"","",null,null,null,null,null,null,null,null,null,null,null,null,null,null,null,null,null,null,"",""]
[null,null,"PROMOTIONSTRASBOURG","STRASBOURG","UT AURORA Schilt.-B. 2",2,"AS Electricité Strasbourg 2",2,7,"2025-01-09","jeudi","20h00","Journée 7",{"$f":"IF(AND('resultats a exporter'!$CW$4=$I$2:$I$1100,'resultats a exporter'!$CX$4=$C$2:$C$1100,'resultats a exporter'!$CY$4=$E$2:$E$1100,'resultats a exporter'!$CZ$4=$G$2:$G$1100),'resultats a exporter'!$DA$4,\"\")","v":""},{"$f":"IF(AND('resultats a exporter'!$CW$4=$I$2:$I$1100,'resultats a exporter'!$CX$4=$C$2:$C$1100,'resultats a exporter'!$CY$4=$E$2:$E$1100,'resultats a exporter'!$CZ$4=$G$2:$G$1100),'resultats a exporter'!$DB$4,\"\")","v":""},null,null,null,null,"jeudi 09-janv-2025, 20h00",null,null,"","",null,null,null,null,null,null,null,null,null,null,null,null,null,null,null,null,null,null,"",""]
[null,null,"PROMOTIONSTRASBOURG","STRASBOURG","US Egalitaire Neudorf 2",2,"Amitié Lingolsheim 4",4,7,"2025-01-07","mardi","20h00","Journée 7",{"$f":"IF(AND('resultats a exporter'!$CW$4=$I$2:$I$1100,'resultats a exporter'!$CX$4=$C$2:$C$1100,'resultats a exporter'!$CY$4=$E$2:$E$1100,'resultats a exporter'!$CZ$4=$G$2:$G$1100),'resultats a exporter'!$DA$4,\"\")","v":""},{"$f":"IF(AND('resultats a exporter'!$CW$4=$I$2:$I$1100,'resultats a exporter'!$CX$4=$C$2:$C$1100,'resultats a exporter'!$CY$4=$E$2:$E$1100,'resultats a exporter'!$CZ$4=$G$2:$G$1100),'resultats a exporter'!$DB$4,\"\")","v":""},null,null,null,null,"mardi 07-janv-2025, 20h00",null,null,"","",null,null,null,null,null,null,null,null,null,null,null,null,null,null,null,null,null,null,"",""]
[null,null,"PROMOTIONSTRASBOURG","STRASBOURG","US Egalitaire Neudorf 2",2,"US Egalitaire Neudorf 3",3,8,"2025-01-21","mardi","20h00","Journée 8",{"$f":"IF(AND('resultats a exporter'!$CW$4=$I$2:$I$1100,'resultats a exporter'!$CX$4=$C$2:$C$1100,'resultats a exporter'!$CY$4=$E$2:$E$1100,'resultats a exporter'!$CZ$4=$G$2:$G$1100),'resultats a exporter'!$DA$4,\"\")","v":""},{"$f":"IF(AND('resultats a exporter'!$CW$4=$I$2:$I$1100,'resultats a exporter'!$CX$4=$C$2:$C$1100,'resultats a exporter'!$CY$4=$E$2:$E$1100,'resultats a exporter'!$CZ$4=$G$2:$G$1100),'resultats a exporter'!$DB$4,\"\")","v":""},null,null,null,null,"mardi 21-janv-2025, 20h00",null,null,"","",null,null,null,null,null,null,null,null,null,null,null,null,null,null,null,null,null,null,"",""]
[null,null,"PROMOTIONSTRASBOURG","STRASBOURG","US Egalitaire Neudorf 4",4,null,null,8,"2025-01-20","lundi","20h00","Journée 8",{"$f":"IF(AND('resultats a exporter'!$CW$4=$I$2:$I$1100,'resultats a exporter'!$CX$4=$C$2:$C$1100,'resultats a exporter'!$CY$4=$E$2:$E$1100,'resultats a exporter'!$CZ$4=$G$2:$G$1100),'resultats a exporter'!$DA$4,\"\")","v":""},{"$f":"IF(AND('resultats a exporter'!$CW$4=$I$2:$I$1100,'resultats a exporter'!$CX$4=$C$2:$C$1100,'resultats a exporter'!$CY$4=$E$2:$E$1100,'resultats a exporter'!$CZ$4=$G$2:$G$1100),'resultats a exporter'!$DB$4,\"\")","v":""},null,null,null,null,"lundi 20-janv-2025, 20h00",null,null,"","",null,null,null,null,null,null,null,null,null,null,null,null,null,null,null,null,null,null,"",""]
[null,null,"PROMOTIONSTRASBOURG","STRASBOURG","UT AURORA Schilt.-B. 2",2,"UT AURORA Schilt.-B. 1",1,8,"2025-01-23","jeudi","20h00","Journée 8",{"$f":"IF(AND('resultats a exporter'!$CW$4=$I$2:$I$1100,'resultats a exporter'!$CX$4=$C$2:$C$1100,'resultats a exporter'!$CY$4=$E$2:$E$1100,'resultats a exporter'!$CZ$4=$G$2:$G$1100),'resultats a exporter'!$DA$4,\"\")","v":""},{"$f":"IF(AND('resultats a exporter'!$CW$4=$I$2:$I$1100,'resultats a exporter'!$CX$4=$C$2:$C$1100,'resultats a exporter'!$CY$4=$E$2:$E$1100,'resultats a exporter'!$CZ$4=$G$2:$G$1100),'resultats a exporter'!$DB$4,\"\")","v":""},null,null,null,null,"jeudi 23-janv-2025, 20h00",null,null,"","",null,null,null,null,null,null,null,null,null,null,null,null,null,null,null,null,null,null,"",""]
[null,null,"PROMOTIONSTRASBOURG","STRASBOURG","Amitié Lingolsheim 4",4,"AS Electricité Strasbourg 2",2,8,"2025-01-20","lundi","19h30","Journée 8",{"$f":"IF(AND('resultats a exporter'!$CW$4=$I$2:$I$1100,'resultats a exporter'!$CX$4=$C$2:$C$1100,'resultats a exporter'!$CY$4=$E$2:$E$1100,'resultats a exporter'!$CZ$4=$G$2:$G$1100),'resultats a exporter'!$DA$4,\"\")","v":""},{"$f":"IF(AND('resultats a exporter'!$CW$4=$I$2:$I$1100,'resultats a exporter'!$CX$4=$C$2:$C$1100,'resultats a exporter'!$CY$4=$E$2:$E$1100,'resultats a exporter'!$CZ$4=$G$2:$G$1100),'resultats a exporter'!$DB$4,\"\")","v":""},null,null,null,null,"lundi 20-janv-2025, 19h30",null,null,"","",null,null,null,null,null,null,null,null,null,null,null,null,null,null,null,null,null,null,"",""]
[null,null,"PROMOTIONSTRASBOURG","STRASBOURG","US Egalitaire Neudorf 3",3,"US Egalitaire Neudorf 4",4,9,"2025-02-04","mardi","20h00","Journée 9",{"$f":"IF(AND('resultats a exporter'!$CW$4=$I$2:$I$1100,'resultats a exporter'!$CX$4=$C$2:$C$1100,'resultats a exporter'!$CY$4=$E$2:$E$1100,'resultats a exporter'!$CZ$4=$G$2:$G$1100),'resultats a exporter'!$DA$4,\"\")","v":""},{"$f":"IF(AND('resultats a exporter'!$CW$4=$I$2:$I$1100,'resultats a exporter'!$CX$4=$C$2:$C$1100,'resultats a exporter'!$CY$4=$E$2:$E$1100,'resultats a exporter'!$CZ$4=$G$2:$G$1100),'resultats a exporter'!$DB$4,\"\")","v":""},null,null,null,null,"mardi 04-févr-2025, 20h00",null,null,"","",null,null,null,null,null,null,null,null,null,null,null,null,null,null,null,null,null,null,"",""]
[null,null,"PROMOTIONSTRASBOURG","STRASBOURG",null,null,"UT AURORA Schilt.-B. 2",2,9,null,"",null,"Journée 9",{"$f":"IF(AND('resultats a exporter'!$CW$4=$I$2:$I$1100,'resultats a exporter'!$CX$4=$C$2:$C$1100,'resultats a exporter'!$CY$4=$E$2:$E$1100,'resultats a exporter'!$CZ$4=$G$2:$G$1100),'resultats a exporter'!$DA$4,\"\")","v":""},{"$f":"IF(AND('resultats a exporter'!$CW$4=$I$2:$I$1100,'resultats a exporter'!$CX$4=$C$2:$C$1100,'resultats a exporter'!$CY$4=$E$2:$E$1100,'resultats a exporter'!$CZ$4=$G$2:$G$1100),'resultats a exporter'!$DB$4,\"\")","v":""},null,null,null,null,"",null,null,"","",null,null,null,null,null,null,null,null,null,null,null,null,null,null,null,null,null,null,"",""]
[null,null,"PROMOTIONSTRASBOURG","STRASBOURG","UT AURORA Schilt.-B. 1",1,"Amitié Lingolsheim 4",4,9,"2025-02-06","jeudi","20h00","Journée 9",{"$f":"IF(AND('resultats a exporter'!$CW$4=$I$2:$I$1100,'resultats a exporter'!$CX$4=$C$2:$C$1100,'resultats a exporter'!$CY$4=$E$2:$E$1100,'resultats a exporter'!$CZ$4=$G$2:$G$1100),'resultats a exporter'!$DA$4,\"\")","v":""},{"$f":"IF(AND('resultats a exporter'!$CW$4=$I$2:$I$1100,'resultats a exporter'!$CX$4=$C$2:$C$1100,'resultats a exporter'!$CY$4=$E$2:$E$1100,'resultats a exporter'!$CZ$4=$G$2:$G$1100),'resultats a exporter'!$DB$4,\"\")","v":""},null,null,null,null,"jeudi 06-févr-2025, 20h00",null,null,"","",null,null,null,null,null,null,null,null,null,null,null,null,null,null,null,null,null,null,"",""]
[null,null,"PROMOTIONSTRASBOURG","STRASBOURG","AS Electricité Strasbourg 2",2,"US Egalitaire Neudorf 2",2,9,"2025-02-05","mercredi","19h00","Journée 9",{"$f":"IF(AND('resultats a exporter'!$CW$4=$I$2:$I$1100,'resultats a exporter'!$CX$4=$C$2:$C$1100,'resultats a exporter'!$CY$4=$E$2:$E$1100,'resultats a exporter'!$CZ$4=$G$2:$G$1100),'resultats a exporter'!$DA$4,\"\")","v":""},{"$f":"IF(AND('resultats a exporter'!$CW$4=$I$2:$I$1100,'resultats a exporter'!$CX$4=$C$2:$C$1100,'resultats a exporter'!$CY$4=$E$2:$E$1100,'resultats a exporter'!$CZ$4=$G$2:$G$1100),'resultats a exporter'!$DB$4,\"\")","v":""},null,null,null,null,"mercredi 05-févr-2025, 19h00",null,null,"","",null,null,null,null,null,null,null,null,null,null,null,null,null,null,null,null,null,null,"",""]
[null,null,"PROMOTIONSTRASBOURG","STRASBOURG","UT AURORA Schilt.-B. 2",2,"US Egalitaire Neudorf 3",3,10,"2025-02-27","jeudi","20h00","Journée 10",{"$f":"IF(AND('resultats a exporter'!$CW$4=$I$2:$I$1100,'resultats a exporter'!$CX$4=$C$2:$C$1100,'resultats a exporter'!$CY$4=$E$2:$E$1100,'resultats a exporter'!$CZ$4=$G$2:$G$1100),'resultats a exporter'!$DA$4,\"\")","v":""},{"$f":"IF(AND('resultats a exporter'!$CW$4=$I$2:$I$1100,'resultats a exporter'!$CX$4=$C$2:$C$1100,'resultats a exporter'!$CY$4=$E$2:$E$1100,'resultats a exporter'!$CZ$4=$G$2:$G$1100),'resultats a exporter'!$DB$4,\"\")","v":""},null,null,null,null,"jeudi 27-févr-2025, 20h00",null,null,"","",null,null,null,null,null,null,null,null,null,null,null,null,null,null,null,null,null,null,"",""]
[null,null,"PROMOTIONSTRASBOURG","STRASBOURG","Amitié Lingolsheim 4",4,null,null,10,"2025-02-24","lundi","19h30","Journée 10",{"$f":"IF(AND('resultats a exporter'!$CW$4=$I$2:$I$1100,'resultats a exporter'!$CX$4=$C$2:$C$1100,'resultats a exporter'!$CY$4=$E$2:$E$1100,'resultats a exporter'!$CZ$4=$G$2:$G$1100),'resultats a exporter'!$DA$4,\"\")","v":""},{"$f":"IF(AND('resultats a exporter'!$CW$4=$I$2:$I$1100,'resultats a exporter'!$CX$4=$C$2:$C$1100,'resultats a exporter'!$CY$4=$E$2:$E$1100,'resultats a exporter'!$CZ$4=$G$2:$G$1100),'resultats a exporter'!$DB$4,\"\")","v":""},null,null,null,null,"lundi 24-févr-2025, 19h30",null,null,"","",null,null,null,null,null,null,null,null,null,null,null,null,null,null,null,null,null,null,"",""]
[null,null,"PROMOTIONSTRASBOURG","STRASBOURG","AS Electricité Strasbourg 2",2,"UT AURORA Schilt.-B. 1",1,10,"2025-02-26","mercredi","19h00","Journée 10",{"$f":"IF(AND('resultats a exporter'!$CW$4=$I$2:$I$1100,'resultats a exporter'!$CX$4=$C$2:$C$1100,'resultats a exporter'!$CY$4=$E$2:$E$1100,'resultats a exporter'!$CZ$4=$G$2:$G$1100),'resultats a exporter'!$DA$4,\"\")","v":""},{"$f":"IF(AND('resultats a exporter'!$CW$4=$I$2:$I$1100,'resultats a exporter'!$CX$4=$C$2:$C$1100,'resultats a exporter'!$CY$4=$E$2:$E$1100,'resultats a exporter'!$CZ$4=$G$2:$G$1100),'resultats a exporter'!$DB$4,\"\")","v":""},null,null,null,null,"mercredi 26-févr-2025, 19h00",null,null,"","",null,null,null,null,null,null,null,null,null,null,null,null,null,null,null,null,null,null,"",""]
[null,null,"PROMOTIONSTRASBOURG","STRASBOURG","US Egalitaire Neudorf 2",2,"US Egalitaire Neudorf 4",4,10,"2025-02-25","mardi","20h00","Journée 10",{"$f":"IF(AND('resultats a exporter'!$CW$4=$I$2:$I$1100,'resultats a exporter'!$CX$4=$C$2:$C$1100,'resultats a exporter'!$CY$4=$E$2:$E$1100,'resultats a exporter'!$CZ$4=$G$2:$G$1100),'resultats a exporter'!$DA$4,\"\")","v":""},{"$f":"IF(AND('resultats a exporter'!$CW$4=$I$2:$I$1100,'resultats a exporter'!$CX$4=$C$2:$C$1100,'resultats a exporter'!$CY$4=$E$2:$E$1100,'resultats a exporter'!$CZ$4=$G$2:$G$1100),'resultats a exporter'!$DB$4,\"\")","v":""},null,null,null,null,"mardi 25-févr-2025, 20h00",null,null,"","",null,null,null,null,null,null,null,null,null,null,null,null,null,null,null,null,null,null,"",""]
[null,null,"PROMOTIONSTRASBOURG","STRASBOURG","US Egalitaire Neudorf 3",3,"Amitié Lingolsheim 4",4,11,"2025-03-11","mardi","20h00","Journée 11",{"$f":"IF(AND('resultats a exporter'!$CW$4=$I$2:$I$1100,'resultats a exporter'!$CX$4=$C$2:$C$1100,'resultats a exporter'!$CY$4=$E$2:$E$1100,'resultats a exporter'!$CZ$4=$G$2:$G$1100),'resultats a exporter'!$DA$4,\"\")","v":""},{"$f":"IF(AND('resultats a exporter'!$CW$4=$I$2:$I$1100,'resultats a exporter'!$CX$4=$C$2:$C$1100,'resultats a exporter'!$CY$4=$E$2:$E$1100,'resultats a exporter'!$CZ$4=$G$2:$G$1100),'resultats a exporter'!$DB$4,\"\")","v":""},null,null,null,null,"mardi 11-mars-2025, 20h00",null,null,"","",null,null,null,null,null,null,null,null,null,null,null,null,null,null,null,null,null,null,"",""]
[null,null,"PROMOTIONSTRASBOURG","STRASBOURG",null,null,"AS Electricité Strasbourg 2",2,11,null,"",null,"Journée 11",{"$f":"IF(AND('resultats a exporter'!$CW$4=$I$2:$I$1100,'resultats a exporter'!$CX$4=$C$2:$C$1100,'resultats a exporter'!$CY$4=$E$2:$E$1100,'resultats a exporter'!$CZ$4=$G$2:$G$1100),'resultats a exporter'!$DA$4,\"\")","v":""},{"$f":"IF(AND('resultats a exporter'!$CW$4=$I$2:$I$1100,'resultats a exporter'!$CX$4=$C$2:$C$1100,'resultats a exporter'!$CY$4=$E$2:$E$1100,'resultats a exporter'!$CZ$4=$G$2:$G$1100),'resultats a exporter'!$DB$4,\"\")","v":""},null,null,null,null,"",null,null,"","",null,null,null,null,null,null,null,null,null,null,null,null,null,null,null,null,null,null,"",""]
[null,null,"PROMOTIONSTRASBOURG","STRASBOURG","UT AURORA Schilt.-B. 1",1,"US Egalitaire Neudorf 2",2,11,"2025-03-13","jeudi","20h00","Journée 11",{"$f":"IF(AND('resultats a exporter'!$CW$4=$I$2:$I$1100,'resultats a exporter'!$CX$4=$C$2:$C$1100,'resultats a exporter'!$CY$4=$E$2:$E$1100,'resultats a exporter'!$CZ$4=$G$2:$G$1100),'resultats a exporter'!$DA$4,\"\")","v":""},{"$f":"IF(AND('resultats a exporter'!$CW$4=$I$2:$I$1100,'resultats a exporter'!$CX$4=$C$2:$C$1100,'resultats a exporter'!$CY$4=$E$2:$E$1100,'resultats a exporter'!$CZ$4=$G$2:$G$1100),'resultats a exporter'!$DB$4,\"\")","v":""},null,null,null,null,"jeudi 13-mars-2025, 20h00",null,null,"","",null,null,null,null,null,null,null,null,null,null,null,null,null,null,null,null,null,null,"",""]
[null,null,"PROMOTIONSTRASBOURG","STRASBOURG","US Egalitaire Neudorf 4",4,"UT AURORA Schilt.-B. 2",2,11,"2025-03-10","lundi","20h00","Journée 11",{"$f":"IF(AND('resultats a exporter'!$CW$4=$I$2:$I$1100,'resultats a exporter'!$CX$4=$C$2:$C$1100,'resultats a exporter'!$CY$4=$E$2:$E$1100,'resultats a exporter'!$CZ$4=$G$2:$G$1100),'resultats a exporter'!$DA$4,\"\")","v":""},{"$f":"IF(AND('resultats a exporter'!$CW$4=$I$2:$I$1100,'resultats a exporter'!$CX$4=$C$2:$C$1100,'resultats a exporter'!$CY$4=$E$2:$E$1100,'resultats a exporter'!$CZ$4=$G$2:$G$1100),'resultats a exporter'!$DB$4,\"\")","v":""},null,null,null,null,"lundi 10-mars-2025, 20h00",null,null,"","",null,null,null,null,null,null,null,null,null,null,null,null,null,null,null,null,null,null,"",""]
[null,null,"PROMOTIONSTRASBOURG","STRASBOURG","US Egalitaire Neudorf 3",3,"AS Electricité Strasbourg 2",2,12,"2025-03-18","mardi","20h00","Journée 12",{"$f":"IF(AND('resultats a exporter'!$CW$4=$I$2:$I$1100,'resultats a exporter'!$CX$4=$C$2:$C$1100,'resultats a exporter'!$CY$4=$E$2:$E$1100,'resultats a exporter'!$CZ$4=$G$2:$G$1100),'resultats a exporter'!$DA$4,\"\")","v":""},{"$f":"IF(AND('resultats a exporter'!$CW$4=$I$2:$I$1100,'resultats a exporter'!$CX$4=$C$2:$C$1100,'resultats a exporter'!$CY$4=$E$2:$E$1100,'resultats a exporter'!$CZ$4=$G$2:$G$1100),'resultats a exporter'!$DB$4,\"\")","v":""},null,null,null,null,"mardi 18-mars-2025, 20h00",null,null,"","",null,null,null,null,null,null,null,null,null,null,null,null,null,null,null,null,null,null,"",""]
[null,null,"PROMOTIONSTRASBOURG","STRASBOURG","UT AURORA Schilt.-B. 1",1,null,null,12,"2025-03-20","jeudi","20h00","Journée 12",{"$f":"IF(AND('resultats a exporter'!$CW$4=$I$2:$I$1100,'resultats a exporter'!$CX$4=$C$2:$C$1100,'resultats a exporter'!$CY$4=$E$2:$E$1100,'resultats a exporter'!$CZ$4=$G$2:$G$1100),'resultats a exporter'!$DA$4,\"\")","v":""},{"$f":"IF(AND('resultats a exporter'!$CW$4=$I$2:$I$1100,'resultats a exporter'!$CX$4=$C$2:$C$1100,'resultats a exporter'!$CY$4=$E$2:$E$1100,'resultats a exporter'!$CZ$4=$G$2:$G$1100),'resultats a exporter'!$DB$4,\"\")","v":""},null,null,null,null,"jeudi 20-mars-2025, 20h00",null,null,"","",null,null,null,null,null,null,null,null,null,null,null,null,null,null,null,null,null,null,"",""]
[null,null,"PROMOTIONSTRASBOURG","STRASBOURG","US Egalitaire Neudorf 4",4,"Amitié Lingolsheim 4",4,12,"2025-03-17","lundi","20h00","Journée 12",{"$f":"IF(AND('resultats a exporter'!$CW$4=$I$2:$I$1100,'resultats a exporter'!$CX$4=$C$2:$C$1100,'resultats a exporter'!$CY$4=$E$2:$E$1100,'resultats a exporter'!$CZ$4=$G$2:$G$1100),'resultats a exporter'!$DA$4,\"\")","v":""},{"$f":"IF(AND('resultats a exporter'!$CW$4=$I$2:$I$1100,'resultats a exporter'!$CX$4=$C$2:$C$1100,'resultats a exporter'!$CY$4=$E$2:$E$1100,'resultats a exporter'!$CZ$4=$G$2:$G$1100),'resultats a exporter'!$DB$4,\"\")","v":""},null,null,null,null,"lundi 17-mars-2025, 20h00",null,null,"","",null,null,null,null,null,null,null,null,null,null,null,null,null,null,null,null,null,null,"",""]
[null,null,"PROMOTIONSTRASBOURG","STRASBOURG","UT AURORA Schilt.-B. 2",2,"US Egalitaire Neudorf 2",2,12,"2025-03-20","jeudi","20h00","Journée 12",{"$f":"IF(AND('resultats a exporter'!$CW$4=$I$2:$I$1100,'resultats a exporter'!$CX$4=$C$2:$C$1100,'resultats a exporter'!$CY$4=$E$2:$E$1100,'resultats a exporter'!$CZ$4=$G$2:$G$1100),'resultats a exporter'!$DA$4,\"\")","v":""},{"$f":"IF(AND('resultats a exporter'!$CW$4=$I$2:$I$1100,'resultats a exporter'!$CX$4=$C$2:$C$1100,'resultats a exporter'!$CY$4=$E$2:$E$1100,'resultats a exporter'!$CZ$4=$G$2:$G$1100),'resultats a exporter'!$DB$4,\"\")","v":""},null,null,null,null,"jeudi 20-mars-2025, 20h00",null,null,"","",null,null,null,null,null,null,null,null,null,null,null,null,null,null,null,null,null,null,"",""]
[null,null,"PROMOTIONSTRASBOURG","STRASBOURG","US Egalitaire Neudorf 3",3,"UT AURORA Schilt.-B. 1",1,13,"2025-04-08","mardi","20h00","Journée 13",{"$f":"IF(AND('resultats a exporter'!$CW$4=$I$2:$I$1100,'resultats a exporter'!$CX$4=$C$2:$C$1100,'resultats a exporter'!$CY$4=$E$2:$E$1100,'resultats a exporter'!$CZ$4=$G$2:$G$1100),'resultats a exporter'!$DA$4,\"\")","v":""},{"$f":"IF(AND('resultats a exporter'!$CW$4=$I$2:$I$1100,'resultats a exporter'!$CX$4=$C$2:$C$1100,'resultats a exporter'!$CY$4=$E$2:$E$1100,'resultats a exporter'!$CZ$4=$G$2:$G$1100),'resultats a exporter'!$DB$4,\"\")","v":""},null,null,null,null,"mardi 08-avr-2025, 20h00",null,null,"","",null,null,null,null,null,null,null,null,null,null,null,null,null,null,null,null,null,null,"",""]
[null,null,"PROMOTIONSTRASBOURG","STRASBOURG","US Egalitaire Neudorf 2",2,null,null,13,"2025-04-08","mardi","20h00","Journée 13",{"$f":"IF(AND('resultats a exporter'!$CW$4=$I$2:$I$1100,'resultats a exporter'!$CX$4=$C$2:$C$1100,'resultats a exporter'!$CY$4=$E$2:$E$1100,'resultats a exporter'!$CZ$4=$G$2:$G$1100),'resultats a exporter'!$DA$4,\"\")","v":""},{"$f":"IF(AND('resultats a exporter'!$CW$4=$I$2:$I$1100,'resultats a exporter'!$CX$4=$C$2:$C$1100,'resultats a exporter'!$CY$4=$E$2:$E$1100,'resultats a exporter'!$CZ$4=$G$2:$G$1100),'resultats a exporter'!$DB$4,\"\")","v":""},null,null,null,null,"mardi 08-avr-2025, 20h00",null,null,"","",null,null,null,null,null,null,null,null,null,null,null,null,null,null,null,null,null,null,"",""]
[null,null,"PROMOTIONSTRASBOURG","STRASBOURG","AS Electricité Strasbourg 2",2,"US Egalitaire Neudorf 4",4,13,"2025-04-09","mercredi","19h00","Journée 13",{"$f":"IF(AND('resultats a exporter'!$CW$4=$I$2:$I$1100,'resultats a exporter'!$CX$4=$C$2:$C$1100,'resultats a exporter'!$CY$4=$E$2:$E$1100,'resultats a exporter'!$CZ$4=$G$2:$G$1100),'resultats a exporter'!$DA$4,\"\")","v":""},{"$f":"IF(AND('resultats a exporter'!$CW$4=$I$2:$I$1100,'resultats a exporter'!$CX$4=$C$2:$C$1100,'resultats a exporter'!$CY$4=$E$2:$E$1100,'resultats a exporter'!$CZ$4=$G$2:$G$1100),'resultats a exporter'!$DB$4,\"\")","v":""},null,null,null,null,"mercredi 09-avr-2025, 19h00",null,null,"","",null,null,null,null,null,null,null,null,null,null,null,null,null,null,null,null,null,null,"",""]
[null,null,"PROMOTIONSTRASBOURG","STRASBOURG","UT AURORA Schilt.-B. 2",2,"Amitié Lingolsheim 4",4,13,"2025-04-10","jeudi","20h00","Journée 13",{"$f":"IF(AND('resultats a exporter'!$CW$4=$I$2:$I$1100,'resultats a exporter'!$CX$4=$C$2:$C$1100,'resultats a exporter'!$CY$4=$E$2:$E$1100,'resultats a exporter'!$CZ$4=$G$2:$G$1100),'resultats a exporter'!$DA$4,\"\")","v":""},{"$f":"IF(AND('resultats a exporter'!$CW$4=$I$2:$I$1100,'resultats a exporter'!$CX$4=$C$2:$C$1100,'resultats a exporter'!$CY$4=$E$2:$E$1100,'resultats a exporter'!$CZ$4=$G$2:$G$1100),'resultats a exporter'!$DB$4,\"\")","v":""},null,null,null,null,"jeudi 10-avr-2025, 20h00",null,null,"","",null,null,null,null,null,null,null,null,null,null,null,null,null,null,null,null,null,null,"",""]
[null,null,"PROMOTIONSTRASBOURG","STRASBOURG",null,null,"US Egalitaire Neudorf 3",3,14,null,"",null,"Journée 14",{"$f":"IF(AND('resultats a exporter'!$CW$4=$I$2:$I$1100,'resultats a exporter'!$CX$4=$C$2:$C$1100,'resultats a exporter'!$CY$4=$E$2:$E$1100,'resultats a exporter'!$CZ$4=$G$2:$G$1100),'resultats a exporter'!$DA$4,\"\")","v":""},{"$f":"IF(AND('resultats a exporter'!$CW$4=$I$2:$I$1100,'resultats a exporter'!$CX$4=$C$2:$C$1100,'resultats a exporter'!$CY$4=$E$2:$E$1100,'resultats a exporter'!$CZ$4=$G$2:$G$1100),'resultats a exporter'!$DB$4,\"\")","v":""},null,null,null,null,"",null,null,"","",null,null,null,null,null,null,null,null,null,null,null,null,null,null,null,null,null,null,"",""]
[null,null,"PROMOTIONSTRASBOURG","STRASBOURG","US Egalitaire Neudorf 4",4,"UT AURORA Schilt.-B. 1",1,14,"2025-05-05","lundi","20h00","Journée 14",{"$f":"IF(AND('resultats a exporter'!$CW$4=$I$2:$I$1100,'resultats a exporter'!$CX$4=$C$2:$C$1100,'resultats a exporter'!$CY$4=$E$2:$E$1100,'resultats a exporter'!$CZ$4=$G$2:$G$1100),'resultats a exporter'!$DA$4,\"\")","v":""},{"$f":"IF(AND('resultats a exporter'!$CW$4=$I$2:$I$1100,'resultats a exporter'!$CX$4=$C$2:$C$1100,'resultats a exporter'!$CY$4=$E$2:$E$1100,'resultats a exporter'!$CZ$4=$G$2:$G$1100),'resultats a exporter'!$DB$4,\"\")","v":""},null,null,null,null,"lundi 05-mai-2025, 20h00",null,null,"","",null,null,null,null,null,null,null,null,null,null,null,null,null,null,null,null,null,null,"",""]
[null,null,"PROMOTIONSTRASBOURG","STRASBOURG","AS Electricité Strasbourg 2",2,"UT AURORA Schilt.-B. 2",2,14,"2025-05-07","mercredi","19h00","Journée 14",{"$f":"IF(AND('resultats a exporter'!$CW$4=$I$2:$I$1100,'resultats a exporter'!$CX$4=$C$2:$C$1100,'resultats a exporter'!$CY$4=$E$2:$E$1100,'resultats a exporter'!$CZ$4=$G$2:$G$1100),'resultats a exporter'!$DA$4,\"\")","v":""},{"$f":"IF(AND('resultats a exporter'!$CW$4=$I$2:$I$1100,'resultats a exporter'!$CX$4=$C$2:$C$1100,'resultats a exporter'!$CY$4=$E$2:$E$1100,'resultats a exporter'!$CZ$4=$G$2:$G$1100),'resultats a exporter'!$DB$4,\"\")","v":""},null,null,null,null,"mercredi 07-mai-2025, 19h00",null,null,"","",null,null,null,null,null,null,null,null,null,null,null,null,null,null,null,null,null,null,"",""]
[null,null,"PROMOTIONSTRASBOURG","STRASBOURG","Amitié Lingolsheim 4",4,"US Egalitaire Neudorf 2",2,14,"2025-05-05","lundi","19h30","Journée 14",{"$f":"IF(AND('resultats a exporter'!$CW$4=$I$2:$I$1100,'resultats a exporter'!$CX$4=$C$2:$C$1100,'resultats a exporter'!$CY$4=$E$2:$E$1100,'resultats a exporter'!$CZ$4=$G$2:$G$1100),'resultats a exporter'!$DA$4,\"\")","v":""},{"$f":"IF(AND('resultats a exporter'!$CW$4=$I$2:$I$1100,'resultats a exporter'!$CX$4=$C$2:$C$1100,'resultats a exporter'!$CY$4=$E$2:$E$1100,'resultats a exporter'!$CZ$4=$G$2:$G$1100),'resultats a exporter'!$DB$4,\"\")","v":""},null,null,null,null,"lundi 05-mai-2025, 19h30",null,null,"","",null,null,null,null,null,null,null,null,null,null,null,null,null,null,null,null,null,null,"",""]
[null,null,"VETERANSD1STRASBOURG","STRASBOURG","US Egalitaire Neudorf 2",2,"US Egalitaire Neudorf 1",1,1,"2024-10-03","jeudi","20h00","Journée 1",{"$f":"IF(AND('resultats a exporter'!$CW$4=$I$2:$I$1100,'resultats a exporter'!$CX$4=$C$2:$C$1100,'resultats a exporter'!$CY$4=$E$2:$E$1100,'resultats a exporter'!$CZ$4=$G$2:$G$1100),'resultats a exporter'!$DA$4,\"\")","v":""},{"$f":"IF(AND('resultats a exporter'!$CW$4=$I$2:$I$1100,'resultats a exporter'!$CX$4=$C$2:$C$1100,'resultats a exporter'!$CY$4=$E$2:$E$1100,'resultats a exporter'!$CZ$4=$G$2:$G$1100),'resultats a exporter'!$DB$4,\"\")","v":""},"VETERANSD1STRASBOURG",null,null,null,"jeudi 03-oct-2024, 20h00",null,null,"","",null,null,null,null,null,null,null,null,null,null,null,null,null,null,null,null,null,null,"",""]
[null,null,"VETERANSD1STRASBOURG","STRASBOURG","Amitié Lingolsheim 2",2,"Amitié Lingolsheim 1",1,1,"2024-09-30","lundi","20h00","Journée 1",{"$f":"IF(AND('resultats a exporter'!$CW$4=$I$2:$I$1100,'resultats a exporter'!$CX$4=$C$2:$C$1100,'resultats a exporter'!$CY$4=$E$2:$E$1100,'resultats a exporter'!$CZ$4=$G$2:$G$1100),'resultats a exporter'!$DA$4,\"\")","v":""},{"$f":"IF(AND('resultats a exporter'!$CW$4=$I$2:$I$1100,'resultats a exporter'!$CX$4=$C$2:$C$1100,'resultats a exporter'!$CY$4=$E$2:$E$1100,'resultats a exporter'!$CZ$4=$G$2:$G$1100),'resultats a exporter'!$DB$4,\"\")","v":""},null,"US Egalitaire Neudorf 1",null,null,"lundi 30-sept-2024, 20h00",null,null,"","",null,null,null,null,null,null,null,null,null,null,null,null,null,null,null,null,null,null,"",""]
[null,null,"VETERANSD1STRASBOURG","STRASBOURG","AS Electricité Strasbourg 1",1,"UT AURORA Schilt.-B. 1",1,1,"2024-10-04","vendredi","19h00","Journée 1",{"$f":"IF(AND('resultats a exporter'!$CW$4=$I$2:$I$1100,'resultats a exporter'!$CX$4=$C$2:$C$1100,'resultats a exporter'!$CY$4=$E$2:$E$1100,'resultats a exporter'!$CZ$4=$G$2:$G$1100),'resultats a exporter'!$DA$4,\"\")","v":""},{"$f":"IF(AND('resultats a exporter'!$CW$4=$I$2:$I$1100,'resultats a exporter'!$CX$4=$C$2:$C$1100,'resultats a exporter'!$CY$4=$E$2:$E$1100,'resultats a exporter'!$CZ$4=$G$2:$G$1100),'resultats a exporter'!$DB$4,\"\")","v":""},null,"US Egalitaire Neudorf 2",null,null,"vendredi 04-oct-2024, 19h00",null,null,"","",null,null,null,null,null,null,null,null,null,null,null,null,null,null,null,null,null,null,"",""]
[null,null,"VETERANSD1STRASBOURG","STRASBOURG","Amitié Lingolsheim 1",1,"US Egalitaire Neudorf 2",2,2,"2024-10-16",{"$f":"IF(J259=\"\",\"\",TEXT(J259,\"JJJJ\"))","v":"mercredi"},"20h00","Journée 2",{"$f":"IF(AND('resultats a exporter'!$CW$4=$I$2:$I$1100,'resultats a exporter'!$CX$4=$C$2:$C$1100,'resultats a exporter'!$CY$4=$E$2:$E$1100,'resultats a exporter'!$CZ$4=$G$2:$G$1100),'resultats a exporter'!$DA$4,\"\")","v":""},{"$f":"IF(AND('resultats a exporter'!$CW$4=$I$2:$I$1100,'resultats a exporter'!$CX$4=$C$2:$C$1100,'resultats a exporter'!$CY$4=$E$2:$E$1100,'resultats a exporter'!$CZ$4=$G$2:$G$1100),'resultats a exporter'!$DB$4,\"\")","v":""},null,"AS Electricité Strasbourg 1",null,null,{"$f":"IF(J259=\"\",\"\",$K259&\" \"&TEXT($J259,\"jj-mmm-aaaa\")&\", \"&$L259)","v":"mercredi 16-oct-2024, 20h00"},null,null,{"$f":"IF(AND(N259<>\"\",O259<>\"\"),T259,\"\")","v":""},{"$f":"IF(AND(N259<>\"\",O259<>\"\"),E259&\" - \"&G259,\"\")","v":""},null,null,null,null,null,null,null,null,null,null,null,null,null,null,null,null,null,null,{"$f":"IF(AND(N259<>\"\",O259<>\"\"),E259,\"\")","v":""},{"$f":"IF(AND(N259<>\"\",O259<>\"\"),G259,\"\")","v":""}]
[null,null,"VETERANSD1STRASBOURG","STRASBOURG","UT AURORA Schilt.-B. 1",1,"Amitié Lingolsheim 2",2,2,"2024-10-17","jeudi","20h00",{"$f":"I$1&\" \"&I260","v":"Journée 2"},{"$f":"IF(AND('resultats a exporter'!$CW$4=$I$2:$I$1100,'resultats a exporter'!$CX$4=$C$2:$C$1100,'resultats a exporter'!$CY$4=$E$2:$E$1100,'resultats a exporter'!$CZ$4=$G$2:$G$1100),'resultats a exporter'!$DA$4,\"\")","v":""},{"$f":"IF(AND('resultats a exporter'!$CW$4=$I$2:$I$1100,'resultats a exporter'!$CX$4=$C$2:$C$1100,'resultats a exporter'!$CY$4=$E$2:$E$1100,'resultats a exporter'!$CZ$4=$G$2:$G$1100),'resultats a exporter'!$DB$4,\"\")","v":""},null,"UT AURORA Schilt.-B. 1",null,null,"jeudi 17-oct-2024, 20h00",null,null,"","",null,null,null,null,null,null,null,null,null,null,null,null,null,null,null,null,null,null,"",""]
[null,null,"VETERANSD1STRASBOURG","STRASBOURG","US Egalitaire Neudorf 1",1,"AS Electricité Strasbourg 1",1,2,"2024-10-15","mardi","20h00","Journée 2",{"$f":"IF(AND('resultats a exporter'!$CW$4=$I$2:$I$1100,'resultats a exporter'!$CX$4=$C$2:$C$1100,'resultats a exporter'!$CY$4=$E$2:$E$1100,'resultats a exporter'!$CZ$4=$G$2:$G$1100),'resultats a exporter'!$DA$4,\"\")","v":""},{"$f":"IF(AND('resultats a exporter'!$CW$4=$I$2:$I$1100,'resultats a exporter'!$CX$4=$C$2:$C$1100,'resultats a exporter'!$CY$4=$E$2:$E$1100,'resultats a exporter'!$CZ$4=$G$2:$G$1100),'resultats a exporter'!$DB$4,\"\")","v":""},null,"Amitié Lingolsheim 1",null,null,"mardi 15-oct-2024, 20h00",null,null,"","",null,null,null,null,null,null,null,null,null,null,null,null,null,null,null,null,null,null,"",""]
[null,null,"VETERANSD1STRASBOURG","STRASBOURG","US Egalitaire Neudorf 2",2,"UT AURORA Schilt.-B. 1",1,3,"2024-11-14","jeudi","20h00","Journée 3",{"$f":"IF(AND('resultats a exporter'!$CW$4=$I$2:$I$1100,'resultats a exporter'!$CX$4=$C$2:$C$1100,'resultats a exporter'!$CY$4=$E$2:$E$1100,'resultats a exporter'!$CZ$4=$G$2:$G$1100),'resultats a exporter'!$DA$4,\"\")","v":""},{"$f":"IF(AND('resultats a exporter'!$CW$4=$I$2:$I$1100,'resultats a exporter'!$CX$4=$C$2:$C$1100,'resultats a exporter'!$CY$4=$E$2:$E$1100,'resultats a exporter'!$CZ$4=$G$2:$G$1100),'resultats a exporter'!$DB$4,\"\")","v":""},null,"Amitié Lingolsheim 2",null,null,"jeudi 14-nov-2024, 20h00",null,null,"","",null,null,null,null,null,null,null,null,null,null,null,null,null,null,null,null,null,null,"",""]
[null,null,"VETERANSD1STRASBOURG","STRASBOURG","AS Electricité Strasbourg 1",1,"Amitié Lingolsheim 2",2,3,"2024-11-15","vendredi","19h00","Journée 3",{"$f":"IF(AND('resultats a exporter'!$CW$4=$I$2:$I$1100,'resultats a exporter'!$CX$4=$C$2:$C$1100,'resultats a exporter'!$CY$4=$E$2:$E$1100,'resultats a exporter'!$CZ$4=$G$2:$G$1100),'resultats a exporter'!$DA$4,\"\")","v":""},{"$f":"IF(AND('resultats a exporter'!$CW$4=$I$2:$I$1100,'resultats a exporter'!$CX$4=$C$2:$C$1100,'resultats a exporter'!$CY$4=$E$2:$E$1100,'resultats a exporter'!$CZ$4=$G$2:$G$1100),'resultats a exporter'!$DB$4,\"\")","v":""},null,null,null,null,"vendredi 15-nov-2024, 19h00",null,null,"","",null,null,null,null,null,null,null,null,null,null,null,null,null,null,null,null,null,null,"",""]
[null,null,"VETERANSD1STRASBOURG","STRASBOURG","Amitié Lingolsheim 1",1,"US Egalitaire Neudorf 1",1,3,"2024-11-13","mercredi","20h00","Journée 3",{"$f":"IF(AND('resultats a exporter'!$CW$4=$I$2:$I$1100,'resultats a exporter'!$CX$4=$C$2:$C$1100,'resultats a exporter'!$CY$4=$E$2:$E$1100,'resultats a exporter'!$CZ$4=$G$2:$G$1100),'resultats a exporter'!$DA$4,\"\")","v":""},{"$f":"IF(AND('resultats a exporter'!$CW$4=$I$2:$I$1100,'resultats a exporter'!$CX$4=$C$2:$C$1100,'resultats a exporter'!$CY$4=$E$2:$E$1100,'resultats a exporter'!$CZ$4=$G$2:$G$1100),'resultats a exporter'!$DB$4,\"\")","v":""},null,null,null,null,"mercredi 13-nov-2024, 20h00",null,null,"","",null,null,null,null,null,null,null,null,null,null,null,null,null,null,null,null,null,null,"",""]
[null,null,"VETERANSD1STRASBOURG","STRASBOURG","AS Electricité Strasbourg 1",1,"US Egalitaire Neudorf 2",2,4,"2024-11-29","vendredi","19h00","Journée 4",{"$f":"IF(AND('resultats a exporter'!$CW$4=$I$2:$I$1100,'resultats a exporter'!$CX$4=$C$2:$C$1100,'resultats a exporter'!$CY$4=$E$2:$E$1100,'resultats a exporter'!$CZ$4=$G$2:$G$1100),'resultats a exporter'!$DA$4,\"\")","v":""},{"$f":"IF(AND('resultats a exporter'!$CW$4=$I$2:$I$1100,'resultats a exporter'!$CX$4=$C$2:$C$1100,'resultats a exporter'!$CY$4=$E$2:$E$1100,'resultats a exporter'!$CZ$4=$G$2:$G$1100),'resultats a exporter'!$DB$4,\"\")","v":""},null,null,null,null,"vendredi 29-nov-2024, 19h00",null,null,"","",null,null,null,null,null,null,null,null,null,null,null,null,null,null,null,null,null,null,"",""]
[null,null,"VETERANSD1STRASBOURG","STRASBOURG","Amitié Lingolsheim 2",2,"US Egalitaire Neudorf 1",1,4,"2024-11-25","lundi","20h00","Journée 4",{"$f":"IF(AND('resultats a exporter'!$CW$4=$I$2:$I$1100,'resultats a exporter'!$CX$4=$C$2:$C$1100,'resultats a exporter'!$CY$4=$E$2:$E$1100,'resultats a exporter'!$CZ$4=$G$2:$G$1100),'resultats a exporter'!$DA$4,\"\")","v":""},{"$f":"IF(AND('resultats a exporter'!$CW$4=$I$2:$I$1100,'resultats a exporter'!$CX$4=$C$2:$C$1100,'resultats a exporter'!$CY$4=$E$2:$E$1100,'resultats a exporter'!$CZ$4=$G$2:$G$1100),'resultats a exporter'!$DB$4,\"\")","v":""},null,null,null,null,"lundi 25-nov-2024, 20h00",null,null,"","",null,null,null,null,null,null,null,null,null,null,null,null,null,null,null,null,null,null,"",""]
[null,null,"VETERANSD1STRASBOURG","STRASBOURG","UT AURORA Schilt.-B. 1",1,"Amitié Lingolsheim 1",1,4,"2024-11-28","jeudi","20h00","Journée 4",{"$f":"IF(AND('resultats a exporter'!$CW$4=$I$2:$I$1100,'resultats a exporter'!$CX$4=$C$2:$C$1100,'resultats a exporter'!$CY$4=$E$2:$E$1100,'resultats a exporter'!$CZ$4=$G$2:$G$1100),'resultats a exporter'!$DA$4,\"\")","v":""},{"$f":"IF(AND('resultats a exporter'!$CW$4=$I$2:$I$1100,'resultats a exporter'!$CX$4=$C$2:$C$1100,'resultats a exporter'!$CY$4=$E$2:$E$1100,'resultats a exporter'!$CZ$4=$G$2:$G$1100),'resultats a exporter'!$DB$4,\"\")","v":""},null,null,null,null,"jeudi 28-nov-2024, 20h00",null,null,"","",null,null,null,null,null,null,null,null,null,null,null,null,null,null,null,null,null,null,"",""]
[null,null,"VETERANSD1STRASBOURG","STRASBOURG","US Egalitaire Neudorf 2",2,"Amitié Lingolsheim 2",2,5,"2024-12-12","jeudi","20h00","Journée 5",{"$f":"IF(AND('resultats a exporter'!$CW$4=$I$2:$I$1100,'resultats a exporter'!$CX$4=$C$2:$C$1100,'resultats a exporter'!$CY$4=$E$2:$E$1100,'resultats a exporter'!$CZ$4=$G$2:$G$1100),'resultats a exporter'!$DA$4,\"\")","v":""},{"$f":"IF(AND('resultats a exporter'!$CW$4=$I$2:$I$1100,'resultats a exporter'!$CX$4=$C$2:$C$1100,'resultats a exporter'!$CY$4=$E$2:$E$1100,'resultats a exporter'!$CZ$4=$G$2:$G$1100),'resultats a exporter'!$DB$4,\"\")","v":""},null,null,null,null,"jeudi 12-déc-2024, 20h00",null,null,"","",null,null,null,null,null,null,null,null,null,null,null,null,null,null,null,null,null,null,"",""]
[null,null,"VETERANSD1STRASBOURG","STRASBOURG","Amitié Lingolsheim 1",1,"AS Electricité Strasbourg 1",1,5,"2024-12-11","mercredi","20h00","Journée 5",{"$f":"IF(AND('resultats a exporter'!$CW$4=$I$2:$I$1100,'resultats a exporter'!$CX$4=$C$2:$C$1100,'resultats a exporter'!$CY$4=$E$2:$E$1100,'resultats a exporter'!$CZ$4=$G$2:$G$1100),'resultats a exporter'!$DA$4,\"\")","v":""},{"$f":"IF(AND('resultats a exporter'!$CW$4=$I$2:$I$1100,'resultats a exporter'!$CX$4=$C$2:$C$1100,'resultats a exporter'!$CY$4=$E$2:$E$1100,'resultats a exporter'!$CZ$4=$G$2:$G$1100),'resultats a exporter'!$DB$4,\"\")","v":""},null,null,null,null,"mercredi 11-déc-2024, 20h00",null,null,"","",null,null,null,null,null,null,null,null,null,null,null,null,null,null,null,null,null,null,"",""]
[null,null,"VETERANSD1STRASBOURG","STRASBOURG","UT AURORA Schilt.-B. 1",1,"US Egalitaire Neudorf 1",1,5,"2024-12-12","jeudi","20h00","Journée 5",{"$f":"IF(AND('resultats a exporter'!$CW$4=$I$2:$I$1100,'resultats a exporter'!$CX$4=$C$2:$C$1100,'resultats a exporter'!$CY$4=$E$2:$E$1100,'resultats a exporter'!$CZ$4=$G$2:$G$1100),'resultats a exporter'!$DA$4,\"\")","v":""},{"$f":"IF(AND('resultats a exporter'!$CW$4=$I$2:$I$1100,'resultats a exporter'!$CX$4=$C$2:$C$1100,'resultats a exporter'!$CY$4=$E$2:$E$1100,'resultats a exporter'!$CZ$4=$G$2:$G$1100),'resultats a exporter'!$DB$4,\"\")","v":""},null,null,null,null,"jeudi 12-déc-2024, 20h00",null,null,"","",null,null,null,null,null,null,null,null,null,null,null,null,null,null,null,null,null,null,"",""]
[null,null,"VETERANSD1STRASBOURG","STRASBOURG","US Egalitaire Neudorf 1",1,"US Egalitaire Neudorf 2",2,6,"2025-01-14","mardi","20h00","Journée 6",{"$f":"IF(AND('resultats a exporter'!$CW$4=$I$2:$I$1100,'resultats a exporter'!$CX$4=$C$2:$C$1100,'resultats a exporter'!$CY$4=$E$2:$E$1100,'resultats a exporter'!$CZ$4=$G$2:$G$1100),'resultats a exporter'!$DA$4,\"\")","v":""},{"$f":"IF(AND('resultats a exporter'!$CW$4=$I$2:$I$1100,'resultats a exporter'!$CX$4=$C$2:$C$1100,'resultats a exporter'!$CY$4=$E$2:$E$1100,'resultats a exporter'!$CZ$4=$G$2:$G$1100),'resultats a exporter'!$DB$4,\"\")","v":""},null,null,null,null,"mardi 14-janv-2025, 20h00",null,null,"","",null,null,null,null,null,null,null,null,null,null,null,null,null,null,null,null,null,null,"",""]
[null,null,"VETERANSD1STRASBOURG","STRASBOURG","Amitié Lingolsheim 1",1,"Amitié Lingolsheim 2",2,6,"2025-01-15","mercredi","20h00","Journée 6",{"$f":"IF(AND('resultats a exporter'!$CW$4=$I$2:$I$1100,'resultats a exporter'!$CX$4=$C$2:$C$1100,'resultats a exporter'!$CY$4=$E$2:$E$1100,'resultats a exporter'!$CZ$4=$G$2:$G$1100),'resultats a exporter'!$DA$4,\"\")","v":""},{"$f":"IF(AND('resultats a exporter'!$CW$4=$I$2:$I$1100,'resultats a exporter'!$CX$4=$C$2:$C$1100,'resultats a exporter'!$CY$4=$E$2:$E$1100,'resultats a exporter'!$CZ$4=$G$2:$G$1100),'resultats a exporter'!$DB$4,\"\")","v":""},null,null,null,null,"mercredi 15-janv-2025, 20h00",null,null,"","",null,null,null,null,null,null,null,null,null,null,null,null,null,null,null,null,null,null,"",""]
[null,null,"VETERANSD1STRASBOURG","STRASBOURG","UT AURORA Schilt.-B. 1",1,"AS Electricité Strasbourg 1",1,6,"2025-01-16","jeudi","20h00","Journée 6",{"$f":"IF(AND('resultats a exporter'!$CW$4=$I$2:$I$1100,'resultats a exporter'!$CX$4=$C$2:$C$1100,'resultats a exporter'!$CY$4=$E$2:$E$1100,'resultats a exporter'!$CZ$4=$G$2:$G$1100),'resultats a exporter'!$DA$4,\"\")","v":""},{"$f":"IF(AND('resultats a exporter'!$CW$4=$I$2:$I$1100,'resultats a exporter'!$CX$4=$C$2:$C$1100,'resultats a exporter'!$CY$4=$E$2:$E$1100,'resultats a exporter'!$CZ$4=$G$2:$G$1100),'resultats a exporter'!$DB$4,\"\")","v":""},null,null,null,null,"jeudi 16-janv-2025, 20h00",null,null,"","",null,null,null,null,null,null,null,null,null,null,null,null,null,null,null,null,null,null,"",""]
[null,null,"VETERANSD1STRASBOURG","STRASBOURG","US Egalitaire Neudorf 2",2,"Amitié Lingolsheim 1",1,7,"2025-01-30","jeudi","20h00","Journée 7",{"$f":"IF(AND('resultats a exporter'!$CW$4=$I$2:$I$1100,'resultats a exporter'!$CX$4=$C$2:$C$1100,'resultats a exporter'!$CY$4=$E$2:$E$1100,'resultats a exporter'!$CZ$4=$G$2:$G$1100),'resultats a exporter'!$DA$4,\"\")","v":""},{"$f":"IF(AND('resultats a exporter'!$CW$4=$I$2:$I$1100,'resultats a exporter'!$CX$4=$C$2:$C$1100,'resultats a exporter'!$CY$4=$E$2:$E$1100,'resultats a exporter'!$CZ$4=$G$2:$G$1100),'resultats a exporter'!$DB$4,\"\")","v":""},null,null,null,null,"jeudi 30-janv-2025, 20h00",null,null,"","",null,null,null,null,null,null,null,null,null,null,null,null,null,null,null,null,null,null,"",""]
[null,null,"VETERANSD1STRASBOURG","STRASBOURG","Amitié Lingolsheim 2",2,"UT AURORA Schilt.-B. 1",1,7,"2025-01-27","lundi","20h00","Journée 7",{"$f":"IF(AND('resultats a exporter'!$CW$4=$I$2:$I$1100,'resultats a exporter'!$CX$4=$C$2:$C$1100,'resultats a exporter'!$CY$4=$E$2:$E$1100,'resultats a exporter'!$CZ$4=$G$2:$G$1100),'resultats a exporter'!$DA$4,\"\")","v":""},{"$f":"IF(AND('resultats a exporter'!$CW$4=$I$2:$I$1100,'resultats a exporter'!$CX$4=$C$2:$C$1100,'resultats a exporter'!$CY$4=$E$2:$E$1100,'resultats a exporter'!$CZ$4=$G$2:$G$1100),'resultats a exporter'!$DB$4,\"\")","v":""},null,null,null,null,"lundi 27-janv-2025, 20h00",null,null,"","",null,null,null,null,null,null,null,null,null,null,null,null,null,null,null,null,null,null,"",""]
[null,null,"VETERANSD1STRASBOURG","STRASBOURG","AS Electricité Strasbourg 1",1,"US Egalitaire Neudorf 1",1,7,"2025-01-31","vendredi","19h00","Journée 7",{"$f":"IF(AND('resultats a exporter'!$CW$4=$I$2:$I$1100,'resultats a exporter'!$CX$4=$C$2:$C$1100,'resultats a exporter'!$CY$4=$E$2:$E$1100,'resultats a exporter'!$CZ$4=$G$2:$G$1100),'resultats a exporter'!$DA$4,\"\")","v":""},{"$f":"IF(AND('resultats a exporter'!$CW$4=$I$2:$I$1100,'resultats a exporter'!$CX$4=$C$2:$C$1100,'resultats a exporter'!$CY$4=$E$2:$E$1100,'resultats a exporter'!$CZ$4=$G$2:$G$1100),'resultats a exporter'!$DB$4,\"\")","v":""},null,null,null,null,"vendredi 31-janv-2025, 19h00",null,null,"","",null,null,null,null,null,null,null,null,null,null,null,null,null,null,null,null,null,null,"",""]
[null,null,"VETERANSD1STRASBOURG","STRASBOURG","UT AURORA Schilt.-B. 1",1,"US Egalitaire Neudorf 2",2,8,"2025-03-06","jeudi","20h00","Journée 8",{"$f":"IF(AND('resultats a exporter'!$CW$4=$I$2:$I$1100,'resultats a exporter'!$CX$4=$C$2:$C$1100,'resultats a exporter'!$CY$4=$E$2:$E$1100,'resultats a exporter'!$CZ$4=$G$2:$G$1100),'resultats a exporter'!$DA$4,\"\")","v":""},{"$f":"IF(AND('resultats a exporter'!$CW$4=$I$2:$I$1100,'resultats a exporter'!$CX$4=$C$2:$C$1100,'resultats a exporter'!$CY$4=$E$2:$E$1100,'resultats a exporter'!$CZ$4=$G$2:$G$1100),'resultats a exporter'!$DB$4,\"\")","v":""},null,null,null,null,"jeudi 06-mars-2025, 20h00",null,null,"","",null,null,null,null,null,null,null,null,null,null,null,null,null,null,null,null,null,null,"",""]
[null,null,"VETERANSD1STRASBOURG","STRASBOURG","Amitié Lingolsheim 2",2,"AS Electricité Strasbourg 1",1,8,"2025-03-03","lundi","20h00","Journée 8",{"$f":"IF(AND('resultats a exporter'!$CW$4=$I$2:$I$1100,'resultats a exporter'!$CX$4=$C$2:$C$1100,'resultats a exporter'!$CY$4=$E$2:$E$1100,'resultats a exporter'!$CZ$4=$G$2:$G$1100),'resultats a exporter'!$DA$4,\"\")","v":""},{"$f":"IF(AND('resultats a exporter'!$CW$4=$I$2:$I$1100,'resultats a exporter'!$CX$4=$C$2:$C$1100,'resultats a exporter'!$CY$4=$E$2:$E$1100,'resultats a exporter'!$CZ$4=$G$2:$G$1100),'resultats a exporter'!$DB$4,\"\")","v":""},null,null,null,null,"lundi 03-mars-2025, 20h00",null,null,"","",null,null,null,null,null,null,null,null,null,null,null,null,null,null,null,null,null,null,"",""]
[null,null,"VETERANSD1STRASBOURG","STRASBOURG","US Egalitaire Neudorf 1",1,"Amitié Lingolsheim 1",1,8,"2025-03-04","mardi","20h00","Journée 8",{"$f":"IF(AND('resultats a exporter'!$CW$4=$I$2:$I$1100,'resultats a exporter'!$CX$4=$C$2:$C$1100,'resultats a exporter'!$CY$4=$E$2:$E$1100,'resultats a exporter'!$CZ$4=$G$2:$G$1100),'resultats a exporter'!$DA$4,\"\")","v":""},{"$f":"IF(AND('resultats a exporter'!$CW$4=$I$2:$I$1100,'resultats a exporter'!$CX$4=$C$2:$C$1100,'resultats a exporter'!$CY$4=$E$2:$E$1100,'resultats a exporter'!$CZ$4=$G$2:$G$1100),'resultats a exporter'!$DB$4,\"\")","v":""},null,null,null,null,"mardi 04-mars-2025, 20h00",null,null,"","",null,null,null,null,null,null,null,null,null,null,null,null,null,null,null,null,null,null,"",""]
[null,null,"VETERANSD1STRASBOURG","STRASBOURG","US Egalitaire Neudorf 2",2,"AS Electricité Strasbourg 1",1,9,"2025-04-03","jeudi","20h00","Journée 9",{"$f":"IF(AND('resultats a exporter'!$CW$4=$I$2:$I$1100,'resultats a exporter'!$CX$4=$C$2:$C$1100,'resultats a exporter'!$CY$4=$E$2:$E$1100,'resultats a exporter'!$CZ$4=$G$2:$G$1100),'resultats a exporter'!$DA$4,\"\")","v":""},{"$f":"IF(AND('resultats a exporter'!$CW$4=$I$2:$I$1100,'resultats a exporter'!$CX$4=$C$2:$C$1100,'resultats a exporter'!$CY$4=$E$2:$E$1100,'resultats a exporter'!$CZ$4=$G$2:$G$1100),'resultats a exporter'!$DB$4,\"\")","v":""},null,null,null,null,"jeudi 03-avr-2025, 20h00",null,null,"","",null,null,null,null,null,null,null,null,null,null,null,null,null,null,null,null,null,null,"",""]
[null,null,"VETERANSD1STRASBOURG","STRASBOURG","US Egalitaire Neudorf 1",1,"Amitié Lingolsheim 2",2,9,"2025-04-01","mardi","20h00","Journée 9",{"$f":"IF(AND('resultats a exporter'!$CW$4=$I$2:$I$1100,'resultats a exporter'!$CX$4=$C$2:$C$1100,'resultats a exporter'!$CY$4=$E$2:$E$1100,'resultats a exporter'!$CZ$4=$G$2:$G$1100),'resultats a exporter'!$DA$4,\"\")","v":""},{"$f":"IF(AND('resultats a exporter'!$CW$4=$I$2:$I$1100,'resultats a exporter'!$CX$4=$C$2:$C$1100,'resultats a exporter'!$CY$4=$E$2:$E$1100,'resultats a exporter'!$CZ$4=$G$2:$G$1100),'resultats a exporter'!$DB$4,\"\")","v":""},null,null,null,null,"mardi 01-avr-2025, 20h00",null,null,"","",null,null,null,null,null,null,null,null,null,null,null,null,null,null,null,null,null,null,"",""]
[null,null,"VETERANSD1STRASBOURG","STRASBOURG","Amitié Lingolsheim 1",1,"UT AURORA Schilt.-B. 1",1,9,"2025-04-02","mercredi","20h00","Journée 9",{"$f":"IF(AND('resultats a exporter'!$CW$4=$I$2:$I$1100,'resultats a exporter'!$CX$4=$C$2:$C$1100,'resultats a exporter'!$CY$4=$E$2:$E$1100,'resultats a exporter'!$CZ$4=$G$2:$G$1100),'resultats a exporter'!$DA$4,\"\")","v":""},{"$f":"IF(AND('resultats a exporter'!$CW$4=$I$2:$I$1100,'resultats a exporter'!$CX$4=$C$2:$C$1100,'resultats a exporter'!$CY$4=$E$2:$E$1100,'resultats a exporter'!$CZ$4=$G$2:$G$1100),'resultats a exporter'!$DB$4,\"\")","v":""},null,null,null,null,"mercredi 02-avr-2025, 20h00",null,null,"","",null,null,null,null,null,null,null,null,null,null,null,null,null,null,null,null,null,null,"",""]
[null,null,"VETERANSD1STRASBOURG","STRASBOURG","Amitié Lingolsheim 2",2,"US Egalitaire Neudorf 2",2,10,"2025-04-28","lundi","20h00","Journée 10",{"$f":"IF(AND('resultats a exporter'!$CW$4=$I$2:$I$1100,'resultats a exporter'!$CX$4=$C$2:$C$1100,'resultats a exporter'!$CY$4=$E$2:$E$1100,'resultats a exporter'!$CZ$4=$G$2:$G$1100),'resultats a exporter'!$DA$4,\"\")","v":""},{"$f":"IF(AND('resultats a exporter'!$CW$4=$I$2:$I$1100,'resultats a exporter'!$CX$4=$C$2:$C$1100,'resultats a exporter'!$CY$4=$E$2:$E$1100,'resultats a exporter'!$CZ$4=$G$2:$G$1100),'resultats a exporter'!$DB$4,\"\")","v":""},null,null,null,null,"lundi 28-avr-2025, 20h00",null,null,"","",null,null,null,null,null,null,null,null,null,null,null,null,null,null,null,null,null,null,"",""]
[null,null,"VETERANSD1STRASBOURG","STRASBOURG","AS Electricité Strasbourg 1",1,"Amitié Lingolsheim 1",1,10,"2025-05-02","vendredi","19h00","Journée 10",{"$f":"IF(AND('resultats a exporter'!$CW$4=$I$2:$I$1100,'resultats a exporter'!$CX$4=$C$2:$C$1100,'resultats a exporter'!$CY$4=$E$2:$E$1100,'resultats a exporter'!$CZ$4=$G$2:$G$1100),'resultats a exporter'!$DA$4,\"\")","v":""},{"$f":"IF(AND('resultats a exporter'!$CW$4=$I$2:$I$1100,'resultats a exporter'!$CX$4=$C$2:$C$1100,'resultats a exporter'!$CY$4=$E$2:$E$1100,'resultats a exporter'!$CZ$4=$G$2:$G$1100),'resultats a exporter'!$DB$4,\"\")","v":""},null,null,null,null,"vendredi 02-mai-2025, 19h00",null,null,"","",null,null,null,null,null,null,null,null,null,null,null,null,null,null,null,null,null,null,"",""]
[null,null,"VETERANSD1STRASBOURG","STRASBOURG","US Egalitaire Neudorf 1",1,"UT AURORA Schilt.-B. 1",1,10,"2025-04-29","mardi","20h00","Journée 10",{"$f":"IF(AND('resultats a exporter'!$CW$4=$I$2:$I$1100,'resultats a exporter'!$CX$4=$C$2:$C$1100,'resultats a exporter'!$CY$4=$E$2:$E$1100,'resultats a exporter'!$CZ$4=$G$2:$G$1100),'resultats a exporter'!$DA$4,\"\")","v":""},{"$f":"IF(AND('resultats a exporter'!$CW$4=$I$2:$I$1100,'resultats a exporter'!$CX$4=$C$2:$C$1100,'resultats a exporter'!$CY$4=$E$2:$E$1100,'resultats a exporter'!$CZ$4=$G$2:$G$1100),'resultats a exporter'!$DB$4,\"\")","v":""},null,null,null,null,"mardi 29-avr-2025, 20h00",null,null,"","",null,null,null,null,null,null,null,null,null,null,null,null,null,null,null,null,null,null,"",""]
[null,null,"VETERANSD2STRASBOURG","STRASBOURG","Amitié Lingolsheim 3",3,"Amitié Lingolsheim 5",5,1,"2024-09-30","lundi","20h00","Journée 1",{"$f":"IF(AND('resultats a exporter'!$CW$4=$I$2:$I$1100,'resultats a exporter'!$CX$4=$C$2:$C$1100,'resultats a exporter'!$CY$4=$E$2:$E$1100,'resultats a exporter'!$CZ$4=$G$2:$G$1100),'resultats a exporter'!$DA$4,\"\")","v":""},{"$f":"IF(AND('resultats a exporter'!$CW$4=$I$2:$I$1100,'resultats a exporter'!$CX$4=$C$2:$C$1100,'resultats a exporter'!$CY$4=$E$2:$E$1100,'resultats a exporter'!$CZ$4=$G$2:$G$1100),'resultats a exporter'!$DB$4,\"\")","v":""},"VETERANSD2STRASBOURG",null,null,null,"lundi 30-sept-2024, 20h00",null,null,"","",null,null,null,null,null,null,null,null,null,null,null,null,null,null,null,null,null,null,"",""]
[null,null,"VETERANSD2STRASBOURG","STRASBOURG",null,null,null,null,null,null,"",null,"Journée ",{"$f":"IF(AND('resultats a exporter'!$CW$4=$I$2:$I$1100,'resultats a exporter'!$CX$4=$C$2:$C$1100,'resultats a exporter'!$CY$4=$E$2:$E$1100,'resultats a exporter'!$CZ$4=$G$2:$G$1100),'resultats a exporter'!$DA$4,\"\")","v":""},{"$f":"IF(AND('resultats a exporter'!$CW$4=$I$2:$I$1100,'resultats a exporter'!$CX$4=$C$2:$C$1100,'resultats a exporter'!$CY$4=$E$2:$E$1100,'resultats a exporter'!$CZ$4=$G$2:$G$1100),'resultats a exporter'!$DB$4,\"\")","v":""},null,"US Egalitaire Neudorf 3",null,null,"",null,null,"","",null,null,null,null,null,null,null,null,null,null,null,null,null,null,null,null,null,null,"",""]
[null,null,"VETERANSD2STRASBOURG","STRASBOURG","UT AURORA Schilt.-B. 2",2,"UT AURORA Schilt.-B. 3",3,1,"2024-10-03","jeudi","20h00","Journée 1",{"$f":"IF(AND('resultats a exporter'!$CW$4=$I$2:$I$1100,'resultats a exporter'!$CX$4=$C$2:$C$1100,'resultats a exporter'!$CY$4=$E$2:$E$1100,'resultats a exporter'!$CZ$4=$G$2:$G$1100),'resultats a exporter'!$DA$4,\"\")","v":""},{"$f":"IF(AND('resultats a exporter'!$CW$4=$I$2:$I$1100,'resultats a exporter'!$CX$4=$C$2:$C$1100,'resultats a exporter'!$CY$4=$E$2:$E$1100,'resultats a exporter'!$CZ$4=$G$2:$G$1100),'resultats a exporter'!$DB$4,\"\")","v":""},null,"Amitié Lingolsheim 3",null,null,"jeudi 03-oct-2024, 20h00",null,null,"","",null,null,null,null,null,null,null,null,null,null,null,null,null,null,null,null,null,null,"",""]
[null,null,"VETERANSD2STRASBOURG","STRASBOURG","AS Electricité Strasbourg 2",2,"Amitié Lingolsheim 4",4,1,"2024-10-15","mardi","19h00","Journée 1",{"$f":"IF(AND('resultats a exporter'!$CW$4=$I$2:$I$1100,'resultats a exporter'!$CX$4=$C$2:$C$1100,'resultats a exporter'!$CY$4=$E$2:$E$1100,'resultats a exporter'!$CZ$4=$G$2:$G$1100),'resultats a exporter'!$DA$4,\"\")","v":""},{"$f":"IF(AND('resultats a exporter'!$CW$4=$I$2:$I$1100,'resultats a exporter'!$CX$4=$C$2:$C$1100,'resultats a exporter'!$CY$4=$E$2:$E$1100,'resultats a exporter'!$CZ$4=$G$2:$G$1100),'resultats a exporter'!$DB$4,\"\")","v":""},null,"Amitié Lingolsheim 4",null,null,"mardi 15-oct-2024, 19h00",null,null,"","",null,null,null,null,null,null,null,null,null,null,null,null,null,null,null,null,null,null,"",""]
[null,null,"VETERANSD2STRASBOURG","STRASBOURG","Amitié Lingolsheim 4",4,"Amitié Lingolsheim 3",3,2,"2024-10-18","vendredi","20h00","Journée 2",{"$f":"IF(AND('resultats a exporter'!$CW$4=$I$2:$I$1100,'resultats a exporter'!$CX$4=$C$2:$C$1100,'resultats a exporter'!$CY$4=$E$2:$E$1100,'resultats a exporter'!$CZ$4=$G$2:$G$1100),'resultats a exporter'!$DA$4,\"\")","v":""},{"$f":"IF(AND('resultats a exporter'!$CW$4=$I$2:$I$1100,'resultats a exporter'!$CX$4=$C$2:$C$1100,'resultats a exporter'!$CY$4=$E$2:$E$1100,'resultats a exporter'!$CZ$4=$G$2:$G$1100),'resultats a exporter'!$DB$4,\"\")","v":""},null,"Amitié Lingolsheim 5",null,null,"vendredi 18-oct-2024, 20h00",null,null,"","",null,null,null,null,null,null,null,null,null,null,null,null,null,null,null,null,null,null,"",""]
[null,null,"VETERANSD2STRASBOURG","STRASBOURG",null,null,null,null,null,null,"",null,"Journée ",{"$f":"IF(AND('resultats a exporter'!$CW$4=$I$2:$I$1100,'resultats a exporter'!$CX$4=$C$2:$C$1100,'resultats a exporter'!$CY$4=$E$2:$E$1100,'resultats a exporter'!$CZ$4=$G$2:$G$1100),'resultats a exporter'!$DA$4,\"\")","v":""},{"$f":"IF(AND('resultats a exporter'!$CW$4=$I$2:$I$1100,'resultats a exporter'!$CX$4=$C$2:$C$1100,'resultats a exporter'!$CY$4=$E$2:$E$1100,'resultats a exporter'!$CZ$4=$G$2:$G$1100),'resultats a exporter'!$DB$4,\"\")","v":""},null,"AS Electricité Strasbourg 2",null,null,"",null,null,"","",null,null,null,null,null,null,null,null,null,null,null,null,null,null,null,null,null,null,"",""]
[null,null,"VETERANSD2STRASBOURG","STRASBOURG","AS Electricité Strasbourg 2",2,"UT AURORA Schilt.-B. 2",2,2,"2024-10-18","vendredi","19h00","Journée 2",{"$f":"IF(AND('resultats a exporter'!$CW$4=$I$2:$I$1100,'resultats a exporter'!$CX$4=$C$2:$C$1100,'resultats a exporter'!$CY$4=$E$2:$E$1100,'resultats a exporter'!$CZ$4=$G$2:$G$1100),'resultats a exporter'!$DA$4,\"\")","v":""},{"$f":"IF(AND('resultats a exporter'!$CW$4=$I$2:$I$1100,'resultats a exporter'!$CX$4=$C$2:$C$1100,'resultats a exporter'!$CY$4=$E$2:$E$1100,'resultats a exporter'!$CZ$4=$G$2:$G$1100),'resultats a exporter'!$DB$4,\"\")","v":""},null,"UT AURORA Schilt.-B. 2",null,null,"vendredi 18-oct-2024, 19h00",null,null,"","",null,null,null,null,null,null,null,null,null,null,null,null,null,null,null,null,null,null,"",""]
[null,null,"VETERANSD2STRASBOURG","STRASBOURG","Amitié Lingolsheim 5",5,"UT AURORA Schilt.-B. 3",3,2,"2024-10-18","vendredi","20h00","Journée 2",{"$f":"IF(AND('resultats a exporter'!$CW$4=$I$2:$I$1100,'resultats a exporter'!$CX$4=$C$2:$C$1100,'resultats a exporter'!$CY$4=$E$2:$E$1100,'resultats a exporter'!$CZ$4=$G$2:$G$1100),'resultats a exporter'!$DA$4,\"\")","v":""},{"$f":"IF(AND('resultats a exporter'!$CW$4=$I$2:$I$1100,'resultats a exporter'!$CX$4=$C$2:$C$1100,'resultats a exporter'!$CY$4=$E$2:$E$1100,'resultats a exporter'!$CZ$4=$G$2:$G$1100),'resultats a exporter'!$DB$4,\"\")","v":""},null,"UT AURORA Schilt.-B. 3",null,null,"vendredi 18-oct-2024, 20h00",null,null,"","",null,null,null,null,null,null,null,null,null,null,null,null,null,null,null,null,null,null,"",""]
[null,null,"VETERANSD2STRASBOURG","STRASBOURG","Amitié Lingolsheim 3",3,"UT AURORA Schilt.-B. 2",2,3,"2024-10-28","lundi","20h00","Journée 3",{"$f":"IF(AND('resultats a exporter'!$CW$4=$I$2:$I$1100,'resultats a exporter'!$CX$4=$C$2:$C$1100,'resultats a exporter'!$CY$4=$E$2:$E$1100,'resultats a exporter'!$CZ$4=$G$2:$G$1100),'resultats a exporter'!$DA$4,\"\")","v":""},{"$f":"IF(AND('resultats a exporter'!$CW$4=$I$2:$I$1100,'resultats a exporter'!$CX$4=$C$2:$C$1100,'resultats a exporter'!$CY$4=$E$2:$E$1100,'resultats a exporter'!$CZ$4=$G$2:$G$1100),'resultats a exporter'!$DB$4,\"\")","v":""},null,null,null,null,"lundi 28-oct-2024, 20h00",null,null,"","",null,null,null,null,null,null,null,null,null,null,null,null,null,null,null,null,null,null,"",""]
[null,null,"VETERANSD2STRASBOURG","STRASBOURG",null,null,null,null,null,null,"",null,"Journée ",{"$f":"IF(AND('resultats a exporter'!$CW$4=$I$2:$I$1100,'resultats a exporter'!$CX$4=$C$2:$C$1100,'resultats a exporter'!$CY$4=$E$2:$E$1100,'resultats a exporter'!$CZ$4=$G$2:$G$1100),'resultats a exporter'!$DA$4,\"\")","v":""},{"$f":"IF(AND('resultats a exporter'!$CW$4=$I$2:$I$1100,'resultats a exporter'!$CX$4=$C$2:$C$1100,'resultats a exporter'!$CY$4=$E$2:$E$1100,'resultats a exporter'!$CZ$4=$G$2:$G$1100),'resultats a exporter'!$DB$4,\"\")","v":""},null,null,null,null,"",null,null,"","",null,null,null,null,null,null,null,null,null,null,null,null,null,null,null,null,null,null,"",""]
[null,null,"VETERANSD2STRASBOURG","STRASBOURG","UT AURORA Schilt.-B. 3",3,"AS Electricité Strasbourg 2",2,3,"2024-10-31","jeudi","20h00","Journée 3",{"$f":"IF(AND('resultats a exporter'!$CW$4=$I$2:$I$1100,'resultats a exporter'!$CX$4=$C$2:$C$1100,'resultats a exporter'!$CY$4=$E$2:$E$1100,'resultats a exporter'!$CZ$4=$G$2:$G$1100),'resultats a exporter'!$DA$4,\"\")","v":""},{"$f":"IF(AND('resultats a exporter'!$CW$4=$I$2:$I$1100,'resultats a exporter'!$CX$4=$C$2:$C$1100,'resultats a exporter'!$CY$4=$E$2:$E$1100,'resultats a exporter'!$CZ$4=$G$2:$G$1100),'resultats a exporter'!$DB$4,\"\")","v":""},null,null,null,null,"jeudi 31-oct-2024, 20h00",null,null,"","",null,null,null,null,null,null,null,null,null,null,null,null,null,null,null,null,null,null,"",""]
[null,null,"VETERANSD2STRASBOURG","STRASBOURG","Amitié Lingolsheim 5",5,"Amitié Lingolsheim 4",4,3,"2024-10-28","lundi","20h00","Journée 3",{"$f":"IF(AND('resultats a exporter'!$CW$4=$I$2:$I$1100,'resultats a exporter'!$CX$4=$C$2:$C$1100,'resultats a exporter'!$CY$4=$E$2:$E$1100,'resultats a exporter'!$CZ$4=$G$2:$G$1100),'resultats a exporter'!$DA$4,\"\")","v":""},{"$f":"IF(AND('resultats a exporter'!$CW$4=$I$2:$I$1100,'resultats a exporter'!$CX$4=$C$2:$C$1100,'resultats a exporter'!$CY$4=$E$2:$E$1100,'resultats a exporter'!$CZ$4=$G$2:$G$1100),'resultats a exporter'!$DB$4,\"\")","v":""},null,null,null,null,"lundi 28-oct-2024, 20h00",null,null,"","",null,null,null,null,null,null,null,null,null,null,null,null,null,null,null,null,null,null,"",""]
[null,null,"VETERANSD2STRASBOURG","STRASBOURG","Amitié Lingolsheim 3",3,"AS Electricité Strasbourg 2",2,4,"2024-11-15","vendredi","20h00","Journée 4",{"$f":"IF(AND('resultats a exporter'!$CW$4=$I$2:$I$1100,'resultats a exporter'!$CX$4=$C$2:$C$1100,'resultats a exporter'!$CY$4=$E$2:$E$1100,'resultats a exporter'!$CZ$4=$G$2:$G$1100),'resultats a exporter'!$DA$4,\"\")","v":""},{"$f":"IF(AND('resultats a exporter'!$CW$4=$I$2:$I$1100,'resultats a exporter'!$CX$4=$C$2:$C$1100,'resultats a exporter'!$CY$4=$E$2:$E$1100,'resultats a exporter'!$CZ$4=$G$2:$G$1100),'resultats a exporter'!$DB$4,\"\")","v":""},null,null,null,null,"vendredi 15-nov-2024, 20h00",null,null,"","",null,null,null,null,null,null,null,null,null,null,null,null,null,null,null,null,null,null,"",""]
[null,null,"VETERANSD2STRASBOURG","STRASBOURG",null,null,null,null,null,null,"",null,"Journée ",{"$f":"IF(AND('resultats a exporter'!$CW$4=$I$2:$I$1100,'resultats a exporter'!$CX$4=$C$2:$C$1100,'resultats a exporter'!$CY$4=$E$2:$E$1100,'resultats a exporter'!$CZ$4=$G$2:$G$1100),'resultats a exporter'!$DA$4,\"\")","v":""},{"$f":"IF(AND('resultats a exporter'!$CW$4=$I$2:$I$1100,'resultats a exporter'!$CX$4=$C$2:$C$1100,'resultats a exporter'!$CY$4=$E$2:$E$1100,'resultats a exporter'!$CZ$4=$G$2:$G$1100),'resultats a exporter'!$DB$4,\"\")","v":""},null,null,null,null,"",null,null,"","",null,null,null,null,null,null,null,null,null,null,null,null,null,null,null,null,null,null,"",""]
[null,null,"VETERANSD2STRASBOURG","STRASBOURG","UT AURORA Schilt.-B. 2",2,"Amitié Lingolsheim 5",5,4,"2024-11-14","jeudi","20h00","Journée 4",{"$f":"IF(AND('resultats a exporter'!$CW$4=$I$2:$I$1100,'resultats a exporter'!$CX$4=$C$2:$C$1100,'resultats a exporter'!$CY$4=$E$2:$E$1100,'resultats a exporter'!$CZ$4=$G$2:$G$1100),'resultats a exporter'!$DA$4,\"\")","v":""},{"$f":"IF(AND('resultats a exporter'!$CW$4=$I$2:$I$1100,'resultats a exporter'!$CX$4=$C$2:$C$1100,'resultats a exporter'!$CY$4=$E$2:$E$1100,'resultats a exporter'!$CZ$4=$G$2:$G$1100),'resultats a exporter'!$DB$4,\"\")","v":""},null,null,null,null,"jeudi 14-nov-2024, 20h00",null,null,"","",null,null,null,null,null,null,null,null,null,null,null,null,null,null,null,null,null,null,"",""]
[null,null,"VETERANSD2STRASBOURG","STRASBOURG","UT AURORA Schilt.-B. 3",3,"Amitié Lingolsheim 4",4,4,"2024-11-14","jeudi","20h00","Journée 4",{"$f":"IF(AND('resultats a exporter'!$CW$4=$I$2:$I$1100,'resultats a exporter'!$CX$4=$C$2:$C$1100,'resultats a exporter'!$CY$4=$E$2:$E$1100,'resultats a exporter'!$CZ$4=$G$2:$G$1100),'resultats a exporter'!$DA$4,\"\")","v":""},{"$f":"IF(AND('resultats a exporter'!$CW$4=$I$2:$I$1100,'resultats a exporter'!$CX$4=$C$2:$C$1100,'resultats a exporter'!$CY$4=$E$2:$E$1100,'resultats a exporter'!$CZ$4=$G$2:$G$1100),'resultats a exporter'!$DB$4,\"\")","v":""},null,null,null,null,"jeudi 14-nov-2024, 20h00",null,null,"","",null,null,null,null,null,null,null,null,null,null,null,null,null,null,null,null,null,null,"",""]
[null,null,"VETERANSD2STRASBOURG","STRASBOURG","Amitié Lingolsheim 3",3,"UT AURORA Schilt.-B. 3",3,5,"2024-11-25","lundi","20h00","Journée 5",{"$f":"IF(AND('resultats a exporter'!$CW$4=$I$2:$I$1100,'resultats a exporter'!$CX$4=$C$2:$C$1100,'resultats a exporter'!$CY$4=$E$2:$E$1100,'resultats a exporter'!$CZ$4=$G$2:$G$1100),'resultats a exporter'!$DA$4,\"\")","v":""},{"$f":"IF(AND('resultats a exporter'!$CW$4=$I$2:$I$1100,'resultats a exporter'!$CX$4=$C$2:$C$1100,'resultats a exporter'!$CY$4=$E$2:$E$1100,'resultats a exporter'!$CZ$4=$G$2:$G$1100),'resultats a exporter'!$DB$4,\"\")","v":""},null,null,null,null,"lundi 25-nov-2024, 20h00",null,null,"","",null,null,null,null,null,null,null,null,null,null,null,null,null,null,null,null,null,null,"",""]
[null,null,"VETERANSD2STRASBOURG","STRASBOURG",null,null,null,null,null,null,"",null,"Journée ",{"$f":"IF(AND('resultats a exporter'!$CW$4=$I$2:$I$1100,'resultats a exporter'!$CX$4=$C$2:$C$1100,'resultats a exporter'!$CY$4=$E$2:$E$1100,'resultats a exporter'!$CZ$4=$G$2:$G$1100),'resultats a exporter'!$DA$4,\"\")","v":""},{"$f":"IF(AND('resultats a exporter'!$CW$4=$I$2:$I$1100,'resultats a exporter'!$CX$4=$C$2:$C$1100,'resultats a exporter'!$CY$4=$E$2:$E$1100,'resultats a exporter'!$CZ$4=$G$2:$G$1100),'resultats a exporter'!$DB$4,\"\")","v":""},null,null,null,null,"",null,null,"","",null,null,null,null,null,null,null,null,null,null,null,null,null,null,null,null,null,null,"",""]
[null,null,"VETERANSD2STRASBOURG","STRASBOURG","AS Electricité Strasbourg 2",2,"Amitié Lingolsheim 5",5,5,"2024-11-29","vendredi","19h00","Journée 5",{"$f":"IF(AND('resultats a exporter'!$CW$4=$I$2:$I$1100,'resultats a exporter'!$CX$4=$C$2:$C$1100,'resultats a exporter'!$CY$4=$E$2:$E$1100,'resultats a exporter'!$CZ$4=$G$2:$G$1100),'resultats a exporter'!$DA$4,\"\")","v":""},{"$f":"IF(AND('resultats a exporter'!$CW$4=$I$2:$I$1100,'resultats a exporter'!$CX$4=$C$2:$C$1100,'resultats a exporter'!$CY$4=$E$2:$E$1100,'resultats a exporter'!$CZ$4=$G$2:$G$1100),'resultats a exporter'!$DB$4,\"\")","v":""},null,null,null,null,"vendredi 29-nov-2024, 19h00",null,null,"","",null,null,null,null,null,null,null,null,null,null,null,null,null,null,null,null,null,null,"",""]
[null,null,"VETERANSD2STRASBOURG","STRASBOURG","Amitié Lingolsheim 4",5,"UT AURORA Schilt.-B. 2",2,5,"2024-11-29","vendredi","20h00","Journée 5",{"$f":"IF(AND('resultats a exporter'!$CW$4=$I$2:$I$1100,'resultats a exporter'!$CX$4=$C$2:$C$1100,'resultats a exporter'!$CY$4=$E$2:$E$1100,'resultats a exporter'!$CZ$4=$G$2:$G$1100),'resultats a exporter'!$DA$4,\"\")","v":""},{"$f":"IF(AND('resultats a exporter'!$CW$4=$I$2:$I$1100,'resultats a exporter'!$CX$4=$C$2:$C$1100,'resultats a exporter'!$CY$4=$E$2:$E$1100,'resultats a exporter'!$CZ$4=$G$2:$G$1100),'resultats a exporter'!$DB$4,\"\")","v":""},null,null,null,null,"vendredi 29-nov-2024, 20h00",null,null,"","",null,null,null,null,null,null,null,null,null,null,null,null,null,null,null,null,null,null,"",""]
[null,null,"VETERANSD2STRASBOURG","STRASBOURG",null,null,null,null,null,null,"",null,"Journée ",{"$f":"IF(AND('resultats a exporter'!$CW$4=$I$2:$I$1100,'resultats a exporter'!$CX$4=$C$2:$C$1100,'resultats a exporter'!$CY$4=$E$2:$E$1100,'resultats a exporter'!$CZ$4=$G$2:$G$1100),'resultats a exporter'!$DA$4,\"\")","v":""},{"$f":"IF(AND('resultats a exporter'!$CW$4=$I$2:$I$1100,'resultats a exporter'!$CX$4=$C$2:$C$1100,'resultats a exporter'!$CY$4=$E$2:$E$1100,'resultats a exporter'!$CZ$4=$G$2:$G$1100),'resultats a exporter'!$DB$4,\"\")","v":""},null,null,null,null,"",null,null,"","",null,null,null,null,null,null,null,null,null,null,null,null,null,null,null,null,null,null,"",""]
[null,null,"VETERANSD2STRASBOURG","STRASBOURG",null,null,null,null,null,null,"",null,"Journée ",{"$f":"IF(AND('resultats a exporter'!$CW$4=$I$2:$I$1100,'resultats a exporter'!$CX$4=$C$2:$C$1100,'resultats a exporter'!$CY$4=$E$2:$E$1100,'resultats a exporter'!$CZ$4=$G$2:$G$1100),'resultats a exporter'!$DA$4,\"\")","v":""},{"$f":"IF(AND('resultats a exporter'!$CW$4=$I$2:$I$1100,'resultats a exporter'!$CX$4=$C$2:$C$1100,'resultats a exporter'!$CY$4=$E$2:$E$1100,'resultats a exporter'!$CZ$4=$G$2:$G$1100),'resultats a exporter'!$DB$4,\"\")","v":""},null,null,null,null,"",null,null,"","",null,null,null,null,null,null,null,null,null,null,null,null,null,null,null,null,null,null,"",""]
[null,null,"VETERANSD2STRASBOURG","STRASBOURG",null,null,null,null,null,null,"",null,"Journée ",{"$f":"IF(AND('resultats a exporter'!$CW$4=$I$2:$I$1100,'resultats a exporter'!$CX$4=$C$2:$C$1100,'resultats a exporter'!$CY$4=$E$2:$E$1100,'resultats a exporter'!$CZ$4=$G$2:$G$1100),'resultats a exporter'!$DA$4,\"\")","v":""},{"$f":"IF(AND('resultats a exporter'!$CW$4=$I$2:$I$1100,'resultats a exporter'!$CX$4=$C$2:$C$1100,'resultats a exporter'!$CY$4=$E$2:$E$1100,'resultats a exporter'!$CZ$4=$G$2:$G$1100),'resultats a exporter'!$DB$4,\"\")","v":""},null,null,null,null,"",null,null,"","",null,null,null,null,null,null,null,null,null,null,null,null,null,null,null,null,null,null,"",""]
[null,null,"VETERANSD2STRASBOURG","STRASBOURG",null,null,null,null,null,null,"",null,"Journée ",{"$f":"IF(AND('resultats a exporter'!$CW$4=$I$2:$I$1100,'resultats a exporter'!$CX$4=$C$2:$C$1100,'resultats a exporter'!$CY$4=$E$2:$E$1100,'resultats a exporter'!$CZ$4=$G$2:$G$1100),'resultats a exporter'!$DA$4,\"\")","v":""},{"$f":"IF(AND('resultats a exporter'!$CW$4=$I$2:$I$1100,'resultats a exporter'!$CX$4=$C$2:$C$1100,'resultats a exporter'!$CY$4=$E$2:$E$1100,'resultats a exporter'!$CZ$4=$G$2:$G$1100),'resultats a exporter'!$DB$4,\"\")","v":""},null,null,null,null,"",null,null,"","",null,null,null,null,null,null,null,null,null,null,null,null,null,null,null,null,null,null,"",""]
[null,null,"VETERANSD2STRASBOURG","STRASBOURG",null,null,null,null,null,null,"",null,"Journée ",{"$f":"IF(AND('resultats a exporter'!$CW$4=$I$2:$I$1100,'resultats a exporter'!$CX$4=$C$2:$C$1100,'resultats a exporter'!$CY$4=$E$2:$E$1100,'resultats a exporter'!$CZ$4=$G$2:$G$1100),'resultats a exporter'!$DA$4,\"\")","v":""},{"$f":"IF(AND('resultats a exporter'!$CW$4=$I$2:$I$1100,'resultats a exporter'!$CX$4=$C$2:$C$1100,'resultats a exporter'!$CY$4=$E$2:$E$1100,'resultats a exporter'!$CZ$4=$G$2:$G$1100),'resultats a exporter'!$DB$4,\"\")","v":""},null,null,null,null,"",null,null,"","",null,null,null,null,null,null,null,null,null,null,null,null,null,null,null,null,null,null,"",""]
[null,null,"VETERANSD2STRASBOURG","STRASBOURG",null,null,null,null,null,null,"",null,"Journée ",{"$f":"IF(AND('resultats a exporter'!$CW$4=$I$2:$I$1100,'resultats a exporter'!$CX$4=$C$2:$C$1100,'resultats a exporter'!$CY$4=$E$2:$E$1100,'resultats a exporter'!$CZ$4=$G$2:$G$1100),'resultats a exporter'!$DA$4,\"\")","v":""},{"$f":"IF(AND('resultats a exporter'!$CW$4=$I$2:$I$1100,'resultats a exporter'!$CX$4=$C$2:$C$1100,'resultats a exporter'!$CY$4=$E$2:$E$1100,'resultats a exporter'!$CZ$4=$G$2:$G$1100),'resultats a exporter'!$DB$4,\"\")","v":""},null,null,null,null,"",null,null,"","",null,null,null,null,null,null,null,null,null,null,null,null,null,null,null,null,null,null,"",""]
[null,null,"VETERANSD2STRASBOURG","STRASBOURG",null,null,null,null,null,null,"",null,"Journée ",{"$f":"IF(AND('resultats a exporter'!$CW$4=$I$2:$I$1100,'resultats a exporter'!$CX$4=$C$2:$C$1100,'resultats a exporter'!$CY$4=$E$2:$E$1100,'resultats a exporter'!$CZ$4=$G$2:$G$1100),'resultats a exporter'!$DA$4,\"\")","v":""},{"$f":"IF(AND('resultats a exporter'!$CW$4=$I$2:$I$1100,'resultats a exporter'!$CX$4=$C$2:$C$1100,'resultats a exporter'!$CY$4=$E$2:$E$1100,'resultats a exporter'!$CZ$4=$G$2:$G$1100),'resultats a exporter'!$DB$4,\"\")","v":""},null,null,null,null,"",null,null,"","",null,null,null,null,null,null,null,null,null,null,null,null,null,null,null,null,null,null,"",""]
[null,null,"VETERANSD2STRASBOURG","STRASBOURG",null,null,null,null,null,null,"",null,"Journée ",{"$f":"IF(AND('resultats a exporter'!$CW$4=$I$2:$I$1100,'resultats a exporter'!$CX$4=$C$2:$C$1100,'resultats a exporter'!$CY$4=$E$2:$E$1100,'resultats a exporter'!$CZ$4=$G$2:$G$1100),'resultats a exporter'!$DA$4,\"\")","v":""},{"$f":"IF(AND('resultats a exporter'!$CW$4=$I$2:$I$1100,'resultats a exporter'!$CX$4=$C$2:$C$1100,'resultats a exporter'!$CY$4=$E$2:$E$1100,'resultats a exporter'!$CZ$4=$G$2:$G$1100),'resultats a exporter'!$DB$4,\"\")","v":""},null,null,null,null,"",null,null,"","",null,null,null,null,null,null,null,null,null,null,null,null,null,null,null,null,null,null,"",""]
[null,null,"VETERANSD2STRASBOURG","STRASBOURG","Amitié Lingolsheim 5",5,"Amitié Lingolsheim 3",3,6,"2025-01-31","vendredi","20h00","Journée 6",{"$f":"IF(AND('resultats a exporter'!$CW$4=$I$2:$I$1100,'resultats a exporter'!$CX$4=$C$2:$C$1100,'resultats a exporter'!$CY$4=$E$2:$E$1100,'resultats a exporter'!$CZ$4=$G$2:$G$1100),'resultats a exporter'!$DA$4,\"\")","v":""},{"$f":"IF(AND('resultats a exporter'!$CW$4=$I$2:$I$1100,'resultats a exporter'!$CX$4=$C$2:$C$1100,'resultats a exporter'!$CY$4=$E$2:$E$1100,'resultats a exporter'!$CZ$4=$G$2:$G$1100),'resultats a exporter'!$DB$4,\"\")","v":""},null,null,null,null,"vendredi 31-janv-2025, 20h00",null,null,"","",null,null,null,null,null,null,null,null,null,null,null,null,null,null,null,null,null,null,"",""]
[null,null,"VETERANSD2STRASBOURG","STRASBOURG",null,null,null,null,null,null,"",null,"Journée ",{"$f":"IF(AND('resultats a exporter'!$CW$4=$I$2:$I$1100,'resultats a exporter'!$CX$4=$C$2:$C$1100,'resultats a exporter'!$CY$4=$E$2:$E$1100,'resultats a exporter'!$CZ$4=$G$2:$G$1100),'resultats a exporter'!$DA$4,\"\")","v":""},{"$f":"IF(AND('resultats a exporter'!$CW$4=$I$2:$I$1100,'resultats a exporter'!$CX$4=$C$2:$C$1100,'resultats a exporter'!$CY$4=$E$2:$E$1100,'resultats a exporter'!$CZ$4=$G$2:$G$1100),'resultats a exporter'!$DB$4,\"\")","v":""},null,null,null,null,"",null,null,"","",null,null,null,null,null,null,null,null,null,null,null,null,null,null,null,null,null,null,"",""]
[null,null,"VETERANSD2STRASBOURG","STRASBOURG","UT AURORA Schilt.-B. 3",3,"UT AURORA Schilt.-B. 2",2,6,"2025-01-30","jeudi","20h00","Journée 6",{"$f":"IF(AND('resultats a exporter'!$CW$4=$I$2:$I$1100,'resultats a exporter'!$CX$4=$C$2:$C$1100,'resultats a exporter'!$CY$4=$E$2:$E$1100,'resultats a exporter'!$CZ$4=$G$2:$G$1100),'resultats a exporter'!$DA$4,\"\")","v":""},{"$f":"IF(AND('resultats a exporter'!$CW$4=$I$2:$I$1100,'resultats a exporter'!$CX$4=$C$2:$C$1100,'resultats a exporter'!$CY$4=$E$2:$E$1100,'resultats a exporter'!$CZ$4=$G$2:$G$1100),'resultats a exporter'!$DB$4,\"\")","v":""},null,null,null,null,"jeudi 30-janv-2025, 20h00",null,null,"","",null,null,null,null,null,null,null,null,null,null,null,null,null,null,null,null,null,null,"",""]
[null,null,"VETERANSD2STRASBOURG","STRASBOURG","Amitié Lingolsheim 4",4,"AS Electricité Strasbourg 2",2,6,"2025-01-31","vendredi","20h00","Journée 6",{"$f":"IF(AND('resultats a exporter'!$CW$4=$I$2:$I$1100,'resultats a exporter'!$CX$4=$C$2:$C$1100,'resultats a exporter'!$CY$4=$E$2:$E$1100,'resultats a exporter'!$CZ$4=$G$2:$G$1100),'resultats a exporter'!$DA$4,\"\")","v":""},{"$f":"IF(AND('resultats a exporter'!$CW$4=$I$2:$I$1100,'resultats a exporter'!$CX$4=$C$2:$C$1100,'resultats a exporter'!$CY$4=$E$2:$E$1100,'resultats a exporter'!$CZ$4=$G$2:$G$1100),'resultats a exporter'!$DB$4,\"\")","v":""},null,null,null,null,"vendredi 31-janv-2025, 20h00",null,null,"","",null,null,null,null,null,null,null,null,null,null,null,null,null,null,null,null,null,null,"",""]
[null,null,"VETERANSD2STRASBOURG","STRASBOURG","Amitié Lingolsheim 3",3,"Amitié Lingolsheim 4",4,7,"2025-02-10","lundi","20h00","Journée 7",{"$f":"IF(AND('resultats a exporter'!$CW$4=$I$2:$I$1100,'resultats a exporter'!$CX$4=$C$2:$C$1100,'resultats a exporter'!$CY$4=$E$2:$E$1100,'resultats a exporter'!$CZ$4=$G$2:$G$1100),'resultats a exporter'!$DA$4,\"\")","v":""},{"$f":"IF(AND('resultats a exporter'!$CW$4=$I$2:$I$1100,'resultats a exporter'!$CX$4=$C$2:$C$1100,'resultats a exporter'!$CY$4=$E$2:$E$1100,'resultats a exporter'!$CZ$4=$G$2:$G$1100),'resultats a exporter'!$DB$4,\"\")","v":""},null,null,null,null,"lundi 10-févr-2025, 20h00",null,null,"","",null,null,null,null,null,null,null,null,null,null,null,null,null,null,null,null,null,null,"",""]
[null,null,"VETERANSD2STRASBOURG","STRASBOURG",null,null,null,null,null,null,"",null,"Journée ",{"$f":"IF(AND('resultats a exporter'!$CW$4=$I$2:$I$1100,'resultats a exporter'!$CX$4=$C$2:$C$1100,'resultats a exporter'!$CY$4=$E$2:$E$1100,'resultats a exporter'!$CZ$4=$G$2:$G$1100),'resultats a exporter'!$DA$4,\"\")","v":""},{"$f":"IF(AND('resultats a exporter'!$CW$4=$I$2:$I$1100,'resultats a exporter'!$CX$4=$C$2:$C$1100,'resultats a exporter'!$CY$4=$E$2:$E$1100,'resultats a exporter'!$CZ$4=$G$2:$G$1100),'resultats a exporter'!$DB$4,\"\")","v":""},null,null,null,null,"",null,null,"","",null,null,null,null,null,null,null,null,null,null,null,null,null,null,null,null,null,null,"",""]
[null,null,"VETERANSD2STRASBOURG","STRASBOURG","UT AURORA Schilt.-B. 2",2,"AS Electricité Strasbourg 2",2,7,"2025-02-13","jeudi","20h00","Journée 7",{"$f":"IF(AND('resultats a exporter'!$CW$4=$I$2:$I$1100,'resultats a exporter'!$CX$4=$C$2:$C$1100,'resultats a exporter'!$CY$4=$E$2:$E$1100,'resultats a exporter'!$CZ$4=$G$2:$G$1100),'resultats a exporter'!$DA$4,\"\")","v":""},{"$f":"IF(AND('resultats a exporter'!$CW$4=$I$2:$I$1100,'resultats a exporter'!$CX$4=$C$2:$C$1100,'resultats a exporter'!$CY$4=$E$2:$E$1100,'resultats a exporter'!$CZ$4=$G$2:$G$1100),'resultats a exporter'!$DB$4,\"\")","v":""},null,null,null,null,"jeudi 13-févr-2025, 20h00",null,null,"","",null,null,null,null,null,null,null,null,null,null,null,null,null,null,null,null,null,null,"",""]
[null,null,"VETERANSD2STRASBOURG","STRASBOURG","UT AURORA Schilt.-B. 3",3,"Amitié Lingolsheim 5",5,7,"2025-02-13","jeudi","20h00","Journée 7",{"$f":"IF(AND('resultats a exporter'!$CW$4=$I$2:$I$1100,'resultats a exporter'!$CX$4=$C$2:$C$1100,'resultats a exporter'!$CY$4=$E$2:$E$1100,'resultats a exporter'!$CZ$4=$G$2:$G$1100),'resultats a exporter'!$DA$4,\"\")","v":""},{"$f":"IF(AND('resultats a exporter'!$CW$4=$I$2:$I$1100,'resultats a exporter'!$CX$4=$C$2:$C$1100,'resultats a exporter'!$CY$4=$E$2:$E$1100,'resultats a exporter'!$CZ$4=$G$2:$G$1100),'resultats a exporter'!$DB$4,\"\")","v":""},null,null,null,null,"jeudi 13-févr-2025, 20h00",null,null,"","",null,null,null,null,null,null,null,null,null,null,null,null,null,null,null,null,null,null,"",""]
[null,null,"VETERANSD2STRASBOURG","STRASBOURG","UT AURORA Schilt.-B. 2",2,"Amitié Lingolsheim 3",3,8,"2025-03-06","jeudi","20h00","Journée 8",{"$f":"IF(AND('resultats a exporter'!$CW$4=$I$2:$I$1100,'resultats a exporter'!$CX$4=$C$2:$C$1100,'resultats a exporter'!$CY$4=$E$2:$E$1100,'resultats a exporter'!$CZ$4=$G$2:$G$1100),'resultats a exporter'!$DA$4,\"\")","v":""},{"$f":"IF(AND('resultats a exporter'!$CW$4=$I$2:$I$1100,'resultats a exporter'!$CX$4=$C$2:$C$1100,'resultats a exporter'!$CY$4=$E$2:$E$1100,'resultats a exporter'!$CZ$4=$G$2:$G$1100),'resultats a exporter'!$DB$4,\"\")","v":""},null,null,null,null,"jeudi 06-mars-2025, 20h00",null,null,"","",null,null,null,null,null,null,null,null,null,null,null,null,null,null,null,null,null,null,"",""]
[null,null,"VETERANSD2STRASBOURG","STRASBOURG",null,null,null,null,null,null,{"$f":"IF(J323=\"\",\"\",TEXT(J323,\"JJJJ\"))","v":""},null,"Journée ",{"$f":"IF(AND('resultats a exporter'!$CW$4=$I$2:$I$1100,'resultats a exporter'!$CX$4=$C$2:$C$1100,'resultats a exporter'!$CY$4=$E$2:$E$1100,'resultats a exporter'!$CZ$4=$G$2:$G$1100),'resultats a exporter'!$DA$4,\"\")","v":""},{"$f":"IF(AND('resultats a exporter'!$CW$4=$I$2:$I$1100,'resultats a exporter'!$CX$4=$C$2:$C$1100,'resultats a exporter'!$CY$4=$E$2:$E$1100,'resultats a exporter'!$CZ$4=$G$2:$G$1100),'resultats a exporter'!$DB$4,\"\")","v":""},null,null,null,null,{"$f":"IF(J323=\"\",\"\",$K323&\" \"&TEXT($J323,\"jj-mmm-aaaa\")&\", \"&$L323)","v":""},null,null,{"$f":"IF(AND(N323<>\"\",O323<>\"\"),T323,\"\")","v":""},{"$f":"IF(AND(N323<>\"\",O323<>\"\"),E323&\" - \"&G323,\"\")","v":""},null,null,null,null,null,null,null,null,null,null,null,null,null,null,null,null,null,null,{"$f":"IF(AND(N323<>\"\",O323<>\"\"),E323,\"\")","v":""},{"$f":"IF(AND(N323<>\"\",O323<>\"\"),G323,\"\")","v":""}]
[null,null,"VETERANSD2STRASBOURG","STRASBOURG","AS Electricité Strasbourg 2",2,"UT AURORA Schilt.-B. 3",3,8,"2025-03-07","vendredi","20h00",{"$f":"I$1&\" \"&I324","v":"Journée 8"},{"$f":"IF(AND('resultats a exporter'!$CW$4=$I$2:$I$1100,'resultats a exporter'!$CX$4=$C$2:$C$1100,'resultats a exporter'!$CY$4=$E$2:$E$1100,'resultats a exporter'!$CZ$4=$G$2:$G$1100),'resultats a exporter'!$DA$4,\"\")","v":""},{"$f":"IF(AND('resultats a exporter'!$CW$4=$I$2:$I$1100,'resultats a exporter'!$CX$4=$C$2:$C$1100,'resultats a exporter'!$CY$4=$E$2:$E$1100,'resultats a exporter'!$CZ$4=$G$2:$G$1100),'resultats a exporter'!$DB$4,\"\")","v":""},null,null,null,null,"vendredi 07-mars-2025, 20h00",null,null,"","",null,null,null,null,null,null,null,null,null,null,null,null,null,null,null,null,null,null,"",""]
[null,null,"VETERANSD2STRASBOURG","STRASBOURG","Amitié Lingolsheim 4",4,"Amitié Lingolsheim 5",5,8,"2025-03-07","vendredi","20h00","Journée 8",{"$f":"IF(AND('resultats a exporter'!$CW$4=$I$2:$I$1100,'resultats a exporter'!$CX$4=$C$2:$C$1100,'resultats a exporter'!$CY$4=$E$2:$E$1100,'resultats a exporter'!$CZ$4=$G$2:$G$1100),'resultats a exporter'!$DA$4,\"\")","v":""},{"$f":"IF(AND('resultats a exporter'!$CW$4=$I$2:$I$1100,'resultats a exporter'!$CX$4=$C$2:$C$1100,'resultats a exporter'!$CY$4=$E$2:$E$1100,'resultats a exporter'!$CZ$4=$G$2:$G$1100),'resultats a exporter'!$DB$4,\"\")","v":""},null,null,null,null,"vendredi 07-mars-2025, 20h00",null,null,"","",null,null,null,null,null,null,null,null,null,null,null,null,null,null,null,null,null,null,"",""]
[null,null,"VETERANSD2STRASBOURG","STRASBOURG","AS Electricité Strasbourg 2",2,"Amitié Lingolsheim 3",3,9,"2025-03-28","vendredi","19h00","Journée 9",{"$f":"IF(AND('resultats a exporter'!$CW$4=$I$2:$I$1100,'resultats a exporter'!$CX$4=$C$2:$C$1100,'resultats a exporter'!$CY$4=$E$2:$E$1100,'resultats a exporter'!$CZ$4=$G$2:$G$1100),'resultats a exporter'!$DA$4,\"\")","v":""},{"$f":"IF(AND('resultats a exporter'!$CW$4=$I$2:$I$1100,'resultats a exporter'!$CX$4=$C$2:$C$1100,'resultats a exporter'!$CY$4=$E$2:$E$1100,'resultats a exporter'!$CZ$4=$G$2:$G$1100),'resultats a exporter'!$DB$4,\"\")","v":""},null,null,null,null,"vendredi 28-mars-2025, 19h00",null,null,"","",null,null,null,null,null,null,null,null,null,null,null,null,null,null,null,null,null,null,"",""]
[null,null,"VETERANSD2STRASBOURG","STRASBOURG",null,null,null,null,null,null,"",null,"Journée ",{"$f":"IF(AND('resultats a exporter'!$CW$4=$I$2:$I$1100,'resultats a exporter'!$CX$4=$C$2:$C$1100,'resultats a exporter'!$CY$4=$E$2:$E$1100,'resultats a exporter'!$CZ$4=$G$2:$G$1100),'resultats a exporter'!$DA$4,\"\")","v":""},{"$f":"IF(AND('resultats a exporter'!$CW$4=$I$2:$I$1100,'resultats a exporter'!$CX$4=$C$2:$C$1100,'resultats a exporter'!$CY$4=$E$2:$E$1100,'resultats a exporter'!$CZ$4=$G$2:$G$1100),'resultats a exporter'!$DB$4,\"\")","v":""},null,null,null,null,"",null,null,"","",null,null,null,null,null,null,null,null,null,null,null,null,null,null,null,null,null,null,"",""]
[null,null,"VETERANSD2STRASBOURG","STRASBOURG","Amitié Lingolsheim 5",5,"UT AURORA Schilt.-B. 2",2,9,"2025-03-28","vendredi","20h00","Journée 9",{"$f":"IF(AND('resultats a exporter'!$CW$4=$I$2:$I$1100,'resultats a exporter'!$CX$4=$C$2:$C$1100,'resultats a exporter'!$CY$4=$E$2:$E$1100,'resultats a exporter'!$CZ$4=$G$2:$G$1100),'resultats a exporter'!$DA$4,\"\")","v":""},{"$f":"IF(AND('resultats a exporter'!$CW$4=$I$2:$I$1100,'resultats a exporter'!$CX$4=$C$2:$C$1100,'resultats a exporter'!$CY$4=$E$2:$E$1100,'resultats a exporter'!$CZ$4=$G$2:$G$1100),'resultats a exporter'!$DB$4,\"\")","v":""},null,null,null,null,"vendredi 28-mars-2025, 20h00",null,null,"","",null,null,null,null,null,null,null,null,null,null,null,null,null,null,null,null,null,null,"",""]
[null,null,"VETERANSD2STRASBOURG","STRASBOURG","Amitié Lingolsheim 4",4,"UT AURORA Schilt.-B. 3",3,9,"2025-03-28","vendredi","20h00","Journée 9",{"$f":"IF(AND('resultats a exporter'!$CW$4=$I$2:$I$1100,'resultats a exporter'!$CX$4=$C$2:$C$1100,'resultats a exporter'!$CY$4=$E$2:$E$1100,'resultats a exporter'!$CZ$4=$G$2:$G$1100),'resultats a exporter'!$DA$4,\"\")","v":""},{"$f":"IF(AND('resultats a exporter'!$CW$4=$I$2:$I$1100,'resultats a exporter'!$CX$4=$C$2:$C$1100,'resultats a exporter'!$CY$4=$E$2:$E$1100,'resultats a exporter'!$CZ$4=$G$2:$G$1100),'resultats a exporter'!$DB$4,\"\")","v":""},null,null,null,null,"vendredi 28-mars-2025, 20h00",null,null,"","",null,null,null,null,null,null,null,null,null,null,null,null,null,null,null,null,null,null,"",""]
[null,null,"VETERANSD2STRASBOURG","STRASBOURG","UT AURORA Schilt.-B. 3",3,"Amitié Lingolsheim 3",3,10,"2025-04-17","jeudi","20h00","Journée 10",{"$f":"IF(AND('resultats a exporter'!$CW$4=$I$2:$I$1100,'resultats a exporter'!$CX$4=$C$2:$C$1100,'resultats a exporter'!$CY$4=$E$2:$E$1100,'resultats a exporter'!$CZ$4=$G$2:$G$1100),'resultats a exporter'!$DA$4,\"\")","v":""},{"$f":"IF(AND('resultats a exporter'!$CW$4=$I$2:$I$1100,'resultats a exporter'!$CX$4=$C$2:$C$1100,'resultats a exporter'!$CY$4=$E$2:$E$1100,'resultats a exporter'!$CZ$4=$G$2:$G$1100),'resultats a exporter'!$DB$4,\"\")","v":""},null,null,null,null,"jeudi 17-avr-2025, 20h00",null,null,"","",null,null,null,null,null,null,null,null,null,null,null,null,null,null,null,null,null,null,"",""]
[null,null,"VETERANSD2STRASBOURG","STRASBOURG",null,null,null,null,null,null,"",null,"Journée ",{"$f":"IF(AND('resultats a exporter'!$CW$4=$I$2:$I$1100,'resultats a exporter'!$CX$4=$C$2:$C$1100,'resultats a exporter'!$CY$4=$E$2:$E$1100,'resultats a exporter'!$CZ$4=$G$2:$G$1100),'resultats a exporter'!$DA$4,\"\")","v":""},{"$f":"IF(AND('resultats a exporter'!$CW$4=$I$2:$I$1100,'resultats a exporter'!$CX$4=$C$2:$C$1100,'resultats a exporter'!$CY$4=$E$2:$E$1100,'resultats a exporter'!$CZ$4=$G$2:$G$1100),'resultats a exporter'!$DB$4,\"\")","v":""},null,null,null,null,"",null,null,"","",null,null,null,null,null,null,null,null,null,null,null,null,null,null,null,null,null,null,"",""]
[null,null,"VETERANSD2STRASBOURG","STRASBOURG","Amitié Lingolsheim 5",5,"AS Electricité Strasbourg 2",2,10,"2025-05-02","vendredi","20h00","Journée 10",{"$f":"IF(AND('resultats a exporter'!$CW$4=$I$2:$I$1100,'resultats a exporter'!$CX$4=$C$2:$C$1100,'resultats a exporter'!$CY$4=$E$2:$E$1100,'resultats a exporter'!$CZ$4=$G$2:$G$1100),'resultats a exporter'!$DA$4,\"\")","v":""},{"$f":"IF(AND('resultats a exporter'!$CW$4=$I$2:$I$1100,'resultats a exporter'!$CX$4=$C$2:$C$1100,'resultats a exporter'!$CY$4=$E$2:$E$1100,'resultats a exporter'!$CZ$4=$G$2:$G$1100),'resultats a exporter'!$DB$4,\"\")","v":""},null,null,null,null,"vendredi 02-mai-2025, 20h00",null,null,"","",null,null,null,null,null,null,null,null,null,null,null,null,null,null,null,null,null,null,"",""]
[null,null,"VETERANSD2STRASBOURG","STRASBOURG","UT AURORA Schilt.-B. 2",2,"Amitié Lingolsheim 4",4,10,"2025-04-17","jeudi","20h00","Journée 10",{"$f":"IF(AND('resultats a exporter'!$CW$4=$I$2:$I$1100,'resultats a exporter'!$CX$4=$C$2:$C$1100,'resultats a exporter'!$CY$4=$E$2:$E$1100,'resultats a exporter'!$CZ$4=$G$2:$G$1100),'resultats a exporter'!$DA$4,\"\")","v":""},{"$f":"IF(AND('resultats a exporter'!$CW$4=$I$2:$I$1100,'resultats a exporter'!$CX$4=$C$2:$C$1100,'resultats a exporter'!$CY$4=$E$2:$E$1100,'resultats a exporter'!$CZ$4=$G$2:$G$1100),'resultats a exporter'!$DB$4,\"\")","v":""},null,null,null,null,"jeudi 17-avr-2025, 20h00",null,null,"","",null,null,null,null,null,null,null,null,null,null,null,null,null,null,null,null,null,null,"",""]
[null,null,"VETERANSD2STRASBOURG","STRASBOURG",null,null,null,null,null,null,"",null,"Journée ",{"$f":"IF(AND('resultats a exporter'!$CW$4=$I$2:$I$1100,'resultats a exporter'!$CX$4=$C$2:$C$1100,'resultats a exporter'!$CY$4=$E$2:$E$1100,'resultats a exporter'!$CZ$4=$G$2:$G$1100),'resultats a exporter'!$DA$4,\"\")","v":""},{"$f":"IF(AND('resultats a exporter'!$CW$4=$I$2:$I$1100,'resultats a exporter'!$CX$4=$C$2:$C$1100,'resultats a exporter'!$CY$4=$E$2:$E$1100,'resultats a exporter'!$CZ$4=$G$2:$G$1100),'resultats a exporter'!$DB$4,\"\")","v":""},null,null,null,null,"",null,null,"","",null,null,null,null,null,null,null,null,null,null,null,null,null,null,null,null,null,null,"",""]
[null,null,"VETERANSD2STRASBOURG","STRASBOURG",null,null,null,null,null,null,"",null,"Journée ",{"$f":"IF(AND('resultats a exporter'!$CW$4=$I$2:$I$1100,'resultats a exporter'!$CX$4=$C$2:$C$1100,'resultats a exporter'!$CY$4=$E$2:$E$1100,'resultats a exporter'!$CZ$4=$G$2:$G$1100),'resultats a exporter'!$DA$4,\"\")","v":""},{"$f":"IF(AND('resultats a exporter'!$CW$4=$I$2:$I$1100,'resultats a exporter'!$CX$4=$C$2:$C$1100,'resultats a exporter'!$CY$4=$E$2:$E$1100,'resultats a exporter'!$CZ$4=$G$2:$G$1100),'resultats a exporter'!$DB$4,\"\")","v":""},null,null,null,null,"",null,null,"","",null,null,null,null,null,null,null,null,null,null,null,null,null,null,null,null,null,null,"",""]
[null,null,"VETERANSD2STRASBOURG","STRASBOURG",null,null,null,null,null,null,"",null,"Journée ",{"$f":"IF(AND('resultats a exporter'!$CW$4=$I$2:$I$1100,'resultats a exporter'!$CX$4=$C$2:$C$1100,'resultats a exporter'!$CY$4=$E$2:$E$1100,'resultats a exporter'!$CZ$4=$G$2:$G$1100),'resultats a exporter'!$DA$4,\"\")","v":""},{"$f":"IF(AND('resultats a exporter'!$CW$4=$I$2:$I$1100,'resultats a exporter'!$CX$4=$C$2:$C$1100,'resultats a exporter'!$CY$4=$E$2:$E$1100,'resultats a exporter'!$CZ$4=$G$2:$G$1100),'resultats a exporter'!$DB$4,\"\")","v":""},null,null,null,null,"",null,null,"","",null,null,null,null,null,null,null,null,null,null,null,null,null,null,null,null,null,null,"",""]
[null,null,"VETERANSD2STRASBOURG","STRASBOURG",null,null,null,null,null,null,"",null,"Journée ",{"$f":"IF(AND('resultats a exporter'!$CW$4=$I$2:$I$1100,'resultats a exporter'!$CX$4=$C$2:$C$1100,'resultats a exporter'!$CY$4=$E$2:$E$1100,'resultats a exporter'!$CZ$4=$G$2:$G$1100),'resultats a exporter'!$DA$4,\"\")","v":""},{"$f":"IF(AND('resultats a exporter'!$CW$4=$I$2:$I$1100,'resultats a exporter'!$CX$4=$C$2:$C$1100,'resultats a exporter'!$CY$4=$E$2:$E$1100,'resultats a exporter'!$CZ$4=$G$2:$G$1100),'resultats a exporter'!$DB$4,\"\")","v":""},null,null,null,null,"",null,null,"","",null,null,null,null,null,null,null,null,null,null,null,null,null,null,null,null,null,null,"",""]
[null,null,"VETERANSD2STRASBOURG","STRASBOURG",null,null,null,null,null,null,"",null,"Journée ",{"$f":"IF(AND('resultats a exporter'!$CW$4=$I$2:$I$1100,'resultats a exporter'!$CX$4=$C$2:$C$1100,'resultats a exporter'!$CY$4=$E$2:$E$1100,'resultats a exporter'!$CZ$4=$G$2:$G$1100),'resultats a exporter'!$DA$4,\"\")","v":""},{"$f":"IF(AND('resultats a exporter'!$CW$4=$I$2:$I$1100,'resultats a exporter'!$CX$4=$C$2:$C$1100,'resultats a exporter'!$CY$4=$E$2:$E$1100,'resultats a exporter'!$CZ$4=$G$2:$G$1100),'resultats a exporter'!$DB$4,\"\")","v":""},null,null,null,null,"",null,null,"","",null,null,null,null,null,null,null,null,null,null,null,null,null,null,null,null,null,null,"",""]
[null,null,"VETERANSD2STRASBOURG","STRASBOURG",null,null,null,null,null,null,"",null,"Journée ",{"$f":"IF(AND('resultats a exporter'!$CW$4=$I$2:$I$1100,'resultats a exporter'!$CX$4=$C$2:$C$1100,'resultats a exporter'!$CY$4=$E$2:$E$1100,'resultats a exporter'!$CZ$4=$G$2:$G$1100),'resultats a exporter'!$DA$4,\"\")","v":""},{"$f":"IF(AND('resultats a exporter'!$CW$4=$I$2:$I$1100,'resultats a exporter'!$CX$4=$C$2:$C$1100,'resultats a exporter'!$CY$4=$E$2:$E$1100,'resultats a exporter'!$CZ$4=$G$2:$G$1100),'resultats a exporter'!$DB$4,\"\")","v":""},null,null,null,null,"",null,null,"","",null,null,null,null,null,null,null,null,null,null,null,null,null,null,null,null,null,null,"",""]
[null,null,"VETERANSD2STRASBOURG","STRASBOURG",null,null,null,null,null,null,"",null,"Journée ",{"$f":"IF(AND('resultats a exporter'!$CW$4=$I$2:$I$1100,'resultats a exporter'!$CX$4=$C$2:$C$1100,'resultats a exporter'!$CY$4=$E$2:$E$1100,'resultats a exporter'!$CZ$4=$G$2:$G$1100),'resultats a exporter'!$DA$4,\"\")","v":""},{"$f":"IF(AND('resultats a exporter'!$CW$4=$I$2:$I$1100,'resultats a exporter'!$CX$4=$C$2:$C$1100,'resultats a exporter'!$CY$4=$E$2:$E$1100,'resultats a exporter'!$CZ$4=$G$2:$G$1100),'resultats a exporter'!$DB$4,\"\")","v":""},null,null,null,null,"",null,null,"","",null,null,null,null,null,null,null,null,null,null,null,null,null,null,null,null,null,null,"",""]
[null,null,"VETERANSD2STRASBOURG","STRASBOURG",null,null,null,null,null,null,"",null,"Journée ",{"$f":"IF(AND('resultats a exporter'!$CW$4=$I$2:$I$1100,'resultats a exporter'!$CX$4=$C$2:$C$1100,'resultats a exporter'!$CY$4=$E$2:$E$1100,'resultats a exporter'!$CZ$4=$G$2:$G$1100),'resultats a exporter'!$DA$4,\"\")","v":""},{"$f":"IF(AND('resultats a exporter'!$CW$4=$I$2:$I$1100,'resultats a exporter'!$CX$4=$C$2:$C$1100,'resultats a exporter'!$CY$4=$E$2:$E$1100,'resultats a exporter'!$CZ$4=$G$2:$G$1100),'resultats a exporter'!$DB$4,\"\")","v":""},null,null,null,null,"",null,null,"","",null,null,null,null,null,null,null,null,null,null,null,null,null,null,null,null,null,null,"",""]
[null,null,"VETERANSD1NORD","NORD","CTT 77 Val de Moder 1",1,"CTT 77 Val de Moder 2",2,1,"2024-10-03","jeudi","19h30","Journée 1",{"$f":"IF(AND('resultats a exporter'!$CW$4=$I$2:$I$1100,'resultats a exporter'!$CX$4=$C$2:$C$1100,'resultats a exporter'!$CY$4=$E$2:$E$1100,'resultats a exporter'!$CZ$4=$G$2:$G$1100),'resultats a exporter'!$DA$4,\"\")","v":""},{"$f":"IF(AND('resultats a exporter'!$CW$4=$I$2:$I$1100,'resultats a exporter'!$CX$4=$C$2:$C$1100,'resultats a exporter'!$CY$4=$E$2:$E$1100,'resultats a exporter'!$CZ$4=$G$2:$G$1100),'resultats a exporter'!$DB$4,\"\")","v":""},"VETERANSD1NORD",null,null,null,"jeudi 03-oct-2024, 19h30",null,null,"","",null,null,null,null,null,null,null,null,null,null,null,null,null,null,null,null,null,null,"",""]
[null,null,"VETERANSD1NORD","NORD","CP Zutzendorf 1",1,"ASP Gottenhouse 1",1,1,"2024-10-02","mercredi","20h00","Journée 1",{"$f":"IF(AND('resultats a exporter'!$CW$4=$I$2:$I$1100,'resultats a exporter'!$CX$4=$C$2:$C$1100,'resultats a exporter'!$CY$4=$E$2:$E$1100,'resultats a exporter'!$CZ$4=$G$2:$G$1100),'resultats a exporter'!$DA$4,\"\")","v":""},{"$f":"IF(AND('resultats a exporter'!$CW$4=$I$2:$I$1100,'resultats a exporter'!$CX$4=$C$2:$C$1100,'resultats a exporter'!$CY$4=$E$2:$E$1100,'resultats a exporter'!$CZ$4=$G$2:$G$1100),'resultats a exporter'!$DB$4,\"\")","v":""},null,"Liberté Dettwiller 1",null,null,"mercredi 02-oct-2024, 20h00",null,null,"","",null,null,null,null,null,null,null,null,null,null,null,null,null,null,null,null,null,null,"",""]
[null,null,"VETERANSD1NORD","NORD","Hanau TT 1",1,"CLTT Menchhoffen 1",1,1,"2024-10-01","mardi","20h00","Journée 1",{"$f":"IF(AND('resultats a exporter'!$CW$4=$I$2:$I$1100,'resultats a exporter'!$CX$4=$C$2:$C$1100,'resultats a exporter'!$CY$4=$E$2:$E$1100,'resultats a exporter'!$CZ$4=$G$2:$G$1100),'resultats a exporter'!$DA$4,\"\")","v":""},{"$f":"IF(AND('resultats a exporter'!$CW$4=$I$2:$I$1100,'resultats a exporter'!$CX$4=$C$2:$C$1100,'resultats a exporter'!$CY$4=$E$2:$E$1100,'resultats a exporter'!$CZ$4=$G$2:$G$1100),'resultats a exporter'!$DB$4,\"\")","v":""},null,"CP Zutzendorf 1",null,null,"mardi 01-oct-2024, 20h00",null,null,"","",null,null,null,null,null,null,null,null,null,null,null,null,null,null,null,null,null,null,"",""]
[null,null,"VETERANSD1NORD","NORD","CS Tricolore Saverne 1",1,"Liberté Dettwiller 1",1,1,"2024-10-04","vendredi","20h30","Journée 1",{"$f":"IF(AND('resultats a exporter'!$CW$4=$I$2:$I$1100,'resultats a exporter'!$CX$4=$C$2:$C$1100,'resultats a exporter'!$CY$4=$E$2:$E$1100,'resultats a exporter'!$CZ$4=$G$2:$G$1100),'resultats a exporter'!$DA$4,\"\")","v":""},{"$f":"IF(AND('resultats a exporter'!$CW$4=$I$2:$I$1100,'resultats a exporter'!$CX$4=$C$2:$C$1100,'resultats a exporter'!$CY$4=$E$2:$E$1100,'resultats a exporter'!$CZ$4=$G$2:$G$1100),'resultats a exporter'!$DB$4,\"\")","v":""},null,"Hanau TT 1",null,null,"vendredi 04-oct-2024, 20h30",null,null,"","",null,null,null,null,null,null,null,null,null,null,null,null,null,null,null,null,null,null,"",""]
[null,null,"VETERANSD1NORD","NORD","ASP Gottenhouse 1",1,"CTT 77 Val de Moder 1",1,2,"2024-10-15","mardi","20h00","Journée 2",{"$f":"IF(AND('resultats a exporter'!$CW$4=$I$2:$I$1100,'resultats a exporter'!$CX$4=$C$2:$C$1100,'resultats a exporter'!$CY$4=$E$2:$E$1100,'resultats a exporter'!$CZ$4=$G$2:$G$1100),'resultats a exporter'!$DA$4,\"\")","v":""},{"$f":"IF(AND('resultats a exporter'!$CW$4=$I$2:$I$1100,'resultats a exporter'!$CX$4=$C$2:$C$1100,'resultats a exporter'!$CY$4=$E$2:$E$1100,'resultats a exporter'!$CZ$4=$G$2:$G$1100),'resultats a exporter'!$DB$4,\"\")","v":""},null,"CLTT Menchhoffen 1",null,null,"mardi 15-oct-2024, 20h00",null,null,"","",null,null,null,null,null,null,null,null,null,null,null,null,null,null,null,null,null,null,"",""]
[null,null,"VETERANSD1NORD","NORD","CLTT Menchhoffen 1",1,"CP Zutzendorf 1",1,2,"2024-10-17","jeudi","20h00","Journée 2",{"$f":"IF(AND('resultats a exporter'!$CW$4=$I$2:$I$1100,'resultats a exporter'!$CX$4=$C$2:$C$1100,'resultats a exporter'!$CY$4=$E$2:$E$1100,'resultats a exporter'!$CZ$4=$G$2:$G$1100),'resultats a exporter'!$DA$4,\"\")","v":""},{"$f":"IF(AND('resultats a exporter'!$CW$4=$I$2:$I$1100,'resultats a exporter'!$CX$4=$C$2:$C$1100,'resultats a exporter'!$CY$4=$E$2:$E$1100,'resultats a exporter'!$CZ$4=$G$2:$G$1100),'resultats a exporter'!$DB$4,\"\")","v":""},null,"CS Tricolore Saverne 1",null,null,"jeudi 17-oct-2024, 20h00",null,null,"","",null,null,null,null,null,null,null,null,null,null,null,null,null,null,null,null,null,null,"",""]
[null,null,"VETERANSD1NORD","NORD","Liberté Dettwiller 1",1,"Hanau TT 1",1,2,"2024-10-16","mercredi","20h00","Journée 2",{"$f":"IF(AND('resultats a exporter'!$CW$4=$I$2:$I$1100,'resultats a exporter'!$CX$4=$C$2:$C$1100,'resultats a exporter'!$CY$4=$E$2:$E$1100,'resultats a exporter'!$CZ$4=$G$2:$G$1100),'resultats a exporter'!$DA$4,\"\")","v":""},{"$f":"IF(AND('resultats a exporter'!$CW$4=$I$2:$I$1100,'resultats a exporter'!$CX$4=$C$2:$C$1100,'resultats a exporter'!$CY$4=$E$2:$E$1100,'resultats a exporter'!$CZ$4=$G$2:$G$1100),'resultats a exporter'!$DB$4,\"\")","v":""},null,"CTT 77 Val de Moder 1",null,null,"mercredi 16-oct-2024, 20h00",null,null,"","",null,null,null,null,null,null,null,null,null,null,null,null,null,null,null,null,null,null,"",""]
[null,null,"VETERANSD1NORD","NORD","CTT 77 Val de Moder 2",2,"CS Tricolore Saverne 1",1,2,"2024-10-17","jeudi","19h30","Journée 2",{"$f":"IF(AND('resultats a exporter'!$CW$4=$I$2:$I$1100,'resultats a exporter'!$CX$4=$C$2:$C$1100,'resultats a exporter'!$CY$4=$E$2:$E$1100,'resultats a exporter'!$CZ$4=$G$2:$G$1100),'resultats a exporter'!$DA$4,\"\")","v":""},{"$f":"IF(AND('resultats a exporter'!$CW$4=$I$2:$I$1100,'resultats a exporter'!$CX$4=$C$2:$C$1100,'resultats a exporter'!$CY$4=$E$2:$E$1100,'resultats a exporter'!$CZ$4=$G$2:$G$1100),'resultats a exporter'!$DB$4,\"\")","v":""},null,"CTT 77 Val de Moder 2",null,null,"jeudi 17-oct-2024, 19h30",null,null,"","",null,null,null,null,null,null,null,null,null,null,null,null,null,null,null,null,null,null,"",""]
[null,null,"VETERANSD1NORD","NORD","CTT 77 Val de Moder 1",1,"CLTT Menchhoffen 1",1,3,"2024-10-31","jeudi","19h30","Journée 3",{"$f":"IF(AND('resultats a exporter'!$CW$4=$I$2:$I$1100,'resultats a exporter'!$CX$4=$C$2:$C$1100,'resultats a exporter'!$CY$4=$E$2:$E$1100,'resultats a exporter'!$CZ$4=$G$2:$G$1100),'resultats a exporter'!$DA$4,\"\")","v":""},{"$f":"IF(AND('resultats a exporter'!$CW$4=$I$2:$I$1100,'resultats a exporter'!$CX$4=$C$2:$C$1100,'resultats a exporter'!$CY$4=$E$2:$E$1100,'resultats a exporter'!$CZ$4=$G$2:$G$1100),'resultats a exporter'!$DB$4,\"\")","v":""},null,"ASP Gottenhouse 1",null,null,"jeudi 31-oct-2024, 19h30",null,null,"","",null,null,null,null,null,null,null,null,null,null,null,null,null,null,null,null,null,null,"",""]
[null,null,"VETERANSD1NORD","NORD","Liberté Dettwiller 1",1,"CP Zutzendorf 1",1,3,"2024-10-30","mercredi","20h00","Journée 3",{"$f":"IF(AND('resultats a exporter'!$CW$4=$I$2:$I$1100,'resultats a exporter'!$CX$4=$C$2:$C$1100,'resultats a exporter'!$CY$4=$E$2:$E$1100,'resultats a exporter'!$CZ$4=$G$2:$G$1100),'resultats a exporter'!$DA$4,\"\")","v":""},{"$f":"IF(AND('resultats a exporter'!$CW$4=$I$2:$I$1100,'resultats a exporter'!$CX$4=$C$2:$C$1100,'resultats a exporter'!$CY$4=$E$2:$E$1100,'resultats a exporter'!$CZ$4=$G$2:$G$1100),'resultats a exporter'!$DB$4,\"\")","v":""},null,null,null,null,"mercredi 30-oct-2024, 20h00",null,null,"","",null,null,null,null,null,null,null,null,null,null,null,null,null,null,null,null,null,null,"",""]
[null,null,"VETERANSD1NORD","NORD","Hanau TT 1",1,"CS Tricolore Saverne 1",1,3,"2024-10-29","mardi","20h00","Journée 3",{"$f":"IF(AND('resultats a exporter'!$CW$4=$I$2:$I$1100,'resultats a exporter'!$CX$4=$C$2:$C$1100,'resultats a exporter'!$CY$4=$E$2:$E$1100,'resultats a exporter'!$CZ$4=$G$2:$G$1100),'resultats a exporter'!$DA$4,\"\")","v":""},{"$f":"IF(AND('resultats a exporter'!$CW$4=$I$2:$I$1100,'resultats a exporter'!$CX$4=$C$2:$C$1100,'resultats a exporter'!$CY$4=$E$2:$E$1100,'resultats a exporter'!$CZ$4=$G$2:$G$1100),'resultats a exporter'!$DB$4,\"\")","v":""},null,null,null,null,"mardi 29-oct-2024, 20h00",null,null,"","",null,null,null,null,null,null,null,null,null,null,null,null,null,null,null,null,null,null,"",""]
[null,null,"VETERANSD1NORD","NORD","CTT 77 Val de Moder 2",2,"ASP Gottenhouse 1",1,3,"2024-10-31","jeudi","19h30","Journée 3",{"$f":"IF(AND('resultats a exporter'!$CW$4=$I$2:$I$1100,'resultats a exporter'!$CX$4=$C$2:$C$1100,'resultats a exporter'!$CY$4=$E$2:$E$1100,'resultats a exporter'!$CZ$4=$G$2:$G$1100),'resultats a exporter'!$DA$4,\"\")","v":""},{"$f":"IF(AND('resultats a exporter'!$CW$4=$I$2:$I$1100,'resultats a exporter'!$CX$4=$C$2:$C$1100,'resultats a exporter'!$CY$4=$E$2:$E$1100,'resultats a exporter'!$CZ$4=$G$2:$G$1100),'resultats a exporter'!$DB$4,\"\")","v":""},null,null,null,null,"jeudi 31-oct-2024, 19h30",null,null,"","",null,null,null,null,null,null,null,null,null,null,null,null,null,null,null,null,null,null,"",""]
[null,null,"VETERANSD1NORD","NORD","Liberté Dettwiller 1",1,"CTT 77 Val de Moder 1",1,4,"2024-11-13","mercredi","20h00","Journée 4",{"$f":"IF(AND('resultats a exporter'!$CW$4=$I$2:$I$1100,'resultats a exporter'!$CX$4=$C$2:$C$1100,'resultats a exporter'!$CY$4=$E$2:$E$1100,'resultats a exporter'!$CZ$4=$G$2:$G$1100),'resultats a exporter'!$DA$4,\"\")","v":""},{"$f":"IF(AND('resultats a exporter'!$CW$4=$I$2:$I$1100,'resultats a exporter'!$CX$4=$C$2:$C$1100,'resultats a exporter'!$CY$4=$E$2:$E$1100,'resultats a exporter'!$CZ$4=$G$2:$G$1100),'resultats a exporter'!$DB$4,\"\")","v":""},null,null,null,null,"mercredi 13-nov-2024, 20h00",null,null,"","",null,null,null,null,null,null,null,null,null,null,null,null,null,null,null,null,null,null,"",""]
[null,null,"VETERANSD1NORD","NORD","CS Tricolore Saverne 1",1,"CP Zutzendorf 1",1,4,"2024-11-15","vendredi","20h30","Journée 4",{"$f":"IF(AND('resultats a exporter'!$CW$4=$I$2:$I$1100,'resultats a exporter'!$CX$4=$C$2:$C$1100,'resultats a exporter'!$CY$4=$E$2:$E$1100,'resultats a exporter'!$CZ$4=$G$2:$G$1100),'resultats a exporter'!$DA$4,\"\")","v":""},{"$f":"IF(AND('resultats a exporter'!$CW$4=$I$2:$I$1100,'resultats a exporter'!$CX$4=$C$2:$C$1100,'resultats a exporter'!$CY$4=$E$2:$E$1100,'resultats a exporter'!$CZ$4=$G$2:$G$1100),'resultats a exporter'!$DB$4,\"\")","v":""},null,null,null,null,"vendredi 15-nov-2024, 20h30",null,null,"","",null,null,null,null,null,null,null,null,null,null,null,null,null,null,null,null,null,null,"",""]
[null,null,"VETERANSD1NORD","NORD","Hanau TT 1",1,"CTT 77 Val de Moder 2",2,4,"2024-11-12","mardi","20h00","Journée 4",{"$f":"IF(AND('resultats a exporter'!$CW$4=$I$2:$I$1100,'resultats a exporter'!$CX$4=$C$2:$C$1100,'resultats a exporter'!$CY$4=$E$2:$E$1100,'resultats a exporter'!$CZ$4=$G$2:$G$1100),'resultats a exporter'!$DA$4,\"\")","v":""},{"$f":"IF(AND('resultats a exporter'!$CW$4=$I$2:$I$1100,'resultats a exporter'!$CX$4=$C$2:$C$1100,'resultats a exporter'!$CY$4=$E$2:$E$1100,'resultats a exporter'!$CZ$4=$G$2:$G$1100),'resultats a exporter'!$DB$4,\"\")","v":""},null,null,null,null,"mardi 12-nov-2024, 20h00",null,null,"","",null,null,null,null,null,null,null,null,null,null,null,null,null,null,null,null,null,null,"",""]
[null,null,"VETERANSD1NORD","NORD","CLTT Menchhoffen 1",1,"ASP Gottenhouse 1",1,4,"2024-11-14","jeudi","20h00","Journée 4",{"$f":"IF(AND('resultats a exporter'!$CW$4=$I$2:$I$1100,'resultats a exporter'!$CX$4=$C$2:$C$1100,'resultats a exporter'!$CY$4=$E$2:$E$1100,'resultats a exporter'!$CZ$4=$G$2:$G$1100),'resultats a exporter'!$DA$4,\"\")","v":""},{"$f":"IF(AND('resultats a exporter'!$CW$4=$I$2:$I$1100,'resultats a exporter'!$CX$4=$C$2:$C$1100,'resultats a exporter'!$CY$4=$E$2:$E$1100,'resultats a exporter'!$CZ$4=$G$2:$G$1100),'resultats a exporter'!$DB$4,\"\")","v":""},null,null,null,null,"jeudi 14-nov-2024, 20h00",null,null,"","",null,null,null,null,null,null,null,null,null,null,null,null,null,null,null,null,null,null,"",""]
[null,null,"VETERANSD1NORD","NORD","CTT 77 Val de Moder 1",1,"CS Tricolore Saverne 1",1,5,"2024-11-28","jeudi","19h30","Journée 5",{"$f":"IF(AND('resultats a exporter'!$CW$4=$I$2:$I$1100,'resultats a exporter'!$CX$4=$C$2:$C$1100,'resultats a exporter'!$CY$4=$E$2:$E$1100,'resultats a exporter'!$CZ$4=$G$2:$G$1100),'resultats a exporter'!$DA$4,\"\")","v":""},{"$f":"IF(AND('resultats a exporter'!$CW$4=$I$2:$I$1100,'resultats a exporter'!$CX$4=$C$2:$C$1100,'resultats a exporter'!$CY$4=$E$2:$E$1100,'resultats a exporter'!$CZ$4=$G$2:$G$1100),'resultats a exporter'!$DB$4,\"\")","v":""},null,null,null,null,"jeudi 28-nov-2024, 19h30",null,null,"","",null,null,null,null,null,null,null,null,null,null,null,null,null,null,null,null,null,null,"",""]
[null,null,"VETERANSD1NORD","NORD","CP Zutzendorf 1",1,"Hanau TT 1",1,5,"2024-11-27","mercredi","20h00","Journée 5",{"$f":"IF(AND('resultats a exporter'!$CW$4=$I$2:$I$1100,'resultats a exporter'!$CX$4=$C$2:$C$1100,'resultats a exporter'!$CY$4=$E$2:$E$1100,'resultats a exporter'!$CZ$4=$G$2:$G$1100),'resultats a exporter'!$DA$4,\"\")","v":""},{"$f":"IF(AND('resultats a exporter'!$CW$4=$I$2:$I$1100,'resultats a exporter'!$CX$4=$C$2:$C$1100,'resultats a exporter'!$CY$4=$E$2:$E$1100,'resultats a exporter'!$CZ$4=$G$2:$G$1100),'resultats a exporter'!$DB$4,\"\")","v":""},null,null,null,null,"mercredi 27-nov-2024, 20h00",null,null,"","",null,null,null,null,null,null,null,null,null,null,null,null,null,null,null,null,null,null,"",""]
[null,null,"VETERANSD1NORD","NORD","Liberté Dettwiller 1",1,"ASP Gottenhouse 1",1,5,"2024-11-27","mercredi","20h00","Journée 5",{"$f":"IF(AND('resultats a exporter'!$CW$4=$I$2:$I$1100,'resultats a exporter'!$CX$4=$C$2:$C$1100,'resultats a exporter'!$CY$4=$E$2:$E$1100,'resultats a exporter'!$CZ$4=$G$2:$G$1100),'resultats a exporter'!$DA$4,\"\")","v":""},{"$f":"IF(AND('resultats a exporter'!$CW$4=$I$2:$I$1100,'resultats a exporter'!$CX$4=$C$2:$C$1100,'resultats a exporter'!$CY$4=$E$2:$E$1100,'resultats a exporter'!$CZ$4=$G$2:$G$1100),'resultats a exporter'!$DB$4,\"\")","v":""},null,null,null,null,"mercredi 27-nov-2024, 20h00",null,null,"","",null,null,null,null,null,null,null,null,null,null,null,null,null,null,null,null,null,null,"",""]
[null,null,"VETERANSD1NORD","NORD","CTT 77 Val de Moder 2",2,"CLTT Menchhoffen 1",1,5,"2024-11-28","jeudi","19h30","Journée 5",{"$f":"IF(AND('resultats a exporter'!$CW$4=$I$2:$I$1100,'resultats a exporter'!$CX$4=$C$2:$C$1100,'resultats a exporter'!$CY$4=$E$2:$E$1100,'resultats a exporter'!$CZ$4=$G$2:$G$1100),'resultats a exporter'!$DA$4,\"\")","v":""},{"$f":"IF(AND('resultats a exporter'!$CW$4=$I$2:$I$1100,'resultats a exporter'!$CX$4=$C$2:$C$1100,'resultats a exporter'!$CY$4=$E$2:$E$1100,'resultats a exporter'!$CZ$4=$G$2:$G$1100),'resultats a exporter'!$DB$4,\"\")","v":""},null,null,null,null,"jeudi 28-nov-2024, 19h30",null,null,"","",null,null,null,null,null,null,null,null,null,null,null,null,null,null,null,null,null,null,"",""]
[null,null,"VETERANSD1NORD","NORD","Hanau TT 1",1,"CTT 77 Val de Moder 1",1,6,"2024-12-10","mardi","20h00","Journée 6",{"$f":"IF(AND('resultats a exporter'!$CW$4=$I$2:$I$1100,'resultats a exporter'!$CX$4=$C$2:$C$1100,'resultats a exporter'!$CY$4=$E$2:$E$1100,'resultats a exporter'!$CZ$4=$G$2:$G$1100),'resultats a exporter'!$DA$4,\"\")","v":""},{"$f":"IF(AND('resultats a exporter'!$CW$4=$I$2:$I$1100,'resultats a exporter'!$CX$4=$C$2:$C$1100,'resultats a exporter'!$CY$4=$E$2:$E$1100,'resultats a exporter'!$CZ$4=$G$2:$G$1100),'resultats a exporter'!$DB$4,\"\")","v":""},null,null,null,null,"mardi 10-déc-2024, 20h00",null,null,"","",null,null,null,null,null,null,null,null,null,null,null,null,null,null,null,null,null,null,"",""]
[null,null,"VETERANSD1NORD","NORD","CP Zutzendorf 1",1,"CTT 77 Val de Moder 2",2,6,"2024-12-11","mercredi","20h00","Journée 6",{"$f":"IF(AND('resultats a exporter'!$CW$4=$I$2:$I$1100,'resultats a exporter'!$CX$4=$C$2:$C$1100,'resultats a exporter'!$CY$4=$E$2:$E$1100,'resultats a exporter'!$CZ$4=$G$2:$G$1100),'resultats a exporter'!$DA$4,\"\")","v":""},{"$f":"IF(AND('resultats a exporter'!$CW$4=$I$2:$I$1100,'resultats a exporter'!$CX$4=$C$2:$C$1100,'resultats a exporter'!$CY$4=$E$2:$E$1100,'resultats a exporter'!$CZ$4=$G$2:$G$1100),'resultats a exporter'!$DB$4,\"\")","v":""},null,null,null,null,"mercredi 11-déc-2024, 20h00",null,null,"","",null,null,null,null,null,null,null,null,null,null,null,null,null,null,null,null,null,null,"",""]
[null,null,"VETERANSD1NORD","NORD","ASP Gottenhouse 1",1,"CS Tricolore Saverne 1",1,6,"2024-12-10","mardi","20h00","Journée 6",{"$f":"IF(AND('resultats a exporter'!$CW$4=$I$2:$I$1100,'resultats a exporter'!$CX$4=$C$2:$C$1100,'resultats a exporter'!$CY$4=$E$2:$E$1100,'resultats a exporter'!$CZ$4=$G$2:$G$1100),'resultats a exporter'!$DA$4,\"\")","v":""},{"$f":"IF(AND('resultats a exporter'!$CW$4=$I$2:$I$1100,'resultats a exporter'!$CX$4=$C$2:$C$1100,'resultats a exporter'!$CY$4=$E$2:$E$1100,'resultats a exporter'!$CZ$4=$G$2:$G$1100),'resultats a exporter'!$DB$4,\"\")","v":""},null,null,null,null,"mardi 10-déc-2024, 20h00",null,null,"","",null,null,null,null,null,null,null,null,null,null,null,null,null,null,null,null,null,null,"",""]
[null,null,"VETERANSD1NORD","NORD","Liberté Dettwiller 1",1,"CLTT Menchhoffen 1",1,6,"2024-12-11","mercredi","20h00","Journée 6",{"$f":"IF(AND('resultats a exporter'!$CW$4=$I$2:$I$1100,'resultats a exporter'!$CX$4=$C$2:$C$1100,'resultats a exporter'!$CY$4=$E$2:$E$1100,'resultats a exporter'!$CZ$4=$G$2:$G$1100),'resultats a exporter'!$DA$4,\"\")","v":""},{"$f":"IF(AND('resultats a exporter'!$CW$4=$I$2:$I$1100,'resultats a exporter'!$CX$4=$C$2:$C$1100,'resultats a exporter'!$CY$4=$E$2:$E$1100,'resultats a exporter'!$CZ$4=$G$2:$G$1100),'resultats a exporter'!$DB$4,\"\")","v":""},null,null,null,null,"mercredi 11-déc-2024, 20h00",null,null,"","",null,null,null,null,null,null,null,null,null,null,null,null,null,null,null,null,null,null,"",""]
[null,null,"VETERANSD1NORD","NORD","CTT 77 Val de Moder 1",1,"CP Zutzendorf 1",1,7,"2025-01-16","jeudi","19h30","Journée 7",{"$f":"IF(AND('resultats a exporter'!$CW$4=$I$2:$I$1100,'resultats a exporter'!$CX$4=$C$2:$C$1100,'resultats a exporter'!$CY$4=$E$2:$E$1100,'resultats a exporter'!$CZ$4=$G$2:$G$1100),'resultats a exporter'!$DA$4,\"\")","v":""},{"$f":"IF(AND('resultats a exporter'!$CW$4=$I$2:$I$1100,'resultats a exporter'!$CX$4=$C$2:$C$1100,'resultats a exporter'!$CY$4=$E$2:$E$1100,'resultats a exporter'!$CZ$4=$G$2:$G$1100),'resultats a exporter'!$DB$4,\"\")","v":""},null,null,null,null,"jeudi 16-janv-2025, 19h30",null,null,"","",null,null,null,null,null,null,null,null,null,null,null,null,null,null,null,null,null,null,"",""]
[null,null,"VETERANSD1NORD","NORD","ASP Gottenhouse 1",1,"Hanau TT 1",1,7,"2025-01-14","mardi","20h00","Journée 7",{"$f":"IF(AND('resultats a exporter'!$CW$4=$I$2:$I$1100,'resultats a exporter'!$CX$4=$C$2:$C$1100,'resultats a exporter'!$CY$4=$E$2:$E$1100,'resultats a exporter'!$CZ$4=$G$2:$G$1100),'resultats a exporter'!$DA$4,\"\")","v":""},{"$f":"IF(AND('resultats a exporter'!$CW$4=$I$2:$I$1100,'resultats a exporter'!$CX$4=$C$2:$C$1100,'resultats a exporter'!$CY$4=$E$2:$E$1100,'resultats a exporter'!$CZ$4=$G$2:$G$1100),'resultats a exporter'!$DB$4,\"\")","v":""},null,null,null,null,"mardi 14-janv-2025, 20h00",null,null,"","",null,null,null,null,null,null,null,null,null,null,null,null,null,null,null,null,null,null,"",""]
[null,null,"VETERANSD1NORD","NORD","CLTT Menchhoffen 1",1,"CS Tricolore Saverne 1",1,7,"2025-01-16","jeudi","20h00","Journée 7",{"$f":"IF(AND('resultats a exporter'!$CW$4=$I$2:$I$1100,'resultats a exporter'!$CX$4=$C$2:$C$1100,'resultats a exporter'!$CY$4=$E$2:$E$1100,'resultats a exporter'!$CZ$4=$G$2:$G$1100),'resultats a exporter'!$DA$4,\"\")","v":""},{"$f":"IF(AND('resultats a exporter'!$CW$4=$I$2:$I$1100,'resultats a exporter'!$CX$4=$C$2:$C$1100,'resultats a exporter'!$CY$4=$E$2:$E$1100,'resultats a exporter'!$CZ$4=$G$2:$G$1100),'resultats a exporter'!$DB$4,\"\")","v":""},null,null,null,null,"jeudi 16-janv-2025, 20h00",null,null,"","",null,null,null,null,null,null,null,null,null,null,null,null,null,null,null,null,null,null,"",""]
[null,null,"VETERANSD1NORD","NORD","CTT 77 Val de Moder 2",2,"Liberté Dettwiller 1",1,7,"2025-01-16","jeudi","19h30","Journée 7",{"$f":"IF(AND('resultats a exporter'!$CW$4=$I$2:$I$1100,'resultats a exporter'!$CX$4=$C$2:$C$1100,'resultats a exporter'!$CY$4=$E$2:$E$1100,'resultats a exporter'!$CZ$4=$G$2:$G$1100),'resultats a exporter'!$DA$4,\"\")","v":""},{"$f":"IF(AND('resultats a exporter'!$CW$4=$I$2:$I$1100,'resultats a exporter'!$CX$4=$C$2:$C$1100,'resultats a exporter'!$CY$4=$E$2:$E$1100,'resultats a exporter'!$CZ$4=$G$2:$G$1100),'resultats a exporter'!$DB$4,\"\")","v":""},null,null,null,null,"jeudi 16-janv-2025, 19h30",null,null,"","",null,null,null,null,null,null,null,null,null,null,null,null,null,null,null,null,null,null,"",""]
[null,null,"VETERANSD1NORD","NORD","CTT 77 Val de Moder 2",2,"CTT 77 Val de Moder 1",1,8,"2025-01-30","jeudi","19h30","Journée 8",{"$f":"IF(AND('resultats a exporter'!$CW$4=$I$2:$I$1100,'resultats a exporter'!$CX$4=$C$2:$C$1100,'resultats a exporter'!$CY$4=$E$2:$E$1100,'resultats a exporter'!$CZ$4=$G$2:$G$1100),'resultats a exporter'!$DA$4,\"\")","v":""},{"$f":"IF(AND('resultats a exporter'!$CW$4=$I$2:$I$1100,'resultats a exporter'!$CX$4=$C$2:$C$1100,'resultats a exporter'!$CY$4=$E$2:$E$1100,'resultats a exporter'!$CZ$4=$G$2:$G$1100),'resultats a exporter'!$DB$4,\"\")","v":""},null,null,null,null,"jeudi 30-janv-2025, 19h30",null,null,"","",null,null,null,null,null,null,null,null,null,null,null,null,null,null,null,null,null,null,"",""]
[null,null,"VETERANSD1NORD","NORD","ASP Gottenhouse 1",1,"CP Zutzendorf 1",1,8,"2025-01-28","mardi","20h00","Journée 8",{"$f":"IF(AND('resultats a exporter'!$CW$4=$I$2:$I$1100,'resultats a exporter'!$CX$4=$C$2:$C$1100,'resultats a exporter'!$CY$4=$E$2:$E$1100,'resultats a exporter'!$CZ$4=$G$2:$G$1100),'resultats a exporter'!$DA$4,\"\")","v":""},{"$f":"IF(AND('resultats a exporter'!$CW$4=$I$2:$I$1100,'resultats a exporter'!$CX$4=$C$2:$C$1100,'resultats a exporter'!$CY$4=$E$2:$E$1100,'resultats a exporter'!$CZ$4=$G$2:$G$1100),'resultats a exporter'!$DB$4,\"\")","v":""},null,null,null,null,"mardi 28-janv-2025, 20h00",null,null,"","",null,null,null,null,null,null,null,null,null,null,null,null,null,null,null,null,null,null,"",""]
[null,null,"VETERANSD1NORD","NORD","CLTT Menchhoffen 1",1,"Hanau TT 1",1,8,"2025-01-30","jeudi","20h00","Journée 8",{"$f":"IF(AND('resultats a exporter'!$CW$4=$I$2:$I$1100,'resultats a exporter'!$CX$4=$C$2:$C$1100,'resultats a exporter'!$CY$4=$E$2:$E$1100,'resultats a exporter'!$CZ$4=$G$2:$G$1100),'resultats a exporter'!$DA$4,\"\")","v":""},{"$f":"IF(AND('resultats a exporter'!$CW$4=$I$2:$I$1100,'resultats a exporter'!$CX$4=$C$2:$C$1100,'resultats a exporter'!$CY$4=$E$2:$E$1100,'resultats a exporter'!$CZ$4=$G$2:$G$1100),'resultats a exporter'!$DB$4,\"\")","v":""},null,null,null,null,"jeudi 30-janv-2025, 20h00",null,null,"","",null,null,null,null,null,null,null,null,null,null,null,null,null,null,null,null,null,null,"",""]
[null,null,"VETERANSD1NORD","NORD","Liberté Dettwiller 1",1,"CS Tricolore Saverne 1",1,8,"2025-01-29","mercredi","20h00","Journée 8",{"$f":"IF(AND('resultats a exporter'!$CW$4=$I$2:$I$1100,'resultats a exporter'!$CX$4=$C$2:$C$1100,'resultats a exporter'!$CY$4=$E$2:$E$1100,'resultats a exporter'!$CZ$4=$G$2:$G$1100),'resultats a exporter'!$DA$4,\"\")","v":""},{"$f":"IF(AND('resultats a exporter'!$CW$4=$I$2:$I$1100,'resultats a exporter'!$CX$4=$C$2:$C$1100,'resultats a exporter'!$CY$4=$E$2:$E$1100,'resultats a exporter'!$CZ$4=$G$2:$G$1100),'resultats a exporter'!$DB$4,\"\")","v":""},null,null,null,null,"mercredi 29-janv-2025, 20h00",null,null,"","",null,null,null,null,null,null,null,null,null,null,null,null,null,null,null,null,null,null,"",""]
[null,null,"VETERANSD1NORD","NORD","CTT 77 Val de Moder 1",1,"ASP Gottenhouse 1",1,9,"2025-02-13","jeudi","19h30","Journée 9",{"$f":"IF(AND('resultats a exporter'!$CW$4=$I$2:$I$1100,'resultats a exporter'!$CX$4=$C$2:$C$1100,'resultats a exporter'!$CY$4=$E$2:$E$1100,'resultats a exporter'!$CZ$4=$G$2:$G$1100),'resultats a exporter'!$DA$4,\"\")","v":""},{"$f":"IF(AND('resultats a exporter'!$CW$4=$I$2:$I$1100,'resultats a exporter'!$CX$4=$C$2:$C$1100,'resultats a exporter'!$CY$4=$E$2:$E$1100,'resultats a exporter'!$CZ$4=$G$2:$G$1100),'resultats a exporter'!$DB$4,\"\")","v":""},null,null,null,null,"jeudi 13-févr-2025, 19h30",null,null,"","",null,null,null,null,null,null,null,null,null,null,null,null,null,null,null,null,null,null,"",""]
[null,null,"VETERANSD1NORD","NORD","CP Zutzendorf 1",1,"CLTT Menchhoffen 1",1,9,"2025-02-12","mercredi","20h00","Journée 9",{"$f":"IF(AND('resultats a exporter'!$CW$4=$I$2:$I$1100,'resultats a exporter'!$CX$4=$C$2:$C$1100,'resultats a exporter'!$CY$4=$E$2:$E$1100,'resultats a exporter'!$CZ$4=$G$2:$G$1100),'resultats a exporter'!$DA$4,\"\")","v":""},{"$f":"IF(AND('resultats a exporter'!$CW$4=$I$2:$I$1100,'resultats a exporter'!$CX$4=$C$2:$C$1100,'resultats a exporter'!$CY$4=$E$2:$E$1100,'resultats a exporter'!$CZ$4=$G$2:$G$1100),'resultats a exporter'!$DB$4,\"\")","v":""},null,null,null,null,"mercredi 12-févr-2025, 20h00",null,null,"","",null,null,null,null,null,null,null,null,null,null,null,null,null,null,null,null,null,null,"",""]
[null,null,"VETERANSD1NORD","NORD","Hanau TT 1",1,"Liberté Dettwiller 1",1,9,"2025-02-11","mardi","20h00","Journée 9",{"$f":"IF(AND('resultats a exporter'!$CW$4=$I$2:$I$1100,'resultats a exporter'!$CX$4=$C$2:$C$1100,'resultats a exporter'!$CY$4=$E$2:$E$1100,'resultats a exporter'!$CZ$4=$G$2:$G$1100),'resultats a exporter'!$DA$4,\"\")","v":""},{"$f":"IF(AND('resultats a exporter'!$CW$4=$I$2:$I$1100,'resultats a exporter'!$CX$4=$C$2:$C$1100,'resultats a exporter'!$CY$4=$E$2:$E$1100,'resultats a exporter'!$CZ$4=$G$2:$G$1100),'resultats a exporter'!$DB$4,\"\")","v":""},null,null,null,null,"mardi 11-févr-2025, 20h00",null,null,"","",null,null,null,null,null,null,null,null,null,null,null,null,null,null,null,null,null,null,"",""]
[null,null,"VETERANSD1NORD","NORD","CS Tricolore Saverne 1",1,"CTT 77 Val de Moder 2",2,9,"2025-02-14","vendredi","20h30","Journée 9",{"$f":"IF(AND('resultats a exporter'!$CW$4=$I$2:$I$1100,'resultats a exporter'!$CX$4=$C$2:$C$1100,'resultats a exporter'!$CY$4=$E$2:$E$1100,'resultats a exporter'!$CZ$4=$G$2:$G$1100),'resultats a exporter'!$DA$4,\"\")","v":""},{"$f":"IF(AND('resultats a exporter'!$CW$4=$I$2:$I$1100,'resultats a exporter'!$CX$4=$C$2:$C$1100,'resultats a exporter'!$CY$4=$E$2:$E$1100,'resultats a exporter'!$CZ$4=$G$2:$G$1100),'resultats a exporter'!$DB$4,\"\")","v":""},null,null,null,null,"vendredi 14-févr-2025, 20h30",null,null,"","",null,null,null,null,null,null,null,null,null,null,null,null,null,null,null,null,null,null,"",""]
[null,null,"VETERANSD1NORD","NORD","CLTT Menchhoffen 1",1,"CTT 77 Val de Moder 1",1,10,"2025-03-06","jeudi","20h00","Journée 10",{"$f":"IF(AND('resultats a exporter'!$CW$4=$I$2:$I$1100,'resultats a exporter'!$CX$4=$C$2:$C$1100,'resultats a exporter'!$CY$4=$E$2:$E$1100,'resultats a exporter'!$CZ$4=$G$2:$G$1100),'resultats a exporter'!$DA$4,\"\")","v":""},{"$f":"IF(AND('resultats a exporter'!$CW$4=$I$2:$I$1100,'resultats a exporter'!$CX$4=$C$2:$C$1100,'resultats a exporter'!$CY$4=$E$2:$E$1100,'resultats a exporter'!$CZ$4=$G$2:$G$1100),'resultats a exporter'!$DB$4,\"\")","v":""},null,null,null,null,"jeudi 06-mars-2025, 20h00",null,null,"","",null,null,null,null,null,null,null,null,null,null,null,null,null,null,null,null,null,null,"",""]
[null,null,"VETERANSD1NORD","NORD","CP Zutzendorf 1",1,"Liberté Dettwiller 1",1,10,"2025-03-05","mercredi","20h00","Journée 10",{"$f":"IF(AND('resultats a exporter'!$CW$4=$I$2:$I$1100,'resultats a exporter'!$CX$4=$C$2:$C$1100,'resultats a exporter'!$CY$4=$E$2:$E$1100,'resultats a exporter'!$CZ$4=$G$2:$G$1100),'resultats a exporter'!$DA$4,\"\")","v":""},{"$f":"IF(AND('resultats a exporter'!$CW$4=$I$2:$I$1100,'resultats a exporter'!$CX$4=$C$2:$C$1100,'resultats a exporter'!$CY$4=$E$2:$E$1100,'resultats a exporter'!$CZ$4=$G$2:$G$1100),'resultats a exporter'!$DB$4,\"\")","v":""},null,null,null,null,"mercredi 05-mars-2025, 20h00",null,null,"","",null,null,null,null,null,null,null,null,null,null,null,null,null,null,null,null,null,null,"",""]
[null,null,"VETERANSD1NORD","NORD","CS Tricolore Saverne 1",1,"Hanau TT 1",1,10,"2025-03-07","vendredi","20h30","Journée 10",{"$f":"IF(AND('resultats a exporter'!$CW$4=$I$2:$I$1100,'resultats a exporter'!$CX$4=$C$2:$C$1100,'resultats a exporter'!$CY$4=$E$2:$E$1100,'resultats a exporter'!$CZ$4=$G$2:$G$1100),'resultats a exporter'!$DA$4,\"\")","v":""},{"$f":"IF(AND('resultats a exporter'!$CW$4=$I$2:$I$1100,'resultats a exporter'!$CX$4=$C$2:$C$1100,'resultats a exporter'!$CY$4=$E$2:$E$1100,'resultats a exporter'!$CZ$4=$G$2:$G$1100),'resultats a exporter'!$DB$4,\"\")","v":""},null,null,null,null,"vendredi 07-mars-2025, 20h30",null,null,"","",null,null,null,null,null,null,null,null,null,null,null,null,null,null,null,null,null,null,"",""]
[null,null,"VETERANSD1NORD","NORD","ASP Gottenhouse 1",1,"CTT 77 Val de Moder 2",2,10,"2025-03-04","mardi","20h00","Journée 10",{"$f":"IF(AND('resultats a exporter'!$CW$4=$I$2:$I$1100,'resultats a exporter'!$CX$4=$C$2:$C$1100,'resultats a exporter'!$CY$4=$E$2:$E$1100,'resultats a exporter'!$CZ$4=$G$2:$G$1100),'resultats a exporter'!$DA$4,\"\")","v":""},{"$f":"IF(AND('resultats a exporter'!$CW$4=$I$2:$I$1100,'resultats a exporter'!$CX$4=$C$2:$C$1100,'resultats a exporter'!$CY$4=$E$2:$E$1100,'resultats a exporter'!$CZ$4=$G$2:$G$1100),'resultats a exporter'!$DB$4,\"\")","v":""},null,null,null,null,"mardi 04-mars-2025, 20h00",null,null,"","",null,null,null,null,null,null,null,null,null,null,null,null,null,null,null,null,null,null,"",""]
[null,null,"VETERANSD1NORD","NORD","CTT 77 Val de Moder 1",1,"Liberté Dettwiller 1",1,11,"2025-03-27","jeudi","19h30","Journée 11",{"$f":"IF(AND('resultats a exporter'!$CW$4=$I$2:$I$1100,'resultats a exporter'!$CX$4=$C$2:$C$1100,'resultats a exporter'!$CY$4=$E$2:$E$1100,'resultats a exporter'!$CZ$4=$G$2:$G$1100),'resultats a exporter'!$DA$4,\"\")","v":""},{"$f":"IF(AND('resultats a exporter'!$CW$4=$I$2:$I$1100,'resultats a exporter'!$CX$4=$C$2:$C$1100,'resultats a exporter'!$CY$4=$E$2:$E$1100,'resultats a exporter'!$CZ$4=$G$2:$G$1100),'resultats a exporter'!$DB$4,\"\")","v":""},null,null,null,null,"jeudi 27-mars-2025, 19h30",null,null,"","",null,null,null,null,null,null,null,null,null,null,null,null,null,null,null,null,null,null,"",""]
[null,null,"VETERANSD1NORD","NORD","CP Zutzendorf 1",1,"CS Tricolore Saverne 1",1,11,"2025-03-26","mercredi","20h00","Journée 11",{"$f":"IF(AND('resultats a exporter'!$CW$4=$I$2:$I$1100,'resultats a exporter'!$CX$4=$C$2:$C$1100,'resultats a exporter'!$CY$4=$E$2:$E$1100,'resultats a exporter'!$CZ$4=$G$2:$G$1100),'resultats a exporter'!$DA$4,\"\")","v":""},{"$f":"IF(AND('resultats a exporter'!$CW$4=$I$2:$I$1100,'resultats a exporter'!$CX$4=$C$2:$C$1100,'resultats a exporter'!$CY$4=$E$2:$E$1100,'resultats a exporter'!$CZ$4=$G$2:$G$1100),'resultats a exporter'!$DB$4,\"\")","v":""},null,null,null,null,"mercredi 26-mars-2025, 20h00",null,null,"","",null,null,null,null,null,null,null,null,null,null,null,null,null,null,null,null,null,null,"",""]
[null,null,"VETERANSD1NORD","NORD","CTT 77 Val de Moder 2",2,"Hanau TT 1",1,11,"2025-03-27","jeudi","19h30","Journée 11",{"$f":"IF(AND('resultats a exporter'!$CW$4=$I$2:$I$1100,'resultats a exporter'!$CX$4=$C$2:$C$1100,'resultats a exporter'!$CY$4=$E$2:$E$1100,'resultats a exporter'!$CZ$4=$G$2:$G$1100),'resultats a exporter'!$DA$4,\"\")","v":""},{"$f":"IF(AND('resultats a exporter'!$CW$4=$I$2:$I$1100,'resultats a exporter'!$CX$4=$C$2:$C$1100,'resultats a exporter'!$CY$4=$E$2:$E$1100,'resultats a exporter'!$CZ$4=$G$2:$G$1100),'resultats a exporter'!$DB$4,\"\")","v":""},null,null,null,null,"jeudi 27-mars-2025, 19h30",null,null,"","",null,null,null,null,null,null,null,null,null,null,null,null,null,null,null,null,null,null,"",""]
[null,null,"VETERANSD1NORD","NORD","ASP Gottenhouse 1",1,"CLTT Menchhoffen 1",1,11,"2025-03-25","mardi","20h00","Journée 11",{"$f":"IF(AND('resultats a exporter'!$CW$4=$I$2:$I$1100,'resultats a exporter'!$CX$4=$C$2:$C$1100,'resultats a exporter'!$CY$4=$E$2:$E$1100,'resultats a exporter'!$CZ$4=$G$2:$G$1100),'resultats a exporter'!$DA$4,\"\")","v":""},{"$f":"IF(AND('resultats a exporter'!$CW$4=$I$2:$I$1100,'resultats a exporter'!$CX$4=$C$2:$C$1100,'resultats a exporter'!$CY$4=$E$2:$E$1100,'resultats a exporter'!$CZ$4=$G$2:$G$1100),'resultats a exporter'!$DB$4,\"\")","v":""},null,null,null,null,"mardi 25-mars-2025, 20h00",null,null,"","",null,null,null,null,null,null,null,null,null,null,null,null,null,null,null,null,null,null,"",""]
[null,null,"VETERANSD1NORD","NORD","CS Tricolore Saverne 1",1,"CTT 77 Val de Moder 1",1,12,"2025-04-04","vendredi","20h30","Journée 12",{"$f":"IF(AND('resultats a exporter'!$CW$4=$I$2:$I$1100,'resultats a exporter'!$CX$4=$C$2:$C$1100,'resultats a exporter'!$CY$4=$E$2:$E$1100,'resultats a exporter'!$CZ$4=$G$2:$G$1100),'resultats a exporter'!$DA$4,\"\")","v":""},{"$f":"IF(AND('resultats a exporter'!$CW$4=$I$2:$I$1100,'resultats a exporter'!$CX$4=$C$2:$C$1100,'resultats a exporter'!$CY$4=$E$2:$E$1100,'resultats a exporter'!$CZ$4=$G$2:$G$1100),'resultats a exporter'!$DB$4,\"\")","v":""},null,null,null,null,"vendredi 04-avr-2025, 20h30",null,null,"","",null,null,null,null,null,null,null,null,null,null,null,null,null,null,null,null,null,null,"",""]
[null,null,"VETERANSD1NORD","NORD","Hanau TT 1",1,"CP Zutzendorf 1",1,12,"2025-04-01",{"$f":"IF(J387=\"\",\"\",TEXT(J387,\"JJJJ\"))","v":"mardi"},"20h00","Journée 12",{"$f":"IF(AND('resultats a exporter'!$CW$4=$I$2:$I$1100,'resultats a exporter'!$CX$4=$C$2:$C$1100,'resultats a exporter'!$CY$4=$E$2:$E$1100,'resultats a exporter'!$CZ$4=$G$2:$G$1100),'resultats a exporter'!$DA$4,\"\")","v":""},{"$f":"IF(AND('resultats a exporter'!$CW$4=$I$2:$I$1100,'resultats a exporter'!$CX$4=$C$2:$C$1100,'resultats a exporter'!$CY$4=$E$2:$E$1100,'resultats a exporter'!$CZ$4=$G$2:$G$1100),'resultats a exporter'!$DB$4,\"\")","v":""},null,null,null,null,{"$f":"IF(J387=\"\",\"\",$K387&\" \"&TEXT($J387,\"jj-mmm-aaaa\")&\", \"&$L387)","v":"mardi 01-avr-2025, 20h00"},null,null,{"$f":"IF(AND(N387<>\"\",O387<>\"\"),T387,\"\")","v":""},{"$f":"IF(AND(N387<>\"\",O387<>\"\"),E387&\" - \"&G387,\"\")","v":""},null,null,null,null,null,null,null,null,null,null,null,null,null,null,null,null,null,null,{"$f":"IF(AND(N387<>\"\",O387<>\"\"),E387,\"\")","v":""},{"$f":"IF(AND(N387<>\"\",O387<>\"\"),G387,\"\")","v":""}]
[null,null,"VETERANSD1NORD","NORD","ASP Gottenhouse 1",1,"Liberté Dettwiller 1",1,12,"2025-04-01","mardi","20h00",{"$f":"I$1&\" \"&I388","v":"Journée 12"},{"$f":"IF(AND('resultats a exporter'!$CW$4=$I$2:$I$1100,'resultats a exporter'!$CX$4=$C$2:$C$1100,'resultats a exporter'!$CY$4=$E$2:$E$1100,'resultats a exporter'!$CZ$4=$G$2:$G$1100),'resultats a exporter'!$DA$4,\"\")","v":""},{"$f":"IF(AND('resultats a exporter'!$CW$4=$I$2:$I$1100,'resultats a exporter'!$CX$4=$C$2:$C$1100,'resultats a exporter'!$CY$4=$E$2:$E$1100,'resultats a exporter'!$CZ$4=$G$2:$G$1100),'resultats a exporter'!$DB$4,\"\")","v":""},null,null,null,null,"mardi 01-avr-2025, 20h00",null,null,"","",null,null,null,null,null,null,null,null,null,null,null,null,null,null,null,null,null,null,"",""]
[null,null,"VETERANSD1NORD","NORD","CLTT Menchhoffen 1",1,"CTT 77 Val de Moder 2",2,12,"2025-04-03","jeudi","20h00","Journée 12",{"$f":"IF(AND('resultats a exporter'!$CW$4=$I$2:$I$1100,'resultats a exporter'!$CX$4=$C$2:$C$1100,'resultats a exporter'!$CY$4=$E$2:$E$1100,'resultats a exporter'!$CZ$4=$G$2:$G$1100),'resultats a exporter'!$DA$4,\"\")","v":""},{"$f":"IF(AND('resultats a exporter'!$CW$4=$I$2:$I$1100,'resultats a exporter'!$CX$4=$C$2:$C$1100,'resultats a exporter'!$CY$4=$E$2:$E$1100,'resultats a exporter'!$CZ$4=$G$2:$G$1100),'resultats a exporter'!$DB$4,\"\")","v":""},null,null,null,null,"jeudi 03-avr-2025, 20h00",null,null,"","",null,null,null,null,null,null,null,null,null,null,null,null,null,null,null,null,null,null,"",""]
[null,null,"VETERANSD1NORD","NORD","CTT 77 Val de Moder 1",1,"Hanau TT 1",1,13,"2025-04-17","jeudi","19h30","Journée 13",{"$f":"IF(AND('resultats a exporter'!$CW$4=$I$2:$I$1100,'resultats a exporter'!$CX$4=$C$2:$C$1100,'resultats a exporter'!$CY$4=$E$2:$E$1100,'resultats a exporter'!$CZ$4=$G$2:$G$1100),'resultats a exporter'!$DA$4,\"\")","v":""},{"$f":"IF(AND('resultats a exporter'!$CW$4=$I$2:$I$1100,'resultats a exporter'!$CX$4=$C$2:$C$1100,'resultats a exporter'!$CY$4=$E$2:$E$1100,'resultats a exporter'!$CZ$4=$G$2:$G$1100),'resultats a exporter'!$DB$4,\"\")","v":""},null,null,null,null,"jeudi 17-avr-2025, 19h30",null,null,"","",null,null,null,null,null,null,null,null,null,null,null,null,null,null,null,null,null,null,"",""]
[null,null,"VETERANSD1NORD","NORD","CTT 77 Val de Moder 2",2,"CP Zutzendorf 1",1,13,"2025-04-17","jeudi","19h30","Journée 13",{"$f":"IF(AND('resultats a exporter'!$CW$4=$I$2:$I$1100,'resultats a exporter'!$CX$4=$C$2:$C$1100,'resultats a exporter'!$CY$4=$E$2:$E$1100,'resultats a exporter'!$CZ$4=$G$2:$G$1100),'resultats a exporter'!$DA$4,\"\")","v":""},{"$f":"IF(AND('resultats a exporter'!$CW$4=$I$2:$I$1100,'resultats a exporter'!$CX$4=$C$2:$C$1100,'resultats a exporter'!$CY$4=$E$2:$E$1100,'resultats a exporter'!$CZ$4=$G$2:$G$1100),'resultats a exporter'!$DB$4,\"\")","v":""},null,null,null,null,"jeudi 17-avr-2025, 19h30",null,null,"","",null,null,null,null,null,null,null,null,null,null,null,null,null,null,null,null,null,null,"",""]
[null,null,"VETERANSD1NORD","NORD","CS Tricolore Saverne 1",1,"ASP Gottenhouse 1",1,13,"2025-04-15","mardi","20h30","Journée 13",{"$f":"IF(AND('resultats a exporter'!$CW$4=$I$2:$I$1100,'resultats a exporter'!$CX$4=$C$2:$C$1100,'resultats a exporter'!$CY$4=$E$2:$E$1100,'resultats a exporter'!$CZ$4=$G$2:$G$1100),'resultats a exporter'!$DA$4,\"\")","v":""},{"$f":"IF(AND('resultats a exporter'!$CW$4=$I$2:$I$1100,'resultats a exporter'!$CX$4=$C$2:$C$1100,'resultats a exporter'!$CY$4=$E$2:$E$1100,'resultats a exporter'!$CZ$4=$G$2:$G$1100),'resultats a exporter'!$DB$4,\"\")","v":""},null,null,null,null,"mardi 15-avr-2025, 20h30",null,null,"","",null,null,null,null,null,null,null,null,null,null,null,null,null,null,null,null,null,null,"",""]
[null,null,"VETERANSD1NORD","NORD","CLTT Menchhoffen 1",1,"Liberté Dettwiller 1",1,13,"2025-04-17","jeudi","20h00","Journée 13",{"$f":"IF(AND('resultats a exporter'!$CW$4=$I$2:$I$1100,'resultats a exporter'!$CX$4=$C$2:$C$1100,'resultats a exporter'!$CY$4=$E$2:$E$1100,'resultats a exporter'!$CZ$4=$G$2:$G$1100),'resultats a exporter'!$DA$4,\"\")","v":""},{"$f":"IF(AND('resultats a exporter'!$CW$4=$I$2:$I$1100,'resultats a exporter'!$CX$4=$C$2:$C$1100,'resultats a exporter'!$CY$4=$E$2:$E$1100,'resultats a exporter'!$CZ$4=$G$2:$G$1100),'resultats a exporter'!$DB$4,\"\")","v":""},null,null,null,null,"jeudi 17-avr-2025, 20h00",null,null,"","",null,null,null,null,null,null,null,null,null,null,null,null,null,null,null,null,null,null,"",""]
[null,null,"VETERANSD1NORD","NORD","CP Zutzendorf 1",1,"CTT 77 Val de Moder 1",1,14,"2025-04-30","mercredi","20h00","Journée 14",{"$f":"IF(AND('resultats a exporter'!$CW$4=$I$2:$I$1100,'resultats a exporter'!$CX$4=$C$2:$C$1100,'resultats a exporter'!$CY$4=$E$2:$E$1100,'resultats a exporter'!$CZ$4=$G$2:$G$1100),'resultats a exporter'!$DA$4,\"\")","v":""},{"$f":"IF(AND('resultats a exporter'!$CW$4=$I$2:$I$1100,'resultats a exporter'!$CX$4=$C$2:$C$1100,'resultats a exporter'!$CY$4=$E$2:$E$1100,'resultats a exporter'!$CZ$4=$G$2:$G$1100),'resultats a exporter'!$DB$4,\"\")","v":""},null,null,null,null,"mercredi 30-avr-2025, 20h00",null,null,"","",null,null,null,null,null,null,null,null,null,null,null,null,null,null,null,null,null,null,"",""]
[null,null,"VETERANSD1NORD","NORD","Hanau TT 1",1,"ASP Gottenhouse 1",1,14,"2025-04-29","mardi","20h00","Journée 14",{"$f":"IF(AND('resultats a exporter'!$CW$4=$I$2:$I$1100,'resultats a exporter'!$CX$4=$C$2:$C$1100,'resultats a exporter'!$CY$4=$E$2:$E$1100,'resultats a exporter'!$CZ$4=$G$2:$G$1100),'resultats a exporter'!$DA$4,\"\")","v":""},{"$f":"IF(AND('resultats a exporter'!$CW$4=$I$2:$I$1100,'resultats a exporter'!$CX$4=$C$2:$C$1100,'resultats a exporter'!$CY$4=$E$2:$E$1100,'resultats a exporter'!$CZ$4=$G$2:$G$1100),'resultats a exporter'!$DB$4,\"\")","v":""},null,null,null,null,"mardi 29-avr-2025, 20h00",null,null,"","",null,null,null,null,null,null,null,null,null,null,null,null,null,null,null,null,null,null,"",""]
[null,null,"VETERANSD1NORD","NORD","CS Tricolore Saverne 1",1,"CLTT Menchhoffen 1",1,14,"2025-05-02","vendredi","20h30","Journée 14",{"$f":"IF(AND('resultats a exporter'!$CW$4=$I$2:$I$1100,'resultats a exporter'!$CX$4=$C$2:$C$1100,'resultats a exporter'!$CY$4=$E$2:$E$1100,'resultats a exporter'!$CZ$4=$G$2:$G$1100),'resultats a exporter'!$DA$4,\"\")","v":""},{"$f":"IF(AND('resultats a exporter'!$CW$4=$I$2:$I$1100,'resultats a exporter'!$CX$4=$C$2:$C$1100,'resultats a exporter'!$CY$4=$E$2:$E$1100,'resultats a exporter'!$CZ$4=$G$2:$G$1100),'resultats a exporter'!$DB$4,\"\")","v":""},null,null,null,null,"vendredi 02-mai-2025, 20h30",null,null,"","",null,null,null,null,null,null,null,null,null,null,null,null,null,null,null,null,null,null,"",""]
[null,null,"VETERANSD1NORD","NORD","Liberté Dettwiller 1",1,"CTT 77 Val de Moder 2",2,14,"2025-04-30","mercredi","20h00","Journée 14",{"$f":"IF(AND('resultats a exporter'!$CW$4=$I$2:$I$1100,'resultats a exporter'!$CX$4=$C$2:$C$1100,'resultats a exporter'!$CY$4=$E$2:$E$1100,'resultats a exporter'!$CZ$4=$G$2:$G$1100),'resultats a exporter'!$DA$4,\"\")","v":""},{"$f":"IF(AND('resultats a exporter'!$CW$4=$I$2:$I$1100,'resultats a exporter'!$CX$4=$C$2:$C$1100,'resultats a exporter'!$CY$4=$E$2:$E$1100,'resultats a exporter'!$CZ$4=$G$2:$G$1100),'resultats a exporter'!$DB$4,\"\")","v":""},null,null,null,null,"mercredi 30-avr-2025, 20h00",null,null,"","",null,null,null,null,null,null,null,null,null,null,null,null,null,null,null,null,null,null,"",""]
[null,null,"VETERANSD2NORD","NORD","CS Tricolore Saverne 2",2,"CS Tricolore Saverne 3",3,1,"2024-09-20","vendredi","20h30","Journée 1",{"$f":"IF(AND('resultats a exporter'!$CW$4=$I$2:$I$1100,'resultats a exporter'!$CX$4=$C$2:$C$1100,'resultats a exporter'!$CY$4=$E$2:$E$1100,'resultats a exporter'!$CZ$4=$G$2:$G$1100),'resultats a exporter'!$DA$4,\"\")","v":""},{"$f":"IF(AND('resultats a exporter'!$CW$4=$I$2:$I$1100,'resultats a exporter'!$CX$4=$C$2:$C$1100,'resultats a exporter'!$CY$4=$E$2:$E$1100,'resultats a exporter'!$CZ$4=$G$2:$G$1100),'resultats a exporter'!$DB$4,\"\")","v":""},"VETERANSD2NORD",null,null,null,"vendredi 20-sept-2024, 20h30",null,null,"","",null,null,null,null,null,null,null,null,null,null,null,null,null,null,null,null,null,null,"",""]
[null,null,"VETERANSD2NORD","NORD","CLTT Menchhoffen 2",2,"CLTT Menchhoffen 3",3,1,"2024-09-19","jeudi","20h00","Journée 1",{"$f":"IF(AND('resultats a exporter'!$CW$4=$I$2:$I$1100,'resultats a exporter'!$CX$4=$C$2:$C$1100,'resultats a exporter'!$CY$4=$E$2:$E$1100,'resultats a exporter'!$CZ$4=$G$2:$G$1100),'resultats a exporter'!$DA$4,\"\")","v":""},{"$f":"IF(AND('resultats a exporter'!$CW$4=$I$2:$I$1100,'resultats a exporter'!$CX$4=$C$2:$C$1100,'resultats a exporter'!$CY$4=$E$2:$E$1100,'resultats a exporter'!$CZ$4=$G$2:$G$1100),'resultats a exporter'!$DB$4,\"\")","v":""},null,"MJC Kirrwiller 1",null,null,"jeudi 19-sept-2024, 20h00",null,null,"","",null,null,null,null,null,null,null,null,null,null,null,null,null,null,null,null,null,null,"",""]
[null,null,"VETERANSD2NORD","NORD","MJC Kirrwiller 2",2,"MJC Kirrwiller 1",1,1,"2024-09-19","jeudi","20h00","Journée 1",{"$f":"IF(AND('resultats a exporter'!$CW$4=$I$2:$I$1100,'resultats a exporter'!$CX$4=$C$2:$C$1100,'resultats a exporter'!$CY$4=$E$2:$E$1100,'resultats a exporter'!$CZ$4=$G$2:$G$1100),'resultats a exporter'!$DA$4,\"\")","v":""},{"$f":"IF(AND('resultats a exporter'!$CW$4=$I$2:$I$1100,'resultats a exporter'!$CX$4=$C$2:$C$1100,'resultats a exporter'!$CY$4=$E$2:$E$1100,'resultats a exporter'!$CZ$4=$G$2:$G$1100),'resultats a exporter'!$DB$4,\"\")","v":""},null,"MJC Kirrwiller 2",null,null,"jeudi 19-sept-2024, 20h00",null,null,"","",null,null,null,null,null,null,null,null,null,null,null,null,null,null,null,null,null,null,"",""]
[null,null,"VETERANSD2NORD","NORD","Liberté Dettwiller 2",2,"ASP Gottenhouse 2",2,1,"2024-09-19","jeudi","20h00","Journée 1",{"$f":"IF(AND('resultats a exporter'!$CW$4=$I$2:$I$1100,'resultats a exporter'!$CX$4=$C$2:$C$1100,'resultats a exporter'!$CY$4=$E$2:$E$1100,'resultats a exporter'!$CZ$4=$G$2:$G$1100),'resultats a exporter'!$DA$4,\"\")","v":""},{"$f":"IF(AND('resultats a exporter'!$CW$4=$I$2:$I$1100,'resultats a exporter'!$CX$4=$C$2:$C$1100,'resultats a exporter'!$CY$4=$E$2:$E$1100,'resultats a exporter'!$CZ$4=$G$2:$G$1100),'resultats a exporter'!$DB$4,\"\")","v":""},null,"CLTT Menchhoffen 2",null,null,"jeudi 19-sept-2024, 20h00",null,null,"","",null,null,null,null,null,null,null,null,null,null,null,null,null,null,null,null,null,null,"",""]
[null,null,"VETERANSD2NORD","NORD","Hanau TT 2",2,"CTT 77 Val de Moder 3",3,1,"2024-09-17","mardi","20h00","Journée 1",{"$f":"IF(AND('resultats a exporter'!$CW$4=$I$2:$I$1100,'resultats a exporter'!$CX$4=$C$2:$C$1100,'resultats a exporter'!$CY$4=$E$2:$E$1100,'resultats a exporter'!$CZ$4=$G$2:$G$1100),'resultats a exporter'!$DA$4,\"\")","v":""},{"$f":"IF(AND('resultats a exporter'!$CW$4=$I$2:$I$1100,'resultats a exporter'!$CX$4=$C$2:$C$1100,'resultats a exporter'!$CY$4=$E$2:$E$1100,'resultats a exporter'!$CZ$4=$G$2:$G$1100),'resultats a exporter'!$DB$4,\"\")","v":""},null,"CLTT Menchhoffen 3",null,null,"mardi 17-sept-2024, 20h00",null,null,"","",null,null,null,null,null,null,null,null,null,null,null,null,null,null,null,null,null,null,"",""]
[null,null,"VETERANSD2NORD","NORD","CLTT Menchhoffen 3",3,"CS Tricolore Saverne 2",2,2,"2024-10-03","jeudi","20h00","Journée 2",{"$f":"IF(AND('resultats a exporter'!$CW$4=$I$2:$I$1100,'resultats a exporter'!$CX$4=$C$2:$C$1100,'resultats a exporter'!$CY$4=$E$2:$E$1100,'resultats a exporter'!$CZ$4=$G$2:$G$1100),'resultats a exporter'!$DA$4,\"\")","v":""},{"$f":"IF(AND('resultats a exporter'!$CW$4=$I$2:$I$1100,'resultats a exporter'!$CX$4=$C$2:$C$1100,'resultats a exporter'!$CY$4=$E$2:$E$1100,'resultats a exporter'!$CZ$4=$G$2:$G$1100),'resultats a exporter'!$DB$4,\"\")","v":""},null,"CS Tricolore Saverne 2",null,null,"jeudi 03-oct-2024, 20h00",null,null,"","",null,null,null,null,null,null,null,null,null,null,null,null,null,null,null,null,null,null,"",""]
[null,null,"VETERANSD2NORD","NORD","MJC Kirrwiller 1",1,"CLTT Menchhoffen 2",2,2,"2024-10-03","jeudi","20h00","Journée 2",{"$f":"IF(AND('resultats a exporter'!$CW$4=$I$2:$I$1100,'resultats a exporter'!$CX$4=$C$2:$C$1100,'resultats a exporter'!$CY$4=$E$2:$E$1100,'resultats a exporter'!$CZ$4=$G$2:$G$1100),'resultats a exporter'!$DA$4,\"\")","v":""},{"$f":"IF(AND('resultats a exporter'!$CW$4=$I$2:$I$1100,'resultats a exporter'!$CX$4=$C$2:$C$1100,'resultats a exporter'!$CY$4=$E$2:$E$1100,'resultats a exporter'!$CZ$4=$G$2:$G$1100),'resultats a exporter'!$DB$4,\"\")","v":""},null,"CS Tricolore Saverne 3",null,null,"jeudi 03-oct-2024, 20h00",null,null,"","",null,null,null,null,null,null,null,null,null,null,null,null,null,null,null,null,null,null,"",""]
[null,null,"VETERANSD2NORD","NORD","ASP Gottenhouse 2",2,"MJC Kirrwiller 2",2,2,"2024-10-01","mardi","20h00","Journée 2",{"$f":"IF(AND('resultats a exporter'!$CW$4=$I$2:$I$1100,'resultats a exporter'!$CX$4=$C$2:$C$1100,'resultats a exporter'!$CY$4=$E$2:$E$1100,'resultats a exporter'!$CZ$4=$G$2:$G$1100),'resultats a exporter'!$DA$4,\"\")","v":""},{"$f":"IF(AND('resultats a exporter'!$CW$4=$I$2:$I$1100,'resultats a exporter'!$CX$4=$C$2:$C$1100,'resultats a exporter'!$CY$4=$E$2:$E$1100,'resultats a exporter'!$CZ$4=$G$2:$G$1100),'resultats a exporter'!$DB$4,\"\")","v":""},null,"CTT 77 Val de Moder 3",null,null,"mardi 01-oct-2024, 20h00",null,null,"","",null,null,null,null,null,null,null,null,null,null,null,null,null,null,null,null,null,null,"",""]
[null,null,"VETERANSD2NORD","NORD","Hanau TT 2",2,"Liberté Dettwiller 2",2,2,"2024-10-01","mardi","20h00","Journée 2",{"$f":"IF(AND('resultats a exporter'!$CW$4=$I$2:$I$1100,'resultats a exporter'!$CX$4=$C$2:$C$1100,'resultats a exporter'!$CY$4=$E$2:$E$1100,'resultats a exporter'!$CZ$4=$G$2:$G$1100),'resultats a exporter'!$DA$4,\"\")","v":""},{"$f":"IF(AND('resultats a exporter'!$CW$4=$I$2:$I$1100,'resultats a exporter'!$CX$4=$C$2:$C$1100,'resultats a exporter'!$CY$4=$E$2:$E$1100,'resultats a exporter'!$CZ$4=$G$2:$G$1100),'resultats a exporter'!$DB$4,\"\")","v":""},null,"Liberté Dettwiller 2",null,null,"mardi 01-oct-2024, 20h00",null,null,"","",null,null,null,null,null,null,null,null,null,null,null,null,null,null,null,null,null,null,"",""]
[null,null,"VETERANSD2NORD","NORD","CS Tricolore Saverne 3",3,"CTT 77 Val de Moder 3",3,2,"2024-10-04","vendredi","20h30","Journée 2",{"$f":"IF(AND('resultats a exporter'!$CW$4=$I$2:$I$1100,'resultats a exporter'!$CX$4=$C$2:$C$1100,'resultats a exporter'!$CY$4=$E$2:$E$1100,'resultats a exporter'!$CZ$4=$G$2:$G$1100),'resultats a exporter'!$DA$4,\"\")","v":""},{"$f":"IF(AND('resultats a exporter'!$CW$4=$I$2:$I$1100,'resultats a exporter'!$CX$4=$C$2:$C$1100,'resultats a exporter'!$CY$4=$E$2:$E$1100,'resultats a exporter'!$CZ$4=$G$2:$G$1100),'resultats a exporter'!$DB$4,\"\")","v":""},null,"Hanau TT 2",null,null,"vendredi 04-oct-2024, 20h30",null,null,"","",null,null,null,null,null,null,null,null,null,null,null,null,null,null,null,null,null,null,"",""]
[null,null,"VETERANSD2NORD","NORD","CS Tricolore Saverne 2",2,"MJC Kirrwiller 1",1,3,"2024-10-18","vendredi","20h30","Journée 3",{"$f":"IF(AND('resultats a exporter'!$CW$4=$I$2:$I$1100,'resultats a exporter'!$CX$4=$C$2:$C$1100,'resultats a exporter'!$CY$4=$E$2:$E$1100,'resultats a exporter'!$CZ$4=$G$2:$G$1100),'resultats a exporter'!$DA$4,\"\")","v":""},{"$f":"IF(AND('resultats a exporter'!$CW$4=$I$2:$I$1100,'resultats a exporter'!$CX$4=$C$2:$C$1100,'resultats a exporter'!$CY$4=$E$2:$E$1100,'resultats a exporter'!$CZ$4=$G$2:$G$1100),'resultats a exporter'!$DB$4,\"\")","v":""},null,null,null,null,"vendredi 18-oct-2024, 20h30",null,null,"","",null,null,null,null,null,null,null,null,null,null,null,null,null,null,null,null,null,null,"",""]
[null,null,"VETERANSD2NORD","NORD","CLTT Menchhoffen 2",2,"ASP Gottenhouse 2",2,3,"2024-10-17","jeudi","20h00","Journée 3",{"$f":"IF(AND('resultats a exporter'!$CW$4=$I$2:$I$1100,'resultats a exporter'!$CX$4=$C$2:$C$1100,'resultats a exporter'!$CY$4=$E$2:$E$1100,'resultats a exporter'!$CZ$4=$G$2:$G$1100),'resultats a exporter'!$DA$4,\"\")","v":""},{"$f":"IF(AND('resultats a exporter'!$CW$4=$I$2:$I$1100,'resultats a exporter'!$CX$4=$C$2:$C$1100,'resultats a exporter'!$CY$4=$E$2:$E$1100,'resultats a exporter'!$CZ$4=$G$2:$G$1100),'resultats a exporter'!$DB$4,\"\")","v":""},null,null,null,null,"jeudi 17-oct-2024, 20h00",null,null,"","",null,null,null,null,null,null,null,null,null,null,null,null,null,null,null,null,null,null,"",""]
[null,null,"VETERANSD2NORD","NORD","MJC Kirrwiller 2",2,"Hanau TT 2",2,3,"2024-10-17","jeudi","20h00","Journée 3",{"$f":"IF(AND('resultats a exporter'!$CW$4=$I$2:$I$1100,'resultats a exporter'!$CX$4=$C$2:$C$1100,'resultats a exporter'!$CY$4=$E$2:$E$1100,'resultats a exporter'!$CZ$4=$G$2:$G$1100),'resultats a exporter'!$DA$4,\"\")","v":""},{"$f":"IF(AND('resultats a exporter'!$CW$4=$I$2:$I$1100,'resultats a exporter'!$CX$4=$C$2:$C$1100,'resultats a exporter'!$CY$4=$E$2:$E$1100,'resultats a exporter'!$CZ$4=$G$2:$G$1100),'resultats a exporter'!$DB$4,\"\")","v":""},null,null,null,null,"jeudi 17-oct-2024, 20h00",null,null,"","",null,null,null,null,null,null,null,null,null,null,null,null,null,null,null,null,null,null,"",""]
[null,null,"VETERANSD2NORD","NORD","Liberté Dettwiller 2",2,"CS Tricolore Saverne 3",3,3,"2024-10-17","jeudi","20h00","Journée 3",{"$f":"IF(AND('resultats a exporter'!$CW$4=$I$2:$I$1100,'resultats a exporter'!$CX$4=$C$2:$C$1100,'resultats a exporter'!$CY$4=$E$2:$E$1100,'resultats a exporter'!$CZ$4=$G$2:$G$1100),'resultats a exporter'!$DA$4,\"\")","v":""},{"$f":"IF(AND('resultats a exporter'!$CW$4=$I$2:$I$1100,'resultats a exporter'!$CX$4=$C$2:$C$1100,'resultats a exporter'!$CY$4=$E$2:$E$1100,'resultats a exporter'!$CZ$4=$G$2:$G$1100),'resultats a exporter'!$DB$4,\"\")","v":""},null,null,null,null,"jeudi 17-oct-2024, 20h00",null,null,"","",null,null,null,null,null,null,null,null,null,null,null,null,null,null,null,null,null,null,"",""]
[null,null,"VETERANSD2NORD","NORD","CTT 77 Val de Moder 3",3,"CLTT Menchhoffen 3",3,3,"2024-10-17","jeudi","19h30","Journée 3",{"$f":"IF(AND('resultats a exporter'!$CW$4=$I$2:$I$1100,'resultats a exporter'!$CX$4=$C$2:$C$1100,'resultats a exporter'!$CY$4=$E$2:$E$1100,'resultats a exporter'!$CZ$4=$G$2:$G$1100),'resultats a exporter'!$DA$4,\"\")","v":""},{"$f":"IF(AND('resultats a exporter'!$CW$4=$I$2:$I$1100,'resultats a exporter'!$CX$4=$C$2:$C$1100,'resultats a exporter'!$CY$4=$E$2:$E$1100,'resultats a exporter'!$CZ$4=$G$2:$G$1100),'resultats a exporter'!$DB$4,\"\")","v":""},null,null,null,null,"jeudi 17-oct-2024, 19h30",null,null,"","",null,null,null,null,null,null,null,null,null,null,null,null,null,null,null,null,null,null,"",""]
[null,null,"VETERANSD2NORD","NORD","ASP Gottenhouse 2",2,"CS Tricolore Saverne 2",2,4,"2024-10-29","mardi","20h00","Journée 4",{"$f":"IF(AND('resultats a exporter'!$CW$4=$I$2:$I$1100,'resultats a exporter'!$CX$4=$C$2:$C$1100,'resultats a exporter'!$CY$4=$E$2:$E$1100,'resultats a exporter'!$CZ$4=$G$2:$G$1100),'resultats a exporter'!$DA$4,\"\")","v":""},{"$f":"IF(AND('resultats a exporter'!$CW$4=$I$2:$I$1100,'resultats a exporter'!$CX$4=$C$2:$C$1100,'resultats a exporter'!$CY$4=$E$2:$E$1100,'resultats a exporter'!$CZ$4=$G$2:$G$1100),'resultats a exporter'!$DB$4,\"\")","v":""},null,null,null,null,"mardi 29-oct-2024, 20h00",null,null,"","",null,null,null,null,null,null,null,null,null,null,null,null,null,null,null,null,null,null,"",""]
[null,null,"VETERANSD2NORD","NORD","Hanau TT 2",2,"CLTT Menchhoffen 2",2,4,"2024-10-29","mardi","20h00","Journée 4",{"$f":"IF(AND('resultats a exporter'!$CW$4=$I$2:$I$1100,'resultats a exporter'!$CX$4=$C$2:$C$1100,'resultats a exporter'!$CY$4=$E$2:$E$1100,'resultats a exporter'!$CZ$4=$G$2:$G$1100),'resultats a exporter'!$DA$4,\"\")","v":""},{"$f":"IF(AND('resultats a exporter'!$CW$4=$I$2:$I$1100,'resultats a exporter'!$CX$4=$C$2:$C$1100,'resultats a exporter'!$CY$4=$E$2:$E$1100,'resultats a exporter'!$CZ$4=$G$2:$G$1100),'resultats a exporter'!$DB$4,\"\")","v":""},null,null,null,null,"mardi 29-oct-2024, 20h00",null,null,"","",null,null,null,null,null,null,null,null,null,null,null,null,null,null,null,null,null,null,"",""]
[null,null,"VETERANSD2NORD","NORD","CTT 77 Val de Moder 3",3,"MJC Kirrwiller 2",2,4,"2024-10-31","jeudi","19h30","Journée 4",{"$f":"IF(AND('resultats a exporter'!$CW$4=$I$2:$I$1100,'resultats a exporter'!$CX$4=$C$2:$C$1100,'resultats a exporter'!$CY$4=$E$2:$E$1100,'resultats a exporter'!$CZ$4=$G$2:$G$1100),'resultats a exporter'!$DA$4,\"\")","v":""},{"$f":"IF(AND('resultats a exporter'!$CW$4=$I$2:$I$1100,'resultats a exporter'!$CX$4=$C$2:$C$1100,'resultats a exporter'!$CY$4=$E$2:$E$1100,'resultats a exporter'!$CZ$4=$G$2:$G$1100),'resultats a exporter'!$DB$4,\"\")","v":""},null,null,null,null,"jeudi 31-oct-2024, 19h30",null,null,"","",null,null,null,null,null,null,null,null,null,null,null,null,null,null,null,null,null,null,"",""]
[null,null,"VETERANSD2NORD","NORD","CLTT Menchhoffen 3",3,"Liberté Dettwiller 2",2,4,"2024-10-31","jeudi","20h00","Journée 4",{"$f":"IF(AND('resultats a exporter'!$CW$4=$I$2:$I$1100,'resultats a exporter'!$CX$4=$C$2:$C$1100,'resultats a exporter'!$CY$4=$E$2:$E$1100,'resultats a exporter'!$CZ$4=$G$2:$G$1100),'resultats a exporter'!$DA$4,\"\")","v":""},{"$f":"IF(AND('resultats a exporter'!$CW$4=$I$2:$I$1100,'resultats a exporter'!$CX$4=$C$2:$C$1100,'resultats a exporter'!$CY$4=$E$2:$E$1100,'resultats a exporter'!$CZ$4=$G$2:$G$1100),'resultats a exporter'!$DB$4,\"\")","v":""},null,null,null,null,"jeudi 31-oct-2024, 20h00",null,null,"","",null,null,null,null,null,null,null,null,null,null,null,null,null,null,null,null,null,null,"",""]
[null,null,"VETERANSD2NORD","NORD","MJC Kirrwiller 1",1,"CS Tricolore Saverne 3",3,4,"2024-10-31","jeudi","20h00","Journée 4",{"$f":"IF(AND('resultats a exporter'!$CW$4=$I$2:$I$1100,'resultats a exporter'!$CX$4=$C$2:$C$1100,'resultats a exporter'!$CY$4=$E$2:$E$1100,'resultats a exporter'!$CZ$4=$G$2:$G$1100),'resultats a exporter'!$DA$4,\"\")","v":""},{"$f":"IF(AND('resultats a exporter'!$CW$4=$I$2:$I$1100,'resultats a exporter'!$CX$4=$C$2:$C$1100,'resultats a exporter'!$CY$4=$E$2:$E$1100,'resultats a exporter'!$CZ$4=$G$2:$G$1100),'resultats a exporter'!$DB$4,\"\")","v":""},null,null,null,null,"jeudi 31-oct-2024, 20h00",null,null,"","",null,null,null,null,null,null,null,null,null,null,null,null,null,null,null,null,null,null,"",""]
[null,null,"VETERANSD2NORD","NORD","Hanau TT 2",2,"CS Tricolore Saverne 2",2,5,"2024-11-12","mardi","20h00","Journée 5",{"$f":"IF(AND('resultats a exporter'!$CW$4=$I$2:$I$1100,'resultats a exporter'!$CX$4=$C$2:$C$1100,'resultats a exporter'!$CY$4=$E$2:$E$1100,'resultats a exporter'!$CZ$4=$G$2:$G$1100),'resultats a exporter'!$DA$4,\"\")","v":""},{"$f":"IF(AND('resultats a exporter'!$CW$4=$I$2:$I$1100,'resultats a exporter'!$CX$4=$C$2:$C$1100,'resultats a exporter'!$CY$4=$E$2:$E$1100,'resultats a exporter'!$CZ$4=$G$2:$G$1100),'resultats a exporter'!$DB$4,\"\")","v":""},null,null,null,null,"mardi 12-nov-2024, 20h00",null,null,"","",null,null,null,null,null,null,null,null,null,null,null,null,null,null,null,null,null,null,"",""]
[null,null,"VETERANSD2NORD","NORD","CLTT Menchhoffen 2",2,"CTT 77 Val de Moder 3",3,5,"2024-11-14","jeudi","20h00","Journée 5",{"$f":"IF(AND('resultats a exporter'!$CW$4=$I$2:$I$1100,'resultats a exporter'!$CX$4=$C$2:$C$1100,'resultats a exporter'!$CY$4=$E$2:$E$1100,'resultats a exporter'!$CZ$4=$G$2:$G$1100),'resultats a exporter'!$DA$4,\"\")","v":""},{"$f":"IF(AND('resultats a exporter'!$CW$4=$I$2:$I$1100,'resultats a exporter'!$CX$4=$C$2:$C$1100,'resultats a exporter'!$CY$4=$E$2:$E$1100,'resultats a exporter'!$CZ$4=$G$2:$G$1100),'resultats a exporter'!$DB$4,\"\")","v":""},null,null,null,null,"jeudi 14-nov-2024, 20h00",null,null,"","",null,null,null,null,null,null,null,null,null,null,null,null,null,null,null,null,null,null,"",""]
[null,null,"VETERANSD2NORD","NORD","MJC Kirrwiller 2",2,"Liberté Dettwiller 2",2,5,"2024-11-14","jeudi","20h00","Journée 5",{"$f":"IF(AND('resultats a exporter'!$CW$4=$I$2:$I$1100,'resultats a exporter'!$CX$4=$C$2:$C$1100,'resultats a exporter'!$CY$4=$E$2:$E$1100,'resultats a exporter'!$CZ$4=$G$2:$G$1100),'resultats a exporter'!$DA$4,\"\")","v":""},{"$f":"IF(AND('resultats a exporter'!$CW$4=$I$2:$I$1100,'resultats a exporter'!$CX$4=$C$2:$C$1100,'resultats a exporter'!$CY$4=$E$2:$E$1100,'resultats a exporter'!$CZ$4=$G$2:$G$1100),'resultats a exporter'!$DB$4,\"\")","v":""},null,null,null,null,"jeudi 14-nov-2024, 20h00",null,null,"","",null,null,null,null,null,null,null,null,null,null,null,null,null,null,null,null,null,null,"",""]
[null,null,"VETERANSD2NORD","NORD","MJC Kirrwiller 1",1,"ASP Gottenhouse 2",2,5,"2024-11-14","jeudi","20h00","Journée 5",{"$f":"IF(AND('resultats a exporter'!$CW$4=$I$2:$I$1100,'resultats a exporter'!$CX$4=$C$2:$C$1100,'resultats a exporter'!$CY$4=$E$2:$E$1100,'resultats a exporter'!$CZ$4=$G$2:$G$1100),'resultats a exporter'!$DA$4,\"\")","v":""},{"$f":"IF(AND('resultats a exporter'!$CW$4=$I$2:$I$1100,'resultats a exporter'!$CX$4=$C$2:$C$1100,'resultats a exporter'!$CY$4=$E$2:$E$1100,'resultats a exporter'!$CZ$4=$G$2:$G$1100),'resultats a exporter'!$DB$4,\"\")","v":""},null,null,null,null,"jeudi 14-nov-2024, 20h00",null,null,"","",null,null,null,null,null,null,null,null,null,null,null,null,null,null,null,null,null,null,"",""]
[null,null,"VETERANSD2NORD","NORD","CS Tricolore Saverne 3",3,"CLTT Menchhoffen 3",3,5,"2024-11-15","vendredi","20h30","Journée 5",{"$f":"IF(AND('resultats a exporter'!$CW$4=$I$2:$I$1100,'resultats a exporter'!$CX$4=$C$2:$C$1100,'resultats a exporter'!$CY$4=$E$2:$E$1100,'resultats a exporter'!$CZ$4=$G$2:$G$1100),'resultats a exporter'!$DA$4,\"\")","v":""},{"$f":"IF(AND('resultats a exporter'!$CW$4=$I$2:$I$1100,'resultats a exporter'!$CX$4=$C$2:$C$1100,'resultats a exporter'!$CY$4=$E$2:$E$1100,'resultats a exporter'!$CZ$4=$G$2:$G$1100),'resultats a exporter'!$DB$4,\"\")","v":""},null,null,null,null,"vendredi 15-nov-2024, 20h30",null,null,"","",null,null,null,null,null,null,null,null,null,null,null,null,null,null,null,null,null,null,"",""]
[null,null,"VETERANSD2NORD","NORD","CTT 77 Val de Moder 3",3,"CS Tricolore Saverne 2",2,6,"2024-11-28","jeudi","19h30","Journée 6",{"$f":"IF(AND('resultats a exporter'!$CW$4=$I$2:$I$1100,'resultats a exporter'!$CX$4=$C$2:$C$1100,'resultats a exporter'!$CY$4=$E$2:$E$1100,'resultats a exporter'!$CZ$4=$G$2:$G$1100),'resultats a exporter'!$DA$4,\"\")","v":""},{"$f":"IF(AND('resultats a exporter'!$CW$4=$I$2:$I$1100,'resultats a exporter'!$CX$4=$C$2:$C$1100,'resultats a exporter'!$CY$4=$E$2:$E$1100,'resultats a exporter'!$CZ$4=$G$2:$G$1100),'resultats a exporter'!$DB$4,\"\")","v":""},null,null,null,null,"jeudi 28-nov-2024, 19h30",null,null,"","",null,null,null,null,null,null,null,null,null,null,null,null,null,null,null,null,null,null,"",""]
[null,null,"VETERANSD2NORD","NORD","Liberté Dettwiller 2",2,"MJC Kirrwiller 1",1,6,"2024-11-28","jeudi","20h00","Journée 6",{"$f":"IF(AND('resultats a exporter'!$CW$4=$I$2:$I$1100,'resultats a exporter'!$CX$4=$C$2:$C$1100,'resultats a exporter'!$CY$4=$E$2:$E$1100,'resultats a exporter'!$CZ$4=$G$2:$G$1100),'resultats a exporter'!$DA$4,\"\")","v":""},{"$f":"IF(AND('resultats a exporter'!$CW$4=$I$2:$I$1100,'resultats a exporter'!$CX$4=$C$2:$C$1100,'resultats a exporter'!$CY$4=$E$2:$E$1100,'resultats a exporter'!$CZ$4=$G$2:$G$1100),'resultats a exporter'!$DB$4,\"\")","v":""},null,null,null,null,"jeudi 28-nov-2024, 20h00",null,null,"","",null,null,null,null,null,null,null,null,null,null,null,null,null,null,null,null,null,null,"",""]
[null,null,"VETERANSD2NORD","NORD","MJC Kirrwiller 2",2,"CLTT Menchhoffen 2",2,6,"2024-11-28","jeudi","20h00","Journée 6",{"$f":"IF(AND('resultats a exporter'!$CW$4=$I$2:$I$1100,'resultats a exporter'!$CX$4=$C$2:$C$1100,'resultats a exporter'!$CY$4=$E$2:$E$1100,'resultats a exporter'!$CZ$4=$G$2:$G$1100),'resultats a exporter'!$DA$4,\"\")","v":""},{"$f":"IF(AND('resultats a exporter'!$CW$4=$I$2:$I$1100,'resultats a exporter'!$CX$4=$C$2:$C$1100,'resultats a exporter'!$CY$4=$E$2:$E$1100,'resultats a exporter'!$CZ$4=$G$2:$G$1100),'resultats a exporter'!$DB$4,\"\")","v":""},null,null,null,null,"jeudi 28-nov-2024, 20h00",null,null,"","",null,null,null,null,null,null,null,null,null,null,null,null,null,null,null,null,null,null,"",""]
[null,null,"VETERANSD2NORD","NORD","CS Tricolore Saverne 3",3,"ASP Gottenhouse 2",2,6,"2024-11-29","vendredi","20h30","Journée 6",{"$f":"IF(AND('resultats a exporter'!$CW$4=$I$2:$I$1100,'resultats a exporter'!$CX$4=$C$2:$C$1100,'resultats a exporter'!$CY$4=$E$2:$E$1100,'resultats a exporter'!$CZ$4=$G$2:$G$1100),'resultats a exporter'!$DA$4,\"\")","v":""},{"$f":"IF(AND('resultats a exporter'!$CW$4=$I$2:$I$1100,'resultats a exporter'!$CX$4=$C$2:$C$1100,'resultats a exporter'!$CY$4=$E$2:$E$1100,'resultats a exporter'!$CZ$4=$G$2:$G$1100),'resultats a exporter'!$DB$4,\"\")","v":""},null,null,null,null,"vendredi 29-nov-2024, 20h30",null,null,"","",null,null,null,null,null,null,null,null,null,null,null,null,null,null,null,null,null,null,"",""]
[null,null,"VETERANSD2NORD","NORD","CLTT Menchhoffen 3",3,"Hanau TT 2",2,6,"2024-11-28","jeudi","20h00","Journée 6",{"$f":"IF(AND('resultats a exporter'!$CW$4=$I$2:$I$1100,'resultats a exporter'!$CX$4=$C$2:$C$1100,'resultats a exporter'!$CY$4=$E$2:$E$1100,'resultats a exporter'!$CZ$4=$G$2:$G$1100),'resultats a exporter'!$DA$4,\"\")","v":""},{"$f":"IF(AND('resultats a exporter'!$CW$4=$I$2:$I$1100,'resultats a exporter'!$CX$4=$C$2:$C$1100,'resultats a exporter'!$CY$4=$E$2:$E$1100,'resultats a exporter'!$CZ$4=$G$2:$G$1100),'resultats a exporter'!$DB$4,\"\")","v":""},null,null,null,null,"jeudi 28-nov-2024, 20h00",null,null,"","",null,null,null,null,null,null,null,null,null,null,null,null,null,null,null,null,null,null,"",""]
[null,null,"VETERANSD2NORD","NORD","CS Tricolore Saverne 2",2,"Liberté Dettwiller 2",2,7,"2024-12-13","vendredi","20h30","Journée 7",{"$f":"IF(AND('resultats a exporter'!$CW$4=$I$2:$I$1100,'resultats a exporter'!$CX$4=$C$2:$C$1100,'resultats a exporter'!$CY$4=$E$2:$E$1100,'resultats a exporter'!$CZ$4=$G$2:$G$1100),'resultats a exporter'!$DA$4,\"\")","v":""},{"$f":"IF(AND('resultats a exporter'!$CW$4=$I$2:$I$1100,'resultats a exporter'!$CX$4=$C$2:$C$1100,'resultats a exporter'!$CY$4=$E$2:$E$1100,'resultats a exporter'!$CZ$4=$G$2:$G$1100),'resultats a exporter'!$DB$4,\"\")","v":""},null,null,null,null,"vendredi 13-déc-2024, 20h30",null,null,"","",null,null,null,null,null,null,null,null,null,null,null,null,null,null,null,null,null,null,"",""]
[null,null,"VETERANSD2NORD","NORD","CS Tricolore Saverne 3",3,"CLTT Menchhoffen 2",2,7,"2024-12-13","vendredi","20h30","Journée 7",{"$f":"IF(AND('resultats a exporter'!$CW$4=$I$2:$I$1100,'resultats a exporter'!$CX$4=$C$2:$C$1100,'resultats a exporter'!$CY$4=$E$2:$E$1100,'resultats a exporter'!$CZ$4=$G$2:$G$1100),'resultats a exporter'!$DA$4,\"\")","v":""},{"$f":"IF(AND('resultats a exporter'!$CW$4=$I$2:$I$1100,'resultats a exporter'!$CX$4=$C$2:$C$1100,'resultats a exporter'!$CY$4=$E$2:$E$1100,'resultats a exporter'!$CZ$4=$G$2:$G$1100),'resultats a exporter'!$DB$4,\"\")","v":""},null,null,null,null,"vendredi 13-déc-2024, 20h30",null,null,"","",null,null,null,null,null,null,null,null,null,null,null,null,null,null,null,null,null,null,"",""]
[null,null,"VETERANSD2NORD","NORD","CLTT Menchhoffen 3",3,"MJC Kirrwiller 2",2,7,"2024-12-12","jeudi","20h00","Journée 7",{"$f":"IF(AND('resultats a exporter'!$CW$4=$I$2:$I$1100,'resultats a exporter'!$CX$4=$C$2:$C$1100,'resultats a exporter'!$CY$4=$E$2:$E$1100,'resultats a exporter'!$CZ$4=$G$2:$G$1100),'resultats a exporter'!$DA$4,\"\")","v":""},{"$f":"IF(AND('resultats a exporter'!$CW$4=$I$2:$I$1100,'resultats a exporter'!$CX$4=$C$2:$C$1100,'resultats a exporter'!$CY$4=$E$2:$E$1100,'resultats a exporter'!$CZ$4=$G$2:$G$1100),'resultats a exporter'!$DB$4,\"\")","v":""},null,null,null,null,"jeudi 12-déc-2024, 20h00",null,null,"","",null,null,null,null,null,null,null,null,null,null,null,null,null,null,null,null,null,null,"",""]
[null,null,"VETERANSD2NORD","NORD","ASP Gottenhouse 2",2,"CTT 77 Val de Moder 3",3,7,"2024-12-10","mardi","20h00","Journée 7",{"$f":"IF(AND('resultats a exporter'!$CW$4=$I$2:$I$1100,'resultats a exporter'!$CX$4=$C$2:$C$1100,'resultats a exporter'!$CY$4=$E$2:$E$1100,'resultats a exporter'!$CZ$4=$G$2:$G$1100),'resultats a exporter'!$DA$4,\"\")","v":""},{"$f":"IF(AND('resultats a exporter'!$CW$4=$I$2:$I$1100,'resultats a exporter'!$CX$4=$C$2:$C$1100,'resultats a exporter'!$CY$4=$E$2:$E$1100,'resultats a exporter'!$CZ$4=$G$2:$G$1100),'resultats a exporter'!$DB$4,\"\")","v":""},null,null,null,null,"mardi 10-déc-2024, 20h00",null,null,"","",null,null,null,null,null,null,null,null,null,null,null,null,null,null,null,null,null,null,"",""]
[null,null,"VETERANSD2NORD","NORD","MJC Kirrwiller 1",1,"Hanau TT 2",2,7,"2024-12-12","jeudi","20h00","Journée 7",{"$f":"IF(AND('resultats a exporter'!$CW$4=$I$2:$I$1100,'resultats a exporter'!$CX$4=$C$2:$C$1100,'resultats a exporter'!$CY$4=$E$2:$E$1100,'resultats a exporter'!$CZ$4=$G$2:$G$1100),'resultats a exporter'!$DA$4,\"\")","v":""},{"$f":"IF(AND('resultats a exporter'!$CW$4=$I$2:$I$1100,'resultats a exporter'!$CX$4=$C$2:$C$1100,'resultats a exporter'!$CY$4=$E$2:$E$1100,'resultats a exporter'!$CZ$4=$G$2:$G$1100),'resultats a exporter'!$DB$4,\"\")","v":""},null,null,null,null,"jeudi 12-déc-2024, 20h00",null,null,"","",null,null,null,null,null,null,null,null,null,null,null,null,null,null,null,null,null,null,"",""]
[null,null,"VETERANSD2NORD","NORD","MJC Kirrwiller 2",2,"CS Tricolore Saverne 2",2,8,"2025-01-02","jeudi","20h00","Journée 8",{"$f":"IF(AND('resultats a exporter'!$CW$4=$I$2:$I$1100,'resultats a exporter'!$CX$4=$C$2:$C$1100,'resultats a exporter'!$CY$4=$E$2:$E$1100,'resultats a exporter'!$CZ$4=$G$2:$G$1100),'resultats a exporter'!$DA$4,\"\")","v":""},{"$f":"IF(AND('resultats a exporter'!$CW$4=$I$2:$I$1100,'resultats a exporter'!$CX$4=$C$2:$C$1100,'resultats a exporter'!$CY$4=$E$2:$E$1100,'resultats a exporter'!$CZ$4=$G$2:$G$1100),'resultats a exporter'!$DB$4,\"\")","v":""},null,null,null,null,"jeudi 02-janv-2025, 20h00",null,null,"","",null,null,null,null,null,null,null,null,null,null,null,null,null,null,null,null,null,null,"",""]
[null,null,"VETERANSD2NORD","NORD","CLTT Menchhoffen 2",2,"Liberté Dettwiller 2",2,8,"2025-01-02","jeudi","20h00","Journée 8",{"$f":"IF(AND('resultats a exporter'!$CW$4=$I$2:$I$1100,'resultats a exporter'!$CX$4=$C$2:$C$1100,'resultats a exporter'!$CY$4=$E$2:$E$1100,'resultats a exporter'!$CZ$4=$G$2:$G$1100),'resultats a exporter'!$DA$4,\"\")","v":""},{"$f":"IF(AND('resultats a exporter'!$CW$4=$I$2:$I$1100,'resultats a exporter'!$CX$4=$C$2:$C$1100,'resultats a exporter'!$CY$4=$E$2:$E$1100,'resultats a exporter'!$CZ$4=$G$2:$G$1100),'resultats a exporter'!$DB$4,\"\")","v":""},null,null,null,null,"jeudi 02-janv-2025, 20h00",null,null,"","",null,null,null,null,null,null,null,null,null,null,null,null,null,null,null,null,null,null,"",""]
[null,null,"VETERANSD2NORD","NORD","CTT 77 Val de Moder 3",3,"MJC Kirrwiller 1",1,8,"2025-01-02","jeudi","19h30","Journée 8",{"$f":"IF(AND('resultats a exporter'!$CW$4=$I$2:$I$1100,'resultats a exporter'!$CX$4=$C$2:$C$1100,'resultats a exporter'!$CY$4=$E$2:$E$1100,'resultats a exporter'!$CZ$4=$G$2:$G$1100),'resultats a exporter'!$DA$4,\"\")","v":""},{"$f":"IF(AND('resultats a exporter'!$CW$4=$I$2:$I$1100,'resultats a exporter'!$CX$4=$C$2:$C$1100,'resultats a exporter'!$CY$4=$E$2:$E$1100,'resultats a exporter'!$CZ$4=$G$2:$G$1100),'resultats a exporter'!$DB$4,\"\")","v":""},null,null,null,null,"jeudi 02-janv-2025, 19h30",null,null,"","",null,null,null,null,null,null,null,null,null,null,null,null,null,null,null,null,null,null,"",""]
[null,null,"VETERANSD2NORD","NORD","Hanau TT 2",2,"CS Tricolore Saverne 3",3,8,"2025-01-03","vendredi","20h00","Journée 8",{"$f":"IF(AND('resultats a exporter'!$CW$4=$I$2:$I$1100,'resultats a exporter'!$CX$4=$C$2:$C$1100,'resultats a exporter'!$CY$4=$E$2:$E$1100,'resultats a exporter'!$CZ$4=$G$2:$G$1100),'resultats a exporter'!$DA$4,\"\")","v":""},{"$f":"IF(AND('resultats a exporter'!$CW$4=$I$2:$I$1100,'resultats a exporter'!$CX$4=$C$2:$C$1100,'resultats a exporter'!$CY$4=$E$2:$E$1100,'resultats a exporter'!$CZ$4=$G$2:$G$1100),'resultats a exporter'!$DB$4,\"\")","v":""},null,null,null,null,"vendredi 03-janv-2025, 20h00",null,null,"","",null,null,null,null,null,null,null,null,null,null,null,null,null,null,null,null,null,null,"",""]
[null,null,"VETERANSD2NORD","NORD","CLTT Menchhoffen 3",3,"ASP Gottenhouse 2",2,8,"2025-01-02","jeudi","20h00","Journée 8",{"$f":"IF(AND('resultats a exporter'!$CW$4=$I$2:$I$1100,'resultats a exporter'!$CX$4=$C$2:$C$1100,'resultats a exporter'!$CY$4=$E$2:$E$1100,'resultats a exporter'!$CZ$4=$G$2:$G$1100),'resultats a exporter'!$DA$4,\"\")","v":""},{"$f":"IF(AND('resultats a exporter'!$CW$4=$I$2:$I$1100,'resultats a exporter'!$CX$4=$C$2:$C$1100,'resultats a exporter'!$CY$4=$E$2:$E$1100,'resultats a exporter'!$CZ$4=$G$2:$G$1100),'resultats a exporter'!$DB$4,\"\")","v":""},null,null,null,null,"jeudi 02-janv-2025, 20h00",null,null,"","",null,null,null,null,null,null,null,null,null,null,null,null,null,null,null,null,null,null,"",""]
[null,null,"VETERANSD2NORD","NORD","CS Tricolore Saverne 2",2,"CLTT Menchhoffen 2",2,9,"2025-01-17","vendredi","20h30","Journée 9",{"$f":"IF(AND('resultats a exporter'!$CW$4=$I$2:$I$1100,'resultats a exporter'!$CX$4=$C$2:$C$1100,'resultats a exporter'!$CY$4=$E$2:$E$1100,'resultats a exporter'!$CZ$4=$G$2:$G$1100),'resultats a exporter'!$DA$4,\"\")","v":""},{"$f":"IF(AND('resultats a exporter'!$CW$4=$I$2:$I$1100,'resultats a exporter'!$CX$4=$C$2:$C$1100,'resultats a exporter'!$CY$4=$E$2:$E$1100,'resultats a exporter'!$CZ$4=$G$2:$G$1100),'resultats a exporter'!$DB$4,\"\")","v":""},null,null,null,null,"vendredi 17-janv-2025, 20h30",null,null,"","",null,null,null,null,null,null,null,null,null,null,null,null,null,null,null,null,null,null,"",""]
[null,null,"VETERANSD2NORD","NORD","CS Tricolore Saverne 3",3,"MJC Kirrwiller 2",2,9,"2025-01-17","vendredi","20h30","Journée 9",{"$f":"IF(AND('resultats a exporter'!$CW$4=$I$2:$I$1100,'resultats a exporter'!$CX$4=$C$2:$C$1100,'resultats a exporter'!$CY$4=$E$2:$E$1100,'resultats a exporter'!$CZ$4=$G$2:$G$1100),'resultats a exporter'!$DA$4,\"\")","v":""},{"$f":"IF(AND('resultats a exporter'!$CW$4=$I$2:$I$1100,'resultats a exporter'!$CX$4=$C$2:$C$1100,'resultats a exporter'!$CY$4=$E$2:$E$1100,'resultats a exporter'!$CZ$4=$G$2:$G$1100),'resultats a exporter'!$DB$4,\"\")","v":""},null,null,null,null,"vendredi 17-janv-2025, 20h30",null,null,"","",null,null,null,null,null,null,null,null,null,null,null,null,null,null,null,null,null,null,"",""]
[null,null,"VETERANSD2NORD","NORD","Liberté Dettwiller 2",2,"CTT 77 Val de Moder 3",3,9,"2025-01-16","jeudi","20h00","Journée 9",{"$f":"IF(AND('resultats a exporter'!$CW$4=$I$2:$I$1100,'resultats a exporter'!$CX$4=$C$2:$C$1100,'resultats a exporter'!$CY$4=$E$2:$E$1100,'resultats a exporter'!$CZ$4=$G$2:$G$1100),'resultats a exporter'!$DA$4,\"\")","v":""},{"$f":"IF(AND('resultats a exporter'!$CW$4=$I$2:$I$1100,'resultats a exporter'!$CX$4=$C$2:$C$1100,'resultats a exporter'!$CY$4=$E$2:$E$1100,'resultats a exporter'!$CZ$4=$G$2:$G$1100),'resultats a exporter'!$DB$4,\"\")","v":""},null,null,null,null,"jeudi 16-janv-2025, 20h00",null,null,"","",null,null,null,null,null,null,null,null,null,null,null,null,null,null,null,null,null,null,"",""]
[null,null,"VETERANSD2NORD","NORD","ASP Gottenhouse 2",2,"Hanau TT 2",2,9,"2025-01-14","mardi","20h00","Journée 9",{"$f":"IF(AND('resultats a exporter'!$CW$4=$I$2:$I$1100,'resultats a exporter'!$CX$4=$C$2:$C$1100,'resultats a exporter'!$CY$4=$E$2:$E$1100,'resultats a exporter'!$CZ$4=$G$2:$G$1100),'resultats a exporter'!$DA$4,\"\")","v":""},{"$f":"IF(AND('resultats a exporter'!$CW$4=$I$2:$I$1100,'resultats a exporter'!$CX$4=$C$2:$C$1100,'resultats a exporter'!$CY$4=$E$2:$E$1100,'resultats a exporter'!$CZ$4=$G$2:$G$1100),'resultats a exporter'!$DB$4,\"\")","v":""},null,null,null,null,"mardi 14-janv-2025, 20h00",null,null,"","",null,null,null,null,null,null,null,null,null,null,null,null,null,null,null,null,null,null,"",""]
[null,null,"VETERANSD2NORD","NORD","MJC Kirrwiller 1",1,"CLTT Menchhoffen 3",3,9,"2025-01-16","jeudi","20h00","Journée 9",{"$f":"IF(AND('resultats a exporter'!$CW$4=$I$2:$I$1100,'resultats a exporter'!$CX$4=$C$2:$C$1100,'resultats a exporter'!$CY$4=$E$2:$E$1100,'resultats a exporter'!$CZ$4=$G$2:$G$1100),'resultats a exporter'!$DA$4,\"\")","v":""},{"$f":"IF(AND('resultats a exporter'!$CW$4=$I$2:$I$1100,'resultats a exporter'!$CX$4=$C$2:$C$1100,'resultats a exporter'!$CY$4=$E$2:$E$1100,'resultats a exporter'!$CZ$4=$G$2:$G$1100),'resultats a exporter'!$DB$4,\"\")","v":""},null,null,null,null,"jeudi 16-janv-2025, 20h00",null,null,"","",null,null,null,null,null,null,null,null,null,null,null,null,null,null,null,null,null,null,"",""]
[null,null,"VETERANSD2NORD","NORD","CS Tricolore Saverne 3",3,"CS Tricolore Saverne 2",2,10,"2025-01-31","vendredi","20h30","Journée 10",{"$f":"IF(AND('resultats a exporter'!$CW$4=$I$2:$I$1100,'resultats a exporter'!$CX$4=$C$2:$C$1100,'resultats a exporter'!$CY$4=$E$2:$E$1100,'resultats a exporter'!$CZ$4=$G$2:$G$1100),'resultats a exporter'!$DA$4,\"\")","v":""},{"$f":"IF(AND('resultats a exporter'!$CW$4=$I$2:$I$1100,'resultats a exporter'!$CX$4=$C$2:$C$1100,'resultats a exporter'!$CY$4=$E$2:$E$1100,'resultats a exporter'!$CZ$4=$G$2:$G$1100),'resultats a exporter'!$DB$4,\"\")","v":""},null,null,null,null,"vendredi 31-janv-2025, 20h30",null,null,{"$f":"IF(AND(N443<>\"\",O443<>\"\"),T443,\"\")","v":""},{"$f":"IF(AND(N443<>\"\",O443<>\"\"),E443&\" - \"&G443,\"\")","v":""},null,null,null,null,null,null,null,null,null,null,null,null,null,null,null,null,null,null,{"$f":"IF(AND(N443<>\"\",O443<>\"\"),E443,\"\")","v":""},{"$f":"IF(AND(N443<>\"\",O443<>\"\"),G443,\"\")","v":""}]
[null,null,"VETERANSD2NORD","NORD","CLTT Menchhoffen 3",3,"CLTT Menchhoffen 2",2,10,"2025-01-30","jeudi","20h00","Journée 10",{"$f":"IF(AND('resultats a exporter'!$CW$4=$I$2:$I$1100,'resultats a exporter'!$CX$4=$C$2:$C$1100,'resultats a exporter'!$CY$4=$E$2:$E$1100,'resultats a exporter'!$CZ$4=$G$2:$G$1100),'resultats a exporter'!$DA$4,\"\")","v":""},{"$f":"IF(AND('resultats a exporter'!$CW$4=$I$2:$I$1100,'resultats a exporter'!$CX$4=$C$2:$C$1100,'resultats a exporter'!$CY$4=$E$2:$E$1100,'resultats a exporter'!$CZ$4=$G$2:$G$1100),'resultats a exporter'!$DB$4,\"\")","v":""},null,null,null,null,"jeudi 30-janv-2025, 20h00",null,null,"","",null,null,null,null,null,null,null,null,null,null,null,null,null,null,null,null,null,null,"",""]
[null,null,"VETERANSD2NORD","NORD","MJC Kirrwiller 1",1,"MJC Kirrwiller 2",2,10,"2025-01-30","jeudi","20h00","Journée 10",{"$f":"IF(AND('resultats a exporter'!$CW$4=$I$2:$I$1100,'resultats a exporter'!$CX$4=$C$2:$C$1100,'resultats a exporter'!$CY$4=$E$2:$E$1100,'resultats a exporter'!$CZ$4=$G$2:$G$1100),'resultats a exporter'!$DA$4,\"\")","v":""},{"$f":"IF(AND('resultats a exporter'!$CW$4=$I$2:$I$1100,'resultats a exporter'!$CX$4=$C$2:$C$1100,'resultats a exporter'!$CY$4=$E$2:$E$1100,'resultats a exporter'!$CZ$4=$G$2:$G$1100),'resultats a exporter'!$DB$4,\"\")","v":""},null,null,null,null,"jeudi 30-janv-2025, 20h00",null,null,"","",null,null,null,null,null,null,null,null,null,null,null,null,null,null,null,null,null,null,"",""]
[null,null,"VETERANSD2NORD","NORD","ASP Gottenhouse 2",2,"Liberté Dettwiller 2",2,10,"2025-01-28","mardi","20h00","Journée 10",{"$f":"IF(AND('resultats a exporter'!$CW$4=$I$2:$I$1100,'resultats a exporter'!$CX$4=$C$2:$C$1100,'resultats a exporter'!$CY$4=$E$2:$E$1100,'resultats a exporter'!$CZ$4=$G$2:$G$1100),'resultats a exporter'!$DA$4,\"\")","v":""},{"$f":"IF(AND('resultats a exporter'!$CW$4=$I$2:$I$1100,'resultats a exporter'!$CX$4=$C$2:$C$1100,'resultats a exporter'!$CY$4=$E$2:$E$1100,'resultats a exporter'!$CZ$4=$G$2:$G$1100),'resultats a exporter'!$DB$4,\"\")","v":""},null,null,null,null,"mardi 28-janv-2025, 20h00",null,null,"","",null,null,null,null,null,null,null,null,null,null,null,null,null,null,null,null,null,null,"",""]
[null,null,"VETERANSD2NORD","NORD","CTT 77 Val de Moder 3",3,"Hanau TT 2",2,10,"2025-01-30","jeudi","19h30","Journée 10",{"$f":"IF(AND('resultats a exporter'!$CW$4=$I$2:$I$1100,'resultats a exporter'!$CX$4=$C$2:$C$1100,'resultats a exporter'!$CY$4=$E$2:$E$1100,'resultats a exporter'!$CZ$4=$G$2:$G$1100),'resultats a exporter'!$DA$4,\"\")","v":""},{"$f":"IF(AND('resultats a exporter'!$CW$4=$I$2:$I$1100,'resultats a exporter'!$CX$4=$C$2:$C$1100,'resultats a exporter'!$CY$4=$E$2:$E$1100,'resultats a exporter'!$CZ$4=$G$2:$G$1100),'resultats a exporter'!$DB$4,\"\")","v":""},null,null,null,null,"jeudi 30-janv-2025, 19h30",null,null,"","",null,null,null,null,null,null,null,null,null,null,null,null,null,null,null,null,null,null,"",""]
[null,null,"VETERANSD2NORD","NORD","CS Tricolore Saverne 2",2,"CLTT Menchhoffen 3",3,11,"2025-02-14","vendredi","20h30","Journée 11",{"$f":"IF(AND('resultats a exporter'!$CW$4=$I$2:$I$1100,'resultats a exporter'!$CX$4=$C$2:$C$1100,'resultats a exporter'!$CY$4=$E$2:$E$1100,'resultats a exporter'!$CZ$4=$G$2:$G$1100),'resultats a exporter'!$DA$4,\"\")","v":""},{"$f":"IF(AND('resultats a exporter'!$CW$4=$I$2:$I$1100,'resultats a exporter'!$CX$4=$C$2:$C$1100,'resultats a exporter'!$CY$4=$E$2:$E$1100,'resultats a exporter'!$CZ$4=$G$2:$G$1100),'resultats a exporter'!$DB$4,\"\")","v":""},null,null,null,null,"vendredi 14-févr-2025, 20h30",null,null,"","",null,null,null,null,null,null,null,null,null,null,null,null,null,null,null,null,null,null,"",""]
[null,null,"VETERANSD2NORD","NORD","CLTT Menchhoffen 2",2,"MJC Kirrwiller 1",1,11,"2025-02-13","jeudi","20h00","Journée 11",{"$f":"IF(AND('resultats a exporter'!$CW$4=$I$2:$I$1100,'resultats a exporter'!$CX$4=$C$2:$C$1100,'resultats a exporter'!$CY$4=$E$2:$E$1100,'resultats a exporter'!$CZ$4=$G$2:$G$1100),'resultats a exporter'!$DA$4,\"\")","v":""},{"$f":"IF(AND('resultats a exporter'!$CW$4=$I$2:$I$1100,'resultats a exporter'!$CX$4=$C$2:$C$1100,'resultats a exporter'!$CY$4=$E$2:$E$1100,'resultats a exporter'!$CZ$4=$G$2:$G$1100),'resultats a exporter'!$DB$4,\"\")","v":""},null,null,null,null,"jeudi 13-févr-2025, 20h00",null,null,"","",null,null,null,null,null,null,null,null,null,null,null,null,null,null,null,null,null,null,"",""]
[null,null,"VETERANSD2NORD","NORD","MJC Kirrwiller 2",2,"ASP Gottenhouse 2",2,11,"2025-02-13","jeudi","20h00","Journée 11",{"$f":"IF(AND('resultats a exporter'!$CW$4=$I$2:$I$1100,'resultats a exporter'!$CX$4=$C$2:$C$1100,'resultats a exporter'!$CY$4=$E$2:$E$1100,'resultats a exporter'!$CZ$4=$G$2:$G$1100),'resultats a exporter'!$DA$4,\"\")","v":""},{"$f":"IF(AND('resultats a exporter'!$CW$4=$I$2:$I$1100,'resultats a exporter'!$CX$4=$C$2:$C$1100,'resultats a exporter'!$CY$4=$E$2:$E$1100,'resultats a exporter'!$CZ$4=$G$2:$G$1100),'resultats a exporter'!$DB$4,\"\")","v":""},null,null,null,null,"jeudi 13-févr-2025, 20h00",null,null,"","",null,null,null,null,null,null,null,null,null,null,null,null,null,null,null,null,null,null,"",""]
[null,null,"VETERANSD2NORD","NORD","Liberté Dettwiller 2",2,"Hanau TT 2",2,11,"2025-02-13","jeudi","20h00","Journée 11",{"$f":"IF(AND('resultats a exporter'!$CW$4=$I$2:$I$1100,'resultats a exporter'!$CX$4=$C$2:$C$1100,'resultats a exporter'!$CY$4=$E$2:$E$1100,'resultats a exporter'!$CZ$4=$G$2:$G$1100),'resultats a exporter'!$DA$4,\"\")","v":""},{"$f":"IF(AND('resultats a exporter'!$CW$4=$I$2:$I$1100,'resultats a exporter'!$CX$4=$C$2:$C$1100,'resultats a exporter'!$CY$4=$E$2:$E$1100,'resultats a exporter'!$CZ$4=$G$2:$G$1100),'resultats a exporter'!$DB$4,\"\")","v":""},null,null,null,null,"jeudi 13-févr-2025, 20h00",null,null,"","",null,null,null,null,null,null,null,null,null,null,null,null,null,null,null,null,null,null,"",""]
[null,null,"VETERANSD2NORD","NORD","CTT 77 Val de Moder 3",3,"CS Tricolore Saverne 3",3,11,"2025-02-13","jeudi","19h30","Journée 11",{"$f":"IF(AND('resultats a exporter'!$CW$4=$I$2:$I$1100,'resultats a exporter'!$CX$4=$C$2:$C$1100,'resultats a exporter'!$CY$4=$E$2:$E$1100,'resultats a exporter'!$CZ$4=$G$2:$G$1100),'resultats a exporter'!$DA$4,\"\")","v":""},{"$f":"IF(AND('resultats a exporter'!$CW$4=$I$2:$I$1100,'resultats a exporter'!$CX$4=$C$2:$C$1100,'resultats a exporter'!$CY$4=$E$2:$E$1100,'resultats a exporter'!$CZ$4=$G$2:$G$1100),'resultats a exporter'!$DB$4,\"\")","v":""},null,null,null,null,"jeudi 13-févr-2025, 19h30",null,null,"","",null,null,null,null,null,null,null,null,null,null,null,null,null,null,null,null,null,null,"",""]
[null,null,"VETERANSD2NORD","NORD","MJC Kirrwiller 1",1,"CS Tricolore Saverne 2",2,12,"2025-02-20","jeudi","20h00","Journée 12",{"$f":"IF(AND('resultats a exporter'!$CW$4=$I$2:$I$1100,'resultats a exporter'!$CX$4=$C$2:$C$1100,'resultats a exporter'!$CY$4=$E$2:$E$1100,'resultats a exporter'!$CZ$4=$G$2:$G$1100),'resultats a exporter'!$DA$4,\"\")","v":""},{"$f":"IF(AND('resultats a exporter'!$CW$4=$I$2:$I$1100,'resultats a exporter'!$CX$4=$C$2:$C$1100,'resultats a exporter'!$CY$4=$E$2:$E$1100,'resultats a exporter'!$CZ$4=$G$2:$G$1100),'resultats a exporter'!$DB$4,\"\")","v":""},null,null,null,null,"jeudi 20-févr-2025, 20h00",null,null,"","",null,null,null,null,null,null,null,null,null,null,null,null,null,null,null,null,null,null,"",""]
[null,null,"VETERANSD2NORD","NORD","ASP Gottenhouse 2",2,"CLTT Menchhoffen 2",2,12,"2025-02-18","mardi","20h00","Journée 12",{"$f":"IF(AND('resultats a exporter'!$CW$4=$I$2:$I$1100,'resultats a exporter'!$CX$4=$C$2:$C$1100,'resultats a exporter'!$CY$4=$E$2:$E$1100,'resultats a exporter'!$CZ$4=$G$2:$G$1100),'resultats a exporter'!$DA$4,\"\")","v":""},{"$f":"IF(AND('resultats a exporter'!$CW$4=$I$2:$I$1100,'resultats a exporter'!$CX$4=$C$2:$C$1100,'resultats a exporter'!$CY$4=$E$2:$E$1100,'resultats a exporter'!$CZ$4=$G$2:$G$1100),'resultats a exporter'!$DB$4,\"\")","v":""},null,null,null,null,"mardi 18-févr-2025, 20h00",null,null,"","",null,null,null,null,null,null,null,null,null,null,null,null,null,null,null,null,null,null,"",""]
[null,null,"VETERANSD2NORD","NORD","Hanau TT 2",2,"MJC Kirrwiller 2",2,12,"2025-02-18","mardi","20h00","Journée 12",{"$f":"IF(AND('resultats a exporter'!$CW$4=$I$2:$I$1100,'resultats a exporter'!$CX$4=$C$2:$C$1100,'resultats a exporter'!$CY$4=$E$2:$E$1100,'resultats a exporter'!$CZ$4=$G$2:$G$1100),'resultats a exporter'!$DA$4,\"\")","v":""},{"$f":"IF(AND('resultats a exporter'!$CW$4=$I$2:$I$1100,'resultats a exporter'!$CX$4=$C$2:$C$1100,'resultats a exporter'!$CY$4=$E$2:$E$1100,'resultats a exporter'!$CZ$4=$G$2:$G$1100),'resultats a exporter'!$DB$4,\"\")","v":""},null,null,null,null,"mardi 18-févr-2025, 20h00",null,null,"","",null,null,null,null,null,null,null,null,null,null,null,null,null,null,null,null,null,null,"",""]
[null,null,"VETERANSD2NORD","NORD","CS Tricolore Saverne 3",3,"Liberté Dettwiller 2",2,12,"2025-02-21","vendredi","20h30","Journée 12",{"$f":"IF(AND('resultats a exporter'!$CW$4=$I$2:$I$1100,'resultats a exporter'!$CX$4=$C$2:$C$1100,'resultats a exporter'!$CY$4=$E$2:$E$1100,'resultats a exporter'!$CZ$4=$G$2:$G$1100),'resultats a exporter'!$DA$4,\"\")","v":""},{"$f":"IF(AND('resultats a exporter'!$CW$4=$I$2:$I$1100,'resultats a exporter'!$CX$4=$C$2:$C$1100,'resultats a exporter'!$CY$4=$E$2:$E$1100,'resultats a exporter'!$CZ$4=$G$2:$G$1100),'resultats a exporter'!$DB$4,\"\")","v":""},null,null,null,null,"vendredi 21-févr-2025, 20h30",null,null,"","",null,null,null,null,null,null,null,null,null,null,null,null,null,null,null,null,null,null,"",""]
[null,null,"VETERANSD2NORD","NORD","CLTT Menchhoffen 3",3,"CTT 77 Val de Moder 3",3,12,"2025-02-20","jeudi","20h00","Journée 12",{"$f":"IF(AND('resultats a exporter'!$CW$4=$I$2:$I$1100,'resultats a exporter'!$CX$4=$C$2:$C$1100,'resultats a exporter'!$CY$4=$E$2:$E$1100,'resultats a exporter'!$CZ$4=$G$2:$G$1100),'resultats a exporter'!$DA$4,\"\")","v":""},{"$f":"IF(AND('resultats a exporter'!$CW$4=$I$2:$I$1100,'resultats a exporter'!$CX$4=$C$2:$C$1100,'resultats a exporter'!$CY$4=$E$2:$E$1100,'resultats a exporter'!$CZ$4=$G$2:$G$1100),'resultats a exporter'!$DB$4,\"\")","v":""},null,null,null,null,"jeudi 20-févr-2025, 20h00",null,null,"","",null,null,null,null,null,null,null,null,null,null,null,null,null,null,null,null,null,null,"",""]
[null,null,"VETERANSD2NORD","NORD","CS Tricolore Saverne 2",2,"ASP Gottenhouse 2",2,13,"2025-03-07","vendredi","20h30","Journée 13",{"$f":"IF(AND('resultats a exporter'!$CW$4=$I$2:$I$1100,'resultats a exporter'!$CX$4=$C$2:$C$1100,'resultats a exporter'!$CY$4=$E$2:$E$1100,'resultats a exporter'!$CZ$4=$G$2:$G$1100),'resultats a exporter'!$DA$4,\"\")","v":""},{"$f":"IF(AND('resultats a exporter'!$CW$4=$I$2:$I$1100,'resultats a exporter'!$CX$4=$C$2:$C$1100,'resultats a exporter'!$CY$4=$E$2:$E$1100,'resultats a exporter'!$CZ$4=$G$2:$G$1100),'resultats a exporter'!$DB$4,\"\")","v":""},null,null,null,null,"vendredi 07-mars-2025, 20h30",null,null,"","",null,null,null,null,null,null,null,null,null,null,null,null,null,null,null,null,null,null,"",""]
[null,null,"VETERANSD2NORD","NORD","CLTT Menchhoffen 2",2,"Hanau TT 2",2,13,"2025-03-06","jeudi","20h00","Journée 13",{"$f":"IF(AND('resultats a exporter'!$CW$4=$I$2:$I$1100,'resultats a exporter'!$CX$4=$C$2:$C$1100,'resultats a exporter'!$CY$4=$E$2:$E$1100,'resultats a exporter'!$CZ$4=$G$2:$G$1100),'resultats a exporter'!$DA$4,\"\")","v":""},{"$f":"IF(AND('resultats a exporter'!$CW$4=$I$2:$I$1100,'resultats a exporter'!$CX$4=$C$2:$C$1100,'resultats a exporter'!$CY$4=$E$2:$E$1100,'resultats a exporter'!$CZ$4=$G$2:$G$1100),'resultats a exporter'!$DB$4,\"\")","v":""},null,null,null,null,"jeudi 06-mars-2025, 20h00",null,null,"","",null,null,null,null,null,null,null,null,null,null,null,null,null,null,null,null,null,null,"",""]
[null,null,"VETERANSD2NORD","NORD","MJC Kirrwiller 2",2,"CTT 77 Val de Moder 3",3,13,"2025-03-06","jeudi","20h00","Journée 13",{"$f":"IF(AND('resultats a exporter'!$CW$4=$I$2:$I$1100,'resultats a exporter'!$CX$4=$C$2:$C$1100,'resultats a exporter'!$CY$4=$E$2:$E$1100,'resultats a exporter'!$CZ$4=$G$2:$G$1100),'resultats a exporter'!$DA$4,\"\")","v":""},{"$f":"IF(AND('resultats a exporter'!$CW$4=$I$2:$I$1100,'resultats a exporter'!$CX$4=$C$2:$C$1100,'resultats a exporter'!$CY$4=$E$2:$E$1100,'resultats a exporter'!$CZ$4=$G$2:$G$1100),'resultats a exporter'!$DB$4,\"\")","v":""},null,null,null,null,"jeudi 06-mars-2025, 20h00",null,null,"","",null,null,null,null,null,null,null,null,null,null,null,null,null,null,null,null,null,null,"",""]
[null,null,"VETERANSD2NORD","NORD","Liberté Dettwiller 2",2,"CLTT Menchhoffen 3",3,13,"2025-03-06","jeudi","20h00","Journée 13",{"$f":"IF(AND('resultats a exporter'!$CW$4=$I$2:$I$1100,'resultats a exporter'!$CX$4=$C$2:$C$1100,'resultats a exporter'!$CY$4=$E$2:$E$1100,'resultats a exporter'!$CZ$4=$G$2:$G$1100),'resultats a exporter'!$DA$4,\"\")","v":""},{"$f":"IF(AND('resultats a exporter'!$CW$4=$I$2:$I$1100,'resultats a exporter'!$CX$4=$C$2:$C$1100,'resultats a exporter'!$CY$4=$E$2:$E$1100,'resultats a exporter'!$CZ$4=$G$2:$G$1100),'resultats a exporter'!$DB$4,\"\")","v":""},null,null,null,null,"jeudi 06-mars-2025, 20h00",null,null,"","",null,null,null,null,null,null,null,null,null,null,null,null,null,null,null,null,null,null,"",""]
[null,null,"VETERANSD2NORD","NORD","CS Tricolore Saverne 3",3,"MJC Kirrwiller 1",1,13,"2025-03-07","vendredi","20h30","Journée 13",{"$f":"IF(AND('resultats a exporter'!$CW$4=$I$2:$I$1100,'resultats a exporter'!$CX$4=$C$2:$C$1100,'resultats a exporter'!$CY$4=$E$2:$E$1100,'resultats a exporter'!$CZ$4=$G$2:$G$1100),'resultats a exporter'!$DA$4,\"\")","v":""},{"$f":"IF(AND('resultats a exporter'!$CW$4=$I$2:$I$1100,'resultats a exporter'!$CX$4=$C$2:$C$1100,'resultats a exporter'!$CY$4=$E$2:$E$1100,'resultats a exporter'!$CZ$4=$G$2:$G$1100),'resultats a exporter'!$DB$4,\"\")","v":""},null,null,null,null,"vendredi 07-mars-2025, 20h30",null,null,"","",null,null,null,null,null,null,null,null,null,null,null,null,null,null,null,null,null,null,"",""]
[null,null,"VETERANSD2NORD","NORD","CS Tricolore Saverne 2",2,"Hanau TT 2",2,14,"2025-03-28","vendredi","20h30","Journée 14",{"$f":"IF(AND('resultats a exporter'!$CW$4=$I$2:$I$1100,'resultats a exporter'!$CX$4=$C$2:$C$1100,'resultats a exporter'!$CY$4=$E$2:$E$1100,'resultats a exporter'!$CZ$4=$G$2:$G$1100),'resultats a exporter'!$DA$4,\"\")","v":""},{"$f":"IF(AND('resultats a exporter'!$CW$4=$I$2:$I$1100,'resultats a exporter'!$CX$4=$C$2:$C$1100,'resultats a exporter'!$CY$4=$E$2:$E$1100,'resultats a exporter'!$CZ$4=$G$2:$G$1100),'resultats a exporter'!$DB$4,\"\")","v":""},null,null,null,null,"vendredi 28-mars-2025, 20h30",null,null,"","",null,null,null,null,null,null,null,null,null,null,null,null,null,null,null,null,null,null,"",""]
[null,null,"VETERANSD2NORD","NORD","CTT 77 Val de Moder 3",3,"CLTT Menchhoffen 2",2,14,"2025-03-27","jeudi","19h30","Journée 14",{"$f":"IF(AND('resultats a exporter'!$CW$4=$I$2:$I$1100,'resultats a exporter'!$CX$4=$C$2:$C$1100,'resultats a exporter'!$CY$4=$E$2:$E$1100,'resultats a exporter'!$CZ$4=$G$2:$G$1100),'resultats a exporter'!$DA$4,\"\")","v":""},{"$f":"IF(AND('resultats a exporter'!$CW$4=$I$2:$I$1100,'resultats a exporter'!$CX$4=$C$2:$C$1100,'resultats a exporter'!$CY$4=$E$2:$E$1100,'resultats a exporter'!$CZ$4=$G$2:$G$1100),'resultats a exporter'!$DB$4,\"\")","v":""},null,null,null,null,"jeudi 27-mars-2025, 19h30",null,null,"","",null,null,null,null,null,null,null,null,null,null,null,null,null,null,null,null,null,null,"",""]
[null,null,"VETERANSD2NORD","NORD","Liberté Dettwiller 2",2,"MJC Kirrwiller 2",2,14,"2025-03-27","jeudi","20h00","Journée 14",{"$f":"IF(AND('resultats a exporter'!$CW$4=$I$2:$I$1100,'resultats a exporter'!$CX$4=$C$2:$C$1100,'resultats a exporter'!$CY$4=$E$2:$E$1100,'resultats a exporter'!$CZ$4=$G$2:$G$1100),'resultats a exporter'!$DA$4,\"\")","v":""},{"$f":"IF(AND('resultats a exporter'!$CW$4=$I$2:$I$1100,'resultats a exporter'!$CX$4=$C$2:$C$1100,'resultats a exporter'!$CY$4=$E$2:$E$1100,'resultats a exporter'!$CZ$4=$G$2:$G$1100),'resultats a exporter'!$DB$4,\"\")","v":""},null,null,null,null,"jeudi 27-mars-2025, 20h00",null,null,"","",null,null,null,null,null,null,null,null,null,null,null,null,null,null,null,null,null,null,"",""]
[null,null,"VETERANSD2NORD","NORD","ASP Gottenhouse 2",2,"MJC Kirrwiller 1",1,14,"2025-03-25","mardi","20h00","Journée 14",{"$f":"IF(AND('resultats a exporter'!$CW$4=$I$2:$I$1100,'resultats a exporter'!$CX$4=$C$2:$C$1100,'resultats a exporter'!$CY$4=$E$2:$E$1100,'resultats a exporter'!$CZ$4=$G$2:$G$1100),'resultats a exporter'!$DA$4,\"\")","v":""},{"$f":"IF(AND('resultats a exporter'!$CW$4=$I$2:$I$1100,'resultats a exporter'!$CX$4=$C$2:$C$1100,'resultats a exporter'!$CY$4=$E$2:$E$1100,'resultats a exporter'!$CZ$4=$G$2:$G$1100),'resultats a exporter'!$DB$4,\"\")","v":""},null,null,null,null,"mardi 25-mars-2025, 20h00",null,null,"","",null,null,null,null,null,null,null,null,null,null,null,null,null,null,null,null,null,null,"",""]
[null,null,"VETERANSD2NORD","NORD","CLTT Menchhoffen 3",3,"CS Tricolore Saverne 3",3,14,"2025-03-27","jeudi","20h00","Journée 14",{"$f":"IF(AND('resultats a exporter'!$CW$4=$I$2:$I$1100,'resultats a exporter'!$CX$4=$C$2:$C$1100,'resultats a exporter'!$CY$4=$E$2:$E$1100,'resultats a exporter'!$CZ$4=$G$2:$G$1100),'resultats a exporter'!$DA$4,\"\")","v":""},{"$f":"IF(AND('resultats a exporter'!$CW$4=$I$2:$I$1100,'resultats a exporter'!$CX$4=$C$2:$C$1100,'resultats a exporter'!$CY$4=$E$2:$E$1100,'resultats a exporter'!$CZ$4=$G$2:$G$1100),'resultats a exporter'!$DB$4,\"\")","v":""},null,null,null,null,"jeudi 27-mars-2025, 20h00",null,null,"","",null,null,null,null,null,null,null,null,null,null,null,null,null,null,null,null,null,null,"",""]
[null,null,"VETERANSD2NORD","NORD","CS Tricolore Saverne 2",2,"CTT 77 Val de Moder 3",3,15,"2025-04-04","vendredi","20h30","Journée 15",{"$f":"IF(AND('resultats a exporter'!$CW$4=$I$2:$I$1100,'resultats a exporter'!$CX$4=$C$2:$C$1100,'resultats a exporter'!$CY$4=$E$2:$E$1100,'resultats a exporter'!$CZ$4=$G$2:$G$1100),'resultats a exporter'!$DA$4,\"\")","v":""},{"$f":"IF(AND('resultats a exporter'!$CW$4=$I$2:$I$1100,'resultats a exporter'!$CX$4=$C$2:$C$1100,'resultats a exporter'!$CY$4=$E$2:$E$1100,'resultats a exporter'!$CZ$4=$G$2:$G$1100),'resultats a exporter'!$DB$4,\"\")","v":""},null,null,null,null,"vendredi 04-avr-2025, 20h30",null,null,"","",null,null,null,null,null,null,null,null,null,null,null,null,null,null,null,null,null,null,"",""]
[null,null,"VETERANSD2NORD","NORD","MJC Kirrwiller 1",1,"Liberté Dettwiller 2",2,15,"2025-04-03","jeudi","20h00","Journée 15",{"$f":"IF(AND('resultats a exporter'!$CW$4=$I$2:$I$1100,'resultats a exporter'!$CX$4=$C$2:$C$1100,'resultats a exporter'!$CY$4=$E$2:$E$1100,'resultats a exporter'!$CZ$4=$G$2:$G$1100),'resultats a exporter'!$DA$4,\"\")","v":""},{"$f":"IF(AND('resultats a exporter'!$CW$4=$I$2:$I$1100,'resultats a exporter'!$CX$4=$C$2:$C$1100,'resultats a exporter'!$CY$4=$E$2:$E$1100,'resultats a exporter'!$CZ$4=$G$2:$G$1100),'resultats a exporter'!$DB$4,\"\")","v":""},null,null,null,null,"jeudi 03-avr-2025, 20h00",null,null,"","",null,null,null,null,null,null,null,null,null,null,null,null,null,null,null,null,null,null,"",""]
[null,null,"VETERANSD2NORD","NORD","CLTT Menchhoffen 2",2,"MJC Kirrwiller 2",2,15,"2025-04-03","jeudi","20h00","Journée 15",{"$f":"IF(AND('resultats a exporter'!$CW$4=$I$2:$I$1100,'resultats a exporter'!$CX$4=$C$2:$C$1100,'resultats a exporter'!$CY$4=$E$2:$E$1100,'resultats a exporter'!$CZ$4=$G$2:$G$1100),'resultats a exporter'!$DA$4,\"\")","v":""},{"$f":"IF(AND('resultats a exporter'!$CW$4=$I$2:$I$1100,'resultats a exporter'!$CX$4=$C$2:$C$1100,'resultats a exporter'!$CY$4=$E$2:$E$1100,'resultats a exporter'!$CZ$4=$G$2:$G$1100),'resultats a exporter'!$DB$4,\"\")","v":""},null,null,null,null,"jeudi 03-avr-2025, 20h00",null,null,"","",null,null,null,null,null,null,null,null,null,null,null,null,null,null,null,null,null,null,"",""]
[null,null,"VETERANSD2NORD","NORD","ASP Gottenhouse 2",2,"CS Tricolore Saverne 3",3,15,"2025-04-01","mardi","20h00","Journée 15",{"$f":"IF(AND('resultats a exporter'!$CW$4=$I$2:$I$1100,'resultats a exporter'!$CX$4=$C$2:$C$1100,'resultats a exporter'!$CY$4=$E$2:$E$1100,'resultats a exporter'!$CZ$4=$G$2:$G$1100),'resultats a exporter'!$DA$4,\"\")","v":""},{"$f":"IF(AND('resultats a exporter'!$CW$4=$I$2:$I$1100,'resultats a exporter'!$CX$4=$C$2:$C$1100,'resultats a exporter'!$CY$4=$E$2:$E$1100,'resultats a exporter'!$CZ$4=$G$2:$G$1100),'resultats a exporter'!$DB$4,\"\")","v":""},null,null,null,null,"mardi 01-avr-2025, 20h00",null,null,"","",null,null,null,null,null,null,null,null,null,null,null,null,null,null,null,null,null,null,"",""]
[null,null,"VETERANSD2NORD","NORD","Hanau TT 2",2,"CLTT Menchhoffen 3",3,15,"2025-04-01","mardi","20h00","Journée 15",{"$f":"IF(AND('resultats a exporter'!$CW$4=$I$2:$I$1100,'resultats a exporter'!$CX$4=$C$2:$C$1100,'resultats a exporter'!$CY$4=$E$2:$E$1100,'resultats a exporter'!$CZ$4=$G$2:$G$1100),'resultats a exporter'!$DA$4,\"\")","v":""},{"$f":"IF(AND('resultats a exporter'!$CW$4=$I$2:$I$1100,'resultats a exporter'!$CX$4=$C$2:$C$1100,'resultats a exporter'!$CY$4=$E$2:$E$1100,'resultats a exporter'!$CZ$4=$G$2:$G$1100),'resultats a exporter'!$DB$4,\"\")","v":""},null,null,null,null,"mardi 01-avr-2025, 20h00",null,null,"","",null,null,null,null,null,null,null,null,null,null,null,null,null,null,null,null,null,null,"",""]
[null,null,"VETERANSD2NORD","NORD","Liberté Dettwiller 2",2,"CS Tricolore Saverne 2",2,16,"2025-04-17","jeudi","20h00","Journée 16",{"$f":"IF(AND('resultats a exporter'!$CW$4=$I$2:$I$1100,'resultats a exporter'!$CX$4=$C$2:$C$1100,'resultats a exporter'!$CY$4=$E$2:$E$1100,'resultats a exporter'!$CZ$4=$G$2:$G$1100),'resultats a exporter'!$DA$4,\"\")","v":""},{"$f":"IF(AND('resultats a exporter'!$CW$4=$I$2:$I$1100,'resultats a exporter'!$CX$4=$C$2:$C$1100,'resultats a exporter'!$CY$4=$E$2:$E$1100,'resultats a exporter'!$CZ$4=$G$2:$G$1100),'resultats a exporter'!$DB$4,\"\")","v":""},null,null,null,null,"jeudi 17-avr-2025, 20h00",null,null,"","",null,null,null,null,null,null,null,null,null,null,null,null,null,null,null,null,null,null,"",""]
[null,null,"VETERANSD2NORD","NORD","CLTT Menchhoffen 2",2,"CS Tricolore Saverne 3",3,16,"2025-04-17","jeudi","20h00","Journée 16",{"$f":"IF(AND('resultats a exporter'!$CW$4=$I$2:$I$1100,'resultats a exporter'!$CX$4=$C$2:$C$1100,'resultats a exporter'!$CY$4=$E$2:$E$1100,'resultats a exporter'!$CZ$4=$G$2:$G$1100),'resultats a exporter'!$DA$4,\"\")","v":""},{"$f":"IF(AND('resultats a exporter'!$CW$4=$I$2:$I$1100,'resultats a exporter'!$CX$4=$C$2:$C$1100,'resultats a exporter'!$CY$4=$E$2:$E$1100,'resultats a exporter'!$CZ$4=$G$2:$G$1100),'resultats a exporter'!$DB$4,\"\")","v":""},null,null,null,null,"jeudi 17-avr-2025, 20h00",null,null,"","",null,null,null,null,null,null,null,null,null,null,null,null,null,null,null,null,null,null,"",""]
[null,null,"VETERANSD2NORD","NORD","MJC Kirrwiller 2",2,"CLTT Menchhoffen 3",3,16,"2025-04-17","jeudi","20h00","Journée 16",{"$f":"IF(AND('resultats a exporter'!$CW$4=$I$2:$I$1100,'resultats a exporter'!$CX$4=$C$2:$C$1100,'resultats a exporter'!$CY$4=$E$2:$E$1100,'resultats a exporter'!$CZ$4=$G$2:$G$1100),'resultats a exporter'!$DA$4,\"\")","v":""},{"$f":"IF(AND('resultats a exporter'!$CW$4=$I$2:$I$1100,'resultats a exporter'!$CX$4=$C$2:$C$1100,'resultats a exporter'!$CY$4=$E$2:$E$1100,'resultats a exporter'!$CZ$4=$G$2:$G$1100),'resultats a exporter'!$DB$4,\"\")","v":""},null,null,null,null,"jeudi 17-avr-2025, 20h00",null,null,"","",null,null,null,null,null,null,null,null,null,null,null,null,null,null,null,null,null,null,"",""]
[null,null,"VETERANSD2NORD","NORD","CTT 77 Val de Moder 3",3,"ASP Gottenhouse 2",2,16,"2025-04-17","jeudi","19h30","Journée 16",{"$f":"IF(AND('resultats a exporter'!$CW$4=$I$2:$I$1100,'resultats a exporter'!$CX$4=$C$2:$C$1100,'resultats a exporter'!$CY$4=$E$2:$E$1100,'resultats a exporter'!$CZ$4=$G$2:$G$1100),'resultats a exporter'!$DA$4,\"\")","v":""},{"$f":"IF(AND('resultats a exporter'!$CW$4=$I$2:$I$1100,'resultats a exporter'!$CX$4=$C$2:$C$1100,'resultats a exporter'!$CY$4=$E$2:$E$1100,'resultats a exporter'!$CZ$4=$G$2:$G$1100),'resultats a exporter'!$DB$4,\"\")","v":""},null,null,null,null,"jeudi 17-avr-2025, 19h30",null,null,"","",null,null,null,null,null,null,null,null,null,null,null,null,null,null,null,null,null,null,"",""]
[null,null,"VETERANSD2NORD","NORD","Hanau TT 2",2,"MJC Kirrwiller 1",1,16,"2025-04-15","mardi","20h00","Journée 16",{"$f":"IF(AND('resultats a exporter'!$CW$4=$I$2:$I$1100,'resultats a exporter'!$CX$4=$C$2:$C$1100,'resultats a exporter'!$CY$4=$E$2:$E$1100,'resultats a exporter'!$CZ$4=$G$2:$G$1100),'resultats a exporter'!$DA$4,\"\")","v":""},{"$f":"IF(AND('resultats a exporter'!$CW$4=$I$2:$I$1100,'resultats a exporter'!$CX$4=$C$2:$C$1100,'resultats a exporter'!$CY$4=$E$2:$E$1100,'resultats a exporter'!$CZ$4=$G$2:$G$1100),'resultats a exporter'!$DB$4,\"\")","v":""},null,null,null,null,"mardi 15-avr-2025, 20h00",null,null,"","",null,null,null,null,null,null,null,null,null,null,null,null,null,null,null,null,null,null,"",""]
[null,null,"VETERANSD2NORD","NORD","CS Tricolore Saverne 2",2,"MJC Kirrwiller 2",2,17,"2025-05-02","vendredi","20h30","Journée 17",{"$f":"IF(AND('resultats a exporter'!$CW$4=$I$2:$I$1100,'resultats a exporter'!$CX$4=$C$2:$C$1100,'resultats a exporter'!$CY$4=$E$2:$E$1100,'resultats a exporter'!$CZ$4=$G$2:$G$1100),'resultats a exporter'!$DA$4,\"\")","v":""},{"$f":"IF(AND('resultats a exporter'!$CW$4=$I$2:$I$1100,'resultats a exporter'!$CX$4=$C$2:$C$1100,'resultats a exporter'!$CY$4=$E$2:$E$1100,'resultats a exporter'!$CZ$4=$G$2:$G$1100),'resultats a exporter'!$DB$4,\"\")","v":""},null,null,null,null,"vendredi 02-mai-2025, 20h30",null,null,"","",null,null,null,null,null,null,null,null,null,null,null,null,null,null,null,null,null,null,"",""]
[null,null,"VETERANSD2NORD","NORD","Liberté Dettwiller 2",2,"CLTT Menchhoffen 2",2,17,"2025-04-30","mercredi","20h00","Journée 17",{"$f":"IF(AND('resultats a exporter'!$CW$4=$I$2:$I$1100,'resultats a exporter'!$CX$4=$C$2:$C$1100,'resultats a exporter'!$CY$4=$E$2:$E$1100,'resultats a exporter'!$CZ$4=$G$2:$G$1100),'resultats a exporter'!$DA$4,\"\")","v":""},{"$f":"IF(AND('resultats a exporter'!$CW$4=$I$2:$I$1100,'resultats a exporter'!$CX$4=$C$2:$C$1100,'resultats a exporter'!$CY$4=$E$2:$E$1100,'resultats a exporter'!$CZ$4=$G$2:$G$1100),'resultats a exporter'!$DB$4,\"\")","v":""},null,null,null,null,"mercredi 30-avr-2025, 20h00",null,null,"","",null,null,null,null,null,null,null,null,null,null,null,null,null,null,null,null,null,null,"",""]
[null,null,"VETERANSD2NORD","NORD","MJC Kirrwiller 1",1,"CTT 77 Val de Moder 3",3,17,"2025-04-29","mardi","20h00","Journée 17",{"$f":"IF(AND('resultats a exporter'!$CW$4=$I$2:$I$1100,'resultats a exporter'!$CX$4=$C$2:$C$1100,'resultats a exporter'!$CY$4=$E$2:$E$1100,'resultats a exporter'!$CZ$4=$G$2:$G$1100),'resultats a exporter'!$DA$4,\"\")","v":""},{"$f":"IF(AND('resultats a exporter'!$CW$4=$I$2:$I$1100,'resultats a exporter'!$CX$4=$C$2:$C$1100,'resultats a exporter'!$CY$4=$E$2:$E$1100,'resultats a exporter'!$CZ$4=$G$2:$G$1100),'resultats a exporter'!$DB$4,\"\")","v":""},null,null,null,null,"mardi 29-avr-2025, 20h00",null,null,"","",null,null,null,null,null,null,null,null,null,null,null,null,null,null,null,null,null,null,"",""]
[null,null,"VETERANSD2NORD","NORD","CS Tricolore Saverne 3",3,"Hanau TT 2",2,17,"2025-05-02","vendredi","20h30","Journée 17",{"$f":"IF(AND('resultats a exporter'!$CW$4=$I$2:$I$1100,'resultats a exporter'!$CX$4=$C$2:$C$1100,'resultats a exporter'!$CY$4=$E$2:$E$1100,'resultats a exporter'!$CZ$4=$G$2:$G$1100),'resultats a exporter'!$DA$4,\"\")","v":""},{"$f":"IF(AND('resultats a exporter'!$CW$4=$I$2:$I$1100,'resultats a exporter'!$CX$4=$C$2:$C$1100,'resultats a exporter'!$CY$4=$E$2:$E$1100,'resultats a exporter'!$CZ$4=$G$2:$G$1100),'resultats a exporter'!$DB$4,\"\")","v":""},null,null,null,null,"vendredi 02-mai-2025, 20h30",null,null,"","",null,null,null,null,null,null,null,null,null,null,null,null,null,null,null,null,null,null,"",""]
[null,null,"VETERANSD2NORD","NORD","ASP Gottenhouse 2",2,"CLTT Menchhoffen 3",3,17,"2025-04-29","mardi","20h00","Journée 17",{"$f":"IF(AND('resultats a exporter'!$CW$4=$I$2:$I$1100,'resultats a exporter'!$CX$4=$C$2:$C$1100,'resultats a exporter'!$CY$4=$E$2:$E$1100,'resultats a exporter'!$CZ$4=$G$2:$G$1100),'resultats a exporter'!$DA$4,\"\")","v":""},{"$f":"IF(AND('resultats a exporter'!$CW$4=$I$2:$I$1100,'resultats a exporter'!$CX$4=$C$2:$C$1100,'resultats a exporter'!$CY$4=$E$2:$E$1100,'resultats a exporter'!$CZ$4=$G$2:$G$1100),'resultats a exporter'!$DB$4,\"\")","v":""},null,null,null,null,"mardi 29-avr-2025, 20h00",null,null,"","",null,null,null,null,null,null,null,null,null,null,null,null,null,null,null,null,null,null,"",""]
[null,null,"VETERANSD2NORD","NORD","CLTT Menchhoffen 2",2,"CS Tricolore Saverne 2",2,18,"2025-05-15","jeudi","20h00","Journée 18",{"$f":"IF(AND('resultats a exporter'!$CW$4=$I$2:$I$1100,'resultats a exporter'!$CX$4=$C$2:$C$1100,'resultats a exporter'!$CY$4=$E$2:$E$1100,'resultats a exporter'!$CZ$4=$G$2:$G$1100),'resultats a exporter'!$DA$4,\"\")","v":""},{"$f":"IF(AND('resultats a exporter'!$CW$4=$I$2:$I$1100,'resultats a exporter'!$CX$4=$C$2:$C$1100,'resultats a exporter'!$CY$4=$E$2:$E$1100,'resultats a exporter'!$CZ$4=$G$2:$G$1100),'resultats a exporter'!$DB$4,\"\")","v":""},null,null,null,null,"jeudi 15-mai-2025, 20h00",null,null,"","",null,null,null,null,null,null,null,null,null,null,null,null,null,null,null,null,null,null,"",""]
[null,null,"VETERANSD2NORD","NORD","MJC Kirrwiller 2",2,"CS Tricolore Saverne 3",3,18,"2025-05-15","jeudi","20h00","Journée 18",{"$f":"IF(AND('resultats a exporter'!$CW$4=$I$2:$I$1100,'resultats a exporter'!$CX$4=$C$2:$C$1100,'resultats a exporter'!$CY$4=$E$2:$E$1100,'resultats a exporter'!$CZ$4=$G$2:$G$1100),'resultats a exporter'!$DA$4,\"\")","v":""},{"$f":"IF(AND('resultats a exporter'!$CW$4=$I$2:$I$1100,'resultats a exporter'!$CX$4=$C$2:$C$1100,'resultats a exporter'!$CY$4=$E$2:$E$1100,'resultats a exporter'!$CZ$4=$G$2:$G$1100),'resultats a exporter'!$DB$4,\"\")","v":""},null,null,null,null,"jeudi 15-mai-2025, 20h00",null,null,"","",null,null,null,null,null,null,null,null,null,null,null,null,null,null,null,null,null,null,"",""]
[null,null,"VETERANSD2NORD","NORD","CTT 77 Val de Moder 3",3,"Liberté Dettwiller 2",2,18,"2025-05-15","jeudi","19h30","Journée 18",{"$f":"IF(AND('resultats a exporter'!$CW$4=$I$2:$I$1100,'resultats a exporter'!$CX$4=$C$2:$C$1100,'resultats a exporter'!$CY$4=$E$2:$E$1100,'resultats a exporter'!$CZ$4=$G$2:$G$1100),'resultats a exporter'!$DA$4,\"\")","v":""},{"$f":"IF(AND('resultats a exporter'!$CW$4=$I$2:$I$1100,'resultats a exporter'!$CX$4=$C$2:$C$1100,'resultats a exporter'!$CY$4=$E$2:$E$1100,'resultats a exporter'!$CZ$4=$G$2:$G$1100),'resultats a exporter'!$DB$4,\"\")","v":""},null,null,null,null,"jeudi 15-mai-2025, 19h30",null,null,"","",null,null,null,null,null,null,null,null,null,null,null,null,null,null,null,null,null,null,"",""]
[null,null,"VETERANSD2NORD","NORD","Hanau TT 2",2,"ASP Gottenhouse 2",2,18,"2025-05-13","mardi","20h00","Journée 18",{"$f":"IF(AND('resultats a exporter'!$CW$4=$I$2:$I$1100,'resultats a exporter'!$CX$4=$C$2:$C$1100,'resultats a exporter'!$CY$4=$E$2:$E$1100,'resultats a exporter'!$CZ$4=$G$2:$G$1100),'resultats a exporter'!$DA$4,\"\")","v":""},{"$f":"IF(AND('resultats a exporter'!$CW$4=$I$2:$I$1100,'resultats a exporter'!$CX$4=$C$2:$C$1100,'resultats a exporter'!$CY$4=$E$2:$E$1100,'resultats a exporter'!$CZ$4=$G$2:$G$1100),'resultats a exporter'!$DB$4,\"\")","v":""},null,null,null,null,"mardi 13-mai-2025, 20h00",null,null,"","",null,null,null,null,null,null,null,null,null,null,null,null,null,null,null,null,null,null,"",""]
[null,null,"VETERANSD2NORD","NORD","CLTT Menchhoffen 3",3,"MJC Kirrwiller 1",1,18,"2025-05-15","jeudi","20h00","Journée 18",{"$f":"IF(AND('resultats a exporter'!$CW$4=$I$2:$I$1100,'resultats a exporter'!$CX$4=$C$2:$C$1100,'resultats a exporter'!$CY$4=$E$2:$E$1100,'resultats a exporter'!$CZ$4=$G$2:$G$1100),'resultats a exporter'!$DA$4,\"\")","v":""},{"$f":"IF(AND('resultats a exporter'!$CW$4=$I$2:$I$1100,'resultats a exporter'!$CX$4=$C$2:$C$1100,'resultats a exporter'!$CY$4=$E$2:$E$1100,'resultats a exporter'!$CZ$4=$G$2:$G$1100),'resultats a exporter'!$DB$4,\"\")","v":""},null,null,null,null,"jeudi 15-mai-2025, 20h00",null,null,"","",null,null,null,null,null,null,null,null,null,null,null,null,null,null,null,null,null,null,"",""]
[null,null,"MIXTESD1STRASBOURG","STRASBOURG","UT AURORA Schilt.-B. 1",1,null,null,1,"2024-10-03","jeudi","20h00","Journée 1",{"$f":"IF(AND('resultats a exporter'!$CW$4=$I$2:$I$1100,'resultats a exporter'!$CX$4=$C$2:$C$1100,'resultats a exporter'!$CY$4=$E$2:$E$1100,'resultats a exporter'!$CZ$4=$G$2:$G$1100),'resultats a exporter'!$DA$4,\"\")","v":""},{"$f":"IF(AND('resultats a exporter'!$CW$4=$I$2:$I$1100,'resultats a exporter'!$CX$4=$C$2:$C$1100,'resultats a exporter'!$CY$4=$E$2:$E$1100,'resultats a exporter'!$CZ$4=$G$2:$G$1100),'resultats a exporter'!$DB$4,\"\")","v":""},"MIXTESD1STRASBOURG",null,null,null,"jeudi 03-oct-2024, 20h00",null,null,"","",null,null,null,null,null,null,null,null,null,null,null,null,null,null,null,null,null,null,"",""]
[null,null,"MIXTESD1STRASBOURG","STRASBOURG","Amitié Lingolsheim 2",2,"AS Electricité Strasbourg 1",1,1,"2024-09-30","lundi","20h00","Journée 1",{"$f":"IF(AND('resultats a exporter'!$CW$4=$I$2:$I$1100,'resultats a exporter'!$CX$4=$C$2:$C$1100,'resultats a exporter'!$CY$4=$E$2:$E$1100,'resultats a exporter'!$CZ$4=$G$2:$G$1100),'resultats a exporter'!$DA$4,\"\")","v":""},{"$f":"IF(AND('resultats a exporter'!$CW$4=$I$2:$I$1100,'resultats a exporter'!$CX$4=$C$2:$C$1100,'resultats a exporter'!$CY$4=$E$2:$E$1100,'resultats a exporter'!$CZ$4=$G$2:$G$1100),'resultats a exporter'!$DB$4,\"\")","v":""},null,"UT AURORA Schilt.-B. 1",null,null,"lundi 30-sept-2024, 20h00",null,null,"","",null,null,null,null,null,null,null,null,null,null,null,null,null,null,null,null,null,null,"",""]
[null,null,"MIXTESD1STRASBOURG","STRASBOURG","Amitié Lingolsheim 3",3,"Amitié Lingolsheim 1",1,1,"2024-09-30","lundi","20h00","Journée 1",{"$f":"IF(AND('resultats a exporter'!$CW$4=$I$2:$I$1100,'resultats a exporter'!$CX$4=$C$2:$C$1100,'resultats a exporter'!$CY$4=$E$2:$E$1100,'resultats a exporter'!$CZ$4=$G$2:$G$1100),'resultats a exporter'!$DA$4,\"\")","v":""},{"$f":"IF(AND('resultats a exporter'!$CW$4=$I$2:$I$1100,'resultats a exporter'!$CX$4=$C$2:$C$1100,'resultats a exporter'!$CY$4=$E$2:$E$1100,'resultats a exporter'!$CZ$4=$G$2:$G$1100),'resultats a exporter'!$DB$4,\"\")","v":""},null,"Amitié Lingolsheim 1",null,null,"lundi 30-sept-2024, 20h00",null,null,"","",null,null,null,null,null,null,null,null,null,null,null,null,null,null,null,null,null,null,"",""]
[null,null,"MIXTESD1STRASBOURG","STRASBOURG","AS Electricité Strasbourg 1",1,"UT AURORA Schilt.-B. 1",1,2,"2024-10-18","vendredi","19h00","Journée 2",{"$f":"IF(AND('resultats a exporter'!$CW$4=$I$2:$I$1100,'resultats a exporter'!$CX$4=$C$2:$C$1100,'resultats a exporter'!$CY$4=$E$2:$E$1100,'resultats a exporter'!$CZ$4=$G$2:$G$1100),'resultats a exporter'!$DA$4,\"\")","v":""},{"$f":"IF(AND('resultats a exporter'!$CW$4=$I$2:$I$1100,'resultats a exporter'!$CX$4=$C$2:$C$1100,'resultats a exporter'!$CY$4=$E$2:$E$1100,'resultats a exporter'!$CZ$4=$G$2:$G$1100),'resultats a exporter'!$DB$4,\"\")","v":""},null,"Amitié Lingolsheim 2",null,null,"vendredi 18-oct-2024, 19h00",null,null,"","",null,null,null,null,null,null,null,null,null,null,null,null,null,null,null,null,null,null,"",""]
[null,null,"MIXTESD1STRASBOURG","STRASBOURG","Amitié Lingolsheim 1",1,"Amitié Lingolsheim 2",2,2,"2024-10-14","lundi","20h00","Journée 2",{"$f":"IF(AND('resultats a exporter'!$CW$4=$I$2:$I$1100,'resultats a exporter'!$CX$4=$C$2:$C$1100,'resultats a exporter'!$CY$4=$E$2:$E$1100,'resultats a exporter'!$CZ$4=$G$2:$G$1100),'resultats a exporter'!$DA$4,\"\")","v":""},{"$f":"IF(AND('resultats a exporter'!$CW$4=$I$2:$I$1100,'resultats a exporter'!$CX$4=$C$2:$C$1100,'resultats a exporter'!$CY$4=$E$2:$E$1100,'resultats a exporter'!$CZ$4=$G$2:$G$1100),'resultats a exporter'!$DB$4,\"\")","v":""},null,"Amitié Lingolsheim 3",null,null,"lundi 14-oct-2024, 20h00",null,null,"","",null,null,null,null,null,null,null,null,null,null,null,null,null,null,null,null,null,null,"",""]
[null,null,"MIXTESD1STRASBOURG","STRASBOURG",null,null,"Amitié Lingolsheim 3",3,2,null,"",null,"Journée 2",{"$f":"IF(AND('resultats a exporter'!$CW$4=$I$2:$I$1100,'resultats a exporter'!$CX$4=$C$2:$C$1100,'resultats a exporter'!$CY$4=$E$2:$E$1100,'resultats a exporter'!$CZ$4=$G$2:$G$1100),'resultats a exporter'!$DA$4,\"\")","v":""},{"$f":"IF(AND('resultats a exporter'!$CW$4=$I$2:$I$1100,'resultats a exporter'!$CX$4=$C$2:$C$1100,'resultats a exporter'!$CY$4=$E$2:$E$1100,'resultats a exporter'!$CZ$4=$G$2:$G$1100),'resultats a exporter'!$DB$4,\"\")","v":""},null,"AS Electricité Strasbourg 1",null,null,"",null,null,"","",null,null,null,null,null,null,null,null,null,null,null,null,null,null,null,null,null,null,"",""]
[null,null,"MIXTESD1STRASBOURG","STRASBOURG","UT AURORA Schilt.-B. 1",1,"Amitié Lingolsheim 1",1,3,"2024-11-14","jeudi","20h00","Journée 3",{"$f":"IF(AND('resultats a exporter'!$CW$4=$I$2:$I$1100,'resultats a exporter'!$CX$4=$C$2:$C$1100,'resultats a exporter'!$CY$4=$E$2:$E$1100,'resultats a exporter'!$CZ$4=$G$2:$G$1100),'resultats a exporter'!$DA$4,\"\")","v":""},{"$f":"IF(AND('resultats a exporter'!$CW$4=$I$2:$I$1100,'resultats a exporter'!$CX$4=$C$2:$C$1100,'resultats a exporter'!$CY$4=$E$2:$E$1100,'resultats a exporter'!$CZ$4=$G$2:$G$1100),'resultats a exporter'!$DB$4,\"\")","v":""},null,null,null,null,"jeudi 14-nov-2024, 20h00",null,null,"","",null,null,null,null,null,null,null,null,null,null,null,null,null,null,null,null,null,null,"",""]
[null,null,"MIXTESD1STRASBOURG","STRASBOURG","Amitié Lingolsheim 3",3,"Amitié Lingolsheim 2",2,3,"2024-11-18","lundi","20h00","Journée 3",{"$f":"IF(AND('resultats a exporter'!$CW$4=$I$2:$I$1100,'resultats a exporter'!$CX$4=$C$2:$C$1100,'resultats a exporter'!$CY$4=$E$2:$E$1100,'resultats a exporter'!$CZ$4=$G$2:$G$1100),'resultats a exporter'!$DA$4,\"\")","v":""},{"$f":"IF(AND('resultats a exporter'!$CW$4=$I$2:$I$1100,'resultats a exporter'!$CX$4=$C$2:$C$1100,'resultats a exporter'!$CY$4=$E$2:$E$1100,'resultats a exporter'!$CZ$4=$G$2:$G$1100),'resultats a exporter'!$DB$4,\"\")","v":""},null,null,null,null,"lundi 18-nov-2024, 20h00",null,null,"","",null,null,null,null,null,null,null,null,null,null,null,null,null,null,null,null,null,null,"",""]
[null,null,"MIXTESD1STRASBOURG","STRASBOURG","AS Electricité Strasbourg 1",1,null,null,3,"2024-11-15","vendredi","19h00","Journée 3",{"$f":"IF(AND('resultats a exporter'!$CW$4=$I$2:$I$1100,'resultats a exporter'!$CX$4=$C$2:$C$1100,'resultats a exporter'!$CY$4=$E$2:$E$1100,'resultats a exporter'!$CZ$4=$G$2:$G$1100),'resultats a exporter'!$DA$4,\"\")","v":""},{"$f":"IF(AND('resultats a exporter'!$CW$4=$I$2:$I$1100,'resultats a exporter'!$CX$4=$C$2:$C$1100,'resultats a exporter'!$CY$4=$E$2:$E$1100,'resultats a exporter'!$CZ$4=$G$2:$G$1100),'resultats a exporter'!$DB$4,\"\")","v":""},null,null,null,null,"vendredi 15-nov-2024, 19h00",null,null,"","",null,null,null,null,null,null,null,null,null,null,null,null,null,null,null,null,null,null,"",""]
[null,null,"MIXTESD1STRASBOURG","STRASBOURG","Amitié Lingolsheim 3",3,"UT AURORA Schilt.-B. 1",1,4,"2024-11-25","lundi","20h00","Journée 4",{"$f":"IF(AND('resultats a exporter'!$CW$4=$I$2:$I$1100,'resultats a exporter'!$CX$4=$C$2:$C$1100,'resultats a exporter'!$CY$4=$E$2:$E$1100,'resultats a exporter'!$CZ$4=$G$2:$G$1100),'resultats a exporter'!$DA$4,\"\")","v":""},{"$f":"IF(AND('resultats a exporter'!$CW$4=$I$2:$I$1100,'resultats a exporter'!$CX$4=$C$2:$C$1100,'resultats a exporter'!$CY$4=$E$2:$E$1100,'resultats a exporter'!$CZ$4=$G$2:$G$1100),'resultats a exporter'!$DB$4,\"\")","v":""},null,null,null,null,"lundi 25-nov-2024, 20h00",null,null,"","",null,null,null,null,null,null,null,null,null,null,null,null,null,null,null,null,null,null,"",""]
[null,null,"MIXTESD1STRASBOURG","STRASBOURG","Amitié Lingolsheim 2",2,null,null,4,"2024-11-25","lundi","20h00","Journée 4",{"$f":"IF(AND('resultats a exporter'!$CW$4=$I$2:$I$1100,'resultats a exporter'!$CX$4=$C$2:$C$1100,'resultats a exporter'!$CY$4=$E$2:$E$1100,'resultats a exporter'!$CZ$4=$G$2:$G$1100),'resultats a exporter'!$DA$4,\"\")","v":""},{"$f":"IF(AND('resultats a exporter'!$CW$4=$I$2:$I$1100,'resultats a exporter'!$CX$4=$C$2:$C$1100,'resultats a exporter'!$CY$4=$E$2:$E$1100,'resultats a exporter'!$CZ$4=$G$2:$G$1100),'resultats a exporter'!$DB$4,\"\")","v":""},null,null,null,null,"lundi 25-nov-2024, 20h00",null,null,"","",null,null,null,null,null,null,null,null,null,null,null,null,null,null,null,null,null,null,"",""]
[null,null,"MIXTESD1STRASBOURG","STRASBOURG","Amitié Lingolsheim 1",1,"AS Electricité Strasbourg 1",1,4,"2024-11-25","lundi","20h00","Journée 4",{"$f":"IF(AND('resultats a exporter'!$CW$4=$I$2:$I$1100,'resultats a exporter'!$CX$4=$C$2:$C$1100,'resultats a exporter'!$CY$4=$E$2:$E$1100,'resultats a exporter'!$CZ$4=$G$2:$G$1100),'resultats a exporter'!$DA$4,\"\")","v":""},{"$f":"IF(AND('resultats a exporter'!$CW$4=$I$2:$I$1100,'resultats a exporter'!$CX$4=$C$2:$C$1100,'resultats a exporter'!$CY$4=$E$2:$E$1100,'resultats a exporter'!$CZ$4=$G$2:$G$1100),'resultats a exporter'!$DB$4,\"\")","v":""},null,null,null,null,"lundi 25-nov-2024, 20h00",null,null,"","",null,null,null,null,null,null,null,null,null,null,null,null,null,null,null,null,null,null,"",""]
[null,null,"MIXTESD1STRASBOURG","STRASBOURG","Amitié Lingolsheim 2",2,"UT AURORA Schilt.-B. 1",1,5,"2024-12-09","lundi","20h00","Journée 5",{"$f":"IF(AND('resultats a exporter'!$CW$4=$I$2:$I$1100,'resultats a exporter'!$CX$4=$C$2:$C$1100,'resultats a exporter'!$CY$4=$E$2:$E$1100,'resultats a exporter'!$CZ$4=$G$2:$G$1100),'resultats a exporter'!$DA$4,\"\")","v":""},{"$f":"IF(AND('resultats a exporter'!$CW$4=$I$2:$I$1100,'resultats a exporter'!$CX$4=$C$2:$C$1100,'resultats a exporter'!$CY$4=$E$2:$E$1100,'resultats a exporter'!$CZ$4=$G$2:$G$1100),'resultats a exporter'!$DB$4,\"\")","v":""},null,null,null,null,"lundi 09-déc-2024, 20h00",null,null,"","",null,null,null,null,null,null,null,null,null,null,null,null,null,null,null,null,null,null,"",""]
[null,null,"MIXTESD1STRASBOURG","STRASBOURG","AS Electricité Strasbourg 1",1,"Amitié Lingolsheim 3",3,5,"2024-12-13","vendredi","19h00","Journée 5",{"$f":"IF(AND('resultats a exporter'!$CW$4=$I$2:$I$1100,'resultats a exporter'!$CX$4=$C$2:$C$1100,'resultats a exporter'!$CY$4=$E$2:$E$1100,'resultats a exporter'!$CZ$4=$G$2:$G$1100),'resultats a exporter'!$DA$4,\"\")","v":""},{"$f":"IF(AND('resultats a exporter'!$CW$4=$I$2:$I$1100,'resultats a exporter'!$CX$4=$C$2:$C$1100,'resultats a exporter'!$CY$4=$E$2:$E$1100,'resultats a exporter'!$CZ$4=$G$2:$G$1100),'resultats a exporter'!$DB$4,\"\")","v":""},null,null,null,null,"vendredi 13-déc-2024, 19h00",null,null,"","",null,null,null,null,null,null,null,null,null,null,null,null,null,null,null,null,null,null,"",""]
[null,null,"MIXTESD1STRASBOURG","STRASBOURG",null,null,"Amitié Lingolsheim 1",1,5,null,"",null,"Journée 5",{"$f":"IF(AND('resultats a exporter'!$CW$4=$I$2:$I$1100,'resultats a exporter'!$CX$4=$C$2:$C$1100,'resultats a exporter'!$CY$4=$E$2:$E$1100,'resultats a exporter'!$CZ$4=$G$2:$G$1100),'resultats a exporter'!$DA$4,\"\")","v":""},{"$f":"IF(AND('resultats a exporter'!$CW$4=$I$2:$I$1100,'resultats a exporter'!$CX$4=$C$2:$C$1100,'resultats a exporter'!$CY$4=$E$2:$E$1100,'resultats a exporter'!$CZ$4=$G$2:$G$1100),'resultats a exporter'!$DB$4,\"\")","v":""},null,null,null,null,"",null,null,"","",null,null,null,null,null,null,null,null,null,null,null,null,null,null,null,null,null,null,"",""]
[null,null,"MIXTESD1STRASBOURG","STRASBOURG",null,null,"UT AURORA Schilt.-B. 1",1,6,null,"",null,"Journée 6",{"$f":"IF(AND('resultats a exporter'!$CW$4=$I$2:$I$1100,'resultats a exporter'!$CX$4=$C$2:$C$1100,'resultats a exporter'!$CY$4=$E$2:$E$1100,'resultats a exporter'!$CZ$4=$G$2:$G$1100),'resultats a exporter'!$DA$4,\"\")","v":""},{"$f":"IF(AND('resultats a exporter'!$CW$4=$I$2:$I$1100,'resultats a exporter'!$CX$4=$C$2:$C$1100,'resultats a exporter'!$CY$4=$E$2:$E$1100,'resultats a exporter'!$CZ$4=$G$2:$G$1100),'resultats a exporter'!$DB$4,\"\")","v":""},null,null,null,null,"",null,null,"","",null,null,null,null,null,null,null,null,null,null,null,null,null,null,null,null,null,null,"",""]
[null,null,"MIXTESD1STRASBOURG","STRASBOURG","AS Electricité Strasbourg 1",1,"Amitié Lingolsheim 2",2,6,"2025-01-17","vendredi","19h00","Journée 6",{"$f":"IF(AND('resultats a exporter'!$CW$4=$I$2:$I$1100,'resultats a exporter'!$CX$4=$C$2:$C$1100,'resultats a exporter'!$CY$4=$E$2:$E$1100,'resultats a exporter'!$CZ$4=$G$2:$G$1100),'resultats a exporter'!$DA$4,\"\")","v":""},{"$f":"IF(AND('resultats a exporter'!$CW$4=$I$2:$I$1100,'resultats a exporter'!$CX$4=$C$2:$C$1100,'resultats a exporter'!$CY$4=$E$2:$E$1100,'resultats a exporter'!$CZ$4=$G$2:$G$1100),'resultats a exporter'!$DB$4,\"\")","v":""},null,null,null,null,"vendredi 17-janv-2025, 19h00",null,null,"","",null,null,null,null,null,null,null,null,null,null,null,null,null,null,null,null,null,null,"",""]
[null,null,"MIXTESD1STRASBOURG","STRASBOURG","Amitié Lingolsheim 1",1,"Amitié Lingolsheim 3",3,6,"2025-01-13","lundi","20h00","Journée 6",{"$f":"IF(AND('resultats a exporter'!$CW$4=$I$2:$I$1100,'resultats a exporter'!$CX$4=$C$2:$C$1100,'resultats a exporter'!$CY$4=$E$2:$E$1100,'resultats a exporter'!$CZ$4=$G$2:$G$1100),'resultats a exporter'!$DA$4,\"\")","v":""},{"$f":"IF(AND('resultats a exporter'!$CW$4=$I$2:$I$1100,'resultats a exporter'!$CX$4=$C$2:$C$1100,'resultats a exporter'!$CY$4=$E$2:$E$1100,'resultats a exporter'!$CZ$4=$G$2:$G$1100),'resultats a exporter'!$DB$4,\"\")","v":""},null,null,null,null,"lundi 13-janv-2025, 20h00",null,null,"","",null,null,null,null,null,null,null,null,null,null,null,null,null,null,null,null,null,null,"",""]
[null,null,"MIXTESD1STRASBOURG","STRASBOURG","UT AURORA Schilt.-B. 1",1,"AS Electricité Strasbourg 1",1,7,"2025-01-30","jeudi","20h00","Journée 7",{"$f":"IF(AND('resultats a exporter'!$CW$4=$I$2:$I$1100,'resultats a exporter'!$CX$4=$C$2:$C$1100,'resultats a exporter'!$CY$4=$E$2:$E$1100,'resultats a exporter'!$CZ$4=$G$2:$G$1100),'resultats a exporter'!$DA$4,\"\")","v":""},{"$f":"IF(AND('resultats a exporter'!$CW$4=$I$2:$I$1100,'resultats a exporter'!$CX$4=$C$2:$C$1100,'resultats a exporter'!$CY$4=$E$2:$E$1100,'resultats a exporter'!$CZ$4=$G$2:$G$1100),'resultats a exporter'!$DB$4,\"\")","v":""},null,null,null,null,"jeudi 30-janv-2025, 20h00",null,null,"","",null,null,null,null,null,null,null,null,null,null,null,null,null,null,null,null,null,null,"",""]
[null,null,"MIXTESD1STRASBOURG","STRASBOURG","Amitié Lingolsheim 2",2,"Amitié Lingolsheim 1",1,7,"2025-01-27","lundi","20h00","Journée 7",{"$f":"IF(AND('resultats a exporter'!$CW$4=$I$2:$I$1100,'resultats a exporter'!$CX$4=$C$2:$C$1100,'resultats a exporter'!$CY$4=$E$2:$E$1100,'resultats a exporter'!$CZ$4=$G$2:$G$1100),'resultats a exporter'!$DA$4,\"\")","v":""},{"$f":"IF(AND('resultats a exporter'!$CW$4=$I$2:$I$1100,'resultats a exporter'!$CX$4=$C$2:$C$1100,'resultats a exporter'!$CY$4=$E$2:$E$1100,'resultats a exporter'!$CZ$4=$G$2:$G$1100),'resultats a exporter'!$DB$4,\"\")","v":""},null,null,null,null,"lundi 27-janv-2025, 20h00",null,null,{"$f":"IF(AND(N507<>\"\",O507<>\"\"),T507,\"\")","v":""},{"$f":"IF(AND(N507<>\"\",O507<>\"\"),E507&\" - \"&G507,\"\")","v":""},null,null,null,null,null,null,null,null,null,null,null,null,null,null,null,null,null,null,{"$f":"IF(AND(N507<>\"\",O507<>\"\"),E507,\"\")","v":""},{"$f":"IF(AND(N507<>\"\",O507<>\"\"),G507,\"\")","v":""}]
[null,null,"MIXTESD1STRASBOURG","STRASBOURG","Amitié Lingolsheim 3",3,null,null,7,"2025-01-27","lundi","20h00","Journée 7",{"$f":"IF(AND('resultats a exporter'!$CW$4=$I$2:$I$1100,'resultats a exporter'!$CX$4=$C$2:$C$1100,'resultats a exporter'!$CY$4=$E$2:$E$1100,'resultats a exporter'!$CZ$4=$G$2:$G$1100),'resultats a exporter'!$DA$4,\"\")","v":""},{"$f":"IF(AND('resultats a exporter'!$CW$4=$I$2:$I$1100,'resultats a exporter'!$CX$4=$C$2:$C$1100,'resultats a exporter'!$CY$4=$E$2:$E$1100,'resultats a exporter'!$CZ$4=$G$2:$G$1100),'resultats a exporter'!$DB$4,\"\")","v":""},null,null,null,null,"lundi 27-janv-2025, 20h00",null,null,"","",null,null,null,null,null,null,null,null,null,null,null,null,null,null,null,null,null,null,"",""]
[null,null,"MIXTESD1STRASBOURG","STRASBOURG","Amitié Lingolsheim 1",1,"UT AURORA Schilt.-B. 1",1,8,"2025-03-03","lundi","20h00","Journée 8",{"$f":"IF(AND('resultats a exporter'!$CW$4=$I$2:$I$1100,'resultats a exporter'!$CX$4=$C$2:$C$1100,'resultats a exporter'!$CY$4=$E$2:$E$1100,'resultats a exporter'!$CZ$4=$G$2:$G$1100),'resultats a exporter'!$DA$4,\"\")","v":""},{"$f":"IF(AND('resultats a exporter'!$CW$4=$I$2:$I$1100,'resultats a exporter'!$CX$4=$C$2:$C$1100,'resultats a exporter'!$CY$4=$E$2:$E$1100,'resultats a exporter'!$CZ$4=$G$2:$G$1100),'resultats a exporter'!$DB$4,\"\")","v":""},null,null,null,null,"lundi 03-mars-2025, 20h00",null,null,"","",null,null,null,null,null,null,null,null,null,null,null,null,null,null,null,null,null,null,"",""]
[null,null,"MIXTESD1STRASBOURG","STRASBOURG","Amitié Lingolsheim 2",2,"Amitié Lingolsheim 3",3,8,"2025-03-03","lundi","20h00","Journée 8",{"$f":"IF(AND('resultats a exporter'!$CW$4=$I$2:$I$1100,'resultats a exporter'!$CX$4=$C$2:$C$1100,'resultats a exporter'!$CY$4=$E$2:$E$1100,'resultats a exporter'!$CZ$4=$G$2:$G$1100),'resultats a exporter'!$DA$4,\"\")","v":""},{"$f":"IF(AND('resultats a exporter'!$CW$4=$I$2:$I$1100,'resultats a exporter'!$CX$4=$C$2:$C$1100,'resultats a exporter'!$CY$4=$E$2:$E$1100,'resultats a exporter'!$CZ$4=$G$2:$G$1100),'resultats a exporter'!$DB$4,\"\")","v":""},null,null,null,null,"lundi 03-mars-2025, 20h00",null,null,"","",null,null,null,null,null,null,null,null,null,null,null,null,null,null,null,null,null,null,"",""]
[null,null,"MIXTESD1STRASBOURG","STRASBOURG",null,null,"AS Electricité Strasbourg 1",1,8,null,"",null,"Journée 8",{"$f":"IF(AND('resultats a exporter'!$CW$4=$I$2:$I$1100,'resultats a exporter'!$CX$4=$C$2:$C$1100,'resultats a exporter'!$CY$4=$E$2:$E$1100,'resultats a exporter'!$CZ$4=$G$2:$G$1100),'resultats a exporter'!$DA$4,\"\")","v":""},{"$f":"IF(AND('resultats a exporter'!$CW$4=$I$2:$I$1100,'resultats a exporter'!$CX$4=$C$2:$C$1100,'resultats a exporter'!$CY$4=$E$2:$E$1100,'resultats a exporter'!$CZ$4=$G$2:$G$1100),'resultats a exporter'!$DB$4,\"\")","v":""},null,null,null,null,"",null,null,"","",null,null,null,null,null,null,null,null,null,null,null,null,null,null,null,null,null,null,"",""]
[null,null,"MIXTESD1STRASBOURG","STRASBOURG","UT AURORA Schilt.-B. 1",1,"Amitié Lingolsheim 3",3,9,"2025-04-03","jeudi","20h00","Journée 9",{"$f":"IF(AND('resultats a exporter'!$CW$4=$I$2:$I$1100,'resultats a exporter'!$CX$4=$C$2:$C$1100,'resultats a exporter'!$CY$4=$E$2:$E$1100,'resultats a exporter'!$CZ$4=$G$2:$G$1100),'resultats a exporter'!$DA$4,\"\")","v":""},{"$f":"IF(AND('resultats a exporter'!$CW$4=$I$2:$I$1100,'resultats a exporter'!$CX$4=$C$2:$C$1100,'resultats a exporter'!$CY$4=$E$2:$E$1100,'resultats a exporter'!$CZ$4=$G$2:$G$1100),'resultats a exporter'!$DB$4,\"\")","v":""},null,null,null,null,"jeudi 03-avr-2025, 20h00",null,null,"","",null,null,null,null,null,null,null,null,null,null,null,null,null,null,null,null,null,null,"",""]
[null,null,"MIXTESD1STRASBOURG","STRASBOURG",null,null,"Amitié Lingolsheim 2",2,9,null,"",null,"Journée 9",{"$f":"IF(AND('resultats a exporter'!$CW$4=$I$2:$I$1100,'resultats a exporter'!$CX$4=$C$2:$C$1100,'resultats a exporter'!$CY$4=$E$2:$E$1100,'resultats a exporter'!$CZ$4=$G$2:$G$1100),'resultats a exporter'!$DA$4,\"\")","v":""},{"$f":"IF(AND('resultats a exporter'!$CW$4=$I$2:$I$1100,'resultats a exporter'!$CX$4=$C$2:$C$1100,'resultats a exporter'!$CY$4=$E$2:$E$1100,'resultats a exporter'!$CZ$4=$G$2:$G$1100),'resultats a exporter'!$DB$4,\"\")","v":""},null,null,null,null,"",null,null,"","",null,null,null,null,null,null,null,null,null,null,null,null,null,null,null,null,null,null,"",""]
[null,null,"MIXTESD1STRASBOURG","STRASBOURG","AS Electricité Strasbourg 1",1,"Amitié Lingolsheim 1",1,9,"2025-04-04","vendredi","19h00","Journée 9",{"$f":"IF(AND('resultats a exporter'!$CW$4=$I$2:$I$1100,'resultats a exporter'!$CX$4=$C$2:$C$1100,'resultats a exporter'!$CY$4=$E$2:$E$1100,'resultats a exporter'!$CZ$4=$G$2:$G$1100),'resultats a exporter'!$DA$4,\"\")","v":""},{"$f":"IF(AND('resultats a exporter'!$CW$4=$I$2:$I$1100,'resultats a exporter'!$CX$4=$C$2:$C$1100,'resultats a exporter'!$CY$4=$E$2:$E$1100,'resultats a exporter'!$CZ$4=$G$2:$G$1100),'resultats a exporter'!$DB$4,\"\")","v":""},null,null,null,null,"vendredi 04-avr-2025, 19h00",null,null,"","",null,null,null,null,null,null,null,null,null,null,null,null,null,null,null,null,null,null,"",""]
[null,null,"MIXTESD1STRASBOURG","STRASBOURG","UT AURORA Schilt.-B. 1",1,"Amitié Lingolsheim 2",2,10,"2025-04-24","jeudi","20h00","Journée 10",{"$f":"IF(AND('resultats a exporter'!$CW$4=$I$2:$I$1100,'resultats a exporter'!$CX$4=$C$2:$C$1100,'resultats a exporter'!$CY$4=$E$2:$E$1100,'resultats a exporter'!$CZ$4=$G$2:$G$1100),'resultats a exporter'!$DA$4,\"\")","v":""},{"$f":"IF(AND('resultats a exporter'!$CW$4=$I$2:$I$1100,'resultats a exporter'!$CX$4=$C$2:$C$1100,'resultats a exporter'!$CY$4=$E$2:$E$1100,'resultats a exporter'!$CZ$4=$G$2:$G$1100),'resultats a exporter'!$DB$4,\"\")","v":""},null,null,null,null,"jeudi 24-avr-2025, 20h00",null,null,"","",null,null,null,null,null,null,null,null,null,null,null,null,null,null,null,null,null,null,"",""]
[null,null,"MIXTESD1STRASBOURG","STRASBOURG","Amitié Lingolsheim 3",3,"AS Electricité Strasbourg 1",1,10,"2025-04-28","lundi","20h00","Journée 10",{"$f":"IF(AND('resultats a exporter'!$CW$4=$I$2:$I$1100,'resultats a exporter'!$CX$4=$C$2:$C$1100,'resultats a exporter'!$CY$4=$E$2:$E$1100,'resultats a exporter'!$CZ$4=$G$2:$G$1100),'resultats a exporter'!$DA$4,\"\")","v":""},{"$f":"IF(AND('resultats a exporter'!$CW$4=$I$2:$I$1100,'resultats a exporter'!$CX$4=$C$2:$C$1100,'resultats a exporter'!$CY$4=$E$2:$E$1100,'resultats a exporter'!$CZ$4=$G$2:$G$1100),'resultats a exporter'!$DB$4,\"\")","v":""},null,null,null,null,"lundi 28-avr-2025, 20h00",null,null,"","",null,null,null,null,null,null,null,null,null,null,null,null,null,null,null,null,null,null,"",""]
[null,null,"MIXTESD1STRASBOURG","STRASBOURG","Amitié Lingolsheim 1",1,null,null,10,"2025-04-28","lundi","20h00","Journée 10",{"$f":"IF(AND('resultats a exporter'!$CW$4=$I$2:$I$1100,'resultats a exporter'!$CX$4=$C$2:$C$1100,'resultats a exporter'!$CY$4=$E$2:$E$1100,'resultats a exporter'!$CZ$4=$G$2:$G$1100),'resultats a exporter'!$DA$4,\"\")","v":""},{"$f":"IF(AND('resultats a exporter'!$CW$4=$I$2:$I$1100,'resultats a exporter'!$CX$4=$C$2:$C$1100,'resultats a exporter'!$CY$4=$E$2:$E$1100,'resultats a exporter'!$CZ$4=$G$2:$G$1100),'resultats a exporter'!$DB$4,\"\")","v":""},null,null,null,null,"lundi 28-avr-2025, 20h00",null,null,"","",null,null,null,null,null,null,null,null,null,null,null,null,null,null,null,null,null,null,"",""]
[null,null,"MIXTESD1NORD","NORD","CLTT Menchhoffen 1",1,"CLTT Menchhoffen 2",2,1,"2024-11-29","vendredi","20h00","Journée 1",{"$f":"IF(AND('resultats a exporter'!$CW$4=$I$2:$I$1100,'resultats a exporter'!$CX$4=$C$2:$C$1100,'resultats a exporter'!$CY$4=$E$2:$E$1100,'resultats a exporter'!$CZ$4=$G$2:$G$1100),'resultats a exporter'!$DA$4,\"\")","v":""},{"$f":"IF(AND('resultats a exporter'!$CW$4=$I$2:$I$1100,'resultats a exporter'!$CX$4=$C$2:$C$1100,'resultats a exporter'!$CY$4=$E$2:$E$1100,'resultats a exporter'!$CZ$4=$G$2:$G$1100),'resultats a exporter'!$DB$4,\"\")","v":""},"MIXTESD1NORD",null,null,null,"vendredi 29-nov-2024, 20h00",null,null,"","",null,null,null,null,null,null,null,null,null,null,null,null,null,null,null,null,null,null,"",""]
[null,null,"MIXTESD1NORD","NORD",null,null,null,null,1,null,"",null,"Journée 1",{"$f":"IF(AND('resultats a exporter'!$CW$4=$I$2:$I$1100,'resultats a exporter'!$CX$4=$C$2:$C$1100,'resultats a exporter'!$CY$4=$E$2:$E$1100,'resultats a exporter'!$CZ$4=$G$2:$G$1100),'resultats a exporter'!$DA$4,\"\")","v":""},{"$f":"IF(AND('resultats a exporter'!$CW$4=$I$2:$I$1100,'resultats a exporter'!$CX$4=$C$2:$C$1100,'resultats a exporter'!$CY$4=$E$2:$E$1100,'resultats a exporter'!$CZ$4=$G$2:$G$1100),'resultats a exporter'!$DB$4,\"\")","v":""},null,"CLTT Menchhoffen 1",null,null,"",null,null,"","",null,null,null,null,null,null,null,null,null,null,null,null,null,null,null,null,null,null,"",""]
[null,null,"MIXTESD1NORD","NORD",null,null,"CLTT Menchhoffen 1",1,2,null,"",null,"Journée 2",{"$f":"IF(AND('resultats a exporter'!$CW$4=$I$2:$I$1100,'resultats a exporter'!$CX$4=$C$2:$C$1100,'resultats a exporter'!$CY$4=$E$2:$E$1100,'resultats a exporter'!$CZ$4=$G$2:$G$1100),'resultats a exporter'!$DA$4,\"\")","v":""},{"$f":"IF(AND('resultats a exporter'!$CW$4=$I$2:$I$1100,'resultats a exporter'!$CX$4=$C$2:$C$1100,'resultats a exporter'!$CY$4=$E$2:$E$1100,'resultats a exporter'!$CZ$4=$G$2:$G$1100),'resultats a exporter'!$DB$4,\"\")","v":""},null,"CLTT Menchhoffen 2",null,null,"",null,null,"","",null,null,null,null,null,null,null,null,null,null,null,null,null,null,null,null,null,null,"",""]
[null,null,"MIXTESD1NORD","NORD","CLTT Menchhoffen 2",2,null,null,2,null,"",null,"Journée 2",{"$f":"IF(AND('resultats a exporter'!$CW$4=$I$2:$I$1100,'resultats a exporter'!$CX$4=$C$2:$C$1100,'resultats a exporter'!$CY$4=$E$2:$E$1100,'resultats a exporter'!$CZ$4=$G$2:$G$1100),'resultats a exporter'!$DA$4,\"\")","v":""},{"$f":"IF(AND('resultats a exporter'!$CW$4=$I$2:$I$1100,'resultats a exporter'!$CX$4=$C$2:$C$1100,'resultats a exporter'!$CY$4=$E$2:$E$1100,'resultats a exporter'!$CZ$4=$G$2:$G$1100),'resultats a exporter'!$DB$4,\"\")","v":""},null,null,null,null,"",null,null,"","",null,null,null,null,null,null,null,null,null,null,null,null,null,null,null,null,null,null,"",""]
[null,null,"MIXTESD1NORD","NORD","CLTT Menchhoffen 1",1,null,null,3,null,"",null,"Journée 3",{"$f":"IF(AND('resultats a exporter'!$CW$4=$I$2:$I$1100,'resultats a exporter'!$CX$4=$C$2:$C$1100,'resultats a exporter'!$CY$4=$E$2:$E$1100,'resultats a exporter'!$CZ$4=$G$2:$G$1100),'resultats a exporter'!$DA$4,\"\")","v":""},{"$f":"IF(AND('resultats a exporter'!$CW$4=$I$2:$I$1100,'resultats a exporter'!$CX$4=$C$2:$C$1100,'resultats a exporter'!$CY$4=$E$2:$E$1100,'resultats a exporter'!$CZ$4=$G$2:$G$1100),'resultats a exporter'!$DB$4,\"\")","v":""},null,null,null,null,"",null,null,"","",null,null,null,null,null,null,null,null,null,null,null,null,null,null,null,null,null,null,"",""]
[null,null,"MIXTESD1NORD","NORD",null,null,"CLTT Menchhoffen 2",2,3,null,"",null,"Journée 3",{"$f":"IF(AND('resultats a exporter'!$CW$4=$I$2:$I$1100,'resultats a exporter'!$CX$4=$C$2:$C$1100,'resultats a exporter'!$CY$4=$E$2:$E$1100,'resultats a exporter'!$CZ$4=$G$2:$G$1100),'resultats a exporter'!$DA$4,\"\")","v":""},{"$f":"IF(AND('resultats a exporter'!$CW$4=$I$2:$I$1100,'resultats a exporter'!$CX$4=$C$2:$C$1100,'resultats a exporter'!$CY$4=$E$2:$E$1100,'resultats a exporter'!$CZ$4=$G$2:$G$1100),'resultats a exporter'!$DB$4,\"\")","v":""},null,null,null,null,"",null,null,"","",null,null,null,null,null,null,null,null,null,null,null,null,null,null,null,null,null,null,"",""]
[null,null,"MIXTESD1NORD","NORD","CLTT Menchhoffen 2",2,"CLTT Menchhoffen 1",1,4,"2025-03-28","vendredi","20h00","Journée 4",{"$f":"IF(AND('resultats a exporter'!$CW$4=$I$2:$I$1100,'resultats a exporter'!$CX$4=$C$2:$C$1100,'resultats a exporter'!$CY$4=$E$2:$E$1100,'resultats a exporter'!$CZ$4=$G$2:$G$1100),'resultats a exporter'!$DA$4,\"\")","v":""},{"$f":"IF(AND('resultats a exporter'!$CW$4=$I$2:$I$1100,'resultats a exporter'!$CX$4=$C$2:$C$1100,'resultats a exporter'!$CY$4=$E$2:$E$1100,'resultats a exporter'!$CZ$4=$G$2:$G$1100),'resultats a exporter'!$DB$4,\"\")","v":""},null,null,null,null,"vendredi 28-mars-2025, 20h00",null,null,"","",null,null,null,null,null,null,null,null,null,null,null,null,null,null,null,null,null,null,"",""]
[null,null,"MIXTESD1NORD","NORD",null,null,null,null,4,null,"",null,"Journée 4",{"$f":"IF(AND('resultats a exporter'!$CW$4=$I$2:$I$1100,'resultats a exporter'!$CX$4=$C$2:$C$1100,'resultats a exporter'!$CY$4=$E$2:$E$1100,'resultats a exporter'!$CZ$4=$G$2:$G$1100),'resultats a exporter'!$DA$4,\"\")","v":""},{"$f":"IF(AND('resultats a exporter'!$CW$4=$I$2:$I$1100,'resultats a exporter'!$CX$4=$C$2:$C$1100,'resultats a exporter'!$CY$4=$E$2:$E$1100,'resultats a exporter'!$CZ$4=$G$2:$G$1100),'resultats a exporter'!$DB$4,\"\")","v":""},null,null,null,null,"",null,null,"","",null,null,null,null,null,null,null,null,null,null,null,null,null,null,null,null,null,null,"",""]
[null,null,"MIXTESD1NORD","NORD","CLTT Menchhoffen 1",1,null,null,5,null,"",null,"Journée 5",{"$f":"IF(AND('resultats a exporter'!$CW$4=$I$2:$I$1100,'resultats a exporter'!$CX$4=$C$2:$C$1100,'resultats a exporter'!$CY$4=$E$2:$E$1100,'resultats a exporter'!$CZ$4=$G$2:$G$1100),'resultats a exporter'!$DA$4,\"\")","v":""},{"$f":"IF(AND('resultats a exporter'!$CW$4=$I$2:$I$1100,'resultats a exporter'!$CX$4=$C$2:$C$1100,'resultats a exporter'!$CY$4=$E$2:$E$1100,'resultats a exporter'!$CZ$4=$G$2:$G$1100),'resultats a exporter'!$DB$4,\"\")","v":""},null,null,null,null,"",null,null,"","",null,null,null,null,null,null,null,null,null,null,null,null,null,null,null,null,null,null,"",""]
[null,null,"MIXTESD1NORD","NORD",null,null,"CLTT Menchhoffen 2",2,5,null,"",null,"Journée 5",{"$f":"IF(AND('resultats a exporter'!$CW$4=$I$2:$I$1100,'resultats a exporter'!$CX$4=$C$2:$C$1100,'resultats a exporter'!$CY$4=$E$2:$E$1100,'resultats a exporter'!$CZ$4=$G$2:$G$1100),'resultats a exporter'!$DA$4,\"\")","v":""},{"$f":"IF(AND('resultats a exporter'!$CW$4=$I$2:$I$1100,'resultats a exporter'!$CX$4=$C$2:$C$1100,'resultats a exporter'!$CY$4=$E$2:$E$1100,'resultats a exporter'!$CZ$4=$G$2:$G$1100),'resultats a exporter'!$DB$4,\"\")","v":""},null,null,null,null,"",null,null,"","",null,null,null,null,null,null,null,null,null,null,null,null,null,null,null,null,null,null,"",""]
[null,null,"MIXTESD1NORD","NORD",null,null,"CLTT Menchhoffen 1",1,6,null,"",null,"Journée 6",{"$f":"IF(AND('resultats a exporter'!$CW$4=$I$2:$I$1100,'resultats a exporter'!$CX$4=$C$2:$C$1100,'resultats a exporter'!$CY$4=$E$2:$E$1100,'resultats a exporter'!$CZ$4=$G$2:$G$1100),'resultats a exporter'!$DA$4,\"\")","v":""},{"$f":"IF(AND('resultats a exporter'!$CW$4=$I$2:$I$1100,'resultats a exporter'!$CX$4=$C$2:$C$1100,'resultats a exporter'!$CY$4=$E$2:$E$1100,'resultats a exporter'!$CZ$4=$G$2:$G$1100),'resultats a exporter'!$DB$4,\"\")","v":""},null,null,null,null,"",null,null,"","",null,null,null,null,null,null,null,null,null,null,null,null,null,null,null,null,null,null,"",""]
[null,null,"MIXTESD1NORD","NORD","CLTT Menchhoffen 2",2,null,null,6,null,"",null,"Journée 6",{"$f":"IF(AND('resultats a exporter'!$CW$4=$I$2:$I$1100,'resultats a exporter'!$CX$4=$C$2:$C$1100,'resultats a exporter'!$CY$4=$E$2:$E$1100,'resultats a exporter'!$CZ$4=$G$2:$G$1100),'resultats a exporter'!$DA$4,\"\")","v":""},{"$f":"IF(AND('resultats a exporter'!$CW$4=$I$2:$I$1100,'resultats a exporter'!$CX$4=$C$2:$C$1100,'resultats a exporter'!$CY$4=$E$2:$E$1100,'resultats a exporter'!$CZ$4=$G$2:$G$1100),'resultats a exporter'!$DB$4,\"\")","v":""},null,null,null,null,"",null,null,"","",null,null,null,null,null,null,null,null,null,null,null,null,null,null,null,null,null,null,"",""]
[null,null,"JUNIORS","JEUNES",null,null,null,null,1,"2024-12-07","samedi","13h30","Journée 1",{"$f":"IF(AND('resultats a exporter'!$CW$4=$I$2:$I$1100,'resultats a exporter'!$CX$4=$C$2:$C$1100,'resultats a exporter'!$CY$4=$E$2:$E$1100,'resultats a exporter'!$CZ$4=$G$2:$G$1100),'resultats a exporter'!$DA$4,\"\")","v":""},{"$f":"IF(AND('resultats a exporter'!$CW$4=$I$2:$I$1100,'resultats a exporter'!$CX$4=$C$2:$C$1100,'resultats a exporter'!$CY$4=$E$2:$E$1100,'resultats a exporter'!$CZ$4=$G$2:$G$1100),'resultats a exporter'!$DB$4,\"\")","v":""},"JUNIORS",null,null,null,"samedi 07-déc-2024, 13h30",null,null,"","",null,null,null,null,null,null,null,null,null,null,null,null,null,null,null,null,null,null,"",""]
[null,null,"JUNIORS","JEUNES",null,null,null,null,1,"2024-12-07","samedi","13h30","Journée 1",{"$f":"IF(AND('resultats a exporter'!$CW$4=$I$2:$I$1100,'resultats a exporter'!$CX$4=$C$2:$C$1100,'resultats a exporter'!$CY$4=$E$2:$E$1100,'resultats a exporter'!$CZ$4=$G$2:$G$1100),'resultats a exporter'!$DA$4,\"\")","v":""},{"$f":"IF(AND('resultats a exporter'!$CW$4=$I$2:$I$1100,'resultats a exporter'!$CX$4=$C$2:$C$1100,'resultats a exporter'!$CY$4=$E$2:$E$1100,'resultats a exporter'!$CZ$4=$G$2:$G$1100),'resultats a exporter'!$DB$4,\"\")","v":""},null,null,null,null,"samedi 07-déc-2024, 13h30",null,null,"","",null,null,null,null,null,null,null,null,null,null,null,null,null,null,null,null,null,null,"",""]
[null,null,"JUNIORS","JEUNES",null,null,null,null,2,"2024-12-07","samedi","13h30","Journée 2",{"$f":"IF(AND('resultats a exporter'!$CW$4=$I$2:$I$1100,'resultats a exporter'!$CX$4=$C$2:$C$1100,'resultats a exporter'!$CY$4=$E$2:$E$1100,'resultats a exporter'!$CZ$4=$G$2:$G$1100),'resultats a exporter'!$DA$4,\"\")","v":""},{"$f":"IF(AND('resultats a exporter'!$CW$4=$I$2:$I$1100,'resultats a exporter'!$CX$4=$C$2:$C$1100,'resultats a exporter'!$CY$4=$E$2:$E$1100,'resultats a exporter'!$CZ$4=$G$2:$G$1100),'resultats a exporter'!$DB$4,\"\")","v":""},null,null,null,null,"samedi 07-déc-2024, 13h30",null,null,"","",null,null,null,null,null,null,null,null,null,null,null,null,null,null,null,null,null,null,"",""]
[null,null,"JUNIORS","JEUNES",null,null,null,null,2,"2024-12-07","samedi","13h30","Journée 2",{"$f":"IF(AND('resultats a exporter'!$CW$4=$I$2:$I$1100,'resultats a exporter'!$CX$4=$C$2:$C$1100,'resultats a exporter'!$CY$4=$E$2:$E$1100,'resultats a exporter'!$CZ$4=$G$2:$G$1100),'resultats a exporter'!$DA$4,\"\")","v":""},{"$f":"IF(AND('resultats a exporter'!$CW$4=$I$2:$I$1100,'resultats a exporter'!$CX$4=$C$2:$C$1100,'resultats a exporter'!$CY$4=$E$2:$E$1100,'resultats a exporter'!$CZ$4=$G$2:$G$1100),'resultats a exporter'!$DB$4,\"\")","v":""},null,null,null,null,"samedi 07-déc-2024, 13h30",null,null,"","",null,null,null,null,null,null,null,null,null,null,null,null,null,null,null,null,null,null,"",""]
[null,null,"JUNIORS","JEUNES",null,null,null,null,3,"2024-12-07","samedi","13h30","Journée 3",{"$f":"IF(AND('resultats a exporter'!$CW$4=$I$2:$I$1100,'resultats a exporter'!$CX$4=$C$2:$C$1100,'resultats a exporter'!$CY$4=$E$2:$E$1100,'resultats a exporter'!$CZ$4=$G$2:$G$1100),'resultats a exporter'!$DA$4,\"\")","v":""},{"$f":"IF(AND('resultats a exporter'!$CW$4=$I$2:$I$1100,'resultats a exporter'!$CX$4=$C$2:$C$1100,'resultats a exporter'!$CY$4=$E$2:$E$1100,'resultats a exporter'!$CZ$4=$G$2:$G$1100),'resultats a exporter'!$DB$4,\"\")","v":""},null,null,null,null,"samedi 07-déc-2024, 13h30",null,null,"","",null,null,null,null,null,null,null,null,null,null,null,null,null,null,null,null,null,null,"",""]
[null,null,"JUNIORS","JEUNES",null,null,null,null,3,"2024-12-07","samedi","13h30","Journée 3",{"$f":"IF(AND('resultats a exporter'!$CW$4=$I$2:$I$1100,'resultats a exporter'!$CX$4=$C$2:$C$1100,'resultats a exporter'!$CY$4=$E$2:$E$1100,'resultats a exporter'!$CZ$4=$G$2:$G$1100),'resultats a exporter'!$DA$4,\"\")","v":""},{"$f":"IF(AND('resultats a exporter'!$CW$4=$I$2:$I$1100,'resultats a exporter'!$CX$4=$C$2:$C$1100,'resultats a exporter'!$CY$4=$E$2:$E$1100,'resultats a exporter'!$CZ$4=$G$2:$G$1100),'resultats a exporter'!$DB$4,\"\")","v":""},null,null,null,null,"samedi 07-déc-2024, 13h30",null,null,"","",null,null,null,null,null,null,null,null,null,null,null,null,null,null,null,null,null,null,"",""]
[null,null,"JUNIORS","JEUNES",null,null,null,null,4,"2025-04-27","dimanche","8h30","Journée 4",{"$f":"IF(AND('resultats a exporter'!$CW$4=$I$2:$I$1100,'resultats a exporter'!$CX$4=$C$2:$C$1100,'resultats a exporter'!$CY$4=$E$2:$E$1100,'resultats a exporter'!$CZ$4=$G$2:$G$1100),'resultats a exporter'!$DA$4,\"\")","v":""},{"$f":"IF(AND('resultats a exporter'!$CW$4=$I$2:$I$1100,'resultats a exporter'!$CX$4=$C$2:$C$1100,'resultats a exporter'!$CY$4=$E$2:$E$1100,'resultats a exporter'!$CZ$4=$G$2:$G$1100),'resultats a exporter'!$DB$4,\"\")","v":""},null,null,null,null,"dimanche 27-avr-2025, 8h30",null,null,"","",null,null,null,null,null,null,null,null,null,null,null,null,null,null,null,null,null,null,"",""]
[null,null,"JUNIORS","JEUNES",null,null,null,null,4,"2025-04-27","dimanche","8h30","Journée 4",{"$f":"IF(AND('resultats a exporter'!$CW$4=$I$2:$I$1100,'resultats a exporter'!$CX$4=$C$2:$C$1100,'resultats a exporter'!$CY$4=$E$2:$E$1100,'resultats a exporter'!$CZ$4=$G$2:$G$1100),'resultats a exporter'!$DA$4,\"\")","v":""},{"$f":"IF(AND('resultats a exporter'!$CW$4=$I$2:$I$1100,'resultats a exporter'!$CX$4=$C$2:$C$1100,'resultats a exporter'!$CY$4=$E$2:$E$1100,'resultats a exporter'!$CZ$4=$G$2:$G$1100),'resultats a exporter'!$DB$4,\"\")","v":""},null,null,null,null,"dimanche 27-avr-2025, 8h30",null,null,"","",null,null,null,null,null,null,null,null,null,null,null,null,null,null,null,null,null,null,"",""]
[null,null,"JUNIORS","JEUNES",null,null,null,null,5,"2025-04-27","dimanche","8h30","Journée 5",{"$f":"IF(AND('resultats a exporter'!$CW$4=$I$2:$I$1100,'resultats a exporter'!$CX$4=$C$2:$C$1100,'resultats a exporter'!$CY$4=$E$2:$E$1100,'resultats a exporter'!$CZ$4=$G$2:$G$1100),'resultats a exporter'!$DA$4,\"\")","v":""},{"$f":"IF(AND('resultats a exporter'!$CW$4=$I$2:$I$1100,'resultats a exporter'!$CX$4=$C$2:$C$1100,'resultats a exporter'!$CY$4=$E$2:$E$1100,'resultats a exporter'!$CZ$4=$G$2:$G$1100),'resultats a exporter'!$DB$4,\"\")","v":""},null,null,null,null,"dimanche 27-avr-2025, 8h30",null,null,"","",null,null,null,null,null,null,null,null,null,null,null,null,null,null,null,null,null,null,"",""]
[null,null,"JUNIORS","JEUNES",null,null,null,null,5,"2025-04-27","dimanche","8h30","Journée 5",{"$f":"IF(AND('resultats a exporter'!$CW$4=$I$2:$I$1100,'resultats a exporter'!$CX$4=$C$2:$C$1100,'resultats a exporter'!$CY$4=$E$2:$E$1100,'resultats a exporter'!$CZ$4=$G$2:$G$1100),'resultats a exporter'!$DA$4,\"\")","v":""},{"$f":"IF(AND('resultats a exporter'!$CW$4=$I$2:$I$1100,'resultats a exporter'!$CX$4=$C$2:$C$1100,'resultats a exporter'!$CY$4=$E$2:$E$1100,'resultats a exporter'!$CZ$4=$G$2:$G$1100),'resultats a exporter'!$DB$4,\"\")","v":""},null,null,null,null,"dimanche 27-avr-2025, 8h30",null,null,"","",null,null,null,null,null,null,null,null,null,null,null,null,null,null,null,null,null,null,"",""]
[null,null,"JUNIORS","JEUNES",null,null,null,null,6,"2025-04-27","dimanche","8h30","Journée 6",{"$f":"IF(AND('resultats a exporter'!$CW$4=$I$2:$I$1100,'resultats a exporter'!$CX$4=$C$2:$C$1100,'resultats a exporter'!$CY$4=$E$2:$E$1100,'resultats a exporter'!$CZ$4=$G$2:$G$1100),'resultats a exporter'!$DA$4,\"\")","v":""},{"$f":"IF(AND('resultats a exporter'!$CW$4=$I$2:$I$1100,'resultats a exporter'!$CX$4=$C$2:$C$1100,'resultats a exporter'!$CY$4=$E$2:$E$1100,'resultats a exporter'!$CZ$4=$G$2:$G$1100),'resultats a exporter'!$DB$4,\"\")","v":""},null,null,null,null,"dimanche 27-avr-2025, 8h30",null,null,"","",null,null,null,null,null,null,null,null,null,null,null,null,null,null,null,null,null,null,"",""]
[null,null,"JUNIORS","JEUNES",null,null,null,null,6,"2025-04-27","dimanche","8h30","Journée 6",{"$f":"IF(AND('resultats a exporter'!$CW$4=$I$2:$I$1100,'resultats a exporter'!$CX$4=$C$2:$C$1100,'resultats a exporter'!$CY$4=$E$2:$E$1100,'resultats a exporter'!$CZ$4=$G$2:$G$1100),'resultats a exporter'!$DA$4,\"\")","v":""},{"$f":"IF(AND('resultats a exporter'!$CW$4=$I$2:$I$1100,'resultats a exporter'!$CX$4=$C$2:$C$1100,'resultats a exporter'!$CY$4=$E$2:$E$1100,'resultats a exporter'!$CZ$4=$G$2:$G$1100),'resultats a exporter'!$DB$4,\"\")","v":""},null,null,null,null,"dimanche 27-avr-2025, 8h30",null,null,"","",null,null,null,null,null,null,null,null,null,null,null,null,null,null,null,null,null,null,"",""]
[null,null,"CADETS","JEUNES",null,null,null,null,1,"2024-12-07","samedi","13h30","Journée 1",{"$f":"IF(AND('resultats a exporter'!$CW$4=$I$2:$I$1100,'resultats a exporter'!$CX$4=$C$2:$C$1100,'resultats a exporter'!$CY$4=$E$2:$E$1100,'resultats a exporter'!$CZ$4=$G$2:$G$1100),'resultats a exporter'!$DA$4,\"\")","v":""},{"$f":"IF(AND('resultats a exporter'!$CW$4=$I$2:$I$1100,'resultats a exporter'!$CX$4=$C$2:$C$1100,'resultats a exporter'!$CY$4=$E$2:$E$1100,'resultats a exporter'!$CZ$4=$G$2:$G$1100),'resultats a exporter'!$DB$4,\"\")","v":""},"CADETS",null,null,null,"samedi 07-déc-2024, 13h30",null,null,"","",null,null,null,null,null,null,null,null,null,null,null,null,null,null,null,null,null,null,"",""]
[null,null,"CADETS","JEUNES",null,null,null,null,1,"2024-12-07","samedi","13h30","Journée 1",{"$f":"IF(AND('resultats a exporter'!$CW$4=$I$2:$I$1100,'resultats a exporter'!$CX$4=$C$2:$C$1100,'resultats a exporter'!$CY$4=$E$2:$E$1100,'resultats a exporter'!$CZ$4=$G$2:$G$1100),'resultats a exporter'!$DA$4,\"\")","v":""},{"$f":"IF(AND('resultats a exporter'!$CW$4=$I$2:$I$1100,'resultats a exporter'!$CX$4=$C$2:$C$1100,'resultats a exporter'!$CY$4=$E$2:$E$1100,'resultats a exporter'!$CZ$4=$G$2:$G$1100),'resultats a exporter'!$DB$4,\"\")","v":""},null,null,null,null,"samedi 07-déc-2024, 13h30",null,null,"","",null,null,null,null,null,null,null,null,null,null,null,null,null,null,null,null,null,null,"",""]
[null,null,"CADETS","JEUNES",null,null,null,null,2,"2024-12-07","samedi","13h30","Journée 2",{"$f":"IF(AND('resultats a exporter'!$CW$4=$I$2:$I$1100,'resultats a exporter'!$CX$4=$C$2:$C$1100,'resultats a exporter'!$CY$4=$E$2:$E$1100,'resultats a exporter'!$CZ$4=$G$2:$G$1100),'resultats a exporter'!$DA$4,\"\")","v":""},{"$f":"IF(AND('resultats a exporter'!$CW$4=$I$2:$I$1100,'resultats a exporter'!$CX$4=$C$2:$C$1100,'resultats a exporter'!$CY$4=$E$2:$E$1100,'resultats a exporter'!$CZ$4=$G$2:$G$1100),'resultats a exporter'!$DB$4,\"\")","v":""},null,null,null,null,"samedi 07-déc-2024, 13h30",null,null,"","",null,null,null,null,null,null,null,null,null,null,null,null,null,null,null,null,null,null,"",""]
[null,null,"CADETS","JEUNES",null,null,null,null,2,"2024-12-07","samedi","13h30","Journée 2",{"$f":"IF(AND('resultats a exporter'!$CW$4=$I$2:$I$1100,'resultats a exporter'!$CX$4=$C$2:$C$1100,'resultats a exporter'!$CY$4=$E$2:$E$1100,'resultats a exporter'!$CZ$4=$G$2:$G$1100),'resultats a exporter'!$DA$4,\"\")","v":""},{"$f":"IF(AND('resultats a exporter'!$CW$4=$I$2:$I$1100,'resultats a exporter'!$CX$4=$C$2:$C$1100,'resultats a exporter'!$CY$4=$E$2:$E$1100,'resultats a exporter'!$CZ$4=$G$2:$G$1100),'resultats a exporter'!$DB$4,\"\")","v":""},null,null,null,null,"samedi 07-déc-2024, 13h30",null,null,"","",null,null,null,null,null,null,null,null,null,null,null,null,null,null,null,null,null,null,"",""]
[null,null,"CADETS","JEUNES",null,null,null,null,3,"2024-12-07","samedi","13h30","Journée 3",{"$f":"IF(AND('resultats a exporter'!$CW$4=$I$2:$I$1100,'resultats a exporter'!$CX$4=$C$2:$C$1100,'resultats a exporter'!$CY$4=$E$2:$E$1100,'resultats a exporter'!$CZ$4=$G$2:$G$1100),'resultats a exporter'!$DA$4,\"\")","v":""},{"$f":"IF(AND('resultats a exporter'!$CW$4=$I$2:$I$1100,'resultats a exporter'!$CX$4=$C$2:$C$1100,'resultats a exporter'!$CY$4=$E$2:$E$1100,'resultats a exporter'!$CZ$4=$G$2:$G$1100),'resultats a exporter'!$DB$4,\"\")","v":""},null,null,null,null,"samedi 07-déc-2024, 13h30",null,null,"","",null,null,null,null,null,null,null,null,null,null,null,null,null,null,null,null,null,null,"",""]
[null,null,"CADETS","JEUNES",null,null,null,null,3,"2024-12-07","samedi","13h30","Journée 3",{"$f":"IF(AND('resultats a exporter'!$CW$4=$I$2:$I$1100,'resultats a exporter'!$CX$4=$C$2:$C$1100,'resultats a exporter'!$CY$4=$E$2:$E$1100,'resultats a exporter'!$CZ$4=$G$2:$G$1100),'resultats a exporter'!$DA$4,\"\")","v":""},{"$f":"IF(AND('resultats a exporter'!$CW$4=$I$2:$I$1100,'resultats a exporter'!$CX$4=$C$2:$C$1100,'resultats a exporter'!$CY$4=$E$2:$E$1100,'resultats a exporter'!$CZ$4=$G$2:$G$1100),'resultats a exporter'!$DB$4,\"\")","v":""},null,null,null,null,"samedi 07-déc-2024, 13h30",null,null,"","",null,null,null,null,null,null,null,null,null,null,null,null,null,null,null,null,null,null,"",""]
[null,null,"CADETS","JEUNES",null,null,null,null,4,"2025-04-27","dimanche","8h30","Journée 4",{"$f":"IF(AND('resultats a exporter'!$CW$4=$I$2:$I$1100,'resultats a exporter'!$CX$4=$C$2:$C$1100,'resultats a exporter'!$CY$4=$E$2:$E$1100,'resultats a exporter'!$CZ$4=$G$2:$G$1100),'resultats a exporter'!$DA$4,\"\")","v":""},{"$f":"IF(AND('resultats a exporter'!$CW$4=$I$2:$I$1100,'resultats a exporter'!$CX$4=$C$2:$C$1100,'resultats a exporter'!$CY$4=$E$2:$E$1100,'resultats a exporter'!$CZ$4=$G$2:$G$1100),'resultats a exporter'!$DB$4,\"\")","v":""},null,null,null,null,"dimanche 27-avr-2025, 8h30",null,null,"","",null,null,null,null,null,null,null,null,null,null,null,null,null,null,null,null,null,null,"",""]
[null,null,"CADETS","JEUNES",null,null,null,null,4,"2025-04-27","dimanche","8h30","Journée 4",{"$f":"IF(AND('resultats a exporter'!$CW$4=$I$2:$I$1100,'resultats a exporter'!$CX$4=$C$2:$C$1100,'resultats a exporter'!$CY$4=$E$2:$E$1100,'resultats a exporter'!$CZ$4=$G$2:$G$1100),'resultats a exporter'!$DA$4,\"\")","v":""},{"$f":"IF(AND('resultats a exporter'!$CW$4=$I$2:$I$1100,'resultats a exporter'!$CX$4=$C$2:$C$1100,'resultats a exporter'!$CY$4=$E$2:$E$1100,'resultats a exporter'!$CZ$4=$G$2:$G$1100),'resultats a exporter'!$DB$4,\"\")","v":""},null,null,null,null,"dimanche 27-avr-2025, 8h30",null,null,"","",null,null,null,null,null,null,null,null,null,null,null,null,null,null,null,null,null,null,"",""]
[null,null,"CADETS","JEUNES",null,null,null,null,5,"2025-04-27","dimanche","8h30","Journée 5",{"$f":"IF(AND('resultats a exporter'!$CW$4=$I$2:$I$1100,'resultats a exporter'!$CX$4=$C$2:$C$1100,'resultats a exporter'!$CY$4=$E$2:$E$1100,'resultats a exporter'!$CZ$4=$G$2:$G$1100),'resultats a exporter'!$DA$4,\"\")","v":""},{"$f":"IF(AND('resultats a exporter'!$CW$4=$I$2:$I$1100,'resultats a exporter'!$CX$4=$C$2:$C$1100,'resultats a exporter'!$CY$4=$E$2:$E$1100,'resultats a exporter'!$CZ$4=$G$2:$G$1100),'resultats a exporter'!$DB$4,\"\")","v":""},null,null,null,null,"dimanche 27-avr-2025, 8h30",null,null,"","",null,null,null,null,null,null,null,null,null,null,null,null,null,null,null,null,null,null,"",""]
[null,null,"CADETS","JEUNES",null,null,null,null,5,"2025-04-27","dimanche","8h30","Journée 5",{"$f":"IF(AND('resultats a exporter'!$CW$4=$I$2:$I$1100,'resultats a exporter'!$CX$4=$C$2:$C$1100,'resultats a exporter'!$CY$4=$E$2:$E$1100,'resultats a exporter'!$CZ$4=$G$2:$G$1100),'resultats a exporter'!$DA$4,\"\")","v":""},{"$f":"IF(AND('resultats a exporter'!$CW$4=$I$2:$I$1100,'resultats a exporter'!$CX$4=$C$2:$C$1100,'resultats a exporter'!$CY$4=$E$2:$E$1100,'resultats a exporter'!$CZ$4=$G$2:$G$1100),'resultats a exporter'!$DB$4,\"\")","v":""},null,null,null,null,"dimanche 27-avr-2025, 8h30",null,null,"","",null,null,null,null,null,null,null,null,null,null,null,null,null,null,null,null,null,null,"",""]
[null,null,"CADETS","JEUNES",null,null,null,null,6,"2025-04-27","dimanche","8h30","Journée 6",{"$f":"IF(AND('resultats a exporter'!$CW$4=$I$2:$I$1100,'resultats a exporter'!$CX$4=$C$2:$C$1100,'resultats a exporter'!$CY$4=$E$2:$E$1100,'resultats a exporter'!$CZ$4=$G$2:$G$1100),'resultats a exporter'!$DA$4,\"\")","v":""},{"$f":"IF(AND('resultats a exporter'!$CW$4=$I$2:$I$1100,'resultats a exporter'!$CX$4=$C$2:$C$1100,'resultats a exporter'!$CY$4=$E$2:$E$1100,'resultats a exporter'!$CZ$4=$G$2:$G$1100),'resultats a exporter'!$DB$4,\"\")","v":""},null,null,null,null,"dimanche 27-avr-2025, 8h30",null,null,"","",null,null,null,null,null,null,null,null,null,null,null,null,null,null,null,null,null,null,"",""]
[null,null,"CADETS","JEUNES",null,null,null,null,6,"2025-04-27","dimanche","8h30","Journée 6",{"$f":"IF(AND('resultats a exporter'!$CW$4=$I$2:$I$1100,'resultats a exporter'!$CX$4=$C$2:$C$1100,'resultats a exporter'!$CY$4=$E$2:$E$1100,'resultats a exporter'!$CZ$4=$G$2:$G$1100),'resultats a exporter'!$DA$4,\"\")","v":""},{"$f":"IF(AND('resultats a exporter'!$CW$4=$I$2:$I$1100,'resultats a exporter'!$CX$4=$C$2:$C$1100,'resultats a exporter'!$CY$4=$E$2:$E$1100,'resultats a exporter'!$CZ$4=$G$2:$G$1100),'resultats a exporter'!$DB$4,\"\")","v":""},null,null,null,null,"dimanche 27-avr-2025, 8h30",null,null,"","",null,null,null,null,null,null,null,null,null,null,null,null,null,null,null,null,null,null,"",""]
[null,null,"MINIMESBENJAMINSPOUSSINS","JEUNES",null,null,null,null,1,"2024-12-07","samedi","13h30","Journée 1",{"$f":"IF(AND('resultats a exporter'!$CW$4=$I$2:$I$1100,'resultats a exporter'!$CX$4=$C$2:$C$1100,'resultats a exporter'!$CY$4=$E$2:$E$1100,'resultats a exporter'!$CZ$4=$G$2:$G$1100),'resultats a exporter'!$DA$4,\"\")","v":""},{"$f":"IF(AND('resultats a exporter'!$CW$4=$I$2:$I$1100,'resultats a exporter'!$CX$4=$C$2:$C$1100,'resultats a exporter'!$CY$4=$E$2:$E$1100,'resultats a exporter'!$CZ$4=$G$2:$G$1100),'resultats a exporter'!$DB$4,\"\")","v":""},"MINIMESBENJAMINSPOUSSINS",null,null,null,"samedi 07-déc-2024, 13h30",null,null,"","",null,null,null,null,null,null,null,null,null,null,null,null,null,null,null,null,null,null,"",""]
[null,null,"MINIMESBENJAMINSPOUSSINS","JEUNES",null,null,null,null,1,"2024-12-07","samedi","13h30","Journée 1",{"$f":"IF(AND('resultats a exporter'!$CW$4=$I$2:$I$1100,'resultats a exporter'!$CX$4=$C$2:$C$1100,'resultats a exporter'!$CY$4=$E$2:$E$1100,'resultats a exporter'!$CZ$4=$G$2:$G$1100),'resultats a exporter'!$DA$4,\"\")","v":""},{"$f":"IF(AND('resultats a exporter'!$CW$4=$I$2:$I$1100,'resultats a exporter'!$CX$4=$C$2:$C$1100,'resultats a exporter'!$CY$4=$E$2:$E$1100,'resultats a exporter'!$CZ$4=$G$2:$G$1100),'resultats a exporter'!$DB$4,\"\")","v":""},null,null,null,null,"samedi 07-déc-2024, 13h30",null,null,"","",null,null,null,null,null,null,null,null,null,null,null,null,null,null,null,null,null,null,"",""]
[null,null,"MINIMESBENJAMINSPOUSSINS","JEUNES",null,null,null,null,2,"2024-12-07","samedi","13h30","Journée 2",{"$f":"IF(AND('resultats a exporter'!$CW$4=$I$2:$I$1100,'resultats a exporter'!$CX$4=$C$2:$C$1100,'resultats a exporter'!$CY$4=$E$2:$E$1100,'resultats a exporter'!$CZ$4=$G$2:$G$1100),'resultats a exporter'!$DA$4,\"\")","v":""},{"$f":"IF(AND('resultats a exporter'!$CW$4=$I$2:$I$1100,'resultats a exporter'!$CX$4=$C$2:$C$1100,'resultats a exporter'!$CY$4=$E$2:$E$1100,'resultats a exporter'!$CZ$4=$G$2:$G$1100),'resultats a exporter'!$DB$4,\"\")","v":""},null,null,null,null,"samedi 07-déc-2024, 13h30",null,null,"","",null,null,null,null,null,null,null,null,null,null,null,null,null,null,null,null,null,null,"",""]
[null,null,"MINIMESBENJAMINSPOUSSINS","JEUNES",null,null,null,null,2,"2024-12-07","samedi","13h30","Journée 2",{"$f":"IF(AND('resultats a exporter'!$CW$4=$I$2:$I$1100,'resultats a exporter'!$CX$4=$C$2:$C$1100,'resultats a exporter'!$CY$4=$E$2:$E$1100,'resultats a exporter'!$CZ$4=$G$2:$G$1100),'resultats a exporter'!$DA$4,\"\")","v":""},{"$f":"IF(AND('resultats a exporter'!$CW$4=$I$2:$I$1100,'resultats a exporter'!$CX$4=$C$2:$C$1100,'resultats a exporter'!$CY$4=$E$2:$E$1100,'resultats a exporter'!$CZ$4=$G$2:$G$1100),'resultats a exporter'!$DB$4,\"\")","v":""},null,null,null,null,"samedi 07-déc-2024, 13h30",null,null,"","",null,null,null,null,null,null,null,null,null,null,null,null,null,null,null,null,null,null,"",""]
[null,null,"MINIMESBENJAMINSPOUSSINS","JEUNES",null,null,null,null,3,"2024-12-07","samedi","13h30","Journée 3",{"$f":"IF(AND('resultats a exporter'!$CW$4=$I$2:$I$1100,'resultats a exporter'!$CX$4=$C$2:$C$1100,'resultats a exporter'!$CY$4=$E$2:$E$1100,'resultats a exporter'!$CZ$4=$G$2:$G$1100),'resultats a exporter'!$DA$4,\"\")","v":""},{"$f":"IF(AND('resultats a exporter'!$CW$4=$I$2:$I$1100,'resultats a exporter'!$CX$4=$C$2:$C$1100,'resultats a exporter'!$CY$4=$E$2:$E$1100,'resultats a exporter'!$CZ$4=$G$2:$G$1100),'resultats a exporter'!$DB$4,\"\")","v":""},null,null,null,null,"samedi 07-déc-2024, 13h30",null,null,"","",null,null,null,null,null,null,null,null,null,null,null,null,null,null,null,null,null,null,"",""]
[null,null,"MINIMESBENJAMINSPOUSSINS","JEUNES",null,null,null,null,3,"2024-12-07","samedi","13h30","Journée 3",{"$f":"IF(AND('resultats a exporter'!$CW$4=$I$2:$I$1100,'resultats a exporter'!$CX$4=$C$2:$C$1100,'resultats a exporter'!$CY$4=$E$2:$E$1100,'resultats a exporter'!$CZ$4=$G$2:$G$1100),'resultats a exporter'!$DA$4,\"\")","v":""},{"$f":"IF(AND('resultats a exporter'!$CW$4=$I$2:$I$1100,'resultats a exporter'!$CX$4=$C$2:$C$1100,'resultats a exporter'!$CY$4=$E$2:$E$1100,'resultats a exporter'!$CZ$4=$G$2:$G$1100),'resultats a exporter'!$DB$4,\"\")","v":""},null,null,null,null,"samedi 07-déc-2024, 13h30",null,null,"","",null,null,null,null,null,null,null,null,null,null,null,null,null,null,null,null,null,null,"",""]
[null,null,"MINIMESBENJAMINSPOUSSINS","JEUNES",null,null,null,null,4,"2025-04-27","dimanche","8h30","Journée 4",{"$f":"IF(AND('resultats a exporter'!$CW$4=$I$2:$I$1100,'resultats a exporter'!$CX$4=$C$2:$C$1100,'resultats a exporter'!$CY$4=$E$2:$E$1100,'resultats a exporter'!$CZ$4=$G$2:$G$1100),'resultats a exporter'!$DA$4,\"\")","v":""},{"$f":"IF(AND('resultats a exporter'!$CW$4=$I$2:$I$1100,'resultats a exporter'!$CX$4=$C$2:$C$1100,'resultats a exporter'!$CY$4=$E$2:$E$1100,'resultats a exporter'!$CZ$4=$G$2:$G$1100),'resultats a exporter'!$DB$4,\"\")","v":""},null,null,null,null,"dimanche 27-avr-2025, 8h30",null,null,"","",null,null,null,null,null,null,null,null,null,null,null,null,null,null,null,null,null,null,"",""]
[null,null,"MINIMESBENJAMINSPOUSSINS","JEUNES",null,null,null,null,4,"2025-04-27","dimanche","8h30","Journée 4",{"$f":"IF(AND('resultats a exporter'!$CW$4=$I$2:$I$1100,'resultats a exporter'!$CX$4=$C$2:$C$1100,'resultats a exporter'!$CY$4=$E$2:$E$1100,'resultats a exporter'!$CZ$4=$G$2:$G$1100),'resultats a exporter'!$DA$4,\"\")","v":""},{"$f":"IF(AND('resultats a exporter'!$CW$4=$I$2:$I$1100,'resultats a exporter'!$CX$4=$C$2:$C$1100,'resultats a exporter'!$CY$4=$E$2:$E$1100,'resultats a exporter'!$CZ$4=$G$2:$G$1100),'resultats a exporter'!$DB$4,\"\")","v":""},null,null,null,null,"dimanche 27-avr-2025, 8h30",null,null,"","",null,null,null,null,null,null,null,null,null,null,null,null,null,null,null,null,null,null,"",""]
[null,null,"MINIMESBENJAMINSPOUSSINS","JEUNES",null,null,null,null,5,"2025-04-27",{"$f":"IF(J562=\"\",\"\",TEXT(J562,\"JJJJ\"))","v":"dimanche"},"8h30","Journée 5",{"$f":"IF(AND('resultats a exporter'!$CW$4=$I$2:$I$1100,'resultats a exporter'!$CX$4=$C$2:$C$1100,'resultats a exporter'!$CY$4=$E$2:$E$1100,'resultats a exporter'!$CZ$4=$G$2:$G$1100),'resultats a exporter'!$DA$4,\"\")","v":""},{"$f":"IF(AND('resultats a exporter'!$CW$4=$I$2:$I$1100,'resultats a exporter'!$CX$4=$C$2:$C$1100,'resultats a exporter'!$CY$4=$E$2:$E$1100,'resultats a exporter'!$CZ$4=$G$2:$G$1100),'resultats a exporter'!$DB$4,\"\")","v":""},null,null,null,null,{"$f":"IF(J562=\"\",\"\",$K562&\" \"&TEXT($J562,\"jj-mmm-aaaa\")&\", \"&$L562)","v":"dimanche 27-avr-2025, 8h30"},null,null,"","",null,null,null,null,null,null,null,null,null,null,null,null,null,null,null,null,null,null,"",""]
[null,null,"MINIMESBENJAMINSPOUSSINS","JEUNES",null,null,null,null,5,"2025-04-27","dimanche","8h30",{"$f":"I$1&\" \"&I563","v":"Journée 5"},{"$f":"IF(AND('resultats a exporter'!$CW$4=$I$2:$I$1100,'resultats a exporter'!$CX$4=$C$2:$C$1100,'resultats a exporter'!$CY$4=$E$2:$E$1100,'resultats a exporter'!$CZ$4=$G$2:$G$1100),'resultats a exporter'!$DA$4,\"\")","v":""},{"$f":"IF(AND('resultats a exporter'!$CW$4=$I$2:$I$1100,'resultats a exporter'!$CX$4=$C$2:$C$1100,'resultats a exporter'!$CY$4=$E$2:$E$1100,'resultats a exporter'!$CZ$4=$G$2:$G$1100),'resultats a exporter'!$DB$4,\"\")","v":""},null,null,null,null,"dimanche 27-avr-2025, 8h30",null,null,"","",null,null,null,null,null,null,null,null,null,null,null,null,null,null,null,null,null,null,"",""]
[null,null,"MINIMESBENJAMINSPOUSSINS","JEUNES",null,null,null,null,6,"2025-04-27","dimanche","8h30","Journée 6",{"$f":"IF(AND('resultats a exporter'!$CW$4=$I$2:$I$1100,'resultats a exporter'!$CX$4=$C$2:$C$1100,'resultats a exporter'!$CY$4=$E$2:$E$1100,'resultats a exporter'!$CZ$4=$G$2:$G$1100),'resultats a exporter'!$DA$4,\"\")","v":""},{"$f":"IF(AND('resultats a exporter'!$CW$4=$I$2:$I$1100,'resultats a exporter'!$CX$4=$C$2:$C$1100,'resultats a exporter'!$CY$4=$E$2:$E$1100,'resultats a exporter'!$CZ$4=$G$2:$G$1100),'resultats a exporter'!$DB$4,\"\")","v":""},null,null,null,null,"dimanche 27-avr-2025, 8h30",null,null,"","",null,null,null,null,null,null,null,null,null,null,null,null,null,null,null,null,null,null,"",""]
[null,null,"MINIMESBENJAMINSPOUSSINS","JEUNES",null,null,null,null,6,"2025-04-27","dimanche","8h30","Journée 6",{"$f":"IF(AND('resultats a exporter'!$CW$4=$I$2:$I$1100,'resultats a exporter'!$CX$4=$C$2:$C$1100,'resultats a exporter'!$CY$4=$E$2:$E$1100,'resultats a exporter'!$CZ$4=$G$2:$G$1100),'resultats a exporter'!$DA$4,\"\")","v":""},{"$f":"IF(AND('resultats a exporter'!$CW$4=$I$2:$I$1100,'resultats a exporter'!$CX$4=$C$2:$C$1100,'resultats a exporter'!$CY$4=$E$2:$E$1100,'resultats a exporter'!$CZ$4=$G$2:$G$1100),'resultats a exporter'!$DB$4,\"\")","v":""},null,null,null,null,"dimanche 27-avr-2025, 8h30",null,null,"","",null,null,null,null,null,null,null,null,null,null,null,null,null,null,null,null,null,null,"",""]
[null,null,"PROMOTIONFINALE","FINALESDEPARTEMENTALES",{"$f":"IF('Feuille de match'!$K$5=\"PROMOTIONFINALE\", 'Feuille de match'!$A$8,\"Equipe1NordPromotion\")","v":"Equipe1NordPromotion"},null,{"$f":"IF('Feuille de match'!$K$5=\"PROMOTIONFINALE\", 'Feuille de match'!$N$8,\"Equipe1StrasbourgPromotion\")","v":"Equipe1StrasbourgPromotion"},null,1,"2025-05-22","jeudi","20h00",{"$f":"I$1&\" \"&I566","v":"Journée 1"},{"$f":"IF(AND('resultats a exporter'!$CW$4=$I$2:$I$1100,'resultats a exporter'!$CX$4=$C$2:$C$1100,'resultats a exporter'!$CY$4=$E$2:$E$1100,'resultats a exporter'!$CZ$4=$G$2:$G$1100),'resultats a exporter'!$DA$4,\"\")","v":""},{"$f":"IF(AND('resultats a exporter'!$CW$4=$I$2:$I$1100,'resultats a exporter'!$CX$4=$C$2:$C$1100,'resultats a exporter'!$CY$4=$E$2:$E$1100,'resultats a exporter'!$CZ$4=$G$2:$G$1100),'resultats a exporter'!$DB$4,\"\")","v":""},null,null,null,null,"jeudi 22-mai-2025, 20h00",null,null,"","",null,null,null,null,null,null,null,null,null,null,null,null,null,null,null,null,null,null,"",""]
[null,null,"MIXTESD1FINALE","FINALESDEPARTEMENTALES",{"$f":"IF('Feuille de match'!$K$5=\"MIXTESD1FINALE\", 'Feuille de match'!$A$8,\"Equipe1NordMixtes\")","v":"Equipe1NordMixtes"},null,{"$f":"IF('Feuille de match'!$K$5=\"MIXTESD1FINALE\", 'Feuille de match'!$N$8,\"Equipe1StrasbourgMixtes\")","v":"Equipe1StrasbourgMixtes"},null,1,"2025-05-22","jeudi","20h00","Journée 1",{"$f":"IF(AND('resultats a exporter'!$CW$4=$I$2:$I$1100,'resultats a exporter'!$CX$4=$C$2:$C$1100,'resultats a exporter'!$CY$4=$E$2:$E$1100,'resultats a exporter'!$CZ$4=$G$2:$G$1100),'resultats a exporter'!$DA$4,\"\")","v":""},{"$f":"IF(AND('resultats a exporter'!$CW$4=$I$2:$I$1100,'resultats a exporter'!$CX$4=$C$2:$C$1100,'resultats a exporter'!$CY$4=$E$2:$E$1100,'resultats a exporter'!$CZ$4=$G$2:$G$1100),'resultats a exporter'!$DB$4,\"\")","v":""},null,null,null,null,"jeudi 22-mai-2025, 20h00",null,null,"","",null,null,null,null,null,null,null,null,null,null,null,null,null,null,null,null,null,null,"",""]
[null,null,"VETERANSD1FINALE","FINALESDEPARTEMENTALES",{"$f":"IF('Feuille de match'!$K$5=\"VETERANSD1FINALE\", 'Feuille de match'!$A$8,\"Equipe1NordVétéransD1\")","v":"Equipe1NordVétéransD1"},null,{"$f":"IF('Feuille de match'!$K$5=\"VETERANSD1FINALE\", 'Feuille de match'!$N$8,\"Equipe1StrasbourgVétéransD1\")","v":"Equipe1StrasbourgVétéransD1"},null,1,"2025-05-22","jeudi","20h00","Journée 1",{"$f":"IF(AND('resultats a exporter'!$CW$4=$I$2:$I$1100,'resultats a exporter'!$CX$4=$C$2:$C$1100,'resultats a exporter'!$CY$4=$E$2:$E$1100,'resultats a exporter'!$CZ$4=$G$2:$G$1100),'resultats a exporter'!$DA$4,\"\")","v":""},{"$f":"IF(AND('resultats a exporter'!$CW$4=$I$2:$I$1100,'resultats a exporter'!$CX$4=$C$2:$C$1100,'resultats a exporter'!$CY$4=$E$2:$E$1100,'resultats a exporter'!$CZ$4=$G$2:$G$1100),'resultats a exporter'!$DB$4,\"\")","v":""},null,null,null,null,"jeudi 22-mai-2025, 20h00",null,null,"","",null,null,null,null,null,null,null,null,null,null,null,null,null,null,null,null,null,null,"",""]
[null,null,"VETERANSD2FINALE","FINALESDEPARTEMENTALES",{"$f":"IF('Feuille de match'!$K$5=\"VETERANSD2FINALE\", 'Feuille de match'!$A$8,\"Equipe1NordVétéransD2\")","v":"Equipe1NordVétéransD2"},null,{"$f":"IF('Feuille de match'!$K$5=\"VETERANSD2FINALE\", 'Feuille de match'!$N$8,\"Equipe1StrasbourgVétéransD2\")","v":"Equipe1StrasbourgVétéransD2"},null,1,"2025-05-22","jeudi","20h00","Journée 1",{"$f":"IF(AND('resultats a exporter'!$CW$4=$I$2:$I$1100,'resultats a exporter'!$CX$4=$C$2:$C$1100,'resultats a exporter'!$CY$4=$E$2:$E$1100,'resultats a exporter'!$CZ$4=$G$2:$G$1100),'resultats a exporter'!$DA$4,\"\")","v":""},{"$f":"IF(AND('resultats a exporter'!$CW$4=$I$2:$I$1100,'resultats a exporter'!$CX$4=$C$2:$C$1100,'resultats a exporter'!$CY$4=$E$2:$E$1100,'resultats a exporter'!$CZ$4=$G$2:$G$1100),'resultats a exporter'!$DB$4,\"\")","v":""},null,null,null,null,"jeudi 22-mai-2025, 20h00",null,null,"","",null,null,null,null,null,null,null,null,null,null,null,null,null,null,null,null,null,null,"",""]
[null,null,"JUNIORSFINALE","FINALESDEPARTEMENTALES",{"$f":"IF('Feuille de match'!$K$5=\"JUNIORSFINALE\", 'Feuille de match'!$A$8,\"Equipe1NordJuniors\")","v":"Equipe1NordJuniors"},null,{"$f":"IF('Feuille de match'!$K$5=\"JUNIORSFINALE\", 'Feuille de match'!$N$8,\"Equipe1StrasbourgJuniors\")","v":"Equipe1StrasbourgJuniors"},null,1,"2025-05-22","jeudi","18h00","Journée 1",{"$f":"IF(AND('resultats a exporter'!$CW$4=$I$2:$I$1100,'resultats a exporter'!$CX$4=$C$2:$C$1100,'resultats a exporter'!$CY$4=$E$2:$E$1100,'resultats a exporter'!$CZ$4=$G$2:$G$1100),'resultats a exporter'!$DA$4,\"\")","v":""},{"$f":"IF(AND('resultats a exporter'!$CW$4=$I$2:$I$1100,'resultats a exporter'!$CX$4=$C$2:$C$1100,'resultats a exporter'!$CY$4=$E$2:$E$1100,'resultats a exporter'!$CZ$4=$G$2:$G$1100),'resultats a exporter'!$DB$4,\"\")","v":""},null,null,null,null,"jeudi 22-mai-2025, 18h00",null,null,"","",null,null,null,null,null,null,null,null,null,null,null,null,null,null,null,null,null,null,"",""]
[null,null,"CADETSFINALE","FINALESDEPARTEMENTALES",{"$f":"IF('Feuille de match'!$K$5=\"CADETSFINALE\", 'Feuille de match'!$A$8,\"Equipe1NordCadets\")","v":"Equipe1NordCadets"},null,{"$f":"IF('Feuille de match'!$K$5=\"CADETSFINALE\", 'Feuille de match'!$N$8,\"Equipe1StrasbourgCadets\")","v":"Equipe1StrasbourgCadets"},null,1,"2025-05-22","jeudi","18h00","Journée 1",{"$f":"IF(AND('resultats a exporter'!$CW$4=$I$2:$I$1100,'resultats a exporter'!$CX$4=$C$2:$C$1100,'resultats a exporter'!$CY$4=$E$2:$E$1100,'resultats a exporter'!$CZ$4=$G$2:$G$1100),'resultats a exporter'!$DA$4,\"\")","v":""},{"$f":"IF(AND('resultats a exporter'!$CW$4=$I$2:$I$1100,'resultats a exporter'!$CX$4=$C$2:$C$1100,'resultats a exporter'!$CY$4=$E$2:$E$1100,'resultats a exporter'!$CZ$4=$G$2:$G$1100),'resultats a exporter'!$DB$4,\"\")","v":""},null,null,null,null,"jeudi 22-mai-2025, 18h00",null,null,{"$f":"IF(AND(N571<>\"\",O571<>\"\"),T571,\"\")","v":""},{"$f":"IF(AND(N571<>\"\",O571<>\"\"),E571&\" - \"&G571,\"\")","v":""},null,null,null,null,null,null,null,null,null,null,null,null,null,null,null,null,null,null,{"$f":"IF(AND(N571<>\"\",O571<>\"\"),E571,\"\")","v":""},{"$f":"IF(AND(N571<>\"\",O571<>\"\"),G571,\"\")","v":""}]
[null,null,"MINIMESBENJAMINSPOUSSINSFINALE","FINALESDEPARTEMENTALES",{"$f":"IF('Feuille de match'!$K$5=\"MINIMESBENJAMINSPOUSSINSFINALE\", 'Feuille de match'!$A$8,\"Equipe1NordMinimesBenjaminsPoussins\")","v":"Equipe1NordMinimesBenjaminsPoussins"},null,{"$f":"IF('Feuille de match'!$K$5=\"MINIMESBENJAMINSPOUSSINSFINALE\", 'Feuille de match'!$N$8,\"Equipe1StrasbourgMinimesBenjaminsPoussins\")","v":"Equipe1StrasbourgMinimesBenjaminsPoussins"},null,1,"2025-05-22","jeudi","18h00","Journée 1",{"$f":"IF(AND('resultats a exporter'!$CW$4=$I$2:$I$1100,'resultats a exporter'!$CX$4=$C$2:$C$1100,'resultats a exporter'!$CY$4=$E$2:$E$1100,'resultats a exporter'!$CZ$4=$G$2:$G$1100),'resultats a exporter'!$DA$4,\"\")","v":""},{"$f":"IF(AND('resultats a exporter'!$CW$4=$I$2:$I$1100,'resultats a exporter'!$CX$4=$C$2:$C$1100,'resultats a exporter'!$CY$4=$E$2:$E$1100,'resultats a exporter'!$CZ$4=$G$2:$G$1100),'resultats a exporter'!$DB$4,\"\")","v":""},null,null,null,null,"jeudi 22-mai-2025, 18h00",null,null,"","",null,null,null,null,null,null,null,null,null,null,null,null,null,null,null,null,null,null,"",""]
[null,"TOTAL","nombre de rencontre des equipes",null,{"$f":"COUNTIF(J2:J565,\">\"&\"0\")","v":495},"dont adultes",{"$f":"COUNTIF(J2:J529,\">\"&\"0\")","v":459},"jeunes",{"$f":"COUNTIF(J530:J565,\">\"&\"0\")","v":36}]
[null,null,"nombre de finales jouées",null,{"$f":"COUNTIF(J566:J572,\">\"&\"0\")","v":7},"dont adultes",{"$f":"COUNTIF(J566:J569,\">\"&\"0\")","v":4},"jeunes",{"$f":"COUNTIF(J570:J572,\">\"&\"0\")","v":3}]
[null,null,"total rencontres",null,{"$f":"E573+E574","v":502},"dont adultes",{"$f":"G573+G574","v":463},"jeunes",{"$f":"I573+I574","v":39}]
[null,null,"nombre d'equipes",null,{"$f":"COUNTIF(Q2:Q565,\"<>\"&\"\")","v":71},"dont adultes",{"$f":"COUNTIF(Q2:Q529,\"<>\"&\"\")","v":71},"jeunes",{"$f":"COUNTIF(Q530:Q565,\"<>\"&\"\")","v":0}]
[null,null,"nombre de divisions",null,{"$f":"COUNTIFS(P2:P565,\"<>\"&\"\")","v":14},"dont adultes",{"$f":"COUNTIFS(P2:P529,\"<>\"&\"\")","v":11},"jeunes",{"$f":"COUNTIFS(P530:P565,\"<>\"&\"\")","v":3}]
[null,null,"nombre secteurs",null,4]

{"sheet":"Calendrier","index":5,"n_rows":498,"n_cols":8,"rows_kept":498,"cut":false,"hidden":false,"merged":[[490,1,490,2],[490,4,490,5],[491,4,491,5],[492,4,492,5],[486,0,486,6],[487,0,487,6],[488,0,488,6],[489,0,489,2],[489,4,489,6],[493,4,493,5],[494,4,494,5],[495,4,495,5],[496,4,496,5],[497,4,497,5],[468,0,468,6],[469,0,469,6],[471,0,471,2],[471,4,471,6],[472,1,472,2],[472,4,472,5],[450,0,450,6],[451,0,451,6],[453,0,453,2],[453,4,453,6],[454,1,454,2],[454,4,454,5],[89,0,89,6],[117,0,117,6],[118,0,118,6],[161,0,161,6],[120,0,120,2],[120,4,120,6],[92,4,92,5],[436,1,436,2],[436,4,436,5],[433,0,433,6],[435,0,435,2],[435,4,435,6],[0,0,0,6],[1,0,1,6],[44,0,44,6],[45,0,45,6],[88,0,88,6],[4,4,4,5],[47,0,47,2],[47,4,47,6],[48,1,48,2],[48,4,48,5],[3,0,3,2],[3,4,3,6],[4,1,4,2],[432,0,432,6],[234,0,234,6],[235,0,235,6],[208,0,208,2],[208,4,208,6],[209,1,209,2],[209,4,209,5],[278,0,278,6],[279,0,279,6],[238,1,238,2],[238,4,238,5],[237,0,237,2],[237,4,237,6],[418,1,418,2],[418,4,418,5],[414,0,414,6],[162,0,162,6],[121,1,121,2],[121,4,121,5],[205,0,205,6],[91,0,91,2],[165,1,165,2],[165,4,165,5],[92,1,92,2],[206,0,206,6],[164,4,164,6],[91,4,91,6],[389,1,389,2],[281,0,281,2],[281,4,281,6],[282,1,282,2],[282,4,282,5],[322,0,322,6],[323,0,323,6],[326,1,326,2],[326,4,326,5],[325,0,325,2],[325,4,325,6],[388,0,388,2],[388,4,388,6],[415,0,415,6],[385,0,385,6],[386,0,386,6],[389,4,389,5],[417,0,417,2],[417,4,417,6]]}
["CHAMPIONNAT PAR EQUIPES TENNIS DE TABLE"]
["F.S.G.T. 67 SAISON 2024 - 2025"]
["NORDETSTRASBOURG",null,null,"EXCELLENCE"]
["ALLER ",null,null,"Rencontres ","RETOUR"]
["Dates ","Scores ",null,"EXCELLENCE","Scores ",null,"Dates"]
["Journée 1 ",null,null,null,null,null,"Journée 8"]
[{"$f":"IF(Listedesmatchs!$J$2=0,\"\",Listedesmatchs!$K$2&\" \"&TEXT(Listedesmatchs!$J$2,\"jj-mmm-aaaa\")&\", \"&Listedesmatchs!$L$2)","v":"vendredi 11-oct-2024, 20h00"},{"$f":"Listedesmatchs!$N$2","v":""},{"$f":"Listedesmatchs!$O$2","v":""},{"$f":"Listedesmatchs!$E$2&\" - \"&Listedesmatchs!$G$2","v":"CP Zutzendorf 1 - "},{"$f":"Listedesmatchs!$O$30","v":""},{"$f":"Listedesmatchs!$N$30","v":""},{"$f":"IF(Listedesmatchs!$J30=0,\"\",Listedesmatchs!$K30&\" \"&TEXT(Listedesmatchs!$J30,\"jj-mmm-aaaa\")&\", \"&Listedesmatchs!$L30)","v":""},"EXCELLENCE"]
[{"$f":"IF(Listedesmatchs!$J$3=0,\"\",Listedesmatchs!$K$3&\" \"&TEXT(Listedesmatchs!$J$3,\"jj-mmm-aaaa\")&\", \"&Listedesmatchs!$L$3)","v":"vendredi 11-oct-2024, 20h00"},{"$f":"Listedesmatchs!$N$3","v":""},{"$f":"Listedesmatchs!$O$3","v":""},{"$f":"Listedesmatchs!$E$3&\" - \"&Listedesmatchs!$G$3","v":"CLTT Menchhoffen 1 - AS Electricité Strasbourg 1"},{"$f":"Listedesmatchs!$O$31","v":""},{"$f":"Listedesmatchs!$N$31","v":""},{"$f":"IF(Listedesmatchs!$J31=0,\"\",Listedesmatchs!$K31&\" \"&TEXT(Listedesmatchs!$J31,\"jj-mmm-aaaa\")&\", \"&Listedesmatchs!$L31)","v":"mardi 21-janv-2025, 20h00"},"EXCELLENCE"]
[{"$f":"IF(Listedesmatchs!$J$4=0,\"\",Listedesmatchs!$K$4&\" \"&TEXT(Listedesmatchs!$J$4,\"jj-mmm-aaaa\")&\", \"&Listedesmatchs!$L$4)","v":"dimanche 29-sept-2024, 09h00"},{"$f":"Listedesmatchs!$N$4","v":""},{"$f":"Listedesmatchs!$O$4","v":""},{"$f":"Listedesmatchs!$E$4&\" - \"&Listedesmatchs!$G$4","v":"CTT 77 Val de Moder 1 - Hanau TT 1"},{"$f":"Listedesmatchs!$O$32","v":""},{"$f":"Listedesmatchs!$N$32","v":""},{"$f":"IF(Listedesmatchs!$J32=0,\"\",Listedesmatchs!$K32&\" \"&TEXT(Listedesmatchs!$J32,\"jj-mmm-aaaa\")&\", \"&Listedesmatchs!$L32)","v":"vendredi 24-janv-2025, 20h00"},"EXCELLENCE"]
[{"$f":"IF(Listedesmatchs!$J$5=0,\"\",Listedesmatchs!$K$5&\" \"&TEXT(Listedesmatchs!$J$5,\"jj-mmm-aaaa\")&\", \"&Listedesmatchs!$L$5)","v":"vendredi 11-oct-2024, 20h30"},{"$f":"Listedesmatchs!$N$5","v":""},{"$f":"Listedesmatchs!$O$5","v":""},{"$f":"Listedesmatchs!$E$5&\" - \"&Listedesmatchs!$G$5","v":"CS Tricolore Saverne 1 - Amitié Lingolsheim 1"},{"$f":"Listedesmatchs!$O$33","v":""},{"$f":"Listedesmatchs!$N$33","v":""},{"$f":"IF(Listedesmatchs!$J33=0,\"\",Listedesmatchs!$K33&\" \"&TEXT(Listedesmatchs!$J33,\"jj-mmm-aaaa\")&\", \"&Listedesmatchs!$L33)","v":"mercredi 22-janv-2025, 20h00"},"EXCELLENCE"]
["Journée 2 ",null,null,null,null,null,"Journée 9"]
[{"$f":"IF(Listedesmatchs!$J$6=0,\"\",Listedesmatchs!$K$6&\" \"&TEXT(Listedesmatchs!$J$6,\"jj-mmm-aaaa\")&\", \"&Listedesmatchs!$L$6)","v":"mardi 22-oct-2024, 20h00"},{"$f":"Listedesmatchs!$N$6","v":""},{"$f":"Listedesmatchs!$O$6","v":""},{"$f":"Listedesmatchs!$E$6&\" - \"&Listedesmatchs!$G$6","v":"AS Electricité Strasbourg 1 - CP Zutzendorf 1"},{"$f":"Listedesmatchs!$O$34","v":""},{"$f":"Listedesmatchs!$N$34","v":""},{"$f":"IF(Listedesmatchs!$J34=0,\"\",Listedesmatchs!$K34&\" \"&TEXT(Listedesmatchs!$J34,\"jj-mmm-aaaa\")&\", \"&Listedesmatchs!$L34)","v":"vendredi 07-févr-2025, 20h00"},"EXCELLENCE"]
[{"$f":"IF(Listedesmatchs!$J$7=0,\"\",Listedesmatchs!$K$7&\" \"&TEXT(Listedesmatchs!$J$7,\"jj-mmm-aaaa\")&\", \"&Listedesmatchs!$L$7)","v":"vendredi 25-oct-2024, 20h00"},{"$f":"Listedesmatchs!$N$7","v":""},{"$f":"Listedesmatchs!$O$7","v":""},{"$f":"Listedesmatchs!$E$7&\" - \"&Listedesmatchs!$G$7","v":"Hanau TT 1 - CLTT Menchhoffen 1"},{"$f":"Listedesmatchs!$O$35","v":""},{"$f":"Listedesmatchs!$N$35","v":""},{"$f":"IF(Listedesmatchs!$J35=0,\"\",Listedesmatchs!$K35&\" \"&TEXT(Listedesmatchs!$J35,\"jj-mmm-aaaa\")&\", \"&Listedesmatchs!$L35)","v":"vendredi 07-févr-2025, 20h00"},"EXCELLENCE"]
[{"$f":"IF(Listedesmatchs!$J$8=0,\"\",Listedesmatchs!$K$8&\" \"&TEXT(Listedesmatchs!$J$8,\"jj-mmm-aaaa\")&\", \"&Listedesmatchs!$L$8)","v":"mercredi 23-oct-2024, 20h00"},{"$f":"Listedesmatchs!$N$8","v":""},{"$f":"Listedesmatchs!$O$8","v":""},{"$f":"Listedesmatchs!$E$8&\" - \"&Listedesmatchs!$G$8","v":"Amitié Lingolsheim 1 - CTT 77 Val de Moder 1"},{"$f":"Listedesmatchs!$O$36","v":""},{"$f":"Listedesmatchs!$N$36","v":""},{"$f":"IF(Listedesmatchs!$J36=0,\"\",Listedesmatchs!$K36&\" \"&TEXT(Listedesmatchs!$J36,\"jj-mmm-aaaa\")&\", \"&Listedesmatchs!$L36)","v":"dimanche 09-févr-2025, 09h00"},"EXCELLENCE"]
[{"$f":"IF(Listedesmatchs!$J$9=0,\"\",Listedesmatchs!$K$9&\" \"&TEXT(Listedesmatchs!$J$9,\"jj-mmm-aaaa\")&\" \"&Listedesmatchs!$L$9)","v":""},{"$f":"Listedesmatchs!$N$9","v":""},{"$f":"Listedesmatchs!$O$9","v":""},{"$f":"Listedesmatchs!$E$9&\" - \"&Listedesmatchs!$G$9","v":" - CS Tricolore Saverne 1"},{"$f":"Listedesmatchs!$O$37","v":""},{"$f":"Listedesmatchs!$N$37","v":""},{"$f":"IF(Listedesmatchs!$J37=0,\"\",Listedesmatchs!$K37&\" \"&TEXT(Listedesmatchs!$J37,\"jj-mmm-aaaa\")&\", \"&Listedesmatchs!$L37)","v":"vendredi 07-févr-2025, 20h30"},"EXCELLENCE"]
["Journée 3 ",null,null,null,null,null,"Journée 10"]
[{"$f":"IF(Listedesmatchs!$J$10=0,\"\",Listedesmatchs!$K$10&\" \"&TEXT(Listedesmatchs!$J$10,\"jj-mmm-aaaa\")&\", \"&Listedesmatchs!$L$10)","v":"vendredi 08-nov-2024, 20h00"},{"$f":"Listedesmatchs!$N$10","v":""},{"$f":"Listedesmatchs!$O$10","v":""},{"$f":"Listedesmatchs!$E$10&\" - \"&Listedesmatchs!$G$10","v":"CP Zutzendorf 1 - Hanau TT 1"},{"$f":"Listedesmatchs!$O38","v":""},{"$f":"Listedesmatchs!$N38","v":""},{"$f":"IF(Listedesmatchs!$J38=0,\"\",Listedesmatchs!$K38&\" \"&TEXT(Listedesmatchs!$J38,\"jj-mmm-aaaa\")&\", \"&Listedesmatchs!$L38)","v":"vendredi 28-févr-2025, 20h00"},"EXCELLENCE"]
[{"$f":"IF(Listedesmatchs!$J$11=0,\"\",Listedesmatchs!$K$11&\" \"&TEXT(Listedesmatchs!$J$11,\"jj-mmm-aaaa\")&\", \"&Listedesmatchs!$L$11)","v":"vendredi 08-nov-2024, 20h00"},{"$f":"Listedesmatchs!$N$11","v":""},{"$f":"Listedesmatchs!$O$11","v":""},{"$f":"Listedesmatchs!$E$11&\" - \"&Listedesmatchs!$G$11","v":"CLTT Menchhoffen 1 - Amitié Lingolsheim 1"},{"$f":"Listedesmatchs!$O39","v":""},{"$f":"Listedesmatchs!$N39","v":""},{"$f":"IF(Listedesmatchs!$J39=0,\"\",Listedesmatchs!$K39&\" \"&TEXT(Listedesmatchs!$J39,\"jj-mmm-aaaa\")&\", \"&Listedesmatchs!$L39)","v":"mercredi 26-févr-2025, 20h00"},"EXCELLENCE"]
[{"$f":"IF(Listedesmatchs!$J$12=0,\"\",Listedesmatchs!$K$12&\" \"&TEXT(Listedesmatchs!$J$12,\"jj-mmm-aaaa\")&\", \"&Listedesmatchs!$L$12)","v":"dimanche 10-nov-2024, 09h00"},{"$f":"Listedesmatchs!$N$12","v":""},{"$f":"Listedesmatchs!$O$12","v":""},{"$f":"Listedesmatchs!$E$12&\" - \"&Listedesmatchs!$G$12","v":"CTT 77 Val de Moder 1 - CS Tricolore Saverne 1"},{"$f":"Listedesmatchs!$O40","v":""},{"$f":"Listedesmatchs!$N40","v":""},{"$f":"IF(Listedesmatchs!$J40=0,\"\",Listedesmatchs!$K40&\" \"&TEXT(Listedesmatchs!$J40,\"jj-mmm-aaaa\")&\", \"&Listedesmatchs!$L40)","v":"vendredi 28-févr-2025, 20h30"},"EXCELLENCE"]
[{"$f":"IF(Listedesmatchs!$J$13=0,\"\",Listedesmatchs!$K$13&\" \"&TEXT(Listedesmatchs!$J$13,\"jj-mmm-aaaa\")&\", \"&Listedesmatchs!$L$13)","v":""},{"$f":"Listedesmatchs!$N$13","v":""},{"$f":"Listedesmatchs!$O$13","v":""},{"$f":"Listedesmatchs!$E$13&\" - \"&Listedesmatchs!$G$13","v":" - AS Electricité Strasbourg 1"},{"$f":"Listedesmatchs!$O41","v":""},{"$f":"Listedesmatchs!$N41","v":""},{"$f":"IF(Listedesmatchs!$J41=0,\"\",Listedesmatchs!$K41&\" \"&TEXT(Listedesmatchs!$J41,\"jj-mmm-aaaa\")&\", \"&Listedesmatchs!$L41)","v":"mardi 25-févr-2025, 20h00"},"EXCELLENCE"]
["Journée 4 ",null,null,null,null,null,"Journée 11"]
[{"$f":"IF(Listedesmatchs!$J$14=0,\"\",Listedesmatchs!$K$14&\" \"&TEXT(Listedesmatchs!$J$14,\"jj-mmm-aaaa\")&\", \"&Listedesmatchs!$L$14)","v":"mercredi 20-nov-2024, 20h00"},{"$f":"Listedesmatchs!$N$14","v":""},{"$f":"Listedesmatchs!$O$14","v":""},{"$f":"Listedesmatchs!$E$14&\" - \"&Listedesmatchs!$G$14","v":"Amitié Lingolsheim 1 - CP Zutzendorf 1"},{"$f":"Listedesmatchs!$O42","v":""},{"$f":"Listedesmatchs!$N42","v":""},{"$f":"IF(Listedesmatchs!$J42=0,\"\",Listedesmatchs!$K42&\" \"&TEXT(Listedesmatchs!$J42,\"jj-mmm-aaaa\")&\", \"&Listedesmatchs!$L42)","v":"vendredi 14-mars-2025, 20h00"},"EXCELLENCE"]
[{"$f":"IF(Listedesmatchs!$J$15=0,\"\",Listedesmatchs!$K$15&\" \"&TEXT(Listedesmatchs!$J$15,\"jj-mmm-aaaa\")&\", \"&Listedesmatchs!$L$15)","v":"vendredi 22-nov-2024, 20h30"},{"$f":"Listedesmatchs!$N$15","v":""},{"$f":"Listedesmatchs!$O$15","v":""},{"$f":"Listedesmatchs!$E$15&\" - \"&Listedesmatchs!$G$15","v":"CS Tricolore Saverne 1 - CLTT Menchhoffen 1"},{"$f":"Listedesmatchs!$O43","v":""},{"$f":"Listedesmatchs!$N43","v":""},{"$f":"IF(Listedesmatchs!$J43=0,\"\",Listedesmatchs!$K43&\" \"&TEXT(Listedesmatchs!$J43,\"jj-mmm-aaaa\")&\", \"&Listedesmatchs!$L43)","v":"vendredi 14-mars-2025, 20h00"},"EXCELLENCE"]
[{"$f":"IF(Listedesmatchs!$J$16=0,\"\",Listedesmatchs!$K$16&\" \"&TEXT(Listedesmatchs!$J$16,\"jj-mmm-aaaa\")&\", \"&Listedesmatchs!$L$16)","v":"dimanche 24-nov-2024, 09h00"},{"$f":"Listedesmatchs!$N$16","v":""},{"$f":"Listedesmatchs!$O$16","v":""},{"$f":"Listedesmatchs!$E$16&\" - \"&Listedesmatchs!$G$16","v":"CTT 77 Val de Moder 1 - "},{"$f":"Listedesmatchs!$O44","v":""},{"$f":"Listedesmatchs!$N44","v":""},{"$f":"IF(Listedesmatchs!$J44=0,\"\",Listedesmatchs!$K44&\" \"&TEXT(Listedesmatchs!$J44,\"jj-mmm-aaaa\")&\", \"&Listedesmatchs!$L44)","v":""},"EXCELLENCE"]
[{"$f":"IF(Listedesmatchs!$J$17=0,\"\",Listedesmatchs!$K$17&\" \"&TEXT(Listedesmatchs!$J$17,\"jj-mmm-aaaa\")&\", \"&Listedesmatchs!$L$17)","v":"vendredi 22-nov-2024, 20h00"},{"$f":"Listedesmatchs!$N$17","v":""},{"$f":"Listedesmatchs!$O$17","v":""},{"$f":"Listedesmatchs!$E$17&\" - \"&Listedesmatchs!$G$17","v":"Hanau TT 1 - AS Electricité Strasbourg 1"},{"$f":"Listedesmatchs!$O45","v":""},{"$f":"Listedesmatchs!$N45","v":""},{"$f":"IF(Listedesmatchs!$J45=0,\"\",Listedesmatchs!$K45&\" \"&TEXT(Listedesmatchs!$J45,\"jj-mmm-aaaa\")&\", \"&Listedesmatchs!$L45)","v":"mardi 11-mars-2025, 20h00"},"EXCELLENCE"]
["Journée 5 ",null,null,null,null,null,"Journée 12"]
[{"$f":"IF(Listedesmatchs!$J$18=0,\"\",Listedesmatchs!$K$18&\" \"&TEXT(Listedesmatchs!$J$18,\"jj-mmm-aaaa\")&\", \"&Listedesmatchs!$L$18)","v":"vendredi 06-déc-2024, 20h00"},{"$f":"Listedesmatchs!$N$18","v":""},{"$f":"Listedesmatchs!$O$18","v":""},{"$f":"Listedesmatchs!$E$18&\" - \"&Listedesmatchs!$G$18","v":"CP Zutzendorf 1 - CS Tricolore Saverne 1"},{"$f":"Listedesmatchs!$O46","v":""},{"$f":"Listedesmatchs!$N46","v":""},{"$f":"IF(Listedesmatchs!$J46=0,\"\",Listedesmatchs!$K46&\" \"&TEXT(Listedesmatchs!$J46,\"jj-mmm-aaaa\")&\", \"&Listedesmatchs!$L46)","v":"vendredi 21-mars-2025, 20h30"},"EXCELLENCE"]
[{"$f":"IF(Listedesmatchs!$J$19=0,\"\",Listedesmatchs!$K$19&\" \"&TEXT(Listedesmatchs!$J$19,\"jj-mmm-aaaa\")&\", \"&Listedesmatchs!$L$19)","v":"vendredi 06-déc-2024, 20h00"},{"$f":"Listedesmatchs!$N$19","v":""},{"$f":"Listedesmatchs!$O$19","v":""},{"$f":"Listedesmatchs!$E$19&\" - \"&Listedesmatchs!$G$19","v":"CLTT Menchhoffen 1 - CTT 77 Val de Moder 1"},{"$f":"Listedesmatchs!$O47","v":""},{"$f":"Listedesmatchs!$N47","v":""},{"$f":"IF(Listedesmatchs!$J47=0,\"\",Listedesmatchs!$K47&\" \"&TEXT(Listedesmatchs!$J47,\"jj-mmm-aaaa\")&\", \"&Listedesmatchs!$L47)","v":"dimanche 23-mars-2025, 09h00"},"EXCELLENCE"]
[{"$f":"IF(Listedesmatchs!$J$20=0,\"\",Listedesmatchs!$K$20&\" \"&TEXT(Listedesmatchs!$J$20,\"jj-mmm-aaaa\")&\", \"&Listedesmatchs!$L$20)","v":"mercredi 04-déc-2024, 20h00"},{"$f":"Listedesmatchs!$N$20","v":""},{"$f":"Listedesmatchs!$O$20","v":""},{"$f":"Listedesmatchs!$E$20&\" - \"&Listedesmatchs!$G$20","v":"Amitié Lingolsheim 1 - AS Electricité Strasbourg 1"},{"$f":"Listedesmatchs!$O48","v":""},{"$f":"Listedesmatchs!$N48","v":""},{"$f":"IF(Listedesmatchs!$J48=0,\"\",Listedesmatchs!$K48&\" \"&TEXT(Listedesmatchs!$J48,\"jj-mmm-aaaa\")&\", \"&Listedesmatchs!$L48)","v":"mardi 18-mars-2025, 20h00"},"EXCELLENCE"]
[{"$f":"IF(Listedesmatchs!$J$21=0,\"\",Listedesmatchs!$K$21&\" \"&TEXT(Listedesmatchs!$J$21,\"jj-mmm-aaaa\")&\", \"&Listedesmatchs!$L$21)","v":""},{"$f":"Listedesmatchs!$N$21","v":""},{"$f":"Listedesmatchs!$O$21","v":""},{"$f":"Listedesmatchs!$E$21&\" - \"&Listedesmatchs!$G$21","v":" - Hanau TT 1"},{"$f":"Listedesmatchs!$O49","v":""},{"$f":"Listedesmatchs!$N49","v":""},{"$f":"IF(Listedesmatchs!$J49=0,\"\",Listedesmatchs!$K49&\" \"&TEXT(Listedesmatchs!$J49,\"jj-mmm-aaaa\")&\", \"&Listedesmatchs!$L49)","v":"vendredi 21-mars-2025, 20h00"},"EXCELLENCE"]
["Journée 6 ",null,null,null,null,null,"Journée 13"]
[{"$f":"IF(Listedesmatchs!$J$22=0,\"\",Listedesmatchs!$K$22&\" \"&TEXT(Listedesmatchs!$J$22,\"jj-mmm-aaaa\")&\", \"&Listedesmatchs!$L$22)","v":"dimanche 22-déc-2024, 09h00"},{"$f":"Listedesmatchs!$N$22","v":""},{"$f":"Listedesmatchs!$O$22","v":""},{"$f":"Listedesmatchs!$E$22&\" - \"&Listedesmatchs!$G$22","v":"CTT 77 Val de Moder 1 - CP Zutzendorf 1"},{"$f":"Listedesmatchs!$O50","v":""},{"$f":"Listedesmatchs!$N50","v":""},{"$f":"IF(Listedesmatchs!$J50=0,\"\",Listedesmatchs!$K50&\" \"&TEXT(Listedesmatchs!$J50,\"jj-mmm-aaaa\")&\", \"&Listedesmatchs!$L50)","v":"vendredi 11-avr-2025, 20h00"},"EXCELLENCE"]
[{"$f":"IF(Listedesmatchs!$J$23=0,\"\",Listedesmatchs!$K$23&\" \"&TEXT(Listedesmatchs!$J$23,\"jj-mmm-aaaa\")&\", \"&Listedesmatchs!$L$23)","v":"vendredi 20-déc-2024, 20h00"},{"$f":"Listedesmatchs!$N$23","v":""},{"$f":"Listedesmatchs!$O$23","v":""},{"$f":"Listedesmatchs!$E$23&\" - \"&Listedesmatchs!$G$23","v":"CLTT Menchhoffen 1 - "},{"$f":"Listedesmatchs!$O51","v":""},{"$f":"Listedesmatchs!$N51","v":""},{"$f":"IF(Listedesmatchs!$J51=0,\"\",Listedesmatchs!$K51&\" \"&TEXT(Listedesmatchs!$J51,\"jj-mmm-aaaa\")&\", \"&Listedesmatchs!$L51)","v":""},"EXCELLENCE"]
[{"$f":"IF(Listedesmatchs!$J$24=0,\"\",Listedesmatchs!$K$24&\" \"&TEXT(Listedesmatchs!$J$24,\"jj-mmm-aaaa\")&\", \"&Listedesmatchs!$L$24)","v":"mardi 17-déc-2024, 20h00"},{"$f":"Listedesmatchs!$N$24","v":""},{"$f":"Listedesmatchs!$O$24","v":""},{"$f":"Listedesmatchs!$E$24&\" - \"&Listedesmatchs!$G$24","v":"AS Electricité Strasbourg 1 - CS Tricolore Saverne 1"},{"$f":"Listedesmatchs!$O52","v":""},{"$f":"Listedesmatchs!$N52","v":""},{"$f":"IF(Listedesmatchs!$J52=0,\"\",Listedesmatchs!$K52&\" \"&TEXT(Listedesmatchs!$J52,\"jj-mmm-aaaa\")&\", \"&Listedesmatchs!$L52)","v":"vendredi 11-avr-2025, 20h30"},"EXCELLENCE"]
[{"$f":"IF(Listedesmatchs!$J$25=0,\"\",Listedesmatchs!$K$25&\" \"&TEXT(Listedesmatchs!$J$25,\"jj-mmm-aaaa\")&\", \"&Listedesmatchs!$L$25)","v":"mercredi 18-déc-2024, 20h00"},{"$f":"Listedesmatchs!$N$25","v":""},{"$f":"Listedesmatchs!$O$25","v":""},{"$f":"Listedesmatchs!$E$25&\" - \"&Listedesmatchs!$G$25","v":"Amitié Lingolsheim 1 - Hanau TT 1"},{"$f":"Listedesmatchs!$O53","v":""},{"$f":"Listedesmatchs!$N53","v":""},{"$f":"IF(Listedesmatchs!$J53=0,\"\",Listedesmatchs!$K53&\" \"&TEXT(Listedesmatchs!$J53,\"jj-mmm-aaaa\")&\", \"&Listedesmatchs!$L53)","v":"vendredi 11-avr-2025, 20h00"},"EXCELLENCE"]
["Journée 7",null,null,null,null,null,"Journée 14"]
[{"$f":"IF(Listedesmatchs!$J$26=0,\"\",Listedesmatchs!$K$26&\" \"&TEXT(Listedesmatchs!$J$26,\"jj-mmm-aaaa\")&\", \"&Listedesmatchs!$L$26)","v":"vendredi 10-janv-2025, 20h00"},{"$f":"Listedesmatchs!$N$26","v":""},{"$f":"Listedesmatchs!$O$26","v":""},{"$f":"Listedesmatchs!$E$26&\" - \"&Listedesmatchs!$G$26","v":"CP Zutzendorf 1 - CLTT Menchhoffen 1"},{"$f":"Listedesmatchs!$O54","v":""},{"$f":"Listedesmatchs!$N54","v":""},{"$f":"IF(Listedesmatchs!$J54=0,\"\",Listedesmatchs!$K54&\" \"&TEXT(Listedesmatchs!$J54,\"jj-mmm-aaaa\")&\", \"&Listedesmatchs!$L54)","v":"vendredi 09-mai-2025, 20h00"},"EXCELLENCE"]
[{"$f":"IF(Listedesmatchs!$J$27=0,\"\",Listedesmatchs!$K$27&\" \"&TEXT(Listedesmatchs!$J$27,\"jj-mmm-aaaa\")&\", \"&Listedesmatchs!$L$27)","v":"mardi 07-janv-2025, 20h00"},{"$f":"Listedesmatchs!$N$27","v":""},{"$f":"Listedesmatchs!$O$27","v":""},{"$f":"Listedesmatchs!$E$27&\" - \"&Listedesmatchs!$G$27","v":"AS Electricité Strasbourg 1 - CTT 77 Val de Moder 1"},{"$f":"Listedesmatchs!$O55","v":""},{"$f":"Listedesmatchs!$N55","v":""},{"$f":"IF(Listedesmatchs!$J55=0,\"\",Listedesmatchs!$K55&\" \"&TEXT(Listedesmatchs!$J55,\"jj-mmm-aaaa\")&\", \"&Listedesmatchs!$L55)","v":"dimanche 27-avr-2025, 09h00"},"EXCELLENCE"]
[{"$f":"IF(Listedesmatchs!$J$28=0,\"\",Listedesmatchs!$K$28&\" \"&TEXT(Listedesmatchs!$J$28,\"jj-mmm-aaaa\")&\", \"&Listedesmatchs!$L$28)","v":"vendredi 10-janv-2025, 20h00"},{"$f":"Listedesmatchs!$N$28","v":""},{"$f":"Listedesmatchs!$O$28","v":""},{"$f":"Listedesmatchs!$E$28&\" - \"&Listedesmatchs!$G$28","v":"Hanau TT 1 - CS Tricolore Saverne 1"},{"$f":"Listedesmatchs!$O56","v":""},{"$f":"Listedesmatchs!$N56","v":""},{"$f":"IF(Listedesmatchs!$J56=0,\"\",Listedesmatchs!$K56&\" \"&TEXT(Listedesmatchs!$J56,\"jj-mmm-aaaa\")&\", \"&Listedesmatchs!$L56)","v":"vendredi 09-mai-2025, 20h30"},"EXCELLENCE"]
[{"$f":"IF(Listedesmatchs!$J$29=0,\"\",Listedesmatchs!$K$29&\" \"&TEXT(Listedesmatchs!$J$29,\"jj-mmm-aaaa\")&\", \"&Listedesmatchs!$L$29)","v":""},{"$f":"Listedesmatchs!$N$29","v":""},{"$f":"Listedesmatchs!$O$29","v":""},{"$f":"Listedesmatchs!$E$29&\" - \"&Listedesmatchs!$G$29","v":" - Amitié Lingolsheim 1"},{"$f":"Listedesmatchs!$O57","v":""},{"$f":"Listedesmatchs!$N57","v":""},{"$f":"IF(Listedesmatchs!$J57=0,\"\",Listedesmatchs!$K57&\" \"&TEXT(Listedesmatchs!$J57,\"jj-mmm-aaaa\")&\", \"&Listedesmatchs!$L57)","v":"mercredi 07-mai-2025, 20h00"},"EXCELLENCE"]
[]
[]
[]
[]
["CHAMPIONNAT PAR EQUIPES TENNIS DE TABLE"]
["F.S.G.T. 67 SAISON 2024 - 2025"]
["NORDETSTRASBOURG",null,null,"HONNEUR"]
["ALLER ",null,null,"Rencontres ","RETOUR"]
["Dates ","Scores ",null,"HONNEUR","Scores ",null,"Dates"]
["Journée 1 ",null,null,null,null,null,"Journée 8"]
[{"$f":"IF(Listedesmatchs!$J58=0,\"\",Listedesmatchs!$K58&\" \"&TEXT(Listedesmatchs!$J58,\"jj-mmm-aaaa\")&\", \"&Listedesmatchs!$L58)","v":"mercredi 09-oct-2024, 20h00"},{"$f":"Listedesmatchs!$N58","v":""},{"$f":"Listedesmatchs!$O58","v":""},{"$f":"Listedesmatchs!$E58&\" - \"&Listedesmatchs!$G58","v":"Amitié Lingolsheim 2 - Amitié Lingolsheim 3"},{"$f":"Listedesmatchs!$O86","v":""},{"$f":"Listedesmatchs!$N86","v":""},{"$f":"IF(Listedesmatchs!$J86=0,\"\",Listedesmatchs!$K86&\" \"&TEXT(Listedesmatchs!$J86,\"jj-mmm-aaaa\")&\", \"&Listedesmatchs!$L86)","v":"mercredi 22-janv-2025, 20h00"},"HONNEUR"]
[{"$f":"IF(Listedesmatchs!$J59=0,\"\",Listedesmatchs!$K59&\" \"&TEXT(Listedesmatchs!$J59,\"jj-mmm-aaaa\")&\", \"&Listedesmatchs!$L59)","v":"jeudi 10-oct-2024, 20h00"},{"$f":"Listedesmatchs!$N59","v":""},{"$f":"Listedesmatchs!$O59","v":""},{"$f":"Listedesmatchs!$E59&\" - \"&Listedesmatchs!$G59","v":"US Egalitaire Neudorf 1 - Hanau TT 2"},{"$f":"Listedesmatchs!$O87","v":""},{"$f":"Listedesmatchs!$N87","v":""},{"$f":"IF(Listedesmatchs!$J87=0,\"\",Listedesmatchs!$K87&\" \"&TEXT(Listedesmatchs!$J87,\"jj-mmm-aaaa\")&\", \"&Listedesmatchs!$L87)","v":"vendredi 24-janv-2025, 20h00"},"HONNEUR"]
[{"$f":"IF(Listedesmatchs!$J60=0,\"\",Listedesmatchs!$K60&\" \"&TEXT(Listedesmatchs!$J60,\"jj-mmm-aaaa\")&\", \"&Listedesmatchs!$L60)","v":"vendredi 11-oct-2024, 20h00"},{"$f":"Listedesmatchs!$N60","v":""},{"$f":"Listedesmatchs!$O60","v":""},{"$f":"Listedesmatchs!$E60&\" - \"&Listedesmatchs!$G60","v":"CP Zutzendorf 2 - ASP Gottenhouse 1"},{"$f":"Listedesmatchs!$O88","v":""},{"$f":"Listedesmatchs!$N88","v":""},{"$f":"IF(Listedesmatchs!$J88=0,\"\",Listedesmatchs!$K88&\" \"&TEXT(Listedesmatchs!$J88,\"jj-mmm-aaaa\")&\", \"&Listedesmatchs!$L88)","v":"mardi 21-janv-2025, 20h00"},"HONNEUR"]
[{"$f":"IF(Listedesmatchs!$J61=0,\"\",Listedesmatchs!$K61&\" \"&TEXT(Listedesmatchs!$J61,\"jj-mmm-aaaa\")&\", \"&Listedesmatchs!$L61)","v":"mardi 08-oct-2024, 20h00"},{"$f":"Listedesmatchs!$N61","v":""},{"$f":"Listedesmatchs!$O61","v":""},{"$f":"Listedesmatchs!$E61&\" - \"&Listedesmatchs!$G61","v":"MJC Kirrwiller 1 - "},{"$f":"Listedesmatchs!$O89","v":""},{"$f":"Listedesmatchs!$N89","v":""},{"$f":"IF(Listedesmatchs!$J89=0,\"\",Listedesmatchs!$K89&\" \"&TEXT(Listedesmatchs!$J89,\"jj-mmm-aaaa\")&\", \"&Listedesmatchs!$L89)","v":""},"HONNEUR"]
["Journée 2 ",null,null,null,null,null,"Journée 9"]
[{"$f":"IF(Listedesmatchs!$J62=0,\"\",Listedesmatchs!$K62&\" \"&TEXT(Listedesmatchs!$J62,\"jj-mmm-aaaa\")&\", \"&Listedesmatchs!$L62)","v":"vendredi 25-oct-2024, 20h00"},{"$f":"Listedesmatchs!$N62","v":""},{"$f":"Listedesmatchs!$O62","v":""},{"$f":"Listedesmatchs!$E62&\" - \"&Listedesmatchs!$G62","v":"Hanau TT 2 - Amitié Lingolsheim 2"},{"$f":"Listedesmatchs!$O90","v":""},{"$f":"Listedesmatchs!$N90","v":""},{"$f":"IF(Listedesmatchs!$J90=0,\"\",Listedesmatchs!$K90&\" \"&TEXT(Listedesmatchs!$J90,\"jj-mmm-aaaa\")&\", \"&Listedesmatchs!$L90)","v":"mercredi 05-févr-2025, 20h00"},"HONNEUR"]
[{"$f":"IF(Listedesmatchs!$J63=0,\"\",Listedesmatchs!$K63&\" \"&TEXT(Listedesmatchs!$J63,\"jj-mmm-aaaa\")&\", \"&Listedesmatchs!$L63)","v":"mardi 22-oct-2024, 20h00"},{"$f":"Listedesmatchs!$N63","v":""},{"$f":"Listedesmatchs!$O63","v":""},{"$f":"Listedesmatchs!$E63&\" - \"&Listedesmatchs!$G63","v":"ASP Gottenhouse 1 - US Egalitaire Neudorf 1"},{"$f":"Listedesmatchs!$O91","v":""},{"$f":"Listedesmatchs!$N91","v":""},{"$f":"IF(Listedesmatchs!$J91=0,\"\",Listedesmatchs!$K91&\" \"&TEXT(Listedesmatchs!$J91,\"jj-mmm-aaaa\")&\", \"&Listedesmatchs!$L91)","v":"jeudi 06-févr-2025, 20h00"},"HONNEUR"]
[{"$f":"IF(Listedesmatchs!$J64=0,\"\",Listedesmatchs!$K64&\" \"&TEXT(Listedesmatchs!$J64,\"jj-mmm-aaaa\")&\", \"&Listedesmatchs!$L64)","v":""},{"$f":"Listedesmatchs!$N64","v":""},{"$f":"Listedesmatchs!$O64","v":""},{"$f":"Listedesmatchs!$E64&\" - \"&Listedesmatchs!$G64","v":" - CP Zutzendorf 2"},{"$f":"Listedesmatchs!$O92","v":""},{"$f":"Listedesmatchs!$N92","v":""},{"$f":"IF(Listedesmatchs!$J92=0,\"\",Listedesmatchs!$K92&\" \"&TEXT(Listedesmatchs!$J92,\"jj-mmm-aaaa\")&\", \"&Listedesmatchs!$L92)","v":"vendredi 07-févr-2025, 20h00"},"HONNEUR"]
[{"$f":"IF(Listedesmatchs!$J65=0,\"\",Listedesmatchs!$K65&\" \"&TEXT(Listedesmatchs!$J65,\"jj-mmm-aaaa\")&\", \"&Listedesmatchs!$L65)","v":"mercredi 23-oct-2024, 20h00"},{"$f":"Listedesmatchs!$N65","v":""},{"$f":"Listedesmatchs!$O65","v":""},{"$f":"Listedesmatchs!$E65&\" - \"&Listedesmatchs!$G65","v":"Amitié Lingolsheim 3 - MJC Kirrwiller 1"},{"$f":"Listedesmatchs!$O93","v":""},{"$f":"Listedesmatchs!$N93","v":""},{"$f":"IF(Listedesmatchs!$J93=0,\"\",Listedesmatchs!$K93&\" \"&TEXT(Listedesmatchs!$J93,\"jj-mmm-aaaa\")&\", \"&Listedesmatchs!$L93)","v":"mardi 04-févr-2025, 20h00"},"HONNEUR"]
["Journée 3 ",null,null,null,null,null,"Journée 10"]
[{"$f":"IF(Listedesmatchs!$J66=0,\"\",Listedesmatchs!$K66&\" \"&TEXT(Listedesmatchs!$J66,\"jj-mmm-aaaa\")&\", \"&Listedesmatchs!$L66)","v":"mercredi 06-nov-2024, 20h00"},{"$f":"Listedesmatchs!$N66","v":""},{"$f":"Listedesmatchs!$O66","v":""},{"$f":"Listedesmatchs!$E66&\" - \"&Listedesmatchs!$G66","v":"Amitié Lingolsheim 2 - ASP Gottenhouse 1"},{"$f":"Listedesmatchs!$O94","v":""},{"$f":"Listedesmatchs!$N94","v":""},{"$f":"IF(Listedesmatchs!$J94=0,\"\",Listedesmatchs!$K94&\" \"&TEXT(Listedesmatchs!$J94,\"jj-mmm-aaaa\")&\", \"&Listedesmatchs!$L94)","v":"mardi 25-févr-2025, 20h00"},"HONNEUR"]
[{"$f":"IF(Listedesmatchs!$J67=0,\"\",Listedesmatchs!$K67&\" \"&TEXT(Listedesmatchs!$J67,\"jj-mmm-aaaa\")&\", \"&Listedesmatchs!$L67)","v":"jeudi 07-nov-2024, 20h00"},{"$f":"Listedesmatchs!$N67","v":""},{"$f":"Listedesmatchs!$O67","v":""},{"$f":"Listedesmatchs!$E67&\" - \"&Listedesmatchs!$G67","v":"US Egalitaire Neudorf 1 - "},{"$f":"Listedesmatchs!$O95","v":""},{"$f":"Listedesmatchs!$N95","v":""},{"$f":"IF(Listedesmatchs!$J95=0,\"\",Listedesmatchs!$K95&\" \"&TEXT(Listedesmatchs!$J95,\"jj-mmm-aaaa\")&\", \"&Listedesmatchs!$L95)","v":""},"HONNEUR"]
[{"$f":"IF(Listedesmatchs!$J68=0,\"\",Listedesmatchs!$K68&\" \"&TEXT(Listedesmatchs!$J68,\"jj-mmm-aaaa\")&\", \"&Listedesmatchs!$L68)","v":"vendredi 08-nov-2024, 20h00"},{"$f":"Listedesmatchs!$N68","v":""},{"$f":"Listedesmatchs!$O68","v":""},{"$f":"Listedesmatchs!$E68&\" - \"&Listedesmatchs!$G68","v":"CP Zutzendorf 2 - MJC Kirrwiller 1"},{"$f":"Listedesmatchs!$O96","v":""},{"$f":"Listedesmatchs!$N96","v":""},{"$f":"IF(Listedesmatchs!$J96=0,\"\",Listedesmatchs!$K96&\" \"&TEXT(Listedesmatchs!$J96,\"jj-mmm-aaaa\")&\", \"&Listedesmatchs!$L96)","v":"mardi 25-févr-2025, 20h00"},"HONNEUR"]
[{"$f":"IF(Listedesmatchs!$J69=0,\"\",Listedesmatchs!$K69&\" \"&TEXT(Listedesmatchs!$J69,\"jj-mmm-aaaa\")&\", \"&Listedesmatchs!$L69)","v":"mercredi 06-nov-2024, 20h00"},{"$f":"Listedesmatchs!$N69","v":""},{"$f":"Listedesmatchs!$O69","v":""},{"$f":"Listedesmatchs!$E69&\" - \"&Listedesmatchs!$G69","v":"Amitié Lingolsheim 3 - Hanau TT 2"},{"$f":"Listedesmatchs!$O97","v":""},{"$f":"Listedesmatchs!$N97","v":""},{"$f":"IF(Listedesmatchs!$J97=0,\"\",Listedesmatchs!$K97&\" \"&TEXT(Listedesmatchs!$J97,\"jj-mmm-aaaa\")&\", \"&Listedesmatchs!$L97)","v":"vendredi 28-févr-2025, 20h00"},"HONNEUR"]
["Journée 4 ",null,null,null,null,null,"Journée 11"]
[{"$f":"IF(Listedesmatchs!$J70=0,\"\",Listedesmatchs!$K70&\" \"&TEXT(Listedesmatchs!$J70,\"jj-mmm-aaaa\")&\", \"&Listedesmatchs!$L70)","v":""},{"$f":"Listedesmatchs!$N70","v":""},{"$f":"Listedesmatchs!$O70","v":""},{"$f":"Listedesmatchs!$E70&\" - \"&Listedesmatchs!$G70","v":" - Amitié Lingolsheim 2"},{"$f":"Listedesmatchs!$O98","v":""},{"$f":"Listedesmatchs!$N98","v":""},{"$f":"IF(Listedesmatchs!$J98=0,\"\",Listedesmatchs!$K98&\" \"&TEXT(Listedesmatchs!$J98,\"jj-mmm-aaaa\")&\", \"&Listedesmatchs!$L98)","v":"mercredi 12-mars-2025, 20h00"},"HONNEUR"]
[{"$f":"IF(Listedesmatchs!$J71=0,\"\",Listedesmatchs!$K71&\" \"&TEXT(Listedesmatchs!$J71,\"jj-mmm-aaaa\")&\", \"&Listedesmatchs!$L71)","v":"mardi 19-nov-2024, 20h00"},{"$f":"Listedesmatchs!$N71","v":""},{"$f":"Listedesmatchs!$O71","v":""},{"$f":"Listedesmatchs!$E71&\" - \"&Listedesmatchs!$G71","v":"MJC Kirrwiller 1 - US Egalitaire Neudorf 1"},{"$f":"Listedesmatchs!$O99","v":""},{"$f":"Listedesmatchs!$N99","v":""},{"$f":"IF(Listedesmatchs!$J99=0,\"\",Listedesmatchs!$K99&\" \"&TEXT(Listedesmatchs!$J99,\"jj-mmm-aaaa\")&\", \"&Listedesmatchs!$L99)","v":"jeudi 13-mars-2025, 20h00"},"HONNEUR"]
[{"$f":"IF(Listedesmatchs!$J72=0,\"\",Listedesmatchs!$K72&\" \"&TEXT(Listedesmatchs!$J72,\"jj-mmm-aaaa\")&\", \"&Listedesmatchs!$L72)","v":"vendredi 22-nov-2024, 20h00"},{"$f":"Listedesmatchs!$N72","v":""},{"$f":"Listedesmatchs!$O72","v":""},{"$f":"Listedesmatchs!$E72&\" - \"&Listedesmatchs!$G72","v":"CP Zutzendorf 2 - Amitié Lingolsheim 3"},{"$f":"Listedesmatchs!$O100","v":""},{"$f":"Listedesmatchs!$N100","v":""},{"$f":"IF(Listedesmatchs!$J100=0,\"\",Listedesmatchs!$K100&\" \"&TEXT(Listedesmatchs!$J100,\"jj-mmm-aaaa\")&\", \"&Listedesmatchs!$L100)","v":"mercredi 12-mars-2025, 20h00"},"HONNEUR"]
[{"$f":"IF(Listedesmatchs!$J73=0,\"\",Listedesmatchs!$K73&\" \"&TEXT(Listedesmatchs!$J73,\"jj-mmm-aaaa\")&\", \"&Listedesmatchs!$L73)","v":"vendredi 22-nov-2024, 20h00"},{"$f":"Listedesmatchs!$N73","v":""},{"$f":"Listedesmatchs!$O73","v":""},{"$f":"Listedesmatchs!$E73&\" - \"&Listedesmatchs!$G73","v":"Hanau TT 2 - ASP Gottenhouse 1"},{"$f":"Listedesmatchs!$O101","v":""},{"$f":"Listedesmatchs!$N101","v":""},{"$f":"IF(Listedesmatchs!$J101=0,\"\",Listedesmatchs!$K101&\" \"&TEXT(Listedesmatchs!$J101,\"jj-mmm-aaaa\")&\", \"&Listedesmatchs!$L101)","v":"mardi 11-mars-2025, 20h00"},"HONNEUR"]
["Journée 5 ",null,null,null,null,null,"Journée 12"]
[{"$f":"IF(Listedesmatchs!$J74=0,\"\",Listedesmatchs!$K74&\" \"&TEXT(Listedesmatchs!$J74,\"jj-mmm-aaaa\")&\", \"&Listedesmatchs!$L74)","v":"mercredi 04-déc-2024, 20h00"},{"$f":"Listedesmatchs!$N74","v":""},{"$f":"Listedesmatchs!$O74","v":""},{"$f":"Listedesmatchs!$E74&\" - \"&Listedesmatchs!$G74","v":"Amitié Lingolsheim 2 - MJC Kirrwiller 1"},{"$f":"Listedesmatchs!$O102","v":""},{"$f":"Listedesmatchs!$N102","v":""},{"$f":"IF(Listedesmatchs!$J102=0,\"\",Listedesmatchs!$K102&\" \"&TEXT(Listedesmatchs!$J102,\"jj-mmm-aaaa\")&\", \"&Listedesmatchs!$L102)","v":"mardi 18-mars-2025, 20h00"},"HONNEUR"]
[{"$f":"IF(Listedesmatchs!$J75=0,\"\",Listedesmatchs!$K75&\" \"&TEXT(Listedesmatchs!$J75,\"jj-mmm-aaaa\")&\", \"&Listedesmatchs!$L75)","v":"jeudi 05-déc-2024, 20h00"},{"$f":"Listedesmatchs!$N75","v":""},{"$f":"Listedesmatchs!$O75","v":""},{"$f":"Listedesmatchs!$E75&\" - \"&Listedesmatchs!$G75","v":"US Egalitaire Neudorf 1 - CP Zutzendorf 2"},{"$f":"Listedesmatchs!$O103","v":""},{"$f":"Listedesmatchs!$N103","v":""},{"$f":"IF(Listedesmatchs!$J103=0,\"\",Listedesmatchs!$K103&\" \"&TEXT(Listedesmatchs!$J103,\"jj-mmm-aaaa\")&\", \"&Listedesmatchs!$L103)","v":"vendredi 21-mars-2025, 20h00"},"HONNEUR"]
[{"$f":"IF(Listedesmatchs!$J76=0,\"\",Listedesmatchs!$K76&\" \"&TEXT(Listedesmatchs!$J76,\"jj-mmm-aaaa\")&\", \"&Listedesmatchs!$L76)","v":""},{"$f":"Listedesmatchs!$N76","v":""},{"$f":"Listedesmatchs!$O76","v":""},{"$f":"Listedesmatchs!$E76&\" - \"&Listedesmatchs!$G76","v":" - Hanau TT 2"},{"$f":"Listedesmatchs!$O104","v":""},{"$f":"Listedesmatchs!$N104","v":""},{"$f":"IF(Listedesmatchs!$J104=0,\"\",Listedesmatchs!$K104&\" \"&TEXT(Listedesmatchs!$J104,\"jj-mmm-aaaa\")&\", \"&Listedesmatchs!$L104)","v":"vendredi 21-mars-2025, 20h00"},"HONNEUR"]
[{"$f":"IF(Listedesmatchs!$J77=0,\"\",Listedesmatchs!$K77&\" \"&TEXT(Listedesmatchs!$J77,\"jj-mmm-aaaa\")&\", \"&Listedesmatchs!$L77)","v":"mardi 03-déc-2024, 20h00"},{"$f":"Listedesmatchs!$N77","v":""},{"$f":"Listedesmatchs!$O77","v":""},{"$f":"Listedesmatchs!$E77&\" - \"&Listedesmatchs!$G77","v":"ASP Gottenhouse 1 - Amitié Lingolsheim 3"},{"$f":"Listedesmatchs!$O105","v":""},{"$f":"Listedesmatchs!$N105","v":""},{"$f":"IF(Listedesmatchs!$J105=0,\"\",Listedesmatchs!$K105&\" \"&TEXT(Listedesmatchs!$J105,\"jj-mmm-aaaa\")&\", \"&Listedesmatchs!$L105)","v":"mercredi 19-mars-2025, 20h00"},"HONNEUR"]
["Journée 6 ",null,null,null,null,null,"Journée 13"]
[{"$f":"IF(Listedesmatchs!$J78=0,\"\",Listedesmatchs!$K78&\" \"&TEXT(Listedesmatchs!$J78,\"jj-mmm-aaaa\")&\", \"&Listedesmatchs!$L78)","v":"vendredi 20-déc-2024, 20h00"},{"$f":"Listedesmatchs!$N78","v":""},{"$f":"Listedesmatchs!$O78","v":""},{"$f":"Listedesmatchs!$E78&\" - \"&Listedesmatchs!$G78","v":"CP Zutzendorf 2 - Amitié Lingolsheim 2"},{"$f":"Listedesmatchs!$O106","v":""},{"$f":"Listedesmatchs!$N106","v":""},{"$f":"IF(Listedesmatchs!$J106=0,\"\",Listedesmatchs!$K106&\" \"&TEXT(Listedesmatchs!$J106,\"jj-mmm-aaaa\")&\", \"&Listedesmatchs!$L106)","v":"mercredi 09-avr-2025, 20h00"},"HONNEUR"]
[{"$f":"IF(Listedesmatchs!$J79=0,\"\",Listedesmatchs!$K79&\" \"&TEXT(Listedesmatchs!$J79,\"jj-mmm-aaaa\")&\", \"&Listedesmatchs!$L79)","v":"jeudi 19-déc-2024, 20h00"},{"$f":"Listedesmatchs!$N79","v":""},{"$f":"Listedesmatchs!$O79","v":""},{"$f":"Listedesmatchs!$E79&\" - \"&Listedesmatchs!$G79","v":"US Egalitaire Neudorf 1 - Amitié Lingolsheim 3"},{"$f":"Listedesmatchs!$O107","v":""},{"$f":"Listedesmatchs!$N107","v":""},{"$f":"IF(Listedesmatchs!$J107=0,\"\",Listedesmatchs!$K107&\" \"&TEXT(Listedesmatchs!$J107,\"jj-mmm-aaaa\")&\", \"&Listedesmatchs!$L107)","v":"mercredi 09-avr-2025, 20h00"},"HONNEUR"]
[{"$f":"IF(Listedesmatchs!$J80=0,\"\",Listedesmatchs!$K80&\" \"&TEXT(Listedesmatchs!$J80,\"jj-mmm-aaaa\")&\", \"&Listedesmatchs!$L80)","v":"vendredi 20-déc-2024, 20h00"},{"$f":"Listedesmatchs!$N80","v":""},{"$f":"Listedesmatchs!$O80","v":""},{"$f":"Listedesmatchs!$E80&\" - \"&Listedesmatchs!$G80","v":"Hanau TT 2 - MJC Kirrwiller 1"},{"$f":"Listedesmatchs!$O108","v":""},{"$f":"Listedesmatchs!$N108","v":""},{"$f":"IF(Listedesmatchs!$J108=0,\"\",Listedesmatchs!$K108&\" \"&TEXT(Listedesmatchs!$J108,\"jj-mmm-aaaa\")&\", \"&Listedesmatchs!$L108)","v":"mardi 08-avr-2025, 20h00"},"HONNEUR"]
[{"$f":"IF(Listedesmatchs!$J81=0,\"\",Listedesmatchs!$K81&\" \"&TEXT(Listedesmatchs!$J81,\"jj-mmm-aaaa\")&\", \"&Listedesmatchs!$L81)","v":""},{"$f":"Listedesmatchs!$N81","v":""},{"$f":"Listedesmatchs!$O81","v":""},{"$f":"Listedesmatchs!$E81&\" - \"&Listedesmatchs!$G81","v":" - ASP Gottenhouse 1"},{"$f":"Listedesmatchs!$O109","v":""},{"$f":"Listedesmatchs!$N109","v":""},{"$f":"IF(Listedesmatchs!$J109=0,\"\",Listedesmatchs!$K109&\" \"&TEXT(Listedesmatchs!$J109,\"jj-mmm-aaaa\")&\", \"&Listedesmatchs!$L109)","v":"mardi 08-avr-2025, 20h00"},"HONNEUR"]
["Journée 7 ",null,null,null,null,null,"Journée 14"]
[{"$f":"IF(Listedesmatchs!$J82=0,\"\",Listedesmatchs!$K82&\" \"&TEXT(Listedesmatchs!$J82,\"jj-mmm-aaaa\")&\", \"&Listedesmatchs!$L82)","v":"mercredi 08-janv-2025, 20h00"},{"$f":"Listedesmatchs!$N82","v":""},{"$f":"Listedesmatchs!$O82","v":""},{"$f":"Listedesmatchs!$E82&\" - \"&Listedesmatchs!$G82","v":"Amitié Lingolsheim 2 - US Egalitaire Neudorf 1"},{"$f":"Listedesmatchs!$O110","v":""},{"$f":"Listedesmatchs!$N110","v":""},{"$f":"IF(Listedesmatchs!$J110=0,\"\",Listedesmatchs!$K110&\" \"&TEXT(Listedesmatchs!$J110,\"jj-mmm-aaaa\")&\", \"&Listedesmatchs!$L110)","v":"jeudi 24-avr-2025, 20h00"},"HONNEUR"]
[{"$f":"IF(Listedesmatchs!$J83=0,\"\",Listedesmatchs!$K83&\" \"&TEXT(Listedesmatchs!$J83,\"jj-mmm-aaaa\")&\", \"&Listedesmatchs!$L83)","v":"vendredi 10-janv-2025, 20h00"},{"$f":"Listedesmatchs!$N83","v":""},{"$f":"Listedesmatchs!$O83","v":""},{"$f":"Listedesmatchs!$E83&\" - \"&Listedesmatchs!$G83","v":"Hanau TT 2 - CP Zutzendorf 2"},{"$f":"Listedesmatchs!$O111","v":""},{"$f":"Listedesmatchs!$N111","v":""},{"$f":"IF(Listedesmatchs!$J111=0,\"\",Listedesmatchs!$K111&\" \"&TEXT(Listedesmatchs!$J111,\"jj-mmm-aaaa\")&\", \"&Listedesmatchs!$L111)","v":"vendredi 09-mai-2025, 20h00"},"HONNEUR"]
[{"$f":"IF(Listedesmatchs!$J84=0,\"\",Listedesmatchs!$K84&\" \"&TEXT(Listedesmatchs!$J84,\"jj-mmm-aaaa\")&\", \"&Listedesmatchs!$L84)","v":"mardi 07-janv-2025, 20h00"},{"$f":"Listedesmatchs!$N84","v":""},{"$f":"Listedesmatchs!$O84","v":""},{"$f":"Listedesmatchs!$E84&\" - \"&Listedesmatchs!$G84","v":"ASP Gottenhouse 1 - MJC Kirrwiller 1"},{"$f":"Listedesmatchs!$O112","v":""},{"$f":"Listedesmatchs!$N112","v":""},{"$f":"IF(Listedesmatchs!$J112=0,\"\",Listedesmatchs!$K112&\" \"&TEXT(Listedesmatchs!$J112,\"jj-mmm-aaaa\")&\", \"&Listedesmatchs!$L112)","v":"mardi 06-mai-2025, 20h00"},"HONNEUR"]
[{"$f":"IF(Listedesmatchs!$J85=0,\"\",Listedesmatchs!$K85&\" \"&TEXT(Listedesmatchs!$J85,\"jj-mmm-aaaa\")&\", \"&Listedesmatchs!$L85)","v":"mercredi 08-janv-2025, 20h00"},{"$f":"Listedesmatchs!$N85","v":""},{"$f":"Listedesmatchs!$O85","v":""},{"$f":"Listedesmatchs!$E85&\" - \"&Listedesmatchs!$G85","v":"Amitié Lingolsheim 3 - "},{"$f":"Listedesmatchs!$O113","v":""},{"$f":"Listedesmatchs!$N113","v":""},{"$f":"IF(Listedesmatchs!$J113=0,\"\",Listedesmatchs!$K113&\" \"&TEXT(Listedesmatchs!$J113,\"jj-mmm-aaaa\")&\", \"&Listedesmatchs!$L113)","v":""},"HONNEUR"]
[]
[]
[]
[]
["CHAMPIONNAT PAR EQUIPES TENNIS DE TABLE"]
["F.S.G.T. 67 SAISON 2024 - 2025"]
["NORD",null,null,"PROMOTION NORD"]
["ALLER ",null,null,"Rencontres ","RETOUR"]
["Dates ","Scores ",null,"PROMOTIONNORD","Scores ",null,"Dates"]
["Journée 1 ",null,null,null,null,null,"Journée 6"]
[{"$f":"IF(Listedesmatchs!$J114=0,\"\",Listedesmatchs!$K114&\" \"&TEXT(Listedesmatchs!$J114,\"jj-mmm-aaaa\")&\", \"&Listedesmatchs!$L114)","v":"jeudi 10-oct-2024, 20h00"},{"$f":"Listedesmatchs!$N114","v":""},{"$f":"Listedesmatchs!$O114","v":""},{"$f":"Listedesmatchs!$E114&\" - \"&Listedesmatchs!$G114","v":"CLTT Menchhoffen 2 - CTT 77 Val de Moder 2"},{"$f":"Listedesmatchs!$O129","v":""},{"$f":"Listedesmatchs!$N129","v":""},{"$f":"IF(Listedesmatchs!$J129=0,\"\",Listedesmatchs!$K129&\" \"&TEXT(Listedesmatchs!$J129,\"jj-mmm-aaaa\")&\", \"&Listedesmatchs!$L129)","v":"jeudi 23-janv-2025, 19h30"},"PROMOTIONNORD"]
[{"$f":"IF(Listedesmatchs!$J115=0,\"\",Listedesmatchs!$K115&\" \"&TEXT(Listedesmatchs!$J115,\"jj-mmm-aaaa\")&\", \"&Listedesmatchs!$L115)","v":"vendredi 11-oct-2024, 20h00"},{"$f":"Listedesmatchs!$N115","v":""},{"$f":"Listedesmatchs!$O115","v":""},{"$f":"Listedesmatchs!$E115&\" - \"&Listedesmatchs!$G115","v":"Hanau TT 3 - CS Tricolore Saverne 2"},{"$f":"Listedesmatchs!$O130","v":""},{"$f":"Listedesmatchs!$N130","v":""},{"$f":"IF(Listedesmatchs!$J130=0,\"\",Listedesmatchs!$K130&\" \"&TEXT(Listedesmatchs!$J130,\"jj-mmm-aaaa\")&\", \"&Listedesmatchs!$L130)","v":"vendredi 24-janv-2025, 20h30"},"PROMOTIONNORD"]
[{"$f":"IF(Listedesmatchs!$J116=0,\"\",Listedesmatchs!$K116&\" \"&TEXT(Listedesmatchs!$J116,\"jj-mmm-aaaa\")&\", \"&Listedesmatchs!$L116)","v":"jeudi 10-oct-2024, 20h00"},{"$f":"Listedesmatchs!$N116","v":""},{"$f":"Listedesmatchs!$O116","v":""},{"$f":"Listedesmatchs!$E116&\" - \"&Listedesmatchs!$G116","v":"Liberté Dettwiller 1 - MJC Kirrwiller 2"},{"$f":"Listedesmatchs!$O131","v":""},{"$f":"Listedesmatchs!$N131","v":""},{"$f":"IF(Listedesmatchs!$J131=0,\"\",Listedesmatchs!$K131&\" \"&TEXT(Listedesmatchs!$J131,\"jj-mmm-aaaa\")&\", \"&Listedesmatchs!$L131)","v":"jeudi 23-janv-2025, 20h30"},"PROMOTIONNORD"]
["Journée 2 ",null,null,null,null,null,"Journée 7"]
[{"$f":"IF(Listedesmatchs!$J117=0,\"\",Listedesmatchs!$K117&\" \"&TEXT(Listedesmatchs!$J117,\"jj-mmm-aaaa\")&\", \"&Listedesmatchs!$L117)","v":"vendredi 08-nov-2024, 20h30"},{"$f":"Listedesmatchs!$N117","v":""},{"$f":"Listedesmatchs!$O117","v":""},{"$f":"Listedesmatchs!$E117&\" - \"&Listedesmatchs!$G117","v":"CS Tricolore Saverne 2 - CLTT Menchhoffen 2"},{"$f":"Listedesmatchs!$O132","v":""},{"$f":"Listedesmatchs!$N132","v":""},{"$f":"IF(Listedesmatchs!$J132=0,\"\",Listedesmatchs!$K132&\" \"&TEXT(Listedesmatchs!$J132,\"jj-mmm-aaaa\")&\", \"&Listedesmatchs!$L132)","v":"jeudi 06-févr-2025, 20h00"},"PROMOTIONNORD"]
[{"$f":"IF(Listedesmatchs!$J118=0,\"\",Listedesmatchs!$K118&\" \"&TEXT(Listedesmatchs!$J118,\"jj-mmm-aaaa\")&\", \"&Listedesmatchs!$L118)","v":"jeudi 07-nov-2024, 20h30"},{"$f":"Listedesmatchs!$N118","v":""},{"$f":"Listedesmatchs!$O118","v":""},{"$f":"Listedesmatchs!$E118&\" - \"&Listedesmatchs!$G118","v":"MJC Kirrwiller 2 - Hanau TT 3"},{"$f":"Listedesmatchs!$O133","v":""},{"$f":"Listedesmatchs!$N133","v":""},{"$f":"IF(Listedesmatchs!$J133=0,\"\",Listedesmatchs!$K133&\" \"&TEXT(Listedesmatchs!$J133,\"jj-mmm-aaaa\")&\", \"&Listedesmatchs!$L133)","v":"vendredi 07-févr-2025, 20h00"},"PROMOTIONNORD"]
[{"$f":"IF(Listedesmatchs!$J119=0,\"\",Listedesmatchs!$K119&\" \"&TEXT(Listedesmatchs!$J119,\"jj-mmm-aaaa\")&\", \"&Listedesmatchs!$L119)","v":"jeudi 07-nov-2024, 19h30"},{"$f":"Listedesmatchs!$N119","v":""},{"$f":"Listedesmatchs!$O119","v":""},{"$f":"Listedesmatchs!$E119&\" - \"&Listedesmatchs!$G119","v":"CTT 77 Val de Moder 2 - Liberté Dettwiller 1"},{"$f":"Listedesmatchs!$O134","v":""},{"$f":"Listedesmatchs!$N134","v":""},{"$f":"IF(Listedesmatchs!$J134=0,\"\",Listedesmatchs!$K134&\" \"&TEXT(Listedesmatchs!$J134,\"jj-mmm-aaaa\")&\", \"&Listedesmatchs!$L134)","v":"jeudi 06-févr-2025, 20h00"},"PROMOTIONNORD"]
["Journée 3 ",null,null,null,null,null,"Journée 8"]
[{"$f":"IF(Listedesmatchs!$J120=0,\"\",Listedesmatchs!$K120&\" \"&TEXT(Listedesmatchs!$J120,\"jj-mmm-aaaa\")&\", \"&Listedesmatchs!$L120)","v":"jeudi 21-nov-2024, 20h00"},{"$f":"Listedesmatchs!$N120","v":""},{"$f":"Listedesmatchs!$O120","v":""},{"$f":"Listedesmatchs!$E120&\" - \"&Listedesmatchs!$G120","v":"CLTT Menchhoffen 2 - MJC Kirrwiller 2"},{"$f":"Listedesmatchs!$O135","v":""},{"$f":"Listedesmatchs!$N135","v":""},{"$f":"IF(Listedesmatchs!$J135=0,\"\",Listedesmatchs!$K135&\" \"&TEXT(Listedesmatchs!$J135,\"jj-mmm-aaaa\")&\", \"&Listedesmatchs!$L135)","v":"jeudi 27-févr-2025, 20h30"},"PROMOTIONNORD"]
[{"$f":"IF(Listedesmatchs!$J121=0,\"\",Listedesmatchs!$K121&\" \"&TEXT(Listedesmatchs!$J121,\"jj-mmm-aaaa\")&\", \"&Listedesmatchs!$L121)","v":"jeudi 21-nov-2024, 20h00"},{"$f":"Listedesmatchs!$N121","v":""},{"$f":"Listedesmatchs!$O121","v":""},{"$f":"Listedesmatchs!$E121&\" - \"&Listedesmatchs!$G121","v":"Liberté Dettwiller 1 - Hanau TT 3"},{"$f":"Listedesmatchs!$O136","v":""},{"$f":"Listedesmatchs!$N136","v":""},{"$f":"IF(Listedesmatchs!$J136=0,\"\",Listedesmatchs!$K136&\" \"&TEXT(Listedesmatchs!$J136,\"jj-mmm-aaaa\")&\", \"&Listedesmatchs!$L136)","v":"vendredi 21-févr-2025, 20h00"},"PROMOTIONNORD"]
[{"$f":"IF(Listedesmatchs!$J122=0,\"\",Listedesmatchs!$K122&\" \"&TEXT(Listedesmatchs!$J122,\"jj-mmm-aaaa\")&\", \"&Listedesmatchs!$L122)","v":"vendredi 22-nov-2024, 20h30"},{"$f":"Listedesmatchs!$N122","v":""},{"$f":"Listedesmatchs!$O122","v":""},{"$f":"Listedesmatchs!$E122&\" - \"&Listedesmatchs!$G122","v":"CS Tricolore Saverne 2 - CTT 77 Val de Moder 2"},{"$f":"Listedesmatchs!$O137","v":""},{"$f":"Listedesmatchs!$N137","v":""},{"$f":"IF(Listedesmatchs!$J137=0,\"\",Listedesmatchs!$K137&\" \"&TEXT(Listedesmatchs!$J137,\"jj-mmm-aaaa\")&\", \"&Listedesmatchs!$L137)","v":"jeudi 27-févr-2025, 19h30"},"PROMOTIONNORD"]
["Journée 4 ",null,null,null,null,null,"Journée 9"]
[{"$f":"IF(Listedesmatchs!$J123=0,\"\",Listedesmatchs!$K123&\" \"&TEXT(Listedesmatchs!$J123,\"jj-mmm-aaaa\")&\", \"&Listedesmatchs!$L123)","v":"jeudi 05-déc-2024, 20h00"},{"$f":"Listedesmatchs!$N123","v":""},{"$f":"Listedesmatchs!$O123","v":""},{"$f":"Listedesmatchs!$E123&\" - \"&Listedesmatchs!$G123","v":"Liberté Dettwiller 1 - CLTT Menchhoffen 2"},{"$f":"Listedesmatchs!$O138","v":""},{"$f":"Listedesmatchs!$N138","v":""},{"$f":"IF(Listedesmatchs!$J138=0,\"\",Listedesmatchs!$K138&\" \"&TEXT(Listedesmatchs!$J138,\"jj-mmm-aaaa\")&\", \"&Listedesmatchs!$L138)","v":"jeudi 20-mars-2025, 20h00"},"PROMOTIONNORD"]
[{"$f":"IF(Listedesmatchs!$J124=0,\"\",Listedesmatchs!$K124&\" \"&TEXT(Listedesmatchs!$J124,\"jj-mmm-aaaa\")&\", \"&Listedesmatchs!$L124)","v":"vendredi 06-déc-2024, 20h00"},{"$f":"Listedesmatchs!$N124","v":""},{"$f":"Listedesmatchs!$O124","v":""},{"$f":"Listedesmatchs!$E124&\" - \"&Listedesmatchs!$G124","v":"Hanau TT 3 - CTT 77 Val de Moder 2"},{"$f":"Listedesmatchs!$O139","v":""},{"$f":"Listedesmatchs!$N139","v":""},{"$f":"IF(Listedesmatchs!$J139=0,\"\",Listedesmatchs!$K139&\" \"&TEXT(Listedesmatchs!$J139,\"jj-mmm-aaaa\")&\", \"&Listedesmatchs!$L139)","v":"jeudi 20-mars-2025, 19h30"},"PROMOTIONNORD"]
[{"$f":"IF(Listedesmatchs!$J125=0,\"\",Listedesmatchs!$K125&\" \"&TEXT(Listedesmatchs!$J125,\"jj-mmm-aaaa\")&\", \"&Listedesmatchs!$L125)","v":"jeudi 05-déc-2024, 20h30"},{"$f":"Listedesmatchs!$N125","v":""},{"$f":"Listedesmatchs!$O125","v":""},{"$f":"Listedesmatchs!$E125&\" - \"&Listedesmatchs!$G125","v":"MJC Kirrwiller 2 - CS Tricolore Saverne 2"},{"$f":"Listedesmatchs!$O140","v":""},{"$f":"Listedesmatchs!$N140","v":""},{"$f":"IF(Listedesmatchs!$J140=0,\"\",Listedesmatchs!$K140&\" \"&TEXT(Listedesmatchs!$J140,\"jj-mmm-aaaa\")&\", \"&Listedesmatchs!$L140)","v":"vendredi 21-mars-2025, 20h30"},"PROMOTIONNORD"]
["Journée 5 ",null,null,null,null,null,"Journée 10"]
[{"$f":"IF(Listedesmatchs!$J126=0,\"\",Listedesmatchs!$K126&\" \"&TEXT(Listedesmatchs!$J126,\"jj-mmm-aaaa\")&\", \"&Listedesmatchs!$L126)","v":"jeudi 19-déc-2024, 20h00"},{"$f":"Listedesmatchs!$N126","v":""},{"$f":"Listedesmatchs!$O126","v":""},{"$f":"Listedesmatchs!$E126&\" - \"&Listedesmatchs!$G126","v":"CLTT Menchhoffen 2 - Hanau TT 3"},{"$f":"Listedesmatchs!$O141","v":""},{"$f":"Listedesmatchs!$N141","v":""},{"$f":"IF(Listedesmatchs!$J141=0,\"\",Listedesmatchs!$K141&\" \"&TEXT(Listedesmatchs!$J141,\"jj-mmm-aaaa\")&\", \"&Listedesmatchs!$L141)","v":"vendredi 25-avr-2025, 20h00"},"PROMOTIONNORD"]
[{"$f":"IF(Listedesmatchs!$J127=0,\"\",Listedesmatchs!$K127&\" \"&TEXT(Listedesmatchs!$J127,\"jj-mmm-aaaa\")&\", \"&Listedesmatchs!$L127)","v":"vendredi 20-déc-2024, 20h30"},{"$f":"Listedesmatchs!$N127","v":""},{"$f":"Listedesmatchs!$O127","v":""},{"$f":"Listedesmatchs!$E127&\" - \"&Listedesmatchs!$G127","v":"CS Tricolore Saverne 2 - Liberté Dettwiller 1"},{"$f":"Listedesmatchs!$O142","v":""},{"$f":"Listedesmatchs!$N142","v":""},{"$f":"IF(Listedesmatchs!$J142=0,\"\",Listedesmatchs!$K142&\" \"&TEXT(Listedesmatchs!$J142,\"jj-mmm-aaaa\")&\", \"&Listedesmatchs!$L142)","v":"jeudi 24-avr-2025, 20h00"},"PROMOTIONNORD"]
[{"$f":"IF(Listedesmatchs!$J128=0,\"\",Listedesmatchs!$K128&\" \"&TEXT(Listedesmatchs!$J128,\"jj-mmm-aaaa\")&\", \"&Listedesmatchs!$L128)","v":"jeudi 19-déc-2024, 19h30"},{"$f":"Listedesmatchs!$N128","v":""},{"$f":"Listedesmatchs!$O128","v":""},{"$f":"Listedesmatchs!$E128&\" - \"&Listedesmatchs!$G128","v":"CTT 77 Val de Moder 2 - MJC Kirrwiller 2"},{"$f":"Listedesmatchs!$O143","v":""},{"$f":"Listedesmatchs!$N143","v":""},{"$f":"IF(Listedesmatchs!$J143=0,\"\",Listedesmatchs!$K143&\" \"&TEXT(Listedesmatchs!$J143,\"jj-mmm-aaaa\")&\", \"&Listedesmatchs!$L143)","v":"jeudi 24-avr-2025, 20h30"},"PROMOTIONNORD"]
[]
[]
[]
[]
["CHAMPIONNAT PAR EQUIPES TENNIS DE TABLE"]
["F.S.G.T. 67 SAISON 2024 - 2025"]
["NORD",null,null,"DIVISION 1 NORD"]
["ALLER ",null,null,"Rencontres ","RETOUR"]
["Dates ","Scores ",null,"ADULTESDIVISION1NORD","Scores ",null,"Dates"]
["Journée 1 ",null,null,null,null,null,"Journée 8"]
[{"$f":"IF(Listedesmatchs!$J144=0,\"\",Listedesmatchs!$K144&\" \"&TEXT(Listedesmatchs!$J144,\"jj-mmm-aaaa\")&\", \"&Listedesmatchs!$L144)","v":"jeudi 10-oct-2024, 20h00"},{"$f":"Listedesmatchs!$N144","v":""},{"$f":"Listedesmatchs!$O144","v":""},{"$f":"Listedesmatchs!$E144&\" - \"&Listedesmatchs!$G144","v":"CLTT Menchhoffen 3 - CLTT Menchhoffen 4"},{"$f":"Listedesmatchs!$O172","v":""},{"$f":"Listedesmatchs!$N172","v":""},{"$f":"IF(Listedesmatchs!$J172=0,\"\",Listedesmatchs!$K172&\" \"&TEXT(Listedesmatchs!$J172,\"jj-mmm-aaaa\")&\", \"&Listedesmatchs!$L172)","v":"vendredi 24-janv-2025, 20h00"},"ADULTESDIVISION1NORD"]
[{"$f":"IF(Listedesmatchs!$J145=0,\"\",Listedesmatchs!$K145&\" \"&TEXT(Listedesmatchs!$J145,\"jj-mmm-aaaa\")&\", \"&Listedesmatchs!$L145)","v":"vendredi 11-oct-2024, 20h30"},{"$f":"Listedesmatchs!$N145","v":""},{"$f":"Listedesmatchs!$O145","v":""},{"$f":"Listedesmatchs!$E145&\" - \"&Listedesmatchs!$G145","v":"CS Tricolore Saverne 3 - "},{"$f":"Listedesmatchs!$O173","v":""},{"$f":"Listedesmatchs!$N173","v":""},{"$f":"IF(Listedesmatchs!$J173=0,\"\",Listedesmatchs!$K173&\" \"&TEXT(Listedesmatchs!$J173,\"jj-mmm-aaaa\")&\", \"&Listedesmatchs!$L173)","v":""},"ADULTESDIVISION1NORD"]
[{"$f":"IF(Listedesmatchs!$J146=0,\"\",Listedesmatchs!$K146&\" \"&TEXT(Listedesmatchs!$J146,\"jj-mmm-aaaa\")&\", \"&Listedesmatchs!$L146)","v":"jeudi 10-oct-2024, 19h30"},{"$f":"Listedesmatchs!$N146","v":""},{"$f":"Listedesmatchs!$O146","v":""},{"$f":"Listedesmatchs!$E146&\" - \"&Listedesmatchs!$G146","v":"CTT 77 Val de Moder 3 - TT Dossenheim sur Zintel 1"},{"$f":"Listedesmatchs!$O174","v":""},{"$f":"Listedesmatchs!$N174","v":""},{"$f":"IF(Listedesmatchs!$J174=0,\"\",Listedesmatchs!$K174&\" \"&TEXT(Listedesmatchs!$J174,\"jj-mmm-aaaa\")&\", \"&Listedesmatchs!$L174)","v":"lundi 20-janv-2025, 20h00"},"ADULTESDIVISION1NORD"]
[{"$f":"IF(Listedesmatchs!$J147=0,\"\",Listedesmatchs!$K147&\" \"&TEXT(Listedesmatchs!$J147,\"jj-mmm-aaaa\")&\", \"&Listedesmatchs!$L147)","v":"mardi 08-oct-2024, 20h00"},{"$f":"Listedesmatchs!$N147","v":""},{"$f":"Listedesmatchs!$O147","v":""},{"$f":"Listedesmatchs!$E147&\" - \"&Listedesmatchs!$G147","v":"MJC Kirrwiller 3 - Liberté Dettwiller 2"},{"$f":"Listedesmatchs!$O175","v":""},{"$f":"Listedesmatchs!$N175","v":""},{"$f":"IF(Listedesmatchs!$J175=0,\"\",Listedesmatchs!$K175&\" \"&TEXT(Listedesmatchs!$J175,\"jj-mmm-aaaa\")&\", \"&Listedesmatchs!$L175)","v":"mercredi 22-janv-2025, 20h00"},"ADULTESDIVISION1NORD"]
["Journée 2 ",null,null,null,null,null,"Journée 9"]
[{"$f":"IF(Listedesmatchs!$J148=0,\"\",Listedesmatchs!$K148&\" \"&TEXT(Listedesmatchs!$J148,\"jj-mmm-aaaa\")&\", \"&Listedesmatchs!$L148)","v":""},{"$f":"Listedesmatchs!$N148","v":""},{"$f":"Listedesmatchs!$O148","v":""},{"$f":"Listedesmatchs!$E148&\" - \"&Listedesmatchs!$G148","v":" - CLTT Menchhoffen 3"},{"$f":"Listedesmatchs!$O176","v":""},{"$f":"Listedesmatchs!$N176","v":""},{"$f":"IF(Listedesmatchs!$J176=0,\"\",Listedesmatchs!$K176&\" \"&TEXT(Listedesmatchs!$J176,\"jj-mmm-aaaa\")&\", \"&Listedesmatchs!$L176)","v":"jeudi 06-févr-2025, 20h00"},"ADULTESDIVISION1NORD"]
[{"$f":"IF(Listedesmatchs!$J149=0,\"\",Listedesmatchs!$K149&\" \"&TEXT(Listedesmatchs!$J149,\"jj-mmm-aaaa\")&\", \"&Listedesmatchs!$L149)","v":"lundi 21-oct-2024, 20h00"},{"$f":"Listedesmatchs!$N149","v":""},{"$f":"Listedesmatchs!$O149","v":""},{"$f":"Listedesmatchs!$E149&\" - \"&Listedesmatchs!$G149","v":"TT Dossenheim sur Zintel 1 - CS Tricolore Saverne 3"},{"$f":"Listedesmatchs!$O177","v":""},{"$f":"Listedesmatchs!$N177","v":""},{"$f":"IF(Listedesmatchs!$J177=0,\"\",Listedesmatchs!$K177&\" \"&TEXT(Listedesmatchs!$J177,\"jj-mmm-aaaa\")&\", \"&Listedesmatchs!$L177)","v":"vendredi 07-févr-2025, 20h30"},"ADULTESDIVISION1NORD"]
[{"$f":"IF(Listedesmatchs!$J150=0,\"\",Listedesmatchs!$K150&\" \"&TEXT(Listedesmatchs!$J150,\"jj-mmm-aaaa\")&\", \"&Listedesmatchs!$L150)","v":"mercredi 23-oct-2024, 20h00"},{"$f":"Listedesmatchs!$N150","v":""},{"$f":"Listedesmatchs!$O150","v":""},{"$f":"Listedesmatchs!$E150&\" - \"&Listedesmatchs!$G150","v":"Liberté Dettwiller 2 - CTT 77 Val de Moder 3"},{"$f":"Listedesmatchs!$O178","v":""},{"$f":"Listedesmatchs!$N178","v":""},{"$f":"IF(Listedesmatchs!$J178=0,\"\",Listedesmatchs!$K178&\" \"&TEXT(Listedesmatchs!$J178,\"jj-mmm-aaaa\")&\", \"&Listedesmatchs!$L178)","v":"jeudi 06-févr-2025, 19h30"},"ADULTESDIVISION1NORD"]
[{"$f":"IF(Listedesmatchs!$J151=0,\"\",Listedesmatchs!$K151&\" \"&TEXT(Listedesmatchs!$J151,\"jj-mmm-aaaa\")&\", \"&Listedesmatchs!$L151)","v":"vendredi 25-oct-2024, 20h00"},{"$f":"Listedesmatchs!$N151","v":""},{"$f":"Listedesmatchs!$O151","v":""},{"$f":"Listedesmatchs!$E151&\" - \"&Listedesmatchs!$G151","v":"CLTT Menchhoffen 4 - MJC Kirrwiller 3"},{"$f":"Listedesmatchs!$O179","v":""},{"$f":"Listedesmatchs!$N179","v":""},{"$f":"IF(Listedesmatchs!$J179=0,\"\",Listedesmatchs!$K179&\" \"&TEXT(Listedesmatchs!$J179,\"jj-mmm-aaaa\")&\", \"&Listedesmatchs!$L179)","v":"mardi 04-févr-2025, 20h00"},"ADULTESDIVISION1NORD"]
["Journée 3 ",null,null,null,null,null,"Journée 10"]
[{"$f":"IF(Listedesmatchs!$J152=0,\"\",Listedesmatchs!$K152&\" \"&TEXT(Listedesmatchs!$J152,\"jj-mmm-aaaa\")&\", \"&Listedesmatchs!$L152)","v":"jeudi 07-nov-2024, 20h00"},{"$f":"Listedesmatchs!$N152","v":""},{"$f":"Listedesmatchs!$O152","v":""},{"$f":"Listedesmatchs!$E152&\" - \"&Listedesmatchs!$G152","v":"CLTT Menchhoffen 3 - TT Dossenheim sur Zintel 1"},{"$f":"Listedesmatchs!$O180","v":""},{"$f":"Listedesmatchs!$N180","v":""},{"$f":"IF(Listedesmatchs!$J180=0,\"\",Listedesmatchs!$K180&\" \"&TEXT(Listedesmatchs!$J180,\"jj-mmm-aaaa\")&\", \"&Listedesmatchs!$L180)","v":"lundi 24-févr-2025, 20h00"},"ADULTESDIVISION1NORD"]
[{"$f":"IF(Listedesmatchs!$J153=0,\"\",Listedesmatchs!$K153&\" \"&TEXT(Listedesmatchs!$J153,\"jj-mmm-aaaa\")&\", \"&Listedesmatchs!$L153)","v":"vendredi 08-nov-2024, 20h30"},{"$f":"Listedesmatchs!$N153","v":""},{"$f":"Listedesmatchs!$O153","v":""},{"$f":"Listedesmatchs!$E153&\" - \"&Listedesmatchs!$G153","v":"CS Tricolore Saverne 3 - Liberté Dettwiller 2"},{"$f":"Listedesmatchs!$O181","v":""},{"$f":"Listedesmatchs!$N181","v":""},{"$f":"IF(Listedesmatchs!$J181=0,\"\",Listedesmatchs!$K181&\" \"&TEXT(Listedesmatchs!$J181,\"jj-mmm-aaaa\")&\", \"&Listedesmatchs!$L181)","v":"mercredi 26-févr-2025, 20h00"},"ADULTESDIVISION1NORD"]
[{"$f":"IF(Listedesmatchs!$J154=0,\"\",Listedesmatchs!$K154&\" \"&TEXT(Listedesmatchs!$J154,\"jj-mmm-aaaa\")&\", \"&Listedesmatchs!$L154)","v":"jeudi 07-nov-2024, 19h30"},{"$f":"Listedesmatchs!$N154","v":""},{"$f":"Listedesmatchs!$O154","v":""},{"$f":"Listedesmatchs!$E154&\" - \"&Listedesmatchs!$G154","v":"CTT 77 Val de Moder 3 - MJC Kirrwiller 3"},{"$f":"Listedesmatchs!$O182","v":""},{"$f":"Listedesmatchs!$N182","v":""},{"$f":"IF(Listedesmatchs!$J182=0,\"\",Listedesmatchs!$K182&\" \"&TEXT(Listedesmatchs!$J182,\"jj-mmm-aaaa\")&\", \"&Listedesmatchs!$L182)","v":"mardi 25-févr-2025, 20h00"},"ADULTESDIVISION1NORD"]
[{"$f":"IF(Listedesmatchs!$J155=0,\"\",Listedesmatchs!$K155&\" \"&TEXT(Listedesmatchs!$J155,\"jj-mmm-aaaa\")&\", \"&Listedesmatchs!$L155)","v":"vendredi 08-nov-2024, 20h00"},{"$f":"Listedesmatchs!$N155","v":""},{"$f":"Listedesmatchs!$O155","v":""},{"$f":"Listedesmatchs!$E155&\" - \"&Listedesmatchs!$G155","v":"CLTT Menchhoffen 4 - "},{"$f":"Listedesmatchs!$O183","v":""},{"$f":"Listedesmatchs!$N183","v":""},{"$f":"IF(Listedesmatchs!$J183=0,\"\",Listedesmatchs!$K183&\" \"&TEXT(Listedesmatchs!$J183,\"jj-mmm-aaaa\")&\", \"&Listedesmatchs!$L183)","v":""},"ADULTESDIVISION1NORD"]
["Journée 4 ",null,null,null,null,null,"Journée 11"]
[{"$f":"IF(Listedesmatchs!$J156=0,\"\",Listedesmatchs!$K156&\" \"&TEXT(Listedesmatchs!$J156,\"jj-mmm-aaaa\")&\", \"&Listedesmatchs!$L156)","v":"mercredi 20-nov-2024, 20h00"},{"$f":"Listedesmatchs!$N156","v":""},{"$f":"Listedesmatchs!$O156","v":""},{"$f":"Listedesmatchs!$E156&\" - \"&Listedesmatchs!$G156","v":"Liberté Dettwiller 2 - CLTT Menchhoffen 3"},{"$f":"Listedesmatchs!$O184","v":""},{"$f":"Listedesmatchs!$N184","v":""},{"$f":"IF(Listedesmatchs!$J184=0,\"\",Listedesmatchs!$K184&\" \"&TEXT(Listedesmatchs!$J184,\"jj-mmm-aaaa\")&\", \"&Listedesmatchs!$L184)","v":"jeudi 13-mars-2025, 20h00"},"ADULTESDIVISION1NORD"]
[{"$f":"IF(Listedesmatchs!$J157=0,\"\",Listedesmatchs!$K157&\" \"&TEXT(Listedesmatchs!$J157,\"jj-mmm-aaaa\")&\", \"&Listedesmatchs!$L157)","v":"mardi 19-nov-2024, 20h00"},{"$f":"Listedesmatchs!$N157","v":""},{"$f":"Listedesmatchs!$O157","v":""},{"$f":"Listedesmatchs!$E157&\" - \"&Listedesmatchs!$G157","v":"MJC Kirrwiller 3 - CS Tricolore Saverne 3"},{"$f":"Listedesmatchs!$O185","v":""},{"$f":"Listedesmatchs!$N185","v":""},{"$f":"IF(Listedesmatchs!$J185=0,\"\",Listedesmatchs!$K185&\" \"&TEXT(Listedesmatchs!$J185,\"jj-mmm-aaaa\")&\", \"&Listedesmatchs!$L185)","v":"vendredi 14-mars-2025, 20h30"},"ADULTESDIVISION1NORD"]
[{"$f":"IF(Listedesmatchs!$J158=0,\"\",Listedesmatchs!$K158&\" \"&TEXT(Listedesmatchs!$J158,\"jj-mmm-aaaa\")&\", \"&Listedesmatchs!$L158)","v":"vendredi 22-nov-2024, 20h00"},{"$f":"Listedesmatchs!$N158","v":""},{"$f":"Listedesmatchs!$O158","v":""},{"$f":"Listedesmatchs!$E158&\" - \"&Listedesmatchs!$G158","v":"CLTT Menchhoffen 4 - CTT 77 Val de Moder 3"},{"$f":"Listedesmatchs!$O186","v":""},{"$f":"Listedesmatchs!$N186","v":""},{"$f":"IF(Listedesmatchs!$J186=0,\"\",Listedesmatchs!$K186&\" \"&TEXT(Listedesmatchs!$J186,\"jj-mmm-aaaa\")&\", \"&Listedesmatchs!$L186)","v":"jeudi 13-mars-2025, 19h30"},"ADULTESDIVISION1NORD"]
[{"$f":"IF(Listedesmatchs!$J159=0,\"\",Listedesmatchs!$K159&\" \"&TEXT(Listedesmatchs!$J159,\"jj-mmm-aaaa\")&\", \"&Listedesmatchs!$L159)","v":"lundi 18-nov-2024, 20h00"},{"$f":"Listedesmatchs!$N159","v":""},{"$f":"Listedesmatchs!$O159","v":""},{"$f":"Listedesmatchs!$E159&\" - \"&Listedesmatchs!$G159","v":"TT Dossenheim sur Zintel 1 - "},{"$f":"Listedesmatchs!$O187","v":""},{"$f":"Listedesmatchs!$N187","v":""},{"$f":"IF(Listedesmatchs!$J187=0,\"\",Listedesmatchs!$K187&\" \"&TEXT(Listedesmatchs!$J187,\"jj-mmm-aaaa\")&\", \"&Listedesmatchs!$L187)","v":""},"ADULTESDIVISION1NORD"]
["Journée 5 ",null,null,null,null,null,"Journée 12"]
[{"$f":"IF(Listedesmatchs!$J160=0,\"\",Listedesmatchs!$K160&\" \"&TEXT(Listedesmatchs!$J160,\"jj-mmm-aaaa\")&\", \"&Listedesmatchs!$L160)","v":"jeudi 05-déc-2024, 20h00"},{"$f":"Listedesmatchs!$N160","v":""},{"$f":"Listedesmatchs!$O160","v":""},{"$f":"Listedesmatchs!$E160&\" - \"&Listedesmatchs!$G160","v":"CLTT Menchhoffen 3 - MJC Kirrwiller 3"},{"$f":"Listedesmatchs!$O188","v":""},{"$f":"Listedesmatchs!$N188","v":""},{"$f":"IF(Listedesmatchs!$J188=0,\"\",Listedesmatchs!$K188&\" \"&TEXT(Listedesmatchs!$J188,\"jj-mmm-aaaa\")&\", \"&Listedesmatchs!$L188)","v":"mardi 18-mars-2025, 20h00"},"ADULTESDIVISION1NORD"]
[{"$f":"IF(Listedesmatchs!$J161=0,\"\",Listedesmatchs!$K161&\" \"&TEXT(Listedesmatchs!$J161,\"jj-mmm-aaaa\")&\", \"&Listedesmatchs!$L161)","v":"vendredi 06-déc-2024, 20h30"},{"$f":"Listedesmatchs!$N161","v":""},{"$f":"Listedesmatchs!$O161","v":""},{"$f":"Listedesmatchs!$E161&\" - \"&Listedesmatchs!$G161","v":"CS Tricolore Saverne 3 - CTT 77 Val de Moder 3"},{"$f":"Listedesmatchs!$O189","v":""},{"$f":"Listedesmatchs!$N189","v":""},{"$f":"IF(Listedesmatchs!$J189=0,\"\",Listedesmatchs!$K189&\" \"&TEXT(Listedesmatchs!$J189,\"jj-mmm-aaaa\")&\", \"&Listedesmatchs!$L189)","v":"jeudi 20-mars-2025, 19h30"},"ADULTESDIVISION1NORD"]
[{"$f":"IF(Listedesmatchs!$J162=0,\"\",Listedesmatchs!$K162&\" \"&TEXT(Listedesmatchs!$J162,\"jj-mmm-aaaa\")&\", \"&Listedesmatchs!$L162)","v":"mercredi 04-déc-2024, 20h00"},{"$f":"Listedesmatchs!$N162","v":""},{"$f":"Listedesmatchs!$O162","v":""},{"$f":"Listedesmatchs!$E162&\" - \"&Listedesmatchs!$G162","v":"Liberté Dettwiller 2 - "},{"$f":"Listedesmatchs!$O190","v":""},{"$f":"Listedesmatchs!$N190","v":""},{"$f":"IF(Listedesmatchs!$J190=0,\"\",Listedesmatchs!$K190&\" \"&TEXT(Listedesmatchs!$J190,\"jj-mmm-aaaa\")&\", \"&Listedesmatchs!$L190)","v":""},"ADULTESDIVISION1NORD"]
[{"$f":"IF(Listedesmatchs!$J163=0,\"\",Listedesmatchs!$K163&\" \"&TEXT(Listedesmatchs!$J163,\"jj-mmm-aaaa\")&\", \"&Listedesmatchs!$L163)","v":"lundi 02-déc-2024, 20h00"},{"$f":"Listedesmatchs!$N163","v":""},{"$f":"Listedesmatchs!$O163","v":""},{"$f":"Listedesmatchs!$E163&\" - \"&Listedesmatchs!$G163","v":"TT Dossenheim sur Zintel 1 - CLTT Menchhoffen 4"},{"$f":"Listedesmatchs!$O191","v":""},{"$f":"Listedesmatchs!$N191","v":""},{"$f":"IF(Listedesmatchs!$J191=0,\"\",Listedesmatchs!$K191&\" \"&TEXT(Listedesmatchs!$J191,\"jj-mmm-aaaa\")&\", \"&Listedesmatchs!$L191)","v":"vendredi 21-mars-2025, 20h00"},"ADULTESDIVISION1NORD"]
["Journée 6 ",null,null,null,null,null,"Journée 13"]
[{"$f":"IF(Listedesmatchs!$J164=0,\"\",Listedesmatchs!$K164&\" \"&TEXT(Listedesmatchs!$J164,\"jj-mmm-aaaa\")&\", \"&Listedesmatchs!$L164)","v":"jeudi 19-déc-2024, 19h30"},{"$f":"Listedesmatchs!$N164","v":""},{"$f":"Listedesmatchs!$O164","v":""},{"$f":"Listedesmatchs!$E164&\" - \"&Listedesmatchs!$G164","v":"CTT 77 Val de Moder 3 - CLTT Menchhoffen 3"},{"$f":"Listedesmatchs!$O192","v":""},{"$f":"Listedesmatchs!$N192","v":""},{"$f":"IF(Listedesmatchs!$J192=0,\"\",Listedesmatchs!$K192&\" \"&TEXT(Listedesmatchs!$J192,\"jj-mmm-aaaa\")&\", \"&Listedesmatchs!$L192)","v":"jeudi 10-avr-2025, 20h00"},"ADULTESDIVISION1NORD"]
[{"$f":"IF(Listedesmatchs!$J165=0,\"\",Listedesmatchs!$K165&\" \"&TEXT(Listedesmatchs!$J165,\"jj-mmm-aaaa\")&\", \"&Listedesmatchs!$L165)","v":"vendredi 20-déc-2024, 20h30"},{"$f":"Listedesmatchs!$N165","v":""},{"$f":"Listedesmatchs!$O165","v":""},{"$f":"Listedesmatchs!$E165&\" - \"&Listedesmatchs!$G165","v":"CS Tricolore Saverne 3 - CLTT Menchhoffen 4"},{"$f":"Listedesmatchs!$O193","v":""},{"$f":"Listedesmatchs!$N193","v":""},{"$f":"IF(Listedesmatchs!$J193=0,\"\",Listedesmatchs!$K193&\" \"&TEXT(Listedesmatchs!$J193,\"jj-mmm-aaaa\")&\", \"&Listedesmatchs!$L193)","v":"vendredi 11-avr-2025, 20h00"},"ADULTESDIVISION1NORD"]
[{"$f":"IF(Listedesmatchs!$J166=0,\"\",Listedesmatchs!$K166&\" \"&TEXT(Listedesmatchs!$J166,\"jj-mmm-aaaa\")&\", \"&Listedesmatchs!$L166)","v":""},{"$f":"Listedesmatchs!$N166","v":""},{"$f":"Listedesmatchs!$O166","v":""},{"$f":"Listedesmatchs!$E166&\" - \"&Listedesmatchs!$G166","v":" - MJC Kirrwiller 3"},{"$f":"Listedesmatchs!$O194","v":""},{"$f":"Listedesmatchs!$N194","v":""},{"$f":"IF(Listedesmatchs!$J194=0,\"\",Listedesmatchs!$K194&\" \"&TEXT(Listedesmatchs!$J194,\"jj-mmm-aaaa\")&\", \"&Listedesmatchs!$L194)","v":"mardi 08-avr-2025, 20h00"},"ADULTESDIVISION1NORD"]
[{"$f":"IF(Listedesmatchs!$J167=0,\"\",Listedesmatchs!$K167&\" \"&TEXT(Listedesmatchs!$J167,\"jj-mmm-aaaa\")&\", \"&Listedesmatchs!$L167)","v":"mercredi 18-déc-2024, 20h00"},{"$f":"Listedesmatchs!$N167","v":""},{"$f":"Listedesmatchs!$O167","v":""},{"$f":"Listedesmatchs!$E167&\" - \"&Listedesmatchs!$G167","v":"Liberté Dettwiller 2 - TT Dossenheim sur Zintel 1"},{"$f":"Listedesmatchs!$O195","v":""},{"$f":"Listedesmatchs!$N195","v":""},{"$f":"IF(Listedesmatchs!$J195=0,\"\",Listedesmatchs!$K195&\" \"&TEXT(Listedesmatchs!$J195,\"jj-mmm-aaaa\")&\", \"&Listedesmatchs!$L195)","v":"lundi 07-avr-2025, 20h00"},"ADULTESDIVISION1NORD"]
["Journée 7 ",null,null,null,null,null,"Journée 14"]
[{"$f":"IF(Listedesmatchs!$J168=0,\"\",Listedesmatchs!$K168&\" \"&TEXT(Listedesmatchs!$J168,\"jj-mmm-aaaa\")&\", \"&Listedesmatchs!$L168)","v":"jeudi 09-janv-2025, 20h00"},{"$f":"Listedesmatchs!$N168","v":""},{"$f":"Listedesmatchs!$O168","v":""},{"$f":"Listedesmatchs!$E168&\" - \"&Listedesmatchs!$G168","v":"CLTT Menchhoffen 3 - CS Tricolore Saverne 3"},{"$f":"Listedesmatchs!$O196","v":""},{"$f":"Listedesmatchs!$N196","v":""},{"$f":"IF(Listedesmatchs!$J196=0,\"\",Listedesmatchs!$K196&\" \"&TEXT(Listedesmatchs!$J196,\"jj-mmm-aaaa\")&\", \"&Listedesmatchs!$L196)","v":"vendredi 09-mai-2025, 20h30"},"ADULTESDIVISION1NORD"]
[{"$f":"IF(Listedesmatchs!$J169=0,\"\",Listedesmatchs!$K169&\" \"&TEXT(Listedesmatchs!$J169,\"jj-mmm-aaaa\")&\", \"&Listedesmatchs!$L169)","v":""},{"$f":"Listedesmatchs!$N169","v":""},{"$f":"Listedesmatchs!$O169","v":""},{"$f":"Listedesmatchs!$E169&\" - \"&Listedesmatchs!$G169","v":" - CTT 77 Val de Moder 3"},{"$f":"Listedesmatchs!$O197","v":""},{"$f":"Listedesmatchs!$N197","v":""},{"$f":"IF(Listedesmatchs!$J197=0,\"\",Listedesmatchs!$K197&\" \"&TEXT(Listedesmatchs!$J197,\"jj-mmm-aaaa\")&\", \"&Listedesmatchs!$L197)","v":"jeudi 08-mai-2025, 19h30"},"ADULTESDIVISION1NORD"]
[{"$f":"IF(Listedesmatchs!$J170=0,\"\",Listedesmatchs!$K170&\" \"&TEXT(Listedesmatchs!$J170,\"jj-mmm-aaaa\")&\", \"&Listedesmatchs!$L170)","v":"lundi 06-janv-2025, 20h00"},{"$f":"Listedesmatchs!$N170","v":""},{"$f":"Listedesmatchs!$O170","v":""},{"$f":"Listedesmatchs!$E170&\" - \"&Listedesmatchs!$G170","v":"TT Dossenheim sur Zintel 1 - MJC Kirrwiller 3"},{"$f":"Listedesmatchs!$O198","v":""},{"$f":"Listedesmatchs!$N198","v":""},{"$f":"IF(Listedesmatchs!$J198=0,\"\",Listedesmatchs!$K198&\" \"&TEXT(Listedesmatchs!$J198,\"jj-mmm-aaaa\")&\", \"&Listedesmatchs!$L198)","v":"mardi 06-mai-2025, 20h00"},"ADULTESDIVISION1NORD"]
[{"$f":"IF(Listedesmatchs!$J171=0,\"\",Listedesmatchs!$K171&\" \"&TEXT(Listedesmatchs!$J171,\"jj-mmm-aaaa\")&\", \"&Listedesmatchs!$L171)","v":"vendredi 10-janv-2025, 20h00"},{"$f":"Listedesmatchs!$N171","v":""},{"$f":"Listedesmatchs!$O171","v":""},{"$f":"Listedesmatchs!$E171&\" - \"&Listedesmatchs!$G171","v":"CLTT Menchhoffen 4 - Liberté Dettwiller 2"},{"$f":"Listedesmatchs!$O199","v":""},{"$f":"Listedesmatchs!$N199","v":""},{"$f":"IF(Listedesmatchs!$J199=0,\"\",Listedesmatchs!$K199&\" \"&TEXT(Listedesmatchs!$J199,\"jj-mmm-aaaa\")&\", \"&Listedesmatchs!$L199)","v":"mercredi 07-mai-2025, 20h00"},"ADULTESDIVISION1NORD"]
[]
[]
[]
[]
["CHAMPIONNAT PAR EQUIPES TENNIS DE TABLE"]
["F.S.G.T. 67 SAISON 2024 - 2025"]
["STRASBOURG",null,null,"PROMOTION STRASBOURG"]
["ALLER ",null,null,"Rencontres ","RETOUR"]
["Dates ","Scores ",null,"PROMOTIONSTRASBOURG","Scores ",null,"Dates"]
["Journée 1 ",null,null,null,null,null,"Journée 8"]
[{"$f":"IF(Listedesmatchs!$J200=0,\"\",Listedesmatchs!$K200&\" \"&TEXT(Listedesmatchs!$J200,\"jj-mmm-aaaa\")&\", \"&Listedesmatchs!$L200)","v":"mardi 08-oct-2024, 20h00"},{"$f":"Listedesmatchs!$N200","v":""},{"$f":"Listedesmatchs!$O200","v":""},{"$f":"Listedesmatchs!$E200&\" - \"&Listedesmatchs!$G200","v":"US Egalitaire Neudorf 3 - US Egalitaire Neudorf 2"},{"$f":"Listedesmatchs!$O228","v":""},{"$f":"Listedesmatchs!$N228","v":""},{"$f":"IF(Listedesmatchs!$J228=0,\"\",Listedesmatchs!$K228&\" \"&TEXT(Listedesmatchs!$J228,\"jj-mmm-aaaa\")&\", \"&Listedesmatchs!$L228)","v":"mardi 21-janv-2025, 20h00"},"PROMOTIONSTRASBOURG"]
[{"$f":"IF(Listedesmatchs!$J201=0,\"\",Listedesmatchs!$K201&\" \"&TEXT(Listedesmatchs!$J201,\"jj-mmm-aaaa\")&\", \"&Listedesmatchs!$L201)","v":""},{"$f":"Listedesmatchs!$N201","v":""},{"$f":"Listedesmatchs!$O201","v":""},{"$f":"Listedesmatchs!$E201&\" - \"&Listedesmatchs!$G201","v":" - US Egalitaire Neudorf 4"},{"$f":"Listedesmatchs!$O229","v":""},{"$f":"Listedesmatchs!$N229","v":""},{"$f":"IF(Listedesmatchs!$J229=0,\"\",Listedesmatchs!$K229&\" \"&TEXT(Listedesmatchs!$J229,\"jj-mmm-aaaa\")&\", \"&Listedesmatchs!$L229)","v":"lundi 20-janv-2025, 20h00"},"PROMOTIONSTRASBOURG"]
[{"$f":"IF(Listedesmatchs!$J202=0,\"\",Listedesmatchs!$K202&\" \"&TEXT(Listedesmatchs!$J202,\"jj-mmm-aaaa\")&\", \"&Listedesmatchs!$L202)","v":"jeudi 10-oct-2024, 20h00"},{"$f":"Listedesmatchs!$N202","v":""},{"$f":"Listedesmatchs!$O202","v":""},{"$f":"Listedesmatchs!$E202&\" - \"&Listedesmatchs!$G202","v":"UT AURORA Schilt.-B. 1 - UT AURORA Schilt.-B. 2"},{"$f":"Listedesmatchs!$O230","v":""},{"$f":"Listedesmatchs!$N230","v":""},{"$f":"IF(Listedesmatchs!$J230=0,\"\",Listedesmatchs!$K230&\" \"&TEXT(Listedesmatchs!$J230,\"jj-mmm-aaaa\")&\", \"&Listedesmatchs!$L230)","v":"jeudi 23-janv-2025, 20h00"},"PROMOTIONSTRASBOURG"]
[{"$f":"IF(Listedesmatchs!$J203=0,\"\",Listedesmatchs!$K203&\" \"&TEXT(Listedesmatchs!$J203,\"jj-mmm-aaaa\")&\", \"&Listedesmatchs!$L203)","v":"mercredi 09-oct-2024, 19h00"},{"$f":"Listedesmatchs!$N203","v":""},{"$f":"Listedesmatchs!$O203","v":""},{"$f":"Listedesmatchs!$E203&\" - \"&Listedesmatchs!$G203","v":"AS Electricité Strasbourg 2 - Amitié Lingolsheim 4"},{"$f":"Listedesmatchs!$O231","v":""},{"$f":"Listedesmatchs!$N231","v":""},{"$f":"IF(Listedesmatchs!$J231=0,\"\",Listedesmatchs!$K231&\" \"&TEXT(Listedesmatchs!$J231,\"jj-mmm-aaaa\")&\", \"&Listedesmatchs!$L231)","v":"lundi 20-janv-2025, 19h30"},"PROMOTIONSTRASBOURG"]
["Journée 2 ",null,null,null,null,null,"Journée 9"]
[{"$f":"IF(Listedesmatchs!$J204=0,\"\",Listedesmatchs!$K204&\" \"&TEXT(Listedesmatchs!$J204,\"jj-mmm-aaaa\")&\", \"&Listedesmatchs!$L204)","v":"lundi 21-oct-2024, 20h00"},{"$f":"Listedesmatchs!$N204","v":""},{"$f":"Listedesmatchs!$O204","v":""},{"$f":"Listedesmatchs!$E204&\" - \"&Listedesmatchs!$G204","v":"US Egalitaire Neudorf 4 - US Egalitaire Neudorf 3"},{"$f":"Listedesmatchs!$O232","v":""},{"$f":"Listedesmatchs!$N232","v":""},{"$f":"IF(Listedesmatchs!$J232=0,\"\",Listedesmatchs!$K232&\" \"&TEXT(Listedesmatchs!$J232,\"jj-mmm-aaaa\")&\", \"&Listedesmatchs!$L232)","v":"mardi 04-févr-2025, 20h00"},"PROMOTIONSTRASBOURG"]
[{"$f":"IF(Listedesmatchs!$J205=0,\"\",Listedesmatchs!$K205&\" \"&TEXT(Listedesmatchs!$J205,\"jj-mmm-aaaa\")&\", \"&Listedesmatchs!$L205)","v":"jeudi 24-oct-2024, 20h00"},{"$f":"Listedesmatchs!$N205","v":""},{"$f":"Listedesmatchs!$O205","v":""},{"$f":"Listedesmatchs!$E205&\" - \"&Listedesmatchs!$G205","v":"UT AURORA Schilt.-B. 2 - "},{"$f":"Listedesmatchs!$O233","v":""},{"$f":"Listedesmatchs!$N233","v":""},{"$f":"IF(Listedesmatchs!$J233=0,\"\",Listedesmatchs!$K233&\" \"&TEXT(Listedesmatchs!$J233,\"jj-mmm-aaaa\")&\", \"&Listedesmatchs!$L233)","v":""},"PROMOTIONSTRASBOURG"]
[{"$f":"IF(Listedesmatchs!$J206=0,\"\",Listedesmatchs!$K206&\" \"&TEXT(Listedesmatchs!$J206,\"jj-mmm-aaaa\")&\", \"&Listedesmatchs!$L206)","v":"lundi 21-oct-2024, 19h30"},{"$f":"Listedesmatchs!$N206","v":""},{"$f":"Listedesmatchs!$O206","v":""},{"$f":"Listedesmatchs!$E206&\" - \"&Listedesmatchs!$G206","v":"Amitié Lingolsheim 4 - UT AURORA Schilt.-B. 1"},{"$f":"Listedesmatchs!$O234","v":""},{"$f":"Listedesmatchs!$N234","v":""},{"$f":"IF(Listedesmatchs!$J234=0,\"\",Listedesmatchs!$K234&\" \"&TEXT(Listedesmatchs!$J234,\"jj-mmm-aaaa\")&\", \"&Listedesmatchs!$L234)","v":"jeudi 06-févr-2025, 20h00"},"PROMOTIONSTRASBOURG"]
[{"$f":"IF(Listedesmatchs!$J207=0,\"\",Listedesmatchs!$K207&\" \"&TEXT(Listedesmatchs!$J207,\"jj-mmm-aaaa\")&\", \"&Listedesmatchs!$L207)","v":"mardi 22-oct-2024, 20h00"},{"$f":"Listedesmatchs!$N207","v":""},{"$f":"Listedesmatchs!$O207","v":""},{"$f":"Listedesmatchs!$E207&\" - \"&Listedesmatchs!$G207","v":"US Egalitaire Neudorf 2 - AS Electricité Strasbourg 2"},{"$f":"Listedesmatchs!$O235","v":""},{"$f":"Listedesmatchs!$N235","v":""},{"$f":"IF(Listedesmatchs!$J235=0,\"\",Listedesmatchs!$K235&\" \"&TEXT(Listedesmatchs!$J235,\"jj-mmm-aaaa\")&\", \"&Listedesmatchs!$L235)","v":"mercredi 05-févr-2025, 19h00"},"PROMOTIONSTRASBOURG"]
["Journée 3 ",null,null,null,null,null,"Journée 10"]
[{"$f":"IF(Listedesmatchs!$J208=0,\"\",Listedesmatchs!$K208&\" \"&TEXT(Listedesmatchs!$J208,\"jj-mmm-aaaa\")&\", \"&Listedesmatchs!$L208)","v":"mardi 05-nov-2024, 20h00"},{"$f":"Listedesmatchs!$N208","v":""},{"$f":"Listedesmatchs!$O208","v":""},{"$f":"Listedesmatchs!$E208&\" - \"&Listedesmatchs!$G208","v":"US Egalitaire Neudorf 3 - UT AURORA Schilt.-B. 2"},{"$f":"Listedesmatchs!$O236","v":""},{"$f":"Listedesmatchs!$N236","v":""},{"$f":"IF(Listedesmatchs!$J236=0,\"\",Listedesmatchs!$K236&\" \"&TEXT(Listedesmatchs!$J236,\"jj-mmm-aaaa\")&\", \"&Listedesmatchs!$L236)","v":"jeudi 27-févr-2025, 20h00"},"PROMOTIONSTRASBOURG"]
[{"$f":"IF(Listedesmatchs!$J209=0,\"\",Listedesmatchs!$K209&\" \"&TEXT(Listedesmatchs!$J209,\"jj-mmm-aaaa\")&\", \"&Listedesmatchs!$L209)","v":""},{"$f":"Listedesmatchs!$N209","v":""},{"$f":"Listedesmatchs!$O209","v":""},{"$f":"Listedesmatchs!$E209&\" - \"&Listedesmatchs!$G209","v":" - Amitié Lingolsheim 4"},{"$f":"Listedesmatchs!$O237","v":""},{"$f":"Listedesmatchs!$N237","v":""},{"$f":"IF(Listedesmatchs!$J237=0,\"\",Listedesmatchs!$K237&\" \"&TEXT(Listedesmatchs!$J237,\"jj-mmm-aaaa\")&\", \"&Listedesmatchs!$L237)","v":"lundi 24-févr-2025, 19h30"},"PROMOTIONSTRASBOURG"]
[{"$f":"IF(Listedesmatchs!$J210=0,\"\",Listedesmatchs!$K210&\" \"&TEXT(Listedesmatchs!$J210,\"jj-mmm-aaaa\")&\", \"&Listedesmatchs!$L210)","v":"jeudi 07-nov-2024, 20h00"},{"$f":"Listedesmatchs!$N210","v":""},{"$f":"Listedesmatchs!$O210","v":""},{"$f":"Listedesmatchs!$E210&\" - \"&Listedesmatchs!$G210","v":"UT AURORA Schilt.-B. 1 - AS Electricité Strasbourg 2"},{"$f":"Listedesmatchs!$O238","v":""},{"$f":"Listedesmatchs!$N238","v":""},{"$f":"IF(Listedesmatchs!$J238=0,\"\",Listedesmatchs!$K238&\" \"&TEXT(Listedesmatchs!$J238,\"jj-mmm-aaaa\")&\", \"&Listedesmatchs!$L238)","v":"mercredi 26-févr-2025, 19h00"},"PROMOTIONSTRASBOURG"]
[{"$f":"IF(Listedesmatchs!$J211=0,\"\",Listedesmatchs!$K211&\" \"&TEXT(Listedesmatchs!$J211,\"jj-mmm-aaaa\")&\", \"&Listedesmatchs!$L211)","v":"lundi 04-nov-2024, 20h00"},{"$f":"Listedesmatchs!$N211","v":""},{"$f":"Listedesmatchs!$O211","v":""},{"$f":"Listedesmatchs!$E211&\" - \"&Listedesmatchs!$G211","v":"US Egalitaire Neudorf 4 - US Egalitaire Neudorf 2"},{"$f":"Listedesmatchs!$O239","v":""},{"$f":"Listedesmatchs!$N239","v":""},{"$f":"IF(Listedesmatchs!$J239=0,\"\",Listedesmatchs!$K239&\" \"&TEXT(Listedesmatchs!$J239,\"jj-mmm-aaaa\")&\", \"&Listedesmatchs!$L239)","v":"mardi 25-févr-2025, 20h00"},"PROMOTIONSTRASBOURG"]
["Journée 4 ",null,null,null,null,null,"Journée 11"]
[{"$f":"IF(Listedesmatchs!$J212=0,\"\",Listedesmatchs!$K212&\" \"&TEXT(Listedesmatchs!$J212,\"jj-mmm-aaaa\")&\", \"&Listedesmatchs!$L212)","v":"lundi 18-nov-2024, 19h30"},{"$f":"Listedesmatchs!$N212","v":""},{"$f":"Listedesmatchs!$O212","v":""},{"$f":"Listedesmatchs!$E212&\" - \"&Listedesmatchs!$G212","v":"Amitié Lingolsheim 4 - US Egalitaire Neudorf 3"},{"$f":"Listedesmatchs!$O240","v":""},{"$f":"Listedesmatchs!$N240","v":""},{"$f":"IF(Listedesmatchs!$J240=0,\"\",Listedesmatchs!$K240&\" \"&TEXT(Listedesmatchs!$J240,\"jj-mmm-aaaa\")&\", \"&Listedesmatchs!$L240)","v":"mardi 11-mars-2025, 20h00"},"PROMOTIONSTRASBOURG"]
[{"$f":"IF(Listedesmatchs!$J213=0,\"\",Listedesmatchs!$K213&\" \"&TEXT(Listedesmatchs!$J213,\"jj-mmm-aaaa\")&\", \"&Listedesmatchs!$L213)","v":"mercredi 20-nov-2024, 19h00"},{"$f":"Listedesmatchs!$N213","v":""},{"$f":"Listedesmatchs!$O213","v":""},{"$f":"Listedesmatchs!$E213&\" - \"&Listedesmatchs!$G213","v":"AS Electricité Strasbourg 2 - "},{"$f":"Listedesmatchs!$O241","v":""},{"$f":"Listedesmatchs!$N241","v":""},{"$f":"IF(Listedesmatchs!$J241=0,\"\",Listedesmatchs!$K241&\" \"&TEXT(Listedesmatchs!$J241,\"jj-mmm-aaaa\")&\", \"&Listedesmatchs!$L241)","v":""},"PROMOTIONSTRASBOURG"]
[{"$f":"IF(Listedesmatchs!$J214=0,\"\",Listedesmatchs!$K214&\" \"&TEXT(Listedesmatchs!$J214,\"jj-mmm-aaaa\")&\", \"&Listedesmatchs!$L214)","v":"mardi 19-nov-2024, 20h00"},{"$f":"Listedesmatchs!$N214","v":""},{"$f":"Listedesmatchs!$O214","v":""},{"$f":"Listedesmatchs!$E214&\" - \"&Listedesmatchs!$G214","v":"US Egalitaire Neudorf 2 - UT AURORA Schilt.-B. 1"},{"$f":"Listedesmatchs!$O242","v":""},{"$f":"Listedesmatchs!$N242","v":""},{"$f":"IF(Listedesmatchs!$J242=0,\"\",Listedesmatchs!$K242&\" \"&TEXT(Listedesmatchs!$J242,\"jj-mmm-aaaa\")&\", \"&Listedesmatchs!$L242)","v":"jeudi 13-mars-2025, 20h00"},"PROMOTIONSTRASBOURG"]
[{"$f":"IF(Listedesmatchs!$J215=0,\"\",Listedesmatchs!$K215&\" \"&TEXT(Listedesmatchs!$J215,\"jj-mmm-aaaa\")&\", \"&Listedesmatchs!$L215)","v":"jeudi 21-nov-2024, 20h00"},{"$f":"Listedesmatchs!$N215","v":""},{"$f":"Listedesmatchs!$O215","v":""},{"$f":"Listedesmatchs!$E215&\" - \"&Listedesmatchs!$G215","v":"UT AURORA Schilt.-B. 2 - US Egalitaire Neudorf 4"},{"$f":"Listedesmatchs!$O243","v":""},{"$f":"Listedesmatchs!$N243","v":""},{"$f":"IF(Listedesmatchs!$J243=0,\"\",Listedesmatchs!$K243&\" \"&TEXT(Listedesmatchs!$J243,\"jj-mmm-aaaa\")&\", \"&Listedesmatchs!$L243)","v":"lundi 10-mars-2025, 20h00"},"PROMOTIONSTRASBOURG"]
["Journée 5 ",null,null,null,null,null,"Journée 12"]
[{"$f":"IF(Listedesmatchs!$J216=0,\"\",Listedesmatchs!$K216&\" \"&TEXT(Listedesmatchs!$J216,\"jj-mmm-aaaa\")&\", \"&Listedesmatchs!$L216)","v":"mercredi 04-déc-2024, 19h00"},{"$f":"Listedesmatchs!$N216","v":""},{"$f":"Listedesmatchs!$O216","v":""},{"$f":"Listedesmatchs!$E216&\" - \"&Listedesmatchs!$G216","v":"AS Electricité Strasbourg 2 - US Egalitaire Neudorf 3"},{"$f":"Listedesmatchs!$O244","v":""},{"$f":"Listedesmatchs!$N244","v":""},{"$f":"IF(Listedesmatchs!$J244=0,\"\",Listedesmatchs!$K244&\" \"&TEXT(Listedesmatchs!$J244,\"jj-mmm-aaaa\")&\", \"&Listedesmatchs!$L244)","v":"mardi 18-mars-2025, 20h00"},"PROMOTIONSTRASBOURG"]
[{"$f":"IF(Listedesmatchs!$J217=0,\"\",Listedesmatchs!$K217&\" \"&TEXT(Listedesmatchs!$J217,\"jj-mmm-aaaa\")&\", \"&Listedesmatchs!$L217)","v":""},{"$f":"Listedesmatchs!$N217","v":""},{"$f":"Listedesmatchs!$O217","v":""},{"$f":"Listedesmatchs!$E217&\" - \"&Listedesmatchs!$G217","v":" - UT AURORA Schilt.-B. 1"},{"$f":"Listedesmatchs!$O245","v":""},{"$f":"Listedesmatchs!$N245","v":""},{"$f":"IF(Listedesmatchs!$J245=0,\"\",Listedesmatchs!$K245&\" \"&TEXT(Listedesmatchs!$J245,\"jj-mmm-aaaa\")&\", \"&Listedesmatchs!$L245)","v":"jeudi 20-mars-2025, 20h00"},"PROMOTIONSTRASBOURG"]
[{"$f":"IF(Listedesmatchs!$J218=0,\"\",Listedesmatchs!$K218&\" \"&TEXT(Listedesmatchs!$J218,\"jj-mmm-aaaa\")&\", \"&Listedesmatchs!$L218)","v":"lundi 02-déc-2024, 19h30"},{"$f":"Listedesmatchs!$N218","v":""},{"$f":"Listedesmatchs!$O218","v":""},{"$f":"Listedesmatchs!$E218&\" - \"&Listedesmatchs!$G218","v":"Amitié Lingolsheim 4 - US Egalitaire Neudorf 4"},{"$f":"Listedesmatchs!$O246","v":""},{"$f":"Listedesmatchs!$N246","v":""},{"$f":"IF(Listedesmatchs!$J246=0,\"\",Listedesmatchs!$K246&\" \"&TEXT(Listedesmatchs!$J246,\"jj-mmm-aaaa\")&\", \"&Listedesmatchs!$L246)","v":"lundi 17-mars-2025, 20h00"},"PROMOTIONSTRASBOURG"]
[{"$f":"IF(Listedesmatchs!$J219=0,\"\",Listedesmatchs!$K219&\" \"&TEXT(Listedesmatchs!$J219,\"jj-mmm-aaaa\")&\", \"&Listedesmatchs!$L219)","v":"mardi 03-déc-2024, 20h00"},{"$f":"Listedesmatchs!$N219","v":""},{"$f":"Listedesmatchs!$O219","v":""},{"$f":"Listedesmatchs!$E219&\" - \"&Listedesmatchs!$G219","v":"US Egalitaire Neudorf 2 - UT AURORA Schilt.-B. 2"},{"$f":"Listedesmatchs!$O247","v":""},{"$f":"Listedesmatchs!$N247","v":""},{"$f":"IF(Listedesmatchs!$J247=0,\"\",Listedesmatchs!$K247&\" \"&TEXT(Listedesmatchs!$J247,\"jj-mmm-aaaa\")&\", \"&Listedesmatchs!$L247)","v":"jeudi 20-mars-2025, 20h00"},"PROMOTIONSTRASBOURG"]
["Journée 6 ",null,null,null,null,null,"Journée 13"]
[{"$f":"IF(Listedesmatchs!$J220=0,\"\",Listedesmatchs!$K220&\" \"&TEXT(Listedesmatchs!$J220,\"jj-mmm-aaaa\")&\", \"&Listedesmatchs!$L220)","v":"jeudi 19-déc-2024, 20h00"},{"$f":"Listedesmatchs!$N220","v":""},{"$f":"Listedesmatchs!$O220","v":""},{"$f":"Listedesmatchs!$E220&\" - \"&Listedesmatchs!$G220","v":"UT AURORA Schilt.-B. 1 - US Egalitaire Neudorf 3"},{"$f":"Listedesmatchs!$O248","v":""},{"$f":"Listedesmatchs!$N248","v":""},{"$f":"IF(Listedesmatchs!$J248=0,\"\",Listedesmatchs!$K248&\" \"&TEXT(Listedesmatchs!$J248,\"jj-mmm-aaaa\")&\", \"&Listedesmatchs!$L248)","v":"mardi 08-avr-2025, 20h00"},"PROMOTIONSTRASBOURG"]
[{"$f":"IF(Listedesmatchs!$J221=0,\"\",Listedesmatchs!$K221&\" \"&TEXT(Listedesmatchs!$J221,\"jj-mmm-aaaa\")&\", \"&Listedesmatchs!$L221)","v":""},{"$f":"Listedesmatchs!$N221","v":""},{"$f":"Listedesmatchs!$O221","v":""},{"$f":"Listedesmatchs!$E221&\" - \"&Listedesmatchs!$G221","v":" - US Egalitaire Neudorf 2"},{"$f":"Listedesmatchs!$O249","v":""},{"$f":"Listedesmatchs!$N249","v":""},{"$f":"IF(Listedesmatchs!$J249=0,\"\",Listedesmatchs!$K249&\" \"&TEXT(Listedesmatchs!$J249,\"jj-mmm-aaaa\")&\", \"&Listedesmatchs!$L249)","v":"mardi 08-avr-2025, 20h00"},"PROMOTIONSTRASBOURG"]
[{"$f":"IF(Listedesmatchs!$J222=0,\"\",Listedesmatchs!$K222&\" \"&TEXT(Listedesmatchs!$J222,\"jj-mmm-aaaa\")&\", \"&Listedesmatchs!$L222)","v":"lundi 16-déc-2024, 20h00"},{"$f":"Listedesmatchs!$N222","v":""},{"$f":"Listedesmatchs!$O222","v":""},{"$f":"Listedesmatchs!$E222&\" - \"&Listedesmatchs!$G222","v":"US Egalitaire Neudorf 4 - AS Electricité Strasbourg 2"},{"$f":"Listedesmatchs!$O250","v":""},{"$f":"Listedesmatchs!$N250","v":""},{"$f":"IF(Listedesmatchs!$J250=0,\"\",Listedesmatchs!$K250&\" \"&TEXT(Listedesmatchs!$J250,\"jj-mmm-aaaa\")&\", \"&Listedesmatchs!$L250)","v":"mercredi 09-avr-2025, 19h00"},"PROMOTIONSTRASBOURG"]
[{"$f":"IF(Listedesmatchs!$J223=0,\"\",Listedesmatchs!$K223&\" \"&TEXT(Listedesmatchs!$J223,\"jj-mmm-aaaa\")&\", \"&Listedesmatchs!$L223)","v":"lundi 16-déc-2024, 19h30"},{"$f":"Listedesmatchs!$N223","v":""},{"$f":"Listedesmatchs!$O223","v":""},{"$f":"Listedesmatchs!$E223&\" - \"&Listedesmatchs!$G223","v":"Amitié Lingolsheim 4 - UT AURORA Schilt.-B. 2"},{"$f":"Listedesmatchs!$O251","v":""},{"$f":"Listedesmatchs!$N251","v":""},{"$f":"IF(Listedesmatchs!$J251=0,\"\",Listedesmatchs!$K251&\" \"&TEXT(Listedesmatchs!$J251,\"jj-mmm-aaaa\")&\", \"&Listedesmatchs!$L251)","v":"jeudi 10-avr-2025, 20h00"},"PROMOTIONSTRASBOURG"]
["Journée 7 ",null,null,null,null,null,"Journée 14"]
[{"$f":"IF(Listedesmatchs!$J224=0,\"\",Listedesmatchs!$K224&\" \"&TEXT(Listedesmatchs!$J224,\"jj-mmm-aaaa\")&\", \"&Listedesmatchs!$L224)","v":"mardi 07-janv-2025, 20h00"},{"$f":"Listedesmatchs!$N224","v":""},{"$f":"Listedesmatchs!$O224","v":""},{"$f":"Listedesmatchs!$E224&\" - \"&Listedesmatchs!$G224","v":"US Egalitaire Neudorf 3 - "},{"$f":"Listedesmatchs!$O252","v":""},{"$f":"Listedesmatchs!$N252","v":""},{"$f":"IF(Listedesmatchs!$J252=0,\"\",Listedesmatchs!$K252&\" \"&TEXT(Listedesmatchs!$J252,\"jj-mmm-aaaa\")&\", \"&Listedesmatchs!$L252)","v":""},"PROMOTIONSTRASBOURG"]
[{"$f":"IF(Listedesmatchs!$J225=0,\"\",Listedesmatchs!$K225&\" \"&TEXT(Listedesmatchs!$J225,\"jj-mmm-aaaa\")&\", \"&Listedesmatchs!$L225)","v":"jeudi 09-janv-2025, 20h00"},{"$f":"Listedesmatchs!$N225","v":""},{"$f":"Listedesmatchs!$O225","v":""},{"$f":"Listedesmatchs!$E225&\" - \"&Listedesmatchs!$G225","v":"UT AURORA Schilt.-B. 1 - US Egalitaire Neudorf 4"},{"$f":"Listedesmatchs!$O253","v":""},{"$f":"Listedesmatchs!$N253","v":""},{"$f":"IF(Listedesmatchs!$J253=0,\"\",Listedesmatchs!$K253&\" \"&TEXT(Listedesmatchs!$J253,\"jj-mmm-aaaa\")&\", \"&Listedesmatchs!$L253)","v":"lundi 05-mai-2025, 20h00"},"PROMOTIONSTRASBOURG"]
[{"$f":"IF(Listedesmatchs!$J226=0,\"\",Listedesmatchs!$K226&\" \"&TEXT(Listedesmatchs!$J226,\"jj-mmm-aaaa\")&\", \"&Listedesmatchs!$L226)","v":"jeudi 09-janv-2025, 20h00"},{"$f":"Listedesmatchs!$N226","v":""},{"$f":"Listedesmatchs!$O226","v":""},{"$f":"Listedesmatchs!$E226&\" - \"&Listedesmatchs!$G226","v":"UT AURORA Schilt.-B. 2 - AS Electricité Strasbourg 2"},{"$f":"Listedesmatchs!$O254","v":""},{"$f":"Listedesmatchs!$N254","v":""},{"$f":"IF(Listedesmatchs!$J254=0,\"\",Listedesmatchs!$K254&\" \"&TEXT(Listedesmatchs!$J254,\"jj-mmm-aaaa\")&\", \"&Listedesmatchs!$L254)","v":"mercredi 07-mai-2025, 19h00"},"PROMOTIONSTRASBOURG"]
[{"$f":"IF(Listedesmatchs!$J227=0,\"\",Listedesmatchs!$K227&\" \"&TEXT(Listedesmatchs!$J227,\"jj-mmm-aaaa\")&\", \"&Listedesmatchs!$L227)","v":"mardi 07-janv-2025, 20h00"},{"$f":"Listedesmatchs!$N227","v":""},{"$f":"Listedesmatchs!$O227","v":""},{"$f":"Listedesmatchs!$E227&\" - \"&Listedesmatchs!$G227","v":"US Egalitaire Neudorf 2 - Amitié Lingolsheim 4"},{"$f":"Listedesmatchs!$O255","v":""},{"$f":"Listedesmatchs!$N255","v":""},{"$f":"IF(Listedesmatchs!$J255=0,\"\",Listedesmatchs!$K255&\" \"&TEXT(Listedesmatchs!$J255,\"jj-mmm-aaaa\")&\", \"&Listedesmatchs!$L255)","v":"lundi 05-mai-2025, 19h30"},"PROMOTIONSTRASBOURG"]
[]
[]
[]
[]
["CHAMPIONNAT PAR EQUIPES TENNIS DE TABLE"]
["F.S.G.T. 67 SAISON 2024 - 2025"]
["STRASBOURG",null,null,"VETERANS STRASBOURG DIVISION 1"]
["ALLER ",null,null,"Rencontres ","RETOUR"]
["Dates ","Scores ",null,"VETERANSD1STRASBOURG","Scores ",null,"Dates"]
["Journée 1 ",null,null,null,null,null,"Journée 6"]
[{"$f":"IF(Listedesmatchs!$J256=0,\"\",Listedesmatchs!$K256&\" \"&TEXT(Listedesmatchs!$J256,\"jj-mmm-aaaa\")&\", \"&Listedesmatchs!$L256)","v":"jeudi 03-oct-2024, 20h00"},{"$f":"Listedesmatchs!$N256","v":""},{"$f":"Listedesmatchs!$O256","v":""},{"$f":"Listedesmatchs!$E256&\" - \"&Listedesmatchs!$G256","v":"US Egalitaire Neudorf 2 - US Egalitaire Neudorf 1"},{"$f":"Listedesmatchs!$O271","v":""},{"$f":"Listedesmatchs!$N271","v":""},{"$f":"IF(Listedesmatchs!$J271=0,\"\",Listedesmatchs!$K271&\" \"&TEXT(Listedesmatchs!$J271,\"jj-mmm-aaaa\")&\", \"&Listedesmatchs!$L271)","v":"mardi 14-janv-2025, 20h00"},"VETERANSD1STRASBOURG"]
[{"$f":"IF(Listedesmatchs!$J257=0,\"\",Listedesmatchs!$K257&\" \"&TEXT(Listedesmatchs!$J257,\"jj-mmm-aaaa\")&\", \"&Listedesmatchs!$L257)","v":"lundi 30-sept-2024, 20h00"},{"$f":"Listedesmatchs!$N257","v":""},{"$f":"Listedesmatchs!$O257","v":""},{"$f":"Listedesmatchs!$E257&\" - \"&Listedesmatchs!$G257","v":"Amitié Lingolsheim 2 - Amitié Lingolsheim 1"},{"$f":"Listedesmatchs!$O272","v":""},{"$f":"Listedesmatchs!$N272","v":""},{"$f":"IF(Listedesmatchs!$J272=0,\"\",Listedesmatchs!$K272&\" \"&TEXT(Listedesmatchs!$J272,\"jj-mmm-aaaa\")&\", \"&Listedesmatchs!$L272)","v":"mercredi 15-janv-2025, 20h00"},"VETERANSD1STRASBOURG"]
[{"$f":"IF(Listedesmatchs!$J258=0,\"\",Listedesmatchs!$K258&\" \"&TEXT(Listedesmatchs!$J258,\"jj-mmm-aaaa\")&\", \"&Listedesmatchs!$L258)","v":"vendredi 04-oct-2024, 19h00"},{"$f":"Listedesmatchs!$N258","v":""},{"$f":"Listedesmatchs!$O258","v":""},{"$f":"Listedesmatchs!$E258&\" - \"&Listedesmatchs!$G258","v":"AS Electricité Strasbourg 1 - UT AURORA Schilt.-B. 1"},{"$f":"Listedesmatchs!$O273","v":""},{"$f":"Listedesmatchs!$N273","v":""},{"$f":"IF(Listedesmatchs!$J273=0,\"\",Listedesmatchs!$K273&\" \"&TEXT(Listedesmatchs!$J273,\"jj-mmm-aaaa\")&\", \"&Listedesmatchs!$L273)","v":"jeudi 16-janv-2025, 20h00"},"VETERANSD1STRASBOURG"]
["Journée 2 ",null,null,null,null,null,"Journée 7"]
[{"$f":"IF(Listedesmatchs!$J259=0,\"\",Listedesmatchs!$K259&\" \"&TEXT(Listedesmatchs!$J259,\"jj-mmm-aaaa\")&\", \"&Listedesmatchs!$L259)","v":"mercredi 16-oct-2024, 20h00"},{"$f":"Listedesmatchs!$N259","v":""},{"$f":"Listedesmatchs!$O259","v":""},{"$f":"Listedesmatchs!$E259&\" - \"&Listedesmatchs!$G259","v":"Amitié Lingolsheim 1 - US Egalitaire Neudorf 2"},{"$f":"Listedesmatchs!$O274","v":""},{"$f":"Listedesmatchs!$N274","v":""},{"$f":"IF(Listedesmatchs!$J274=0,\"\",Listedesmatchs!$K274&\" \"&TEXT(Listedesmatchs!$J274,\"jj-mmm-aaaa\")&\", \"&Listedesmatchs!$L274)","v":"jeudi 30-janv-2025, 20h00"},"VETERANSD1STRASBOURG"]
[{"$f":"IF(Listedesmatchs!$J260=0,\"\",Listedesmatchs!$K260&\" \"&TEXT(Listedesmatchs!$J260,\"jj-mmm-aaaa\")&\", \"&Listedesmatchs!$L260)","v":"jeudi 17-oct-2024, 20h00"},{"$f":"Listedesmatchs!$N260","v":""},{"$f":"Listedesmatchs!$O260","v":""},{"$f":"Listedesmatchs!$E260&\" - \"&Listedesmatchs!$G260","v":"UT AURORA Schilt.-B. 1 - Amitié Lingolsheim 2"},{"$f":"Listedesmatchs!$O275","v":""},{"$f":"Listedesmatchs!$N275","v":""},{"$f":"IF(Listedesmatchs!$J275=0,\"\",Listedesmatchs!$K275&\" \"&TEXT(Listedesmatchs!$J275,\"jj-mmm-aaaa\")&\", \"&Listedesmatchs!$L275)","v":"lundi 27-janv-2025, 20h00"},"VETERANSD1STRASBOURG"]
[{"$f":"IF(Listedesmatchs!$J261=0,\"\",Listedesmatchs!$K261&\" \"&TEXT(Listedesmatchs!$J261,\"jj-mmm-aaaa\")&\", \"&Listedesmatchs!$L261)","v":"mardi 15-oct-2024, 20h00"},{"$f":"Listedesmatchs!$N261","v":""},{"$f":"Listedesmatchs!$O261","v":""},{"$f":"Listedesmatchs!$E261&\" - \"&Listedesmatchs!$G261","v":"US Egalitaire Neudorf 1 - AS Electricité Strasbourg 1"},{"$f":"Listedesmatchs!$O276","v":""},{"$f":"Listedesmatchs!$N276","v":""},{"$f":"IF(Listedesmatchs!$J276=0,\"\",Listedesmatchs!$K276&\" \"&TEXT(Listedesmatchs!$J276,\"jj-mmm-aaaa\")&\", \"&Listedesmatchs!$L276)","v":"vendredi 31-janv-2025, 19h00"},"VETERANSD1STRASBOURG"]
["Journée 3 ",null,null,null,null,null,"Journée 8"]
[{"$f":"IF(Listedesmatchs!$J262=0,\"\",Listedesmatchs!$K262&\" \"&TEXT(Listedesmatchs!$J262,\"jj-mmm-aaaa\")&\", \"&Listedesmatchs!$L262)","v":"jeudi 14-nov-2024, 20h00"},{"$f":"Listedesmatchs!$N262","v":""},{"$f":"Listedesmatchs!$O262","v":""},{"$f":"Listedesmatchs!$E262&\" - \"&Listedesmatchs!$G262","v":"US Egalitaire Neudorf 2 - UT AURORA Schilt.-B. 1"},{"$f":"Listedesmatchs!$O277","v":""},{"$f":"Listedesmatchs!$N277","v":""},{"$f":"IF(Listedesmatchs!$J277=0,\"\",Listedesmatchs!$K277&\" \"&TEXT(Listedesmatchs!$J277,\"jj-mmm-aaaa\")&\", \"&Listedesmatchs!$L277)","v":"jeudi 06-mars-2025, 20h00"},"VETERANSD1STRASBOURG"]
[{"$f":"IF(Listedesmatchs!$J263=0,\"\",Listedesmatchs!$K263&\" \"&TEXT(Listedesmatchs!$J263,\"jj-mmm-aaaa\")&\", \"&Listedesmatchs!$L263)","v":"vendredi 15-nov-2024, 19h00"},{"$f":"Listedesmatchs!$N263","v":""},{"$f":"Listedesmatchs!$O263","v":""},{"$f":"Listedesmatchs!$E263&\" - \"&Listedesmatchs!$G263","v":"AS Electricité Strasbourg 1 - Amitié Lingolsheim 2"},{"$f":"Listedesmatchs!$O278","v":""},{"$f":"Listedesmatchs!$N278","v":""},{"$f":"IF(Listedesmatchs!$J278=0,\"\",Listedesmatchs!$K278&\" \"&TEXT(Listedesmatchs!$J278,\"jj-mmm-aaaa\")&\", \"&Listedesmatchs!$L278)","v":"lundi 03-mars-2025, 20h00"},"VETERANSD1STRASBOURG"]
[{"$f":"IF(Listedesmatchs!$J264=0,\"\",Listedesmatchs!$K264&\" \"&TEXT(Listedesmatchs!$J264,\"jj-mmm-aaaa\")&\", \"&Listedesmatchs!$L264)","v":"mercredi 13-nov-2024, 20h00"},{"$f":"Listedesmatchs!$N264","v":""},{"$f":"Listedesmatchs!$O264","v":""},{"$f":"Listedesmatchs!$E264&\" - \"&Listedesmatchs!$G264","v":"Amitié Lingolsheim 1 - US Egalitaire Neudorf 1"},{"$f":"Listedesmatchs!$O279","v":""},{"$f":"Listedesmatchs!$N279","v":""},{"$f":"IF(Listedesmatchs!$J279=0,\"\",Listedesmatchs!$K279&\" \"&TEXT(Listedesmatchs!$J279,\"jj-mmm-aaaa\")&\", \"&Listedesmatchs!$L279)","v":"mardi 04-mars-2025, 20h00"},"VETERANSD1STRASBOURG"]
["Journée 4 ",null,null,null,null,null,"Journée 9"]
[{"$f":"IF(Listedesmatchs!$J265=0,\"\",Listedesmatchs!$K265&\" \"&TEXT(Listedesmatchs!$J265,\"jj-mmm-aaaa\")&\", \"&Listedesmatchs!$L265)","v":"vendredi 29-nov-2024, 19h00"},{"$f":"Listedesmatchs!$N265","v":""},{"$f":"Listedesmatchs!$O265","v":""},{"$f":"Listedesmatchs!$E265&\" - \"&Listedesmatchs!$G265","v":"AS Electricité Strasbourg 1 - US Egalitaire Neudorf 2"},{"$f":"Listedesmatchs!$O280","v":""},{"$f":"Listedesmatchs!$N280","v":""},{"$f":"IF(Listedesmatchs!$J280=0,\"\",Listedesmatchs!$K280&\" \"&TEXT(Listedesmatchs!$J280,\"jj-mmm-aaaa\")&\", \"&Listedesmatchs!$L280)","v":"jeudi 03-avr-2025, 20h00"},"VETERANSD1STRASBOURG"]
[{"$f":"IF(Listedesmatchs!$J266=0,\"\",Listedesmatchs!$K266&\" \"&TEXT(Listedesmatchs!$J266,\"jj-mmm-aaaa\")&\", \"&Listedesmatchs!$L266)","v":"lundi 25-nov-2024, 20h00"},{"$f":"Listedesmatchs!$N266","v":""},{"$f":"Listedesmatchs!$O266","v":""},{"$f":"Listedesmatchs!$E266&\" - \"&Listedesmatchs!$G266","v":"Amitié Lingolsheim 2 - US Egalitaire Neudorf 1"},{"$f":"Listedesmatchs!$O281","v":""},{"$f":"Listedesmatchs!$N281","v":""},{"$f":"IF(Listedesmatchs!$J281=0,\"\",Listedesmatchs!$K281&\" \"&TEXT(Listedesmatchs!$J281,\"jj-mmm-aaaa\")&\", \"&Listedesmatchs!$L281)","v":"mardi 01-avr-2025, 20h00"},"VETERANSD1STRASBOURG"]
[{"$f":"IF(Listedesmatchs!$J267=0,\"\",Listedesmatchs!$K267&\" \"&TEXT(Listedesmatchs!$J267,\"jj-mmm-aaaa\")&\", \"&Listedesmatchs!$L267)","v":"jeudi 28-nov-2024, 20h00"},{"$f":"Listedesmatchs!$N267","v":""},{"$f":"Listedesmatchs!$O267","v":""},{"$f":"Listedesmatchs!$E267&\" - \"&Listedesmatchs!$G267","v":"UT AURORA Schilt.-B. 1 - Amitié Lingolsheim 1"},{"$f":"Listedesmatchs!$O282","v":""},{"$f":"Listedesmatchs!$N282","v":""},{"$f":"IF(Listedesmatchs!$J282=0,\"\",Listedesmatchs!$K282&\" \"&TEXT(Listedesmatchs!$J282,\"jj-mmm-aaaa\")&\", \"&Listedesmatchs!$L282)","v":"mercredi 02-avr-2025, 20h00"},"VETERANSD1STRASBOURG"]
["Journée 5 ",null,null,null,null,null,"Journée 10"]
[{"$f":"IF(Listedesmatchs!$J268=0,\"\",Listedesmatchs!$K268&\" \"&TEXT(Listedesmatchs!$J268,\"jj-mmm-aaaa\")&\", \"&Listedesmatchs!$L268)","v":"jeudi 12-déc-2024, 20h00"},{"$f":"Listedesmatchs!$N268","v":""},{"$f":"Listedesmatchs!$O268","v":""},{"$f":"Listedesmatchs!$E268&\" - \"&Listedesmatchs!$G268","v":"US Egalitaire Neudorf 2 - Amitié Lingolsheim 2"},{"$f":"Listedesmatchs!$O283","v":""},{"$f":"Listedesmatchs!$N283","v":""},{"$f":"IF(Listedesmatchs!$J283=0,\"\",Listedesmatchs!$K283&\" \"&TEXT(Listedesmatchs!$J283,\"jj-mmm-aaaa\")&\", \"&Listedesmatchs!$L283)","v":"lundi 28-avr-2025, 20h00"},"VETERANSD1STRASBOURG"]
[{"$f":"IF(Listedesmatchs!$J269=0,\"\",Listedesmatchs!$K269&\" \"&TEXT(Listedesmatchs!$J269,\"jj-mmm-aaaa\")&\", \"&Listedesmatchs!$L269)","v":"mercredi 11-déc-2024, 20h00"},{"$f":"Listedesmatchs!$N269","v":""},{"$f":"Listedesmatchs!$O269","v":""},{"$f":"Listedesmatchs!$E269&\" - \"&Listedesmatchs!$G269","v":"Amitié Lingolsheim 1 - AS Electricité Strasbourg 1"},{"$f":"Listedesmatchs!$O284","v":""},{"$f":"Listedesmatchs!$N284","v":""},{"$f":"IF(Listedesmatchs!$J284=0,\"\",Listedesmatchs!$K284&\" \"&TEXT(Listedesmatchs!$J284,\"jj-mmm-aaaa\")&\", \"&Listedesmatchs!$L284)","v":"vendredi 02-mai-2025, 19h00"},"VETERANSD1STRASBOURG"]
[{"$f":"IF(Listedesmatchs!$J270=0,\"\",Listedesmatchs!$K270&\" \"&TEXT(Listedesmatchs!$J270,\"jj-mmm-aaaa\")&\", \"&Listedesmatchs!$L270)","v":"jeudi 12-déc-2024, 20h00"},{"$f":"Listedesmatchs!$N270","v":""},{"$f":"Listedesmatchs!$O270","v":""},{"$f":"Listedesmatchs!$E270&\" - \"&Listedesmatchs!$G270","v":"UT AURORA Schilt.-B. 1 - US Egalitaire Neudorf 1"},{"$f":"Listedesmatchs!$O285","v":""},{"$f":"Listedesmatchs!$N285","v":""},{"$f":"IF(Listedesmatchs!$J285=0,\"\",Listedesmatchs!$K285&\" \"&TEXT(Listedesmatchs!$J285,\"jj-mmm-aaaa\")&\", \"&Listedesmatchs!$L285)","v":"mardi 29-avr-2025, 20h00"},"VETERANSD1STRASBOURG"]
[]
[]
[]
[]
["CHAMPIONNAT PAR EQUIPES TENNIS DE TABLE"]
["F.S.G.T. 67 SAISON 2024 - 2025"]
["STRASBOURG",null,null,"VETERANS STRASBOURG DIVISION 2"]
["ALLER ",null,null,"Rencontres ","RETOUR"]
["Dates ","Scores ",null,"VETERANSD2STRASBOURG","Scores ",null,"Dates"]
["Journée 1 ",null,null,null,null,null,"Journée 6"]
[{"$f":"IF(Listedesmatchs!$J286=0,\"\",Listedesmatchs!$K286&\" \"&TEXT(Listedesmatchs!$J286,\"jj-mmm-aaaa\")&\", \"&Listedesmatchs!$L286)","v":"lundi 30-sept-2024, 20h00"},{"$f":"Listedesmatchs!$N286","v":""},{"$f":"Listedesmatchs!$O286","v":""},{"$f":"Listedesmatchs!$E286&\" - \"&Listedesmatchs!$G286","v":"Amitié Lingolsheim 3 - Amitié Lingolsheim 5"},{"$f":"Listedesmatchs!$O314","v":""},{"$f":"Listedesmatchs!$N314","v":""},{"$f":"IF(Listedesmatchs!$J314=0,\"\",Listedesmatchs!$K314&\" \"&TEXT(Listedesmatchs!$J314,\"jj-mmm-aaaa\")&\", \"&Listedesmatchs!$L314)","v":"vendredi 31-janv-2025, 20h00"},"VETERANSD2STRASBOURG"]
[{"$f":"IF(Listedesmatchs!$J287=0,\"\",Listedesmatchs!$K287&\" \"&TEXT(Listedesmatchs!$J287,\"jj-mmm-aaaa\")&\", \"&Listedesmatchs!$L287)","v":""},{"$f":"Listedesmatchs!$N287","v":""},{"$f":"Listedesmatchs!$O287","v":""},{"$f":"Listedesmatchs!$E287&\" - \"&Listedesmatchs!$G287","v":" - "},{"$f":"Listedesmatchs!$O315","v":""},{"$f":"Listedesmatchs!$N315","v":""},{"$f":"IF(Listedesmatchs!$J315=0,\"\",Listedesmatchs!$K315&\" \"&TEXT(Listedesmatchs!$J315,\"jj-mmm-aaaa\")&\", \"&Listedesmatchs!$L315)","v":""},"VETERANSD2STRASBOURG"]
[{"$f":"IF(Listedesmatchs!$J288=0,\"\",Listedesmatchs!$K288&\" \"&TEXT(Listedesmatchs!$J288,\"jj-mmm-aaaa\")&\", \"&Listedesmatchs!$L288)","v":"jeudi 03-oct-2024, 20h00"},{"$f":"Listedesmatchs!$N288","v":""},{"$f":"Listedesmatchs!$O288","v":""},{"$f":"Listedesmatchs!$E288&\" - \"&Listedesmatchs!$G288","v":"UT AURORA Schilt.-B. 2 - UT AURORA Schilt.-B. 3"},{"$f":"Listedesmatchs!$O316","v":""},{"$f":"Listedesmatchs!$N316","v":""},{"$f":"IF(Listedesmatchs!$J316=0,\"\",Listedesmatchs!$K316&\" \"&TEXT(Listedesmatchs!$J316,\"jj-mmm-aaaa\")&\", \"&Listedesmatchs!$L316)","v":"jeudi 30-janv-2025, 20h00"},"VETERANSD2STRASBOURG"]
[{"$f":"IF(Listedesmatchs!$J289=0,\"\",Listedesmatchs!$K289&\" \"&TEXT(Listedesmatchs!$J289,\"jj-mmm-aaaa\")&\", \"&Listedesmatchs!$L289)","v":"mardi 15-oct-2024, 19h00"},{"$f":"Listedesmatchs!$N289","v":""},{"$f":"Listedesmatchs!$O289","v":""},{"$f":"Listedesmatchs!$E289&\" - \"&Listedesmatchs!$G289","v":"AS Electricité Strasbourg 2 - Amitié Lingolsheim 4"},{"$f":"Listedesmatchs!$O317","v":""},{"$f":"Listedesmatchs!$N317","v":""},{"$f":"IF(Listedesmatchs!$J317=0,\"\",Listedesmatchs!$K317&\" \"&TEXT(Listedesmatchs!$J317,\"jj-mmm-aaaa\")&\", \"&Listedesmatchs!$L317)","v":"vendredi 31-janv-2025, 20h00"},"VETERANSD2STRASBOURG"]
["Journée 2 ",null,null,null,null,null,"Journée 7"]
[{"$f":"IF(Listedesmatchs!$J290=0,\"\",Listedesmatchs!$K290&\" \"&TEXT(Listedesmatchs!$J290,\"jj-mmm-aaaa\")&\", \"&Listedesmatchs!$L290)","v":"vendredi 18-oct-2024, 20h00"},{"$f":"Listedesmatchs!$N290","v":""},{"$f":"Listedesmatchs!$O290","v":""},{"$f":"Listedesmatchs!$E290&\" - \"&Listedesmatchs!$G290","v":"Amitié Lingolsheim 4 - Amitié Lingolsheim 3"},{"$f":"Listedesmatchs!$O318","v":""},{"$f":"Listedesmatchs!$N318","v":""},{"$f":"IF(Listedesmatchs!$J318=0,\"\",Listedesmatchs!$K318&\" \"&TEXT(Listedesmatchs!$J318,\"jj-mmm-aaaa\")&\", \"&Listedesmatchs!$L318)","v":"lundi 10-févr-2025, 20h00"},"VETERANSD2STRASBOURG"]
[{"$f":"IF(Listedesmatchs!$J291=0,\"\",Listedesmatchs!$K291&\" \"&TEXT(Listedesmatchs!$J291,\"jj-mmm-aaaa\")&\", \"&Listedesmatchs!$L291)","v":""},{"$f":"Listedesmatchs!$N291","v":""},{"$f":"Listedesmatchs!$O291","v":""},{"$f":"Listedesmatchs!$E291&\" - \"&Listedesmatchs!$G291","v":" - "},{"$f":"Listedesmatchs!$O319","v":""},{"$f":"Listedesmatchs!$N319","v":""},{"$f":"IF(Listedesmatchs!$J319=0,\"\",Listedesmatchs!$K319&\" \"&TEXT(Listedesmatchs!$J319,\"jj-mmm-aaaa\")&\", \"&Listedesmatchs!$L319)","v":""},"VETERANSD2STRASBOURG"]
[{"$f":"IF(Listedesmatchs!$J292=0,\"\",Listedesmatchs!$K292&\" \"&TEXT(Listedesmatchs!$J292,\"jj-mmm-aaaa\")&\", \"&Listedesmatchs!$L292)","v":"vendredi 18-oct-2024, 19h00"},{"$f":"Listedesmatchs!$N292","v":""},{"$f":"Listedesmatchs!$O292","v":""},{"$f":"Listedesmatchs!$E292&\" - \"&Listedesmatchs!$G292","v":"AS Electricité Strasbourg 2 - UT AURORA Schilt.-B. 2"},{"$f":"Listedesmatchs!$O320","v":""},{"$f":"Listedesmatchs!$N320","v":""},{"$f":"IF(Listedesmatchs!$J320=0,\"\",Listedesmatchs!$K320&\" \"&TEXT(Listedesmatchs!$J320,\"jj-mmm-aaaa\")&\", \"&Listedesmatchs!$L320)","v":"jeudi 13-févr-2025, 20h00"},"VETERANSD2STRASBOURG"]
[{"$f":"IF(Listedesmatchs!$J293=0,\"\",Listedesmatchs!$K293&\" \"&TEXT(Listedesmatchs!$J293,\"jj-mmm-aaaa\")&\", \"&Listedesmatchs!$L293)","v":"vendredi 18-oct-2024, 20h00"},{"$f":"Listedesmatchs!$N293","v":""},{"$f":"Listedesmatchs!$O293","v":""},{"$f":"Listedesmatchs!$E293&\" - \"&Listedesmatchs!$G293","v":"Amitié Lingolsheim 5 - UT AURORA Schilt.-B. 3"},{"$f":"Listedesmatchs!$O321","v":""},{"$f":"Listedesmatchs!$N321","v":""},{"$f":"IF(Listedesmatchs!$J321=0,\"\",Listedesmatchs!$K321&\" \"&TEXT(Listedesmatchs!$J321,\"jj-mmm-aaaa\")&\", \"&Listedesmatchs!$L321)","v":"jeudi 13-févr-2025, 20h00"},"VETERANSD2STRASBOURG"]
["Journée 3 ",null,null,null,null,null,"Journée 8"]
[{"$f":"IF(Listedesmatchs!$J294=0,\"\",Listedesmatchs!$K294&\" \"&TEXT(Listedesmatchs!$J294,\"jj-mmm-aaaa\")&\", \"&Listedesmatchs!$L294)","v":"lundi 28-oct-2024, 20h00"},{"$f":"Listedesmatchs!$N294","v":""},{"$f":"Listedesmatchs!$O294","v":""},{"$f":"Listedesmatchs!$E294&\" - \"&Listedesmatchs!$G294","v":"Amitié Lingolsheim 3 - UT AURORA Schilt.-B. 2"},{"$f":"Listedesmatchs!$O322","v":""},{"$f":"Listedesmatchs!$N322","v":""},{"$f":"IF(Listedesmatchs!$J322=0,\"\",Listedesmatchs!$K322&\" \"&TEXT(Listedesmatchs!$J322,\"jj-mmm-aaaa\")&\", \"&Listedesmatchs!$L322)","v":"jeudi 06-mars-2025, 20h00"},"VETERANSD2STRASBOURG"]
[{"$f":"IF(Listedesmatchs!$J295=0,\"\",Listedesmatchs!$K295&\" \"&TEXT(Listedesmatchs!$J295,\"jj-mmm-aaaa\")&\", \"&Listedesmatchs!$L295)","v":""},{"$f":"Listedesmatchs!$N295","v":""},{"$f":"Listedesmatchs!$O295","v":""},{"$f":"Listedesmatchs!$E295&\" - \"&Listedesmatchs!$G295","v":" - "},{"$f":"Listedesmatchs!$O323","v":""},{"$f":"Listedesmatchs!$N323","v":""},{"$f":"IF(Listedesmatchs!$J323=0,\"\",Listedesmatchs!$K323&\" \"&TEXT(Listedesmatchs!$J323,\"jj-mmm-aaaa\")&\", \"&Listedesmatchs!$L323)","v":""},"VETERANSD2STRASBOURG"]
[{"$f":"IF(Listedesmatchs!$J296=0,\"\",Listedesmatchs!$K296&\" \"&TEXT(Listedesmatchs!$J296,\"jj-mmm-aaaa\")&\", \"&Listedesmatchs!$L296)","v":"jeudi 31-oct-2024, 20h00"},{"$f":"Listedesmatchs!$N296","v":""},{"$f":"Listedesmatchs!$O296","v":""},{"$f":"Listedesmatchs!$E296&\" - \"&Listedesmatchs!$G296","v":"UT AURORA Schilt.-B. 3 - AS Electricité Strasbourg 2"},{"$f":"Listedesmatchs!$O324","v":""},{"$f":"Listedesmatchs!$N324","v":""},{"$f":"IF(Listedesmatchs!$J324=0,\"\",Listedesmatchs!$K324&\" \"&TEXT(Listedesmatchs!$J324,\"jj-mmm-aaaa\")&\", \"&Listedesmatchs!$L324)","v":"vendredi 07-mars-2025, 20h00"},"VETERANSD2STRASBOURG"]
[{"$f":"IF(Listedesmatchs!$J297=0,\"\",Listedesmatchs!$K297&\" \"&TEXT(Listedesmatchs!$J297,\"jj-mmm-aaaa\")&\", \"&Listedesmatchs!$L297)","v":"lundi 28-oct-2024, 20h00"},{"$f":"Listedesmatchs!$N297","v":""},{"$f":"Listedesmatchs!$O297","v":""},{"$f":"Listedesmatchs!$E297&\" - \"&Listedesmatchs!$G297","v":"Amitié Lingolsheim 5 - Amitié Lingolsheim 4"},{"$f":"Listedesmatchs!$O325","v":""},{"$f":"Listedesmatchs!$N325","v":""},{"$f":"IF(Listedesmatchs!$J325=0,\"\",Listedesmatchs!$K325&\" \"&TEXT(Listedesmatchs!$J325,\"jj-mmm-aaaa\")&\", \"&Listedesmatchs!$L325)","v":"vendredi 07-mars-2025, 20h00"},"VETERANSD2STRASBOURG"]
["Journée 4 ",null,null,null,null,null,"Journée 9"]
[{"$f":"IF(Listedesmatchs!$J298=0,\"\",Listedesmatchs!$K298&\" \"&TEXT(Listedesmatchs!$J298,\"jj-mmm-aaaa\")&\", \"&Listedesmatchs!$L298)","v":"vendredi 15-nov-2024, 20h00"},{"$f":"Listedesmatchs!$N298","v":""},{"$f":"Listedesmatchs!$O298","v":""},{"$f":"Listedesmatchs!$E298&\" - \"&Listedesmatchs!$G298","v":"Amitié Lingolsheim 3 - AS Electricité Strasbourg 2"},{"$f":"Listedesmatchs!$O326","v":""},{"$f":"Listedesmatchs!$N326","v":""},{"$f":"IF(Listedesmatchs!$J326=0,\"\",Listedesmatchs!$K326&\" \"&TEXT(Listedesmatchs!$J326,\"jj-mmm-aaaa\")&\", \"&Listedesmatchs!$L326)","v":"vendredi 28-mars-2025, 19h00"},"VETERANSD2STRASBOURG"]
[{"$f":"IF(Listedesmatchs!$J299=0,\"\",Listedesmatchs!$K299&\" \"&TEXT(Listedesmatchs!$J299,\"jj-mmm-aaaa\")&\", \"&Listedesmatchs!$L299)","v":""},{"$f":"Listedesmatchs!$N299","v":""},{"$f":"Listedesmatchs!$O299","v":""},{"$f":"Listedesmatchs!$E299&\" - \"&Listedesmatchs!$G299","v":" - "},{"$f":"Listedesmatchs!$O327","v":""},{"$f":"Listedesmatchs!$N327","v":""},{"$f":"IF(Listedesmatchs!$J327=0,\"\",Listedesmatchs!$K327&\" \"&TEXT(Listedesmatchs!$J327,\"jj-mmm-aaaa\")&\", \"&Listedesmatchs!$L327)","v":""},"VETERANSD2STRASBOURG"]
[{"$f":"IF(Listedesmatchs!$J300=0,\"\",Listedesmatchs!$K300&\" \"&TEXT(Listedesmatchs!$J300,\"jj-mmm-aaaa\")&\", \"&Listedesmatchs!$L300)","v":"jeudi 14-nov-2024, 20h00"},{"$f":"Listedesmatchs!$N300","v":""},{"$f":"Listedesmatchs!$O300","v":""},{"$f":"Listedesmatchs!$E300&\" - \"&Listedesmatchs!$G300","v":"UT AURORA Schilt.-B. 2 - Amitié Lingolsheim 5"},{"$f":"Listedesmatchs!$O328","v":""},{"$f":"Listedesmatchs!$N328","v":""},{"$f":"IF(Listedesmatchs!$J328=0,\"\",Listedesmatchs!$K328&\" \"&TEXT(Listedesmatchs!$J328,\"jj-mmm-aaaa\")&\", \"&Listedesmatchs!$L328)","v":"vendredi 28-mars-2025, 20h00"},"VETERANSD2STRASBOURG"]
[{"$f":"IF(Listedesmatchs!$J301=0,\"\",Listedesmatchs!$K301&\" \"&TEXT(Listedesmatchs!$J301,\"jj-mmm-aaaa\")&\", \"&Listedesmatchs!$L301)","v":"jeudi 14-nov-2024, 20h00"},{"$f":"Listedesmatchs!$N301","v":""},{"$f":"Listedesmatchs!$O301","v":""},{"$f":"Listedesmatchs!$E301&\" - \"&Listedesmatchs!$G301","v":"UT AURORA Schilt.-B. 3 - Amitié Lingolsheim 4"},{"$f":"Listedesmatchs!$O329","v":""},{"$f":"Listedesmatchs!$N329","v":""},{"$f":"IF(Listedesmatchs!$J329=0,\"\",Listedesmatchs!$K329&\" \"&TEXT(Listedesmatchs!$J329,\"jj-mmm-aaaa\")&\", \"&Listedesmatchs!$L329)","v":"vendredi 28-mars-2025, 20h00"},"VETERANSD2STRASBOURG"]
["Journée 5 ",null,null,null,null,null,"Journée 10"]
[{"$f":"IF(Listedesmatchs!$J302=0,\"\",Listedesmatchs!$K302&\" \"&TEXT(Listedesmatchs!$J302,\"jj-mmm-aaaa\")&\", \"&Listedesmatchs!$L302)","v":"lundi 25-nov-2024, 20h00"},{"$f":"Listedesmatchs!$N302","v":""},{"$f":"Listedesmatchs!$O302","v":""},{"$f":"Listedesmatchs!$E302&\" - \"&Listedesmatchs!$G302","v":"Amitié Lingolsheim 3 - UT AURORA Schilt.-B. 3"},{"$f":"Listedesmatchs!$O330","v":""},{"$f":"Listedesmatchs!$N330","v":""},{"$f":"IF(Listedesmatchs!$J330=0,\"\",Listedesmatchs!$K330&\" \"&TEXT(Listedesmatchs!$J330,\"jj-mmm-aaaa\")&\", \"&Listedesmatchs!$L330)","v":"jeudi 17-avr-2025, 20h00"},"VETERANSD2STRASBOURG"]
[{"$f":"IF(Listedesmatchs!$J303=0,\"\",Listedesmatchs!$K303&\" \"&TEXT(Listedesmatchs!$J303,\"jj-mmm-aaaa\")&\", \"&Listedesmatchs!$L303)","v":""},{"$f":"Listedesmatchs!$N303","v":""},{"$f":"Listedesmatchs!$O303","v":""},{"$f":"Listedesmatchs!$E303&\" - \"&Listedesmatchs!$G303","v":" - "},{"$f":"Listedesmatchs!$O331","v":""},{"$f":"Listedesmatchs!$N331","v":""},{"$f":"IF(Listedesmatchs!$J331=0,\"\",Listedesmatchs!$K331&\" \"&TEXT(Listedesmatchs!$J331,\"jj-mmm-aaaa\")&\", \"&Listedesmatchs!$L331)","v":""},"VETERANSD2STRASBOURG"]
[{"$f":"IF(Listedesmatchs!$J304=0,\"\",Listedesmatchs!$K304&\" \"&TEXT(Listedesmatchs!$J304,\"jj-mmm-aaaa\")&\", \"&Listedesmatchs!$L304)","v":"vendredi 29-nov-2024, 19h00"},{"$f":"Listedesmatchs!$N304","v":""},{"$f":"Listedesmatchs!$O304","v":""},{"$f":"Listedesmatchs!$E304&\" - \"&Listedesmatchs!$G304","v":"AS Electricité Strasbourg 2 - Amitié Lingolsheim 5"},{"$f":"Listedesmatchs!$O332","v":""},{"$f":"Listedesmatchs!$N332","v":""},{"$f":"IF(Listedesmatchs!$J332=0,\"\",Listedesmatchs!$K332&\" \"&TEXT(Listedesmatchs!$J332,\"jj-mmm-aaaa\")&\", \"&Listedesmatchs!$L332)","v":"vendredi 02-mai-2025, 20h00"},"VETERANSD2STRASBOURG"]
[{"$f":"IF(Listedesmatchs!$J305=0,\"\",Listedesmatchs!$K305&\" \"&TEXT(Listedesmatchs!$J305,\"jj-mmm-aaaa\")&\", \"&Listedesmatchs!$L305)","v":"vendredi 29-nov-2024, 20h00"},{"$f":"Listedesmatchs!$N305","v":""},{"$f":"Listedesmatchs!$O305","v":""},{"$f":"Listedesmatchs!$E305&\" - \"&Listedesmatchs!$G305","v":"Amitié Lingolsheim 4 - UT AURORA Schilt.-B. 2"},{"$f":"Listedesmatchs!$O333","v":""},{"$f":"Listedesmatchs!$N333","v":""},{"$f":"IF(Listedesmatchs!$J333=0,\"\",Listedesmatchs!$K333&\" \"&TEXT(Listedesmatchs!$J333,\"jj-mmm-aaaa\")&\", \"&Listedesmatchs!$L333)","v":"jeudi 17-avr-2025, 20h00"},"VETERANSD2STRASBOURG"]
["Journée ",null,null,null,null,null,"Journée"]
[{"$f":"IF(Listedesmatchs!$J306=0,\"\",Listedesmatchs!$K306&\" \"&TEXT(Listedesmatchs!$J306,\"jj-mmm-aaaa\")&\", \"&Listedesmatchs!$L306)","v":""},{"$f":"Listedesmatchs!$N306","v":""},{"$f":"Listedesmatchs!$O306","v":""},{"$f":"Listedesmatchs!$E306&\" - \"&Listedesmatchs!$G306","v":" - "},{"$f":"Listedesmatchs!$O334","v":""},{"$f":"Listedesmatchs!$N334","v":""},{"$f":"IF(Listedesmatchs!$J334=0,\"\",Listedesmatchs!$K334&\" \"&TEXT(Listedesmatchs!$J334,\"jj-mmm-aaaa\")&\", \"&Listedesmatchs!$L334)","v":""},"VETERANSD2STRASBOURG"]
[{"$f":"IF(Listedesmatchs!$J307=0,\"\",Listedesmatchs!$K307&\" \"&TEXT(Listedesmatchs!$J307,\"jj-mmm-aaaa\")&\", \"&Listedesmatchs!$L307)","v":""},{"$f":"Listedesmatchs!$N307","v":""},{"$f":"Listedesmatchs!$O307","v":""},{"$f":"Listedesmatchs!$E307&\" - \"&Listedesmatchs!$G307","v":" - "},{"$f":"Listedesmatchs!$O335","v":""},{"$f":"Listedesmatchs!$N335","v":""},{"$f":"IF(Listedesmatchs!$J335=0,\"\",Listedesmatchs!$K335&\" \"&TEXT(Listedesmatchs!$J335,\"jj-mmm-aaaa\")&\", \"&Listedesmatchs!$L335)","v":""},"VETERANSD2STRASBOURG"]
[{"$f":"IF(Listedesmatchs!$J308=0,\"\",Listedesmatchs!$K308&\" \"&TEXT(Listedesmatchs!$J308,\"jj-mmm-aaaa\")&\", \"&Listedesmatchs!$L308)","v":""},{"$f":"Listedesmatchs!$N308","v":""},{"$f":"Listedesmatchs!$O308","v":""},{"$f":"Listedesmatchs!$E308&\" - \"&Listedesmatchs!$G308","v":" - "},{"$f":"Listedesmatchs!$O336","v":""},{"$f":"Listedesmatchs!$N336","v":""},{"$f":"IF(Listedesmatchs!$J336=0,\"\",Listedesmatchs!$K336&\" \"&TEXT(Listedesmatchs!$J336,\"jj-mmm-aaaa\")&\", \"&Listedesmatchs!$L336)","v":""},"VETERANSD2STRASBOURG"]
[{"$f":"IF(Listedesmatchs!$J309=0,\"\",Listedesmatchs!$K309&\" \"&TEXT(Listedesmatchs!$J309,\"jj-mmm-aaaa\")&\", \"&Listedesmatchs!$L309)","v":""},{"$f":"Listedesmatchs!$N309","v":""},{"$f":"Listedesmatchs!$O309","v":""},{"$f":"Listedesmatchs!$E309&\" - \"&Listedesmatchs!$G309","v":" - "},{"$f":"Listedesmatchs!$O337","v":""},{"$f":"Listedesmatchs!$N337","v":""},{"$f":"IF(Listedesmatchs!$J337=0,\"\",Listedesmatchs!$K337&\" \"&TEXT(Listedesmatchs!$J337,\"jj-mmm-aaaa\")&\", \"&Listedesmatchs!$L337)","v":""},"VETERANSD2STRASBOURG"]
["Journée ",null,null,null,null,null,"Journée"]
[{"$f":"IF(Listedesmatchs!$J310=0,\"\",Listedesmatchs!$K310&\" \"&TEXT(Listedesmatchs!$J310,\"jj-mmm-aaaa\")&\", \"&Listedesmatchs!$L310)","v":""},{"$f":"Listedesmatchs!$N310","v":""},{"$f":"Listedesmatchs!$O310","v":""},{"$f":"Listedesmatchs!$E310&\" - \"&Listedesmatchs!$G310","v":" - "},{"$f":"Listedesmatchs!$O338","v":""},{"$f":"Listedesmatchs!$N338","v":""},{"$f":"IF(Listedesmatchs!$J338=0,\"\",Listedesmatchs!$K338&\" \"&TEXT(Listedesmatchs!$J338,\"jj-mmm-aaaa\")&\", \"&Listedesmatchs!$L338)","v":""},"VETERANSD2STRASBOURG"]
[{"$f":"IF(Listedesmatchs!$J311=0,\"\",Listedesmatchs!$K311&\" \"&TEXT(Listedesmatchs!$J311,\"jj-mmm-aaaa\")&\", \"&Listedesmatchs!$L311)","v":""},{"$f":"Listedesmatchs!$N311","v":""},{"$f":"Listedesmatchs!$O311","v":""},{"$f":"Listedesmatchs!$E311&\" - \"&Listedesmatchs!$G311","v":" - "},{"$f":"Listedesmatchs!$O339","v":""},{"$f":"Listedesmatchs!$N339","v":""},{"$f":"IF(Listedesmatchs!$J339=0,\"\",Listedesmatchs!$K339&\" \"&TEXT(Listedesmatchs!$J339,\"jj-mmm-aaaa\")&\", \"&Listedesmatchs!$L339)","v":""},"VETERANSD2STRASBOURG"]
[{"$f":"IF(Listedesmatchs!$J312=0,\"\",Listedesmatchs!$K312&\" \"&TEXT(Listedesmatchs!$J312,\"jj-mmm-aaaa\")&\", \"&Listedesmatchs!$L312)","v":""},{"$f":"Listedesmatchs!$N312","v":""},{"$f":"Listedesmatchs!$O312","v":""},{"$f":"Listedesmatchs!$E312&\" - \"&Listedesmatchs!$G312","v":" - "},{"$f":"Listedesmatchs!$O340","v":""},{"$f":"Listedesmatchs!$N340","v":""},{"$f":"IF(Listedesmatchs!$J340=0,\"\",Listedesmatchs!$K340&\" \"&TEXT(Listedesmatchs!$J340,\"jj-mmm-aaaa\")&\", \"&Listedesmatchs!$L340)","v":""},"VETERANSD2STRASBOURG"]
[{"$f":"IF(Listedesmatchs!$J313=0,\"\",Listedesmatchs!$K313&\" \"&TEXT(Listedesmatchs!$J313,\"jj-mmm-aaaa\")&\", \"&Listedesmatchs!$L313)","v":""},{"$f":"Listedesmatchs!$N313","v":""},{"$f":"Listedesmatchs!$O313","v":""},{"$f":"Listedesmatchs!$E313&\" - \"&Listedesmatchs!$G313","v":" - "},{"$f":"Listedesmatchs!$O341","v":""},{"$f":"Listedesmatchs!$N341","v":""},{"$f":"IF(Listedesmatchs!$J341=0,\"\",Listedesmatchs!$K341&\" \"&TEXT(Listedesmatchs!$J341,\"jj-mmm-aaaa\")&\", \"&Listedesmatchs!$L341)","v":""},"VETERANSD2STRASBOURG"]
[]
[]
[]
[]
["CHAMPIONNAT PAR EQUIPES TENNIS DE TABLE"]
["F.S.G.T. 67 SAISON 2024 - 2025"]
["NORD",null,null,"VETERANS NORD DIVISION 1"]
["ALLER ",null,null,"Rencontres ","RETOUR"]
["Dates ","Scores ",null,"VETERANSD1NORD","Scores ",null,"Dates"]
["Journée 1 ",null,null,null,null,null,"Journée 8"]
[{"$f":"IF(Listedesmatchs!$J342=0,\"\",Listedesmatchs!$K342&\" \"&TEXT(Listedesmatchs!$J342,\"jj-mmm-aaaa\")&\", \"&Listedesmatchs!$L342)","v":"jeudi 03-oct-2024, 19h30"},{"$f":"Listedesmatchs!$N342","v":""},{"$f":"Listedesmatchs!$O342","v":""},{"$f":"Listedesmatchs!$E342&\" - \"&Listedesmatchs!$G342","v":"CTT 77 Val de Moder 1 - CTT 77 Val de Moder 2"},{"$f":"Listedesmatchs!$O370","v":""},{"$f":"Listedesmatchs!$N370","v":""},{"$f":"IF(Listedesmatchs!$J370=0,\"\",Listedesmatchs!$K370&\" \"&TEXT(Listedesmatchs!$J370,\"jj-mmm-aaaa\")&\", \"&Listedesmatchs!$L370)","v":"jeudi 30-janv-2025, 19h30"},"VETERANSD1NORD"]
[{"$f":"IF(Listedesmatchs!$J343=0,\"\",Listedesmatchs!$K343&\" \"&TEXT(Listedesmatchs!$J343,\"jj-mmm-aaaa\")&\", \"&Listedesmatchs!$L343)","v":"mercredi 02-oct-2024, 20h00"},{"$f":"Listedesmatchs!$N343","v":""},{"$f":"Listedesmatchs!$O343","v":""},{"$f":"Listedesmatchs!$E343&\" - \"&Listedesmatchs!$G343","v":"CP Zutzendorf 1 - ASP Gottenhouse 1"},{"$f":"Listedesmatchs!$O371","v":""},{"$f":"Listedesmatchs!$N371","v":""},{"$f":"IF(Listedesmatchs!$J371=0,\"\",Listedesmatchs!$K371&\" \"&TEXT(Listedesmatchs!$J371,\"jj-mmm-aaaa\")&\", \"&Listedesmatchs!$L371)","v":"mardi 28-janv-2025, 20h00"},"VETERANSD1NORD"]
[{"$f":"IF(Listedesmatchs!$J344=0,\"\",Listedesmatchs!$K344&\" \"&TEXT(Listedesmatchs!$J344,\"jj-mmm-aaaa\")&\", \"&Listedesmatchs!$L344)","v":"mardi 01-oct-2024, 20h00"},{"$f":"Listedesmatchs!$N344","v":""},{"$f":"Listedesmatchs!$O344","v":""},{"$f":"Listedesmatchs!$E344&\" - \"&Listedesmatchs!$G344","v":"Hanau TT 1 - CLTT Menchhoffen 1"},{"$f":"Listedesmatchs!$O372","v":""},{"$f":"Listedesmatchs!$N372","v":""},{"$f":"IF(Listedesmatchs!$J372=0,\"\",Listedesmatchs!$K372&\" \"&TEXT(Listedesmatchs!$J372,\"jj-mmm-aaaa\")&\", \"&Listedesmatchs!$L372)","v":"jeudi 30-janv-2025, 20h00"},"VETERANSD1NORD"]
[{"$f":"IF(Listedesmatchs!$J345=0,\"\",Listedesmatchs!$K345&\" \"&TEXT(Listedesmatchs!$J345,\"jj-mmm-aaaa\")&\", \"&Listedesmatchs!$L345)","v":"vendredi 04-oct-2024, 20h30"},{"$f":"Listedesmatchs!$N345","v":""},{"$f":"Listedesmatchs!$O345","v":""},{"$f":"Listedesmatchs!$E345&\" - \"&Listedesmatchs!$G345","v":"CS Tricolore Saverne 1 - Liberté Dettwiller 1"},{"$f":"Listedesmatchs!$O373","v":""},{"$f":"Listedesmatchs!$N373","v":""},{"$f":"IF(Listedesmatchs!$J373=0,\"\",Listedesmatchs!$K373&\" \"&TEXT(Listedesmatchs!$J373,\"jj-mmm-aaaa\")&\", \"&Listedesmatchs!$L373)","v":"mercredi 29-janv-2025, 20h00"},"VETERANSD1NORD"]
["Journée 2 ",null,null,null,null,null,"Journée 9"]
[{"$f":"IF(Listedesmatchs!$J346=0,\"\",Listedesmatchs!$K346&\" \"&TEXT(Listedesmatchs!$J346,\"jj-mmm-aaaa\")&\", \"&Listedesmatchs!$L346)","v":"mardi 15-oct-2024, 20h00"},{"$f":"Listedesmatchs!$N346","v":""},{"$f":"Listedesmatchs!$O346","v":""},{"$f":"Listedesmatchs!$E346&\" - \"&Listedesmatchs!$G346","v":"ASP Gottenhouse 1 - CTT 77 Val de Moder 1"},{"$f":"Listedesmatchs!$O374","v":""},{"$f":"Listedesmatchs!$N374","v":""},{"$f":"IF(Listedesmatchs!$J374=0,\"\",Listedesmatchs!$K374&\" \"&TEXT(Listedesmatchs!$J374,\"jj-mmm-aaaa\")&\", \"&Listedesmatchs!$L374)","v":"jeudi 13-févr-2025, 19h30"},"VETERANSD1NORD"]
[{"$f":"IF(Listedesmatchs!$J347=0,\"\",Listedesmatchs!$K347&\" \"&TEXT(Listedesmatchs!$J347,\"jj-mmm-aaaa\")&\", \"&Listedesmatchs!$L347)","v":"jeudi 17-oct-2024, 20h00"},{"$f":"Listedesmatchs!$N347","v":""},{"$f":"Listedesmatchs!$O347","v":""},{"$f":"Listedesmatchs!$E347&\" - \"&Listedesmatchs!$G347","v":"CLTT Menchhoffen 1 - CP Zutzendorf 1"},{"$f":"Listedesmatchs!$O375","v":""},{"$f":"Listedesmatchs!$N375","v":""},{"$f":"IF(Listedesmatchs!$J375=0,\"\",Listedesmatchs!$K375&\" \"&TEXT(Listedesmatchs!$J375,\"jj-mmm-aaaa\")&\", \"&Listedesmatchs!$L375)","v":"mercredi 12-févr-2025, 20h00"},"VETERANSD1NORD"]
[{"$f":"IF(Listedesmatchs!$J348=0,\"\",Listedesmatchs!$K348&\" \"&TEXT(Listedesmatchs!$J348,\"jj-mmm-aaaa\")&\", \"&Listedesmatchs!$L348)","v":"mercredi 16-oct-2024, 20h00"},{"$f":"Listedesmatchs!$N348","v":""},{"$f":"Listedesmatchs!$O348","v":""},{"$f":"Listedesmatchs!$E348&\" - \"&Listedesmatchs!$G348","v":"Liberté Dettwiller 1 - Hanau TT 1"},{"$f":"Listedesmatchs!$O376","v":""},{"$f":"Listedesmatchs!$N376","v":""},{"$f":"IF(Listedesmatchs!$J376=0,\"\",Listedesmatchs!$K376&\" \"&TEXT(Listedesmatchs!$J376,\"jj-mmm-aaaa\")&\", \"&Listedesmatchs!$L376)","v":"mardi 11-févr-2025, 20h00"},"VETERANSD1NORD"]
[{"$f":"IF(Listedesmatchs!$J349=0,\"\",Listedesmatchs!$K349&\" \"&TEXT(Listedesmatchs!$J349,\"jj-mmm-aaaa\")&\", \"&Listedesmatchs!$L349)","v":"jeudi 17-oct-2024, 19h30"},{"$f":"Listedesmatchs!$N349","v":""},{"$f":"Listedesmatchs!$O349","v":""},{"$f":"Listedesmatchs!$E349&\" - \"&Listedesmatchs!$G349","v":"CTT 77 Val de Moder 2 - CS Tricolore Saverne 1"},{"$f":"Listedesmatchs!$O377","v":""},{"$f":"Listedesmatchs!$N377","v":""},{"$f":"IF(Listedesmatchs!$J377=0,\"\",Listedesmatchs!$K377&\" \"&TEXT(Listedesmatchs!$J377,\"jj-mmm-aaaa\")&\", \"&Listedesmatchs!$L377)","v":"vendredi 14-févr-2025, 20h30"},"VETERANSD1NORD"]
["Journée 3 ",null,null,null,null,null,"Journée 10"]
[{"$f":"IF(Listedesmatchs!$J350=0,\"\",Listedesmatchs!$K350&\" \"&TEXT(Listedesmatchs!$J350,\"jj-mmm-aaaa\")&\", \"&Listedesmatchs!$L350)","v":"jeudi 31-oct-2024, 19h30"},{"$f":"Listedesmatchs!$N350","v":""},{"$f":"Listedesmatchs!$O350","v":""},{"$f":"Listedesmatchs!$E350&\" - \"&Listedesmatchs!$G350","v":"CTT 77 Val de Moder 1 - CLTT Menchhoffen 1"},{"$f":"Listedesmatchs!$O378","v":""},{"$f":"Listedesmatchs!$N378","v":""},{"$f":"IF(Listedesmatchs!$J378=0,\"\",Listedesmatchs!$K378&\" \"&TEXT(Listedesmatchs!$J378,\"jj-mmm-aaaa\")&\", \"&Listedesmatchs!$L378)","v":"jeudi 06-mars-2025, 20h00"},"VETERANSD1NORD"]
[{"$f":"IF(Listedesmatchs!$J351=0,\"\",Listedesmatchs!$K351&\" \"&TEXT(Listedesmatchs!$J351,\"jj-mmm-aaaa\")&\", \"&Listedesmatchs!$L351)","v":"mercredi 30-oct-2024, 20h00"},{"$f":"Listedesmatchs!$N351","v":""},{"$f":"Listedesmatchs!$O351","v":""},{"$f":"Listedesmatchs!$E351&\" - \"&Listedesmatchs!$G351","v":"Liberté Dettwiller 1 - CP Zutzendorf 1"},{"$f":"Listedesmatchs!$O379","v":""},{"$f":"Listedesmatchs!$N379","v":""},{"$f":"IF(Listedesmatchs!$J379=0,\"\",Listedesmatchs!$K379&\" \"&TEXT(Listedesmatchs!$J379,\"jj-mmm-aaaa\")&\", \"&Listedesmatchs!$L379)","v":"mercredi 05-mars-2025, 20h00"},"VETERANSD1NORD"]
[{"$f":"IF(Listedesmatchs!$J352=0,\"\",Listedesmatchs!$K352&\" \"&TEXT(Listedesmatchs!$J352,\"jj-mmm-aaaa\")&\", \"&Listedesmatchs!$L352)","v":"mardi 29-oct-2024, 20h00"},{"$f":"Listedesmatchs!$N352","v":""},{"$f":"Listedesmatchs!$O352","v":""},{"$f":"Listedesmatchs!$E352&\" - \"&Listedesmatchs!$G352","v":"Hanau TT 1 - CS Tricolore Saverne 1"},{"$f":"Listedesmatchs!$O380","v":""},{"$f":"Listedesmatchs!$N380","v":""},{"$f":"IF(Listedesmatchs!$J380=0,\"\",Listedesmatchs!$K380&\" \"&TEXT(Listedesmatchs!$J380,\"jj-mmm-aaaa\")&\", \"&Listedesmatchs!$L380)","v":"vendredi 07-mars-2025, 20h30"},"VETERANSD1NORD"]
[{"$f":"IF(Listedesmatchs!$J353=0,\"\",Listedesmatchs!$K353&\" \"&TEXT(Listedesmatchs!$J353,\"jj-mmm-aaaa\")&\", \"&Listedesmatchs!$L353)","v":"jeudi 31-oct-2024, 19h30"},{"$f":"Listedesmatchs!$N353","v":""},{"$f":"Listedesmatchs!$O353","v":""},{"$f":"Listedesmatchs!$E353&\" - \"&Listedesmatchs!$G353","v":"CTT 77 Val de Moder 2 - ASP Gottenhouse 1"},{"$f":"Listedesmatchs!$O381","v":""},{"$f":"Listedesmatchs!$N381","v":""},{"$f":"IF(Listedesmatchs!$J381=0,\"\",Listedesmatchs!$K381&\" \"&TEXT(Listedesmatchs!$J381,\"jj-mmm-aaaa\")&\", \"&Listedesmatchs!$L381)","v":"mardi 04-mars-2025, 20h00"},"VETERANSD1NORD"]
["Journée 4 ",null,null,null,null,null,"Journée 11"]
[{"$f":"IF(Listedesmatchs!$J354=0,\"\",Listedesmatchs!$K354&\" \"&TEXT(Listedesmatchs!$J354,\"jj-mmm-aaaa\")&\", \"&Listedesmatchs!$L354)","v":"mercredi 13-nov-2024, 20h00"},{"$f":"Listedesmatchs!$N354","v":""},{"$f":"Listedesmatchs!$O354","v":""},{"$f":"Listedesmatchs!$E354&\" - \"&Listedesmatchs!$G354","v":"Liberté Dettwiller 1 - CTT 77 Val de Moder 1"},{"$f":"Listedesmatchs!$O382","v":""},{"$f":"Listedesmatchs!$N382","v":""},{"$f":"IF(Listedesmatchs!$J382=0,\"\",Listedesmatchs!$K382&\" \"&TEXT(Listedesmatchs!$J382,\"jj-mmm-aaaa\")&\", \"&Listedesmatchs!$L382)","v":"jeudi 27-mars-2025, 19h30"},"VETERANSD1NORD"]
[{"$f":"IF(Listedesmatchs!$J355=0,\"\",Listedesmatchs!$K355&\" \"&TEXT(Listedesmatchs!$J355,\"jj-mmm-aaaa\")&\", \"&Listedesmatchs!$L355)","v":"vendredi 15-nov-2024, 20h30"},{"$f":"Listedesmatchs!$N355","v":""},{"$f":"Listedesmatchs!$O355","v":""},{"$f":"Listedesmatchs!$E355&\" - \"&Listedesmatchs!$G355","v":"CS Tricolore Saverne 1 - CP Zutzendorf 1"},{"$f":"Listedesmatchs!$O383","v":""},{"$f":"Listedesmatchs!$N383","v":""},{"$f":"IF(Listedesmatchs!$J383=0,\"\",Listedesmatchs!$K383&\" \"&TEXT(Listedesmatchs!$J383,\"jj-mmm-aaaa\")&\", \"&Listedesmatchs!$L383)","v":"mercredi 26-mars-2025, 20h00"},"VETERANSD1NORD"]
[{"$f":"IF(Listedesmatchs!$J356=0,\"\",Listedesmatchs!$K356&\" \"&TEXT(Listedesmatchs!$J356,\"jj-mmm-aaaa\")&\", \"&Listedesmatchs!$L356)","v":"mardi 12-nov-2024, 20h00"},{"$f":"Listedesmatchs!$N356","v":""},{"$f":"Listedesmatchs!$O356","v":""},{"$f":"Listedesmatchs!$E356&\" - \"&Listedesmatchs!$G356","v":"Hanau TT 1 - CTT 77 Val de Moder 2"},{"$f":"Listedesmatchs!$O384","v":""},{"$f":"Listedesmatchs!$N384","v":""},{"$f":"IF(Listedesmatchs!$J384=0,\"\",Listedesmatchs!$K384&\" \"&TEXT(Listedesmatchs!$J384,\"jj-mmm-aaaa\")&\", \"&Listedesmatchs!$L384)","v":"jeudi 27-mars-2025, 19h30"},"VETERANSD1NORD"]
[{"$f":"IF(Listedesmatchs!$J357=0,\"\",Listedesmatchs!$K357&\" \"&TEXT(Listedesmatchs!$J357,\"jj-mmm-aaaa\")&\", \"&Listedesmatchs!$L357)","v":"jeudi 14-nov-2024, 20h00"},{"$f":"Listedesmatchs!$N357","v":""},{"$f":"Listedesmatchs!$O357","v":""},{"$f":"Listedesmatchs!$E357&\" - \"&Listedesmatchs!$G357","v":"CLTT Menchhoffen 1 - ASP Gottenhouse 1"},{"$f":"Listedesmatchs!$O385","v":""},{"$f":"Listedesmatchs!$N385","v":""},{"$f":"IF(Listedesmatchs!$J385=0,\"\",Listedesmatchs!$K385&\" \"&TEXT(Listedesmatchs!$J385,\"jj-mmm-aaaa\")&\", \"&Listedesmatchs!$L385)","v":"mardi 25-mars-2025, 20h00"},"VETERANSD1NORD"]
["Journée 5 ",null,null,null,null,null,"Journée 12"]
[{"$f":"IF(Listedesmatchs!$J358=0,\"\",Listedesmatchs!$K358&\" \"&TEXT(Listedesmatchs!$J358,\"jj-mmm-aaaa\")&\", \"&Listedesmatchs!$L358)","v":"jeudi 28-nov-2024, 19h30"},{"$f":"Listedesmatchs!$N358","v":""},{"$f":"Listedesmatchs!$O358","v":""},{"$f":"Listedesmatchs!$E358&\" - \"&Listedesmatchs!$G358","v":"CTT 77 Val de Moder 1 - CS Tricolore Saverne 1"},{"$f":"Listedesmatchs!$O386","v":""},{"$f":"Listedesmatchs!$N386","v":""},{"$f":"IF(Listedesmatchs!$J386=0,\"\",Listedesmatchs!$K386&\" \"&TEXT(Listedesmatchs!$J386,\"jj-mmm-aaaa\")&\", \"&Listedesmatchs!$L386)","v":"vendredi 04-avr-2025, 20h30"},"VETERANSD1NORD"]
[{"$f":"IF(Listedesmatchs!$J359=0,\"\",Listedesmatchs!$K359&\" \"&TEXT(Listedesmatchs!$J359,\"jj-mmm-aaaa\")&\", \"&Listedesmatchs!$L359)","v":"mercredi 27-nov-2024, 20h00"},{"$f":"Listedesmatchs!$N359","v":""},{"$f":"Listedesmatchs!$O359","v":""},{"$f":"Listedesmatchs!$E359&\" - \"&Listedesmatchs!$G359","v":"CP Zutzendorf 1 - Hanau TT 1"},{"$f":"Listedesmatchs!$O387","v":""},{"$f":"Listedesmatchs!$N387","v":""},{"$f":"IF(Listedesmatchs!$J387=0,\"\",Listedesmatchs!$K387&\" \"&TEXT(Listedesmatchs!$J387,\"jj-mmm-aaaa\")&\", \"&Listedesmatchs!$L387)","v":"mardi 01-avr-2025, 20h00"},"VETERANSD1NORD"]
[{"$f":"IF(Listedesmatchs!$J360=0,\"\",Listedesmatchs!$K360&\" \"&TEXT(Listedesmatchs!$J360,\"jj-mmm-aaaa\")&\", \"&Listedesmatchs!$L360)","v":"mercredi 27-nov-2024, 20h00"},{"$f":"Listedesmatchs!$N360","v":""},{"$f":"Listedesmatchs!$O360","v":""},{"$f":"Listedesmatchs!$E360&\" - \"&Listedesmatchs!$G360","v":"Liberté Dettwiller 1 - ASP Gottenhouse 1"},{"$f":"Listedesmatchs!$O388","v":""},{"$f":"Listedesmatchs!$N388","v":""},{"$f":"IF(Listedesmatchs!$J388=0,\"\",Listedesmatchs!$K388&\" \"&TEXT(Listedesmatchs!$J388,\"jj-mmm-aaaa\")&\", \"&Listedesmatchs!$L388)","v":"mardi 01-avr-2025, 20h00"},"VETERANSD1NORD"]
[{"$f":"IF(Listedesmatchs!$J361=0,\"\",Listedesmatchs!$K361&\" \"&TEXT(Listedesmatchs!$J361,\"jj-mmm-aaaa\")&\", \"&Listedesmatchs!$L361)","v":"jeudi 28-nov-2024, 19h30"},{"$f":"Listedesmatchs!$N361","v":""},{"$f":"Listedesmatchs!$O361","v":""},{"$f":"Listedesmatchs!$E361&\" - \"&Listedesmatchs!$G361","v":"CTT 77 Val de Moder 2 - CLTT Menchhoffen 1"},{"$f":"Listedesmatchs!$O389","v":""},{"$f":"Listedesmatchs!$N389","v":""},{"$f":"IF(Listedesmatchs!$J389=0,\"\",Listedesmatchs!$K389&\" \"&TEXT(Listedesmatchs!$J389,\"jj-mmm-aaaa\")&\", \"&Listedesmatchs!$L389)","v":"jeudi 03-avr-2025, 20h00"},"VETERANSD1NORD"]
["Journée 6 ",null,null,null,null,null,"Journée 13"]
[{"$f":"IF(Listedesmatchs!$J362=0,\"\",Listedesmatchs!$K362&\" \"&TEXT(Listedesmatchs!$J362,\"jj-mmm-aaaa\")&\", \"&Listedesmatchs!$L362)","v":"mardi 10-déc-2024, 20h00"},{"$f":"Listedesmatchs!$N362","v":""},{"$f":"Listedesmatchs!$O362","v":""},{"$f":"Listedesmatchs!$E362&\" - \"&Listedesmatchs!$G362","v":"Hanau TT 1 - CTT 77 Val de Moder 1"},{"$f":"Listedesmatchs!$O390","v":""},{"$f":"Listedesmatchs!$N390","v":""},{"$f":"IF(Listedesmatchs!$J390=0,\"\",Listedesmatchs!$K390&\" \"&TEXT(Listedesmatchs!$J390,\"jj-mmm-aaaa\")&\", \"&Listedesmatchs!$L390)","v":"jeudi 17-avr-2025, 19h30"},"VETERANSD1NORD"]
[{"$f":"IF(Listedesmatchs!$J363=0,\"\",Listedesmatchs!$K363&\" \"&TEXT(Listedesmatchs!$J363,\"jj-mmm-aaaa\")&\", \"&Listedesmatchs!$L363)","v":"mercredi 11-déc-2024, 20h00"},{"$f":"Listedesmatchs!$N363","v":""},{"$f":"Listedesmatchs!$O363","v":""},{"$f":"Listedesmatchs!$E363&\" - \"&Listedesmatchs!$G363","v":"CP Zutzendorf 1 - CTT 77 Val de Moder 2"},{"$f":"Listedesmatchs!$O391","v":""},{"$f":"Listedesmatchs!$N391","v":""},{"$f":"IF(Listedesmatchs!$J391=0,\"\",Listedesmatchs!$K391&\" \"&TEXT(Listedesmatchs!$J391,\"jj-mmm-aaaa\")&\", \"&Listedesmatchs!$L391)","v":"jeudi 17-avr-2025, 19h30"},"VETERANSD1NORD"]
[{"$f":"IF(Listedesmatchs!$J364=0,\"\",Listedesmatchs!$K364&\" \"&TEXT(Listedesmatchs!$J364,\"jj-mmm-aaaa\")&\", \"&Listedesmatchs!$L364)","v":"mardi 10-déc-2024, 20h00"},{"$f":"Listedesmatchs!$N364","v":""},{"$f":"Listedesmatchs!$O364","v":""},{"$f":"Listedesmatchs!$E364&\" - \"&Listedesmatchs!$G364","v":"ASP Gottenhouse 1 - CS Tricolore Saverne 1"},{"$f":"Listedesmatchs!$O392","v":""},{"$f":"Listedesmatchs!$N392","v":""},{"$f":"IF(Listedesmatchs!$J392=0,\"\",Listedesmatchs!$K392&\" \"&TEXT(Listedesmatchs!$J392,\"jj-mmm-aaaa\")&\", \"&Listedesmatchs!$L392)","v":"mardi 15-avr-2025, 20h30"},"VETERANSD1NORD"]
[{"$f":"IF(Listedesmatchs!$J365=0,\"\",Listedesmatchs!$K365&\" \"&TEXT(Listedesmatchs!$J365,\"jj-mmm-aaaa\")&\", \"&Listedesmatchs!$L365)","v":"mercredi 11-déc-2024, 20h00"},{"$f":"Listedesmatchs!$N365","v":""},{"$f":"Listedesmatchs!$O365","v":""},{"$f":"Listedesmatchs!$E365&\" - \"&Listedesmatchs!$G365","v":"Liberté Dettwiller 1 - CLTT Menchhoffen 1"},{"$f":"Listedesmatchs!$O393","v":""},{"$f":"Listedesmatchs!$N393","v":""},{"$f":"IF(Listedesmatchs!$J393=0,\"\",Listedesmatchs!$K393&\" \"&TEXT(Listedesmatchs!$J393,\"jj-mmm-aaaa\")&\", \"&Listedesmatchs!$L393)","v":"jeudi 17-avr-2025, 20h00"},"VETERANSD1NORD"]
["Journée 7 ",null,null,null,null,null,"Journée 14"]
[{"$f":"IF(Listedesmatchs!$J366=0,\"\",Listedesmatchs!$K366&\" \"&TEXT(Listedesmatchs!$J366,\"jj-mmm-aaaa\")&\", \"&Listedesmatchs!$L366)","v":"jeudi 16-janv-2025, 19h30"},{"$f":"Listedesmatchs!$N366","v":""},{"$f":"Listedesmatchs!$O366","v":""},{"$f":"Listedesmatchs!$E366&\" - \"&Listedesmatchs!$G366","v":"CTT 77 Val de Moder 1 - CP Zutzendorf 1"},{"$f":"Listedesmatchs!$O394","v":""},{"$f":"Listedesmatchs!$N394","v":""},{"$f":"IF(Listedesmatchs!$J394=0,\"\",Listedesmatchs!$K394&\" \"&TEXT(Listedesmatchs!$J394,\"jj-mmm-aaaa\")&\", \"&Listedesmatchs!$L394)","v":"mercredi 30-avr-2025, 20h00"},"VETERANSD1NORD"]
[{"$f":"IF(Listedesmatchs!$J367=0,\"\",Listedesmatchs!$K367&\" \"&TEXT(Listedesmatchs!$J367,\"jj-mmm-aaaa\")&\", \"&Listedesmatchs!$L367)","v":"mardi 14-janv-2025, 20h00"},{"$f":"Listedesmatchs!$N367","v":""},{"$f":"Listedesmatchs!$O367","v":""},{"$f":"Listedesmatchs!$E367&\" - \"&Listedesmatchs!$G367","v":"ASP Gottenhouse 1 - Hanau TT 1"},{"$f":"Listedesmatchs!$O395","v":""},{"$f":"Listedesmatchs!$N395","v":""},{"$f":"IF(Listedesmatchs!$J395=0,\"\",Listedesmatchs!$K395&\" \"&TEXT(Listedesmatchs!$J395,\"jj-mmm-aaaa\")&\", \"&Listedesmatchs!$L395)","v":"mardi 29-avr-2025, 20h00"},"VETERANSD1NORD"]
[{"$f":"IF(Listedesmatchs!$J368=0,\"\",Listedesmatchs!$K368&\" \"&TEXT(Listedesmatchs!$J368,\"jj-mmm-aaaa\")&\", \"&Listedesmatchs!$L368)","v":"jeudi 16-janv-2025, 20h00"},{"$f":"Listedesmatchs!$N368","v":""},{"$f":"Listedesmatchs!$O368","v":""},{"$f":"Listedesmatchs!$E368&\" - \"&Listedesmatchs!$G368","v":"CLTT Menchhoffen 1 - CS Tricolore Saverne 1"},{"$f":"Listedesmatchs!$O396","v":""},{"$f":"Listedesmatchs!$N396","v":""},{"$f":"IF(Listedesmatchs!$J396=0,\"\",Listedesmatchs!$K396&\" \"&TEXT(Listedesmatchs!$J396,\"jj-mmm-aaaa\")&\", \"&Listedesmatchs!$L396)","v":"vendredi 02-mai-2025, 20h30"},"VETERANSD1NORD"]
[{"$f":"IF(Listedesmatchs!$J369=0,\"\",Listedesmatchs!$K369&\" \"&TEXT(Listedesmatchs!$J369,\"jj-mmm-aaaa\")&\", \"&Listedesmatchs!$L369)","v":"jeudi 16-janv-2025, 19h30"},{"$f":"Listedesmatchs!$N369","v":""},{"$f":"Listedesmatchs!$O369","v":""},{"$f":"Listedesmatchs!$E369&\" - \"&Listedesmatchs!$G369","v":"CTT 77 Val de Moder 2 - Liberté Dettwiller 1"},{"$f":"Listedesmatchs!$O397","v":""},{"$f":"Listedesmatchs!$N397","v":""},{"$f":"IF(Listedesmatchs!$J397=0,\"\",Listedesmatchs!$K397&\" \"&TEXT(Listedesmatchs!$J397,\"jj-mmm-aaaa\")&\", \"&Listedesmatchs!$L397)","v":"mercredi 30-avr-2025, 20h00"},"VETERANSD1NORD"]
[]
[]
[]
[]
["CHAMPIONNAT PAR EQUIPES TENNIS DE TABLE"]
["F.S.G.T. 67 SAISON 2024 - 2025"]
["NORD",null,null,"VETERANS NORD DIVISION 2"]
["ALLER ",null,null,"Rencontres ","RETOUR"]
["Dates ","Scores ",null,"VETERANSD2NORD","Scores ",null,"Dates"]
["Journée 1 ",null,null,null,null,null,"Journée 10"]
[{"$f":"IF(Listedesmatchs!$J398=0,\"\",Listedesmatchs!$K398&\" \"&TEXT(Listedesmatchs!$J398,\"jj-mmm-aaaa\")&\", \"&Listedesmatchs!$L398)","v":"vendredi 20-sept-2024, 20h30"},{"$f":"Listedesmatchs!$N398","v":""},{"$f":"Listedesmatchs!$O398","v":""},{"$f":"Listedesmatchs!$E398&\" - \"&Listedesmatchs!$G398","v":"CS Tricolore Saverne 2 - CS Tricolore Saverne 3"},{"$f":"Listedesmatchs!$O443","v":""},{"$f":"Listedesmatchs!$N443","v":""},{"$f":"IF(Listedesmatchs!$J443=0,\"\",Listedesmatchs!$K443&\" \"&TEXT(Listedesmatchs!$J443,\"jj-mmm-aaaa\")&\", \"&Listedesmatchs!$L443)","v":"vendredi 31-janv-2025, 20h30"},"VETERANSD2NORD"]
[{"$f":"IF(Listedesmatchs!$J399=0,\"\",Listedesmatchs!$K399&\" \"&TEXT(Listedesmatchs!$J399,\"jj-mmm-aaaa\")&\", \"&Listedesmatchs!$L399)","v":"jeudi 19-sept-2024, 20h00"},{"$f":"Listedesmatchs!$N399","v":""},{"$f":"Listedesmatchs!$O399","v":""},{"$f":"Listedesmatchs!$E399&\" - \"&Listedesmatchs!$G399","v":"CLTT Menchhoffen 2 - CLTT Menchhoffen 3"},{"$f":"Listedesmatchs!$O444","v":""},{"$f":"Listedesmatchs!$N444","v":""},{"$f":"IF(Listedesmatchs!$J444=0,\"\",Listedesmatchs!$K444&\" \"&TEXT(Listedesmatchs!$J444,\"jj-mmm-aaaa\")&\", \"&Listedesmatchs!$L444)","v":"jeudi 30-janv-2025, 20h00"},"VETERANSD2NORD"]
[{"$f":"IF(Listedesmatchs!$J400=0,\"\",Listedesmatchs!$K400&\" \"&TEXT(Listedesmatchs!$J400,\"jj-mmm-aaaa\")&\", \"&Listedesmatchs!$L400)","v":"jeudi 19-sept-2024, 20h00"},{"$f":"Listedesmatchs!$N400","v":""},{"$f":"Listedesmatchs!$O400","v":""},{"$f":"Listedesmatchs!$E400&\" - \"&Listedesmatchs!$G400","v":"MJC Kirrwiller 2 - MJC Kirrwiller 1"},{"$f":"Listedesmatchs!$O445","v":""},{"$f":"Listedesmatchs!$N445","v":""},{"$f":"IF(Listedesmatchs!$J445=0,\"\",Listedesmatchs!$K445&\" \"&TEXT(Listedesmatchs!$J445,\"jj-mmm-aaaa\")&\", \"&Listedesmatchs!$L445)","v":"jeudi 30-janv-2025, 20h00"},"VETERANSD2NORD"]
[{"$f":"IF(Listedesmatchs!$J401=0,\"\",Listedesmatchs!$K401&\" \"&TEXT(Listedesmatchs!$J401,\"jj-mmm-aaaa\")&\", \"&Listedesmatchs!$L401)","v":"jeudi 19-sept-2024, 20h00"},{"$f":"Listedesmatchs!$N401","v":""},{"$f":"Listedesmatchs!$O401","v":""},{"$f":"Listedesmatchs!$E401&\" - \"&Listedesmatchs!$G401","v":"Liberté Dettwiller 2 - ASP Gottenhouse 2"},{"$f":"Listedesmatchs!$O446","v":""},{"$f":"Listedesmatchs!$N446","v":""},{"$f":"IF(Listedesmatchs!$J446=0,\"\",Listedesmatchs!$K446&\" \"&TEXT(Listedesmatchs!$J446,\"jj-mmm-aaaa\")&\", \"&Listedesmatchs!$L446)","v":"mardi 28-janv-2025, 20h00"},"VETERANSD2NORD"]
[{"$f":"IF(Listedesmatchs!$J402=0,\"\",Listedesmatchs!$K402&\" \"&TEXT(Listedesmatchs!$J402,\"jj-mmm-aaaa\")&\", \"&Listedesmatchs!$L402)","v":"mardi 17-sept-2024, 20h00"},{"$f":"Listedesmatchs!$N402","v":""},{"$f":"Listedesmatchs!$O402","v":""},{"$f":"Listedesmatchs!$E402&\" - \"&Listedesmatchs!$G402","v":"Hanau TT 2 - CTT 77 Val de Moder 3"},{"$f":"Listedesmatchs!$O447","v":""},{"$f":"Listedesmatchs!$N447","v":""},{"$f":"IF(Listedesmatchs!$J447=0,\"\",Listedesmatchs!$K447&\" \"&TEXT(Listedesmatchs!$J447,\"jj-mmm-aaaa\")&\", \"&Listedesmatchs!$L447)","v":"jeudi 30-janv-2025, 19h30"},"VETERANSD2NORD"]
["Journée 2 ",null,null,null,null,null,"Journée 11"]
[{"$f":"IF(Listedesmatchs!$J403=0,\"\",Listedesmatchs!$K403&\" \"&TEXT(Listedesmatchs!$J403,\"jj-mmm-aaaa\")&\", \"&Listedesmatchs!$L403)","v":"jeudi 03-oct-2024, 20h00"},{"$f":"Listedesmatchs!$N403","v":""},{"$f":"Listedesmatchs!$O403","v":""},{"$f":"Listedesmatchs!$E403&\" - \"&Listedesmatchs!$G403","v":"CLTT Menchhoffen 3 - CS Tricolore Saverne 2"},{"$f":"Listedesmatchs!$O448","v":""},{"$f":"Listedesmatchs!$N448","v":""},{"$f":"IF(Listedesmatchs!$J448=0,\"\",Listedesmatchs!$K448&\" \"&TEXT(Listedesmatchs!$J448,\"jj-mmm-aaaa\")&\", \"&Listedesmatchs!$L448)","v":"vendredi 14-févr-2025, 20h30"},"VETERANSD2NORD"]
[{"$f":"IF(Listedesmatchs!$J404=0,\"\",Listedesmatchs!$K404&\" \"&TEXT(Listedesmatchs!$J404,\"jj-mmm-aaaa\")&\", \"&Listedesmatchs!$L404)","v":"jeudi 03-oct-2024, 20h00"},{"$f":"Listedesmatchs!$N404","v":""},{"$f":"Listedesmatchs!$O404","v":""},{"$f":"Listedesmatchs!$E404&\" - \"&Listedesmatchs!$G404","v":"MJC Kirrwiller 1 - CLTT Menchhoffen 2"},{"$f":"Listedesmatchs!$O449","v":""},{"$f":"Listedesmatchs!$N449","v":""},{"$f":"IF(Listedesmatchs!$J449=0,\"\",Listedesmatchs!$K449&\" \"&TEXT(Listedesmatchs!$J449,\"jj-mmm-aaaa\")&\", \"&Listedesmatchs!$L449)","v":"jeudi 13-févr-2025, 20h00"},"VETERANSD2NORD"]
[{"$f":"IF(Listedesmatchs!$J405=0,\"\",Listedesmatchs!$K405&\" \"&TEXT(Listedesmatchs!$J405,\"jj-mmm-aaaa\")&\", \"&Listedesmatchs!$L405)","v":"mardi 01-oct-2024, 20h00"},{"$f":"Listedesmatchs!$N405","v":""},{"$f":"Listedesmatchs!$O405","v":""},{"$f":"Listedesmatchs!$E405&\" - \"&Listedesmatchs!$G405","v":"ASP Gottenhouse 2 - MJC Kirrwiller 2"},{"$f":"Listedesmatchs!$O450","v":""},{"$f":"Listedesmatchs!$N450","v":""},{"$f":"IF(Listedesmatchs!$J450=0,\"\",Listedesmatchs!$K450&\" \"&TEXT(Listedesmatchs!$J450,\"jj-mmm-aaaa\")&\", \"&Listedesmatchs!$L450)","v":"jeudi 13-févr-2025, 20h00"},"VETERANSD2NORD"]
[{"$f":"IF(Listedesmatchs!$J406=0,\"\",Listedesmatchs!$K406&\" \"&TEXT(Listedesmatchs!$J406,\"jj-mmm-aaaa\")&\", \"&Listedesmatchs!$L406)","v":"mardi 01-oct-2024, 20h00"},{"$f":"Listedesmatchs!$N406","v":""},{"$f":"Listedesmatchs!$O406","v":""},{"$f":"Listedesmatchs!$E406&\" - \"&Listedesmatchs!$G406","v":"Hanau TT 2 - Liberté Dettwiller 2"},{"$f":"Listedesmatchs!$O451","v":""},{"$f":"Listedesmatchs!$N451","v":""},{"$f":"IF(Listedesmatchs!$J451=0,\"\",Listedesmatchs!$K451&\" \"&TEXT(Listedesmatchs!$J451,\"jj-mmm-aaaa\")&\", \"&Listedesmatchs!$L451)","v":"jeudi 13-févr-2025, 20h00"},"VETERANSD2NORD"]
[{"$f":"IF(Listedesmatchs!$J407=0,\"\",Listedesmatchs!$K407&\" \"&TEXT(Listedesmatchs!$J407,\"jj-mmm-aaaa\")&\", \"&Listedesmatchs!$L407)","v":"vendredi 04-oct-2024, 20h30"},{"$f":"Listedesmatchs!$N407","v":""},{"$f":"Listedesmatchs!$O407","v":""},{"$f":"Listedesmatchs!$E407&\" - \"&Listedesmatchs!$G407","v":"CS Tricolore Saverne 3 - CTT 77 Val de Moder 3"},{"$f":"Listedesmatchs!$O452","v":""},{"$f":"Listedesmatchs!$N452","v":""},{"$f":"IF(Listedesmatchs!$J452=0,\"\",Listedesmatchs!$K452&\" \"&TEXT(Listedesmatchs!$J452,\"jj-mmm-aaaa\")&\", \"&Listedesmatchs!$L452)","v":"jeudi 13-févr-2025, 19h30"},"VETERANSD2NORD"]
["Journée 3 ",null,null,null,null,null,"Journée 12"]
[{"$f":"IF(Listedesmatchs!$J408=0,\"\",Listedesmatchs!$K408&\" \"&TEXT(Listedesmatchs!$J408,\"jj-mmm-aaaa\")&\", \"&Listedesmatchs!$L408)","v":"vendredi 18-oct-2024, 20h30"},{"$f":"Listedesmatchs!$N408","v":""},{"$f":"Listedesmatchs!$O408","v":""},{"$f":"Listedesmatchs!$E408&\" - \"&Listedesmatchs!$G408","v":"CS Tricolore Saverne 2 - MJC Kirrwiller 1"},{"$f":"Listedesmatchs!$O453","v":""},{"$f":"Listedesmatchs!$N453","v":""},{"$f":"IF(Listedesmatchs!$J453=0,\"\",Listedesmatchs!$K453&\" \"&TEXT(Listedesmatchs!$J453,\"jj-mmm-aaaa\")&\", \"&Listedesmatchs!$L453)","v":"jeudi 20-févr-2025, 20h00"},"VETERANSD2NORD"]
[{"$f":"IF(Listedesmatchs!$J409=0,\"\",Listedesmatchs!$K409&\" \"&TEXT(Listedesmatchs!$J409,\"jj-mmm-aaaa\")&\", \"&Listedesmatchs!$L409)","v":"jeudi 17-oct-2024, 20h00"},{"$f":"Listedesmatchs!$N409","v":""},{"$f":"Listedesmatchs!$O409","v":""},{"$f":"Listedesmatchs!$E409&\" - \"&Listedesmatchs!$G409","v":"CLTT Menchhoffen 2 - ASP Gottenhouse 2"},{"$f":"Listedesmatchs!$O454","v":""},{"$f":"Listedesmatchs!$N454","v":""},{"$f":"IF(Listedesmatchs!$J454=0,\"\",Listedesmatchs!$K454&\" \"&TEXT(Listedesmatchs!$J454,\"jj-mmm-aaaa\")&\", \"&Listedesmatchs!$L454)","v":"mardi 18-févr-2025, 20h00"},"VETERANSD2NORD"]
[{"$f":"IF(Listedesmatchs!$J410=0,\"\",Listedesmatchs!$K410&\" \"&TEXT(Listedesmatchs!$J410,\"jj-mmm-aaaa\")&\", \"&Listedesmatchs!$L410)","v":"jeudi 17-oct-2024, 20h00"},{"$f":"Listedesmatchs!$N410","v":""},{"$f":"Listedesmatchs!$O410","v":""},{"$f":"Listedesmatchs!$E410&\" - \"&Listedesmatchs!$G410","v":"MJC Kirrwiller 2 - Hanau TT 2"},{"$f":"Listedesmatchs!$O455","v":""},{"$f":"Listedesmatchs!$N455","v":""},{"$f":"IF(Listedesmatchs!$J455=0,\"\",Listedesmatchs!$K455&\" \"&TEXT(Listedesmatchs!$J455,\"jj-mmm-aaaa\")&\", \"&Listedesmatchs!$L455)","v":"mardi 18-févr-2025, 20h00"},"VETERANSD2NORD"]
[{"$f":"IF(Listedesmatchs!$J411=0,\"\",Listedesmatchs!$K411&\" \"&TEXT(Listedesmatchs!$J411,\"jj-mmm-aaaa\")&\", \"&Listedesmatchs!$L411)","v":"jeudi 17-oct-2024, 20h00"},{"$f":"Listedesmatchs!$N411","v":""},{"$f":"Listedesmatchs!$O411","v":""},{"$f":"Listedesmatchs!$E411&\" - \"&Listedesmatchs!$G411","v":"Liberté Dettwiller 2 - CS Tricolore Saverne 3"},{"$f":"Listedesmatchs!$O456","v":""},{"$f":"Listedesmatchs!$N456","v":""},{"$f":"IF(Listedesmatchs!$J456=0,\"\",Listedesmatchs!$K456&\" \"&TEXT(Listedesmatchs!$J456,\"jj-mmm-aaaa\")&\", \"&Listedesmatchs!$L456)","v":"vendredi 21-févr-2025, 20h30"},"VETERANSD2NORD"]
[{"$f":"IF(Listedesmatchs!$J412=0,\"\",Listedesmatchs!$K412&\" \"&TEXT(Listedesmatchs!$J412,\"jj-mmm-aaaa\")&\", \"&Listedesmatchs!$L412)","v":"jeudi 17-oct-2024, 19h30"},{"$f":"Listedesmatchs!$N412","v":""},{"$f":"Listedesmatchs!$O412","v":""},{"$f":"Listedesmatchs!$E412&\" - \"&Listedesmatchs!$G412","v":"CTT 77 Val de Moder 3 - CLTT Menchhoffen 3"},{"$f":"Listedesmatchs!$O457","v":""},{"$f":"Listedesmatchs!$N457","v":""},{"$f":"IF(Listedesmatchs!$J457=0,\"\",Listedesmatchs!$K457&\" \"&TEXT(Listedesmatchs!$J457,\"jj-mmm-aaaa\")&\", \"&Listedesmatchs!$L457)","v":"jeudi 20-févr-2025, 20h00"},"VETERANSD2NORD"]
["Journée 4 ",null,null,null,null,null,"Journée 13"]
[{"$f":"IF(Listedesmatchs!$J413=0,\"\",Listedesmatchs!$K413&\" \"&TEXT(Listedesmatchs!$J413,\"jj-mmm-aaaa\")&\", \"&Listedesmatchs!$L413)","v":"mardi 29-oct-2024, 20h00"},{"$f":"Listedesmatchs!$N413","v":""},{"$f":"Listedesmatchs!$O413","v":""},{"$f":"Listedesmatchs!$E413&\" - \"&Listedesmatchs!$G413","v":"ASP Gottenhouse 2 - CS Tricolore Saverne 2"},{"$f":"Listedesmatchs!$O458","v":""},{"$f":"Listedesmatchs!$N458","v":""},{"$f":"IF(Listedesmatchs!$J458=0,\"\",Listedesmatchs!$K458&\" \"&TEXT(Listedesmatchs!$J458,\"jj-mmm-aaaa\")&\", \"&Listedesmatchs!$L458)","v":"vendredi 07-mars-2025, 20h30"},"VETERANSD2NORD"]
[{"$f":"IF(Listedesmatchs!$J414=0,\"\",Listedesmatchs!$K414&\" \"&TEXT(Listedesmatchs!$J414,\"jj-mmm-aaaa\")&\", \"&Listedesmatchs!$L414)","v":"mardi 29-oct-2024, 20h00"},{"$f":"Listedesmatchs!$N414","v":""},{"$f":"Listedesmatchs!$O414","v":""},{"$f":"Listedesmatchs!$E414&\" - \"&Listedesmatchs!$G414","v":"Hanau TT 2 - CLTT Menchhoffen 2"},{"$f":"Listedesmatchs!$O459","v":""},{"$f":"Listedesmatchs!$N459","v":""},{"$f":"IF(Listedesmatchs!$J459=0,\"\",Listedesmatchs!$K459&\" \"&TEXT(Listedesmatchs!$J459,\"jj-mmm-aaaa\")&\", \"&Listedesmatchs!$L459)","v":"jeudi 06-mars-2025, 20h00"},"VETERANSD2NORD"]
[{"$f":"IF(Listedesmatchs!$J415=0,\"\",Listedesmatchs!$K415&\" \"&TEXT(Listedesmatchs!$J415,\"jj-mmm-aaaa\")&\", \"&Listedesmatchs!$L415)","v":"jeudi 31-oct-2024, 19h30"},{"$f":"Listedesmatchs!$N415","v":""},{"$f":"Listedesmatchs!$O415","v":""},{"$f":"Listedesmatchs!$E415&\" - \"&Listedesmatchs!$G415","v":"CTT 77 Val de Moder 3 - MJC Kirrwiller 2"},{"$f":"Listedesmatchs!$O460","v":""},{"$f":"Listedesmatchs!$N460","v":""},{"$f":"IF(Listedesmatchs!$J460=0,\"\",Listedesmatchs!$K460&\" \"&TEXT(Listedesmatchs!$J460,\"jj-mmm-aaaa\")&\", \"&Listedesmatchs!$L460)","v":"jeudi 06-mars-2025, 20h00"},"VETERANSD2NORD"]
[{"$f":"IF(Listedesmatchs!$J416=0,\"\",Listedesmatchs!$K416&\" \"&TEXT(Listedesmatchs!$J416,\"jj-mmm-aaaa\")&\", \"&Listedesmatchs!$L416)","v":"jeudi 31-oct-2024, 20h00"},{"$f":"Listedesmatchs!$N416","v":""},{"$f":"Listedesmatchs!$O416","v":""},{"$f":"Listedesmatchs!$E416&\" - \"&Listedesmatchs!$G416","v":"CLTT Menchhoffen 3 - Liberté Dettwiller 2"},{"$f":"Listedesmatchs!$O461","v":""},{"$f":"Listedesmatchs!$N461","v":""},{"$f":"IF(Listedesmatchs!$J461=0,\"\",Listedesmatchs!$K461&\" \"&TEXT(Listedesmatchs!$J461,\"jj-mmm-aaaa\")&\", \"&Listedesmatchs!$L461)","v":"jeudi 06-mars-2025, 20h00"},"VETERANSD2NORD"]
[{"$f":"IF(Listedesmatchs!$J417=0,\"\",Listedesmatchs!$K417&\" \"&TEXT(Listedesmatchs!$J417,\"jj-mmm-aaaa\")&\", \"&Listedesmatchs!$L417)","v":"jeudi 31-oct-2024, 20h00"},{"$f":"Listedesmatchs!$N417","v":""},{"$f":"Listedesmatchs!$O417","v":""},{"$f":"Listedesmatchs!$E417&\" - \"&Listedesmatchs!$G417","v":"MJC Kirrwiller 1 - CS Tricolore Saverne 3"},{"$f":"Listedesmatchs!$O462","v":""},{"$f":"Listedesmatchs!$N462","v":""},{"$f":"IF(Listedesmatchs!$J462=0,\"\",Listedesmatchs!$K462&\" \"&TEXT(Listedesmatchs!$J462,\"jj-mmm-aaaa\")&\", \"&Listedesmatchs!$L462)","v":"vendredi 07-mars-2025, 20h30"},"VETERANSD2NORD"]
["Journée 5 ",null,null,null,null,null,"Journée 14"]
[{"$f":"IF(Listedesmatchs!$J418=0,\"\",Listedesmatchs!$K418&\" \"&TEXT(Listedesmatchs!$J418,\"jj-mmm-aaaa\")&\", \"&Listedesmatchs!$L418)","v":"mardi 12-nov-2024, 20h00"},{"$f":"Listedesmatchs!$N418","v":""},{"$f":"Listedesmatchs!$O418","v":""},{"$f":"Listedesmatchs!$E418&\" - \"&Listedesmatchs!$G418","v":"Hanau TT 2 - CS Tricolore Saverne 2"},{"$f":"Listedesmatchs!$O463","v":""},{"$f":"Listedesmatchs!$N463","v":""},{"$f":"IF(Listedesmatchs!$J463=0,\"\",Listedesmatchs!$K463&\" \"&TEXT(Listedesmatchs!$J463,\"jj-mmm-aaaa\")&\", \"&Listedesmatchs!$L463)","v":"vendredi 28-mars-2025, 20h30"},"VETERANSD2NORD"]
[{"$f":"IF(Listedesmatchs!$J419=0,\"\",Listedesmatchs!$K419&\" \"&TEXT(Listedesmatchs!$J419,\"jj-mmm-aaaa\")&\", \"&Listedesmatchs!$L419)","v":"jeudi 14-nov-2024, 20h00"},{"$f":"Listedesmatchs!$N419","v":""},{"$f":"Listedesmatchs!$O419","v":""},{"$f":"Listedesmatchs!$E419&\" - \"&Listedesmatchs!$G419","v":"CLTT Menchhoffen 2 - CTT 77 Val de Moder 3"},{"$f":"Listedesmatchs!$O464","v":""},{"$f":"Listedesmatchs!$N464","v":""},{"$f":"IF(Listedesmatchs!$J464=0,\"\",Listedesmatchs!$K464&\" \"&TEXT(Listedesmatchs!$J464,\"jj-mmm-aaaa\")&\", \"&Listedesmatchs!$L464)","v":"jeudi 27-mars-2025, 19h30"},"VETERANSD2NORD"]
[{"$f":"IF(Listedesmatchs!$J420=0,\"\",Listedesmatchs!$K420&\" \"&TEXT(Listedesmatchs!$J420,\"jj-mmm-aaaa\")&\", \"&Listedesmatchs!$L420)","v":"jeudi 14-nov-2024, 20h00"},{"$f":"Listedesmatchs!$N420","v":""},{"$f":"Listedesmatchs!$O420","v":""},{"$f":"Listedesmatchs!$E420&\" - \"&Listedesmatchs!$G420","v":"MJC Kirrwiller 2 - Liberté Dettwiller 2"},{"$f":"Listedesmatchs!$O465","v":""},{"$f":"Listedesmatchs!$N465","v":""},{"$f":"IF(Listedesmatchs!$J465=0,\"\",Listedesmatchs!$K465&\" \"&TEXT(Listedesmatchs!$J465,\"jj-mmm-aaaa\")&\", \"&Listedesmatchs!$L465)","v":"jeudi 27-mars-2025, 20h00"},"VETERANSD2NORD"]
[{"$f":"IF(Listedesmatchs!$J421=0,\"\",Listedesmatchs!$K421&\" \"&TEXT(Listedesmatchs!$J421,\"jj-mmm-aaaa\")&\", \"&Listedesmatchs!$L421)","v":"jeudi 14-nov-2024, 20h00"},{"$f":"Listedesmatchs!$N421","v":""},{"$f":"Listedesmatchs!$O421","v":""},{"$f":"Listedesmatchs!$E421&\" - \"&Listedesmatchs!$G421","v":"MJC Kirrwiller 1 - ASP Gottenhouse 2"},{"$f":"Listedesmatchs!$O466","v":""},{"$f":"Listedesmatchs!$N466","v":""},{"$f":"IF(Listedesmatchs!$J466=0,\"\",Listedesmatchs!$K466&\" \"&TEXT(Listedesmatchs!$J466,\"jj-mmm-aaaa\")&\", \"&Listedesmatchs!$L466)","v":"mardi 25-mars-2025, 20h00"},"VETERANSD2NORD"]
[{"$f":"IF(Listedesmatchs!$J422=0,\"\",Listedesmatchs!$K422&\" \"&TEXT(Listedesmatchs!$J422,\"jj-mmm-aaaa\")&\", \"&Listedesmatchs!$L422)","v":"vendredi 15-nov-2024, 20h30"},{"$f":"Listedesmatchs!$N422","v":""},{"$f":"Listedesmatchs!$O422","v":""},{"$f":"Listedesmatchs!$E422&\" - \"&Listedesmatchs!$G422","v":"CS Tricolore Saverne 3 - CLTT Menchhoffen 3"},{"$f":"Listedesmatchs!$O467","v":""},{"$f":"Listedesmatchs!$N467","v":""},{"$f":"IF(Listedesmatchs!$J467=0,\"\",Listedesmatchs!$K467&\" \"&TEXT(Listedesmatchs!$J467,\"jj-mmm-aaaa\")&\", \"&Listedesmatchs!$L467)","v":"jeudi 27-mars-2025, 20h00"},"VETERANSD2NORD"]
["Journée 6 ",null,null,null,null,null,"Journée 15"]
[{"$f":"IF(Listedesmatchs!$J423=0,\"\",Listedesmatchs!$K423&\" \"&TEXT(Listedesmatchs!$J423,\"jj-mmm-aaaa\")&\", \"&Listedesmatchs!$L423)","v":"jeudi 28-nov-2024, 19h30"},{"$f":"Listedesmatchs!$N423","v":""},{"$f":"Listedesmatchs!$O423","v":""},{"$f":"Listedesmatchs!$E423&\" - \"&Listedesmatchs!$G423","v":"CTT 77 Val de Moder 3 - CS Tricolore Saverne 2"},{"$f":"Listedesmatchs!$O468","v":""},{"$f":"Listedesmatchs!$N468","v":""},{"$f":"IF(Listedesmatchs!$J468=0,\"\",Listedesmatchs!$K468&\" \"&TEXT(Listedesmatchs!$J468,\"jj-mmm-aaaa\")&\", \"&Listedesmatchs!$L468)","v":"vendredi 04-avr-2025, 20h30"},"VETERANSD2NORD"]
[{"$f":"IF(Listedesmatchs!$J424=0,\"\",Listedesmatchs!$K424&\" \"&TEXT(Listedesmatchs!$J424,\"jj-mmm-aaaa\")&\", \"&Listedesmatchs!$L424)","v":"jeudi 28-nov-2024, 20h00"},{"$f":"Listedesmatchs!$N424","v":""},{"$f":"Listedesmatchs!$O424","v":""},{"$f":"Listedesmatchs!$E424&\" - \"&Listedesmatchs!$G424","v":"Liberté Dettwiller 2 - MJC Kirrwiller 1"},{"$f":"Listedesmatchs!$O469","v":""},{"$f":"Listedesmatchs!$N469","v":""},{"$f":"IF(Listedesmatchs!$J469=0,\"\",Listedesmatchs!$K469&\" \"&TEXT(Listedesmatchs!$J469,\"jj-mmm-aaaa\")&\", \"&Listedesmatchs!$L469)","v":"jeudi 03-avr-2025, 20h00"},"VETERANSD2NORD"]
[{"$f":"IF(Listedesmatchs!$J425=0,\"\",Listedesmatchs!$K425&\" \"&TEXT(Listedesmatchs!$J425,\"jj-mmm-aaaa\")&\", \"&Listedesmatchs!$L425)","v":"jeudi 28-nov-2024, 20h00"},{"$f":"Listedesmatchs!$N425","v":""},{"$f":"Listedesmatchs!$O425","v":""},{"$f":"Listedesmatchs!$E425&\" - \"&Listedesmatchs!$G425","v":"MJC Kirrwiller 2 - CLTT Menchhoffen 2"},{"$f":"Listedesmatchs!$O470","v":""},{"$f":"Listedesmatchs!$N470","v":""},{"$f":"IF(Listedesmatchs!$J470=0,\"\",Listedesmatchs!$K470&\" \"&TEXT(Listedesmatchs!$J470,\"jj-mmm-aaaa\")&\", \"&Listedesmatchs!$L470)","v":"jeudi 03-avr-2025, 20h00"},"VETERANSD2NORD"]
[{"$f":"IF(Listedesmatchs!$J426=0,\"\",Listedesmatchs!$K426&\" \"&TEXT(Listedesmatchs!$J426,\"jj-mmm-aaaa\")&\", \"&Listedesmatchs!$L426)","v":"vendredi 29-nov-2024, 20h30"},{"$f":"Listedesmatchs!$N426","v":""},{"$f":"Listedesmatchs!$O426","v":""},{"$f":"Listedesmatchs!$E426&\" - \"&Listedesmatchs!$G426","v":"CS Tricolore Saverne 3 - ASP Gottenhouse 2"},{"$f":"Listedesmatchs!$O471","v":""},{"$f":"Listedesmatchs!$N471","v":""},{"$f":"IF(Listedesmatchs!$J471=0,\"\",Listedesmatchs!$K471&\" \"&TEXT(Listedesmatchs!$J471,\"jj-mmm-aaaa\")&\", \"&Listedesmatchs!$L471)","v":"mardi 01-avr-2025, 20h00"},"VETERANSD2NORD"]
[{"$f":"IF(Listedesmatchs!$J427=0,\"\",Listedesmatchs!$K427&\" \"&TEXT(Listedesmatchs!$J427,\"jj-mmm-aaaa\")&\", \"&Listedesmatchs!$L427)","v":"jeudi 28-nov-2024, 20h00"},{"$f":"Listedesmatchs!$N427","v":""},{"$f":"Listedesmatchs!$O427","v":""},{"$f":"Listedesmatchs!$E427&\" - \"&Listedesmatchs!$G427","v":"CLTT Menchhoffen 3 - Hanau TT 2"},{"$f":"Listedesmatchs!$O472","v":""},{"$f":"Listedesmatchs!$N472","v":""},{"$f":"IF(Listedesmatchs!$J472=0,\"\",Listedesmatchs!$K472&\" \"&TEXT(Listedesmatchs!$J472,\"jj-mmm-aaaa\")&\", \"&Listedesmatchs!$L472)","v":"mardi 01-avr-2025, 20h00"},"VETERANSD2NORD"]
["Journée 7 ",null,null,null,null,null,"Journée 16"]
[{"$f":"IF(Listedesmatchs!$J428=0,\"\",Listedesmatchs!$K428&\" \"&TEXT(Listedesmatchs!$J428,\"jj-mmm-aaaa\")&\", \"&Listedesmatchs!$L428)","v":"vendredi 13-déc-2024, 20h30"},{"$f":"Listedesmatchs!$N428","v":""},{"$f":"Listedesmatchs!$O428","v":""},{"$f":"Listedesmatchs!$E428&\" - \"&Listedesmatchs!$G428","v":"CS Tricolore Saverne 2 - Liberté Dettwiller 2"},{"$f":"Listedesmatchs!$O473","v":""},{"$f":"Listedesmatchs!$N473","v":""},{"$f":"IF(Listedesmatchs!$J473=0,\"\",Listedesmatchs!$K473&\" \"&TEXT(Listedesmatchs!$J473,\"jj-mmm-aaaa\")&\", \"&Listedesmatchs!$L473)","v":"jeudi 17-avr-2025, 20h00"},"VETERANSD2NORD"]
[{"$f":"IF(Listedesmatchs!$J429=0,\"\",Listedesmatchs!$K429&\" \"&TEXT(Listedesmatchs!$J429,\"jj-mmm-aaaa\")&\", \"&Listedesmatchs!$L429)","v":"vendredi 13-déc-2024, 20h30"},{"$f":"Listedesmatchs!$N429","v":""},{"$f":"Listedesmatchs!$O429","v":""},{"$f":"Listedesmatchs!$E429&\" - \"&Listedesmatchs!$G429","v":"CS Tricolore Saverne 3 - CLTT Menchhoffen 2"},{"$f":"Listedesmatchs!$O474","v":""},{"$f":"Listedesmatchs!$N474","v":""},{"$f":"IF(Listedesmatchs!$J474=0,\"\",Listedesmatchs!$K474&\" \"&TEXT(Listedesmatchs!$J474,\"jj-mmm-aaaa\")&\", \"&Listedesmatchs!$L474)","v":"jeudi 17-avr-2025, 20h00"},"VETERANSD2NORD"]
[{"$f":"IF(Listedesmatchs!$J430=0,\"\",Listedesmatchs!$K430&\" \"&TEXT(Listedesmatchs!$J430,\"jj-mmm-aaaa\")&\", \"&Listedesmatchs!$L430)","v":"jeudi 12-déc-2024, 20h00"},{"$f":"Listedesmatchs!$N430","v":""},{"$f":"Listedesmatchs!$O430","v":""},{"$f":"Listedesmatchs!$E430&\" - \"&Listedesmatchs!$G430","v":"CLTT Menchhoffen 3 - MJC Kirrwiller 2"},{"$f":"Listedesmatchs!$O475","v":""},{"$f":"Listedesmatchs!$N475","v":""},{"$f":"IF(Listedesmatchs!$J475=0,\"\",Listedesmatchs!$K475&\" \"&TEXT(Listedesmatchs!$J475,\"jj-mmm-aaaa\")&\", \"&Listedesmatchs!$L475)","v":"jeudi 17-avr-2025, 20h00"},"VETERANSD2NORD"]
[{"$f":"IF(Listedesmatchs!$J431=0,\"\",Listedesmatchs!$K431&\" \"&TEXT(Listedesmatchs!$J431,\"jj-mmm-aaaa\")&\", \"&Listedesmatchs!$L431)","v":"mardi 10-déc-2024, 20h00"},{"$f":"Listedesmatchs!$N431","v":""},{"$f":"Listedesmatchs!$O431","v":""},{"$f":"Listedesmatchs!$E431&\" - \"&Listedesmatchs!$G431","v":"ASP Gottenhouse 2 - CTT 77 Val de Moder 3"},{"$f":"Listedesmatchs!$O476","v":""},{"$f":"Listedesmatchs!$N476","v":""},{"$f":"IF(Listedesmatchs!$J476=0,\"\",Listedesmatchs!$K476&\" \"&TEXT(Listedesmatchs!$J476,\"jj-mmm-aaaa\")&\", \"&Listedesmatchs!$L476)","v":"jeudi 17-avr-2025, 19h30"},"VETERANSD2NORD"]
[{"$f":"IF(Listedesmatchs!$J432=0,\"\",Listedesmatchs!$K432&\" \"&TEXT(Listedesmatchs!$J432,\"jj-mmm-aaaa\")&\", \"&Listedesmatchs!$L432)","v":"jeudi 12-déc-2024, 20h00"},{"$f":"Listedesmatchs!$N432","v":""},{"$f":"Listedesmatchs!$O432","v":""},{"$f":"Listedesmatchs!$E432&\" - \"&Listedesmatchs!$G432","v":"MJC Kirrwiller 1 - Hanau TT 2"},{"$f":"Listedesmatchs!$O477","v":""},{"$f":"Listedesmatchs!$N477","v":""},{"$f":"IF(Listedesmatchs!$J477=0,\"\",Listedesmatchs!$K477&\" \"&TEXT(Listedesmatchs!$J477,\"jj-mmm-aaaa\")&\", \"&Listedesmatchs!$L477)","v":"mardi 15-avr-2025, 20h00"},"VETERANSD2NORD"]
["Journée 8 ",null,null,null,null,null,"Journée 17"]
[{"$f":"IF(Listedesmatchs!$J433=0,\"\",Listedesmatchs!$K433&\" \"&TEXT(Listedesmatchs!$J433,\"jj-mmm-aaaa\")&\", \"&Listedesmatchs!$L433)","v":"jeudi 02-janv-2025, 20h00"},{"$f":"Listedesmatchs!$N433","v":""},{"$f":"Listedesmatchs!$O433","v":""},{"$f":"Listedesmatchs!$E433&\" - \"&Listedesmatchs!$G433","v":"MJC Kirrwiller 2 - CS Tricolore Saverne 2"},{"$f":"Listedesmatchs!$O478","v":""},{"$f":"Listedesmatchs!$N478","v":""},{"$f":"IF(Listedesmatchs!$J478=0,\"\",Listedesmatchs!$K478&\" \"&TEXT(Listedesmatchs!$J478,\"jj-mmm-aaaa\")&\", \"&Listedesmatchs!$L478)","v":"vendredi 02-mai-2025, 20h30"},"VETERANSD2NORD"]
[{"$f":"IF(Listedesmatchs!$J434=0,\"\",Listedesmatchs!$K434&\" \"&TEXT(Listedesmatchs!$J434,\"jj-mmm-aaaa\")&\", \"&Listedesmatchs!$L434)","v":"jeudi 02-janv-2025, 20h00"},{"$f":"Listedesmatchs!$N434","v":""},{"$f":"Listedesmatchs!$O434","v":""},{"$f":"Listedesmatchs!$E434&\" - \"&Listedesmatchs!$G434","v":"CLTT Menchhoffen 2 - Liberté Dettwiller 2"},{"$f":"Listedesmatchs!$O479","v":""},{"$f":"Listedesmatchs!$N479","v":""},{"$f":"IF(Listedesmatchs!$J479=0,\"\",Listedesmatchs!$K479&\" \"&TEXT(Listedesmatchs!$J479,\"jj-mmm-aaaa\")&\", \"&Listedesmatchs!$L479)","v":"mercredi 30-avr-2025, 20h00"},"VETERANSD2NORD"]
[{"$f":"IF(Listedesmatchs!$J435=0,\"\",Listedesmatchs!$K435&\" \"&TEXT(Listedesmatchs!$J435,\"jj-mmm-aaaa\")&\", \"&Listedesmatchs!$L435)","v":"jeudi 02-janv-2025, 19h30"},{"$f":"Listedesmatchs!$N435","v":""},{"$f":"Listedesmatchs!$O435","v":""},{"$f":"Listedesmatchs!$E435&\" - \"&Listedesmatchs!$G435","v":"CTT 77 Val de Moder 3 - MJC Kirrwiller 1"},{"$f":"Listedesmatchs!$O480","v":""},{"$f":"Listedesmatchs!$N480","v":""},{"$f":"IF(Listedesmatchs!$J480=0,\"\",Listedesmatchs!$K480&\" \"&TEXT(Listedesmatchs!$J480,\"jj-mmm-aaaa\")&\", \"&Listedesmatchs!$L480)","v":"mardi 29-avr-2025, 20h00"},"VETERANSD2NORD"]
[{"$f":"IF(Listedesmatchs!$J436=0,\"\",Listedesmatchs!$K436&\" \"&TEXT(Listedesmatchs!$J436,\"jj-mmm-aaaa\")&\", \"&Listedesmatchs!$L436)","v":"vendredi 03-janv-2025, 20h00"},{"$f":"Listedesmatchs!$N436","v":""},{"$f":"Listedesmatchs!$O436","v":""},{"$f":"Listedesmatchs!$E436&\" - \"&Listedesmatchs!$G436","v":"Hanau TT 2 - CS Tricolore Saverne 3"},{"$f":"Listedesmatchs!$O481","v":""},{"$f":"Listedesmatchs!$N481","v":""},{"$f":"IF(Listedesmatchs!$J481=0,\"\",Listedesmatchs!$K481&\" \"&TEXT(Listedesmatchs!$J481,\"jj-mmm-aaaa\")&\", \"&Listedesmatchs!$L481)","v":"vendredi 02-mai-2025, 20h30"},"VETERANSD2NORD"]
[{"$f":"IF(Listedesmatchs!$J437=0,\"\",Listedesmatchs!$K437&\" \"&TEXT(Listedesmatchs!$J437,\"jj-mmm-aaaa\")&\", \"&Listedesmatchs!$L437)","v":"jeudi 02-janv-2025, 20h00"},{"$f":"Listedesmatchs!$N437","v":""},{"$f":"Listedesmatchs!$O437","v":""},{"$f":"Listedesmatchs!$E437&\" - \"&Listedesmatchs!$G437","v":"CLTT Menchhoffen 3 - ASP Gottenhouse 2"},{"$f":"Listedesmatchs!$O482","v":""},{"$f":"Listedesmatchs!$N482","v":""},{"$f":"IF(Listedesmatchs!$J482=0,\"\",Listedesmatchs!$K482&\" \"&TEXT(Listedesmatchs!$J482,\"jj-mmm-aaaa\")&\", \"&Listedesmatchs!$L482)","v":"mardi 29-avr-2025, 20h00"},"VETERANSD2NORD"]
["Journée 9 ",null,null,null,null,null,"Journée 18"]
[{"$f":"IF(Listedesmatchs!$J438=0,\"\",Listedesmatchs!$K438&\" \"&TEXT(Listedesmatchs!$J438,\"jj-mmm-aaaa\")&\", \"&Listedesmatchs!$L438)","v":"vendredi 17-janv-2025, 20h30"},{"$f":"Listedesmatchs!$N438","v":""},{"$f":"Listedesmatchs!$O438","v":""},{"$f":"Listedesmatchs!$E438&\" - \"&Listedesmatchs!$G438","v":"CS Tricolore Saverne 2 - CLTT Menchhoffen 2"},{"$f":"Listedesmatchs!$O483","v":""},{"$f":"Listedesmatchs!$N483","v":""},{"$f":"IF(Listedesmatchs!$J483=0,\"\",Listedesmatchs!$K483&\" \"&TEXT(Listedesmatchs!$J483,\"jj-mmm-aaaa\")&\", \"&Listedesmatchs!$L483)","v":"jeudi 15-mai-2025, 20h00"},"VETERANSD2NORD"]
[{"$f":"IF(Listedesmatchs!$J439=0,\"\",Listedesmatchs!$K439&\" \"&TEXT(Listedesmatchs!$J439,\"jj-mmm-aaaa\")&\", \"&Listedesmatchs!$L439)","v":"vendredi 17-janv-2025, 20h30"},{"$f":"Listedesmatchs!$N439","v":""},{"$f":"Listedesmatchs!$O439","v":""},{"$f":"Listedesmatchs!$E439&\" - \"&Listedesmatchs!$G439","v":"CS Tricolore Saverne 3 - MJC Kirrwiller 2"},{"$f":"Listedesmatchs!$O484","v":""},{"$f":"Listedesmatchs!$N484","v":""},{"$f":"IF(Listedesmatchs!$J484=0,\"\",Listedesmatchs!$K484&\" \"&TEXT(Listedesmatchs!$J484,\"jj-mmm-aaaa\")&\", \"&Listedesmatchs!$L484)","v":"jeudi 15-mai-2025, 20h00"},"VETERANSD2NORD"]
[{"$f":"IF(Listedesmatchs!$J440=0,\"\",Listedesmatchs!$K440&\" \"&TEXT(Listedesmatchs!$J440,\"jj-mmm-aaaa\")&\", \"&Listedesmatchs!$L440)","v":"jeudi 16-janv-2025, 20h00"},{"$f":"Listedesmatchs!$N440","v":""},{"$f":"Listedesmatchs!$O440","v":""},{"$f":"Listedesmatchs!$E440&\" - \"&Listedesmatchs!$G440","v":"Liberté Dettwiller 2 - CTT 77 Val de Moder 3"},{"$f":"Listedesmatchs!$O485","v":""},{"$f":"Listedesmatchs!$N485","v":""},{"$f":"IF(Listedesmatchs!$J485=0,\"\",Listedesmatchs!$K485&\" \"&TEXT(Listedesmatchs!$J485,\"jj-mmm-aaaa\")&\", \"&Listedesmatchs!$L485)","v":"jeudi 15-mai-2025, 19h30"},"VETERANSD2NORD"]
[{"$f":"IF(Listedesmatchs!$J441=0,\"\",Listedesmatchs!$K441&\" \"&TEXT(Listedesmatchs!$J441,\"jj-mmm-aaaa\")&\", \"&Listedesmatchs!$L441)","v":"mardi 14-janv-2025, 20h00"},{"$f":"Listedesmatchs!$N441","v":""},{"$f":"Listedesmatchs!$O441","v":""},{"$f":"Listedesmatchs!$E441&\" - \"&Listedesmatchs!$G441","v":"ASP Gottenhouse 2 - Hanau TT 2"},{"$f":"Listedesmatchs!$O486","v":""},{"$f":"Listedesmatchs!$N486","v":""},{"$f":"IF(Listedesmatchs!$J486=0,\"\",Listedesmatchs!$K486&\" \"&TEXT(Listedesmatchs!$J486,\"jj-mmm-aaaa\")&\", \"&Listedesmatchs!$L486)","v":"mardi 13-mai-2025, 20h00"},"VETERANSD2NORD"]
[{"$f":"IF(Listedesmatchs!$J442=0,\"\",Listedesmatchs!$K442&\" \"&TEXT(Listedesmatchs!$J442,\"jj-mmm-aaaa\")&\", \"&Listedesmatchs!$L442)","v":"jeudi 16-janv-2025, 20h00"},{"$f":"Listedesmatchs!$N442","v":""},{"$f":"Listedesmatchs!$O442","v":""},{"$f":"Listedesmatchs!$E442&\" - \"&Listedesmatchs!$G442","v":"MJC Kirrwiller 1 - CLTT Menchhoffen 3"},{"$f":"Listedesmatchs!$O487","v":""},{"$f":"Listedesmatchs!$N487","v":""},{"$f":"IF(Listedesmatchs!$J487=0,\"\",Listedesmatchs!$K487&\" \"&TEXT(Listedesmatchs!$J487,\"jj-mmm-aaaa\")&\", \"&Listedesmatchs!$L487)","v":"jeudi 15-mai-2025, 20h00"},"VETERANSD2NORD"]
[]
[]
[]
[]
["CHAMPIONNAT PAR EQUIPES TENNIS DE TABLE"]
["F.S.G.T. 67 SAISON 2024 - 2025"]
["STRASBOURG",null,null,"MIXTES D1 STRASBOURG"]
["ALLER ",null,null,"Rencontres ","RETOUR"]
["Dates ","Scores ",null,"MIXTESD1STRASBOURG","Scores ",null,"Dates"]
["Journée 1 ",null,null,null,null,null,"Journée 6"]
[{"$f":"IF(Listedesmatchs!$J488=0,\"\",Listedesmatchs!$K488&\" \"&TEXT(Listedesmatchs!$J488,\"jj-mmm-aaaa\")&\", \"&Listedesmatchs!$L488)","v":"jeudi 03-oct-2024, 20h00"},{"$f":"Listedesmatchs!$N488","v":""},{"$f":"Listedesmatchs!$O488","v":""},{"$f":"Listedesmatchs!$E488&\" - \"&Listedesmatchs!$G488","v":"UT AURORA Schilt.-B. 1 - "},{"$f":"Listedesmatchs!$O503","v":""},{"$f":"Listedesmatchs!$N503","v":""},{"$f":"IF(Listedesmatchs!$J503=0,\"\",Listedesmatchs!$K503&\" \"&TEXT(Listedesmatchs!$J503,\"jj-mmm-aaaa\")&\", \"&Listedesmatchs!$L503)","v":""},"MIXTESD1STRASBOURG"]
[{"$f":"IF(Listedesmatchs!$J489=0,\"\",Listedesmatchs!$K489&\" \"&TEXT(Listedesmatchs!$J489,\"jj-mmm-aaaa\")&\", \"&Listedesmatchs!$L489)","v":"lundi 30-sept-2024, 20h00"},{"$f":"Listedesmatchs!$N489","v":""},{"$f":"Listedesmatchs!$O489","v":""},{"$f":"Listedesmatchs!$E489&\" - \"&Listedesmatchs!$G489","v":"Amitié Lingolsheim 2 - AS Electricité Strasbourg 1"},{"$f":"Listedesmatchs!$O504","v":""},{"$f":"Listedesmatchs!$N504","v":""},{"$f":"IF(Listedesmatchs!$J504=0,\"\",Listedesmatchs!$K504&\" \"&TEXT(Listedesmatchs!$J504,\"jj-mmm-aaaa\")&\", \"&Listedesmatchs!$L504)","v":"vendredi 17-janv-2025, 19h00"},"MIXTESD1STRASBOURG"]
[{"$f":"IF(Listedesmatchs!$J490=0,\"\",Listedesmatchs!$K490&\" \"&TEXT(Listedesmatchs!$J490,\"jj-mmm-aaaa\")&\", \"&Listedesmatchs!$L490)","v":"lundi 30-sept-2024, 20h00"},{"$f":"Listedesmatchs!$N490","v":""},{"$f":"Listedesmatchs!$O490","v":""},{"$f":"Listedesmatchs!$E490&\" - \"&Listedesmatchs!$G490","v":"Amitié Lingolsheim 3 - Amitié Lingolsheim 1"},{"$f":"Listedesmatchs!$O505","v":""},{"$f":"Listedesmatchs!$N505","v":""},{"$f":"IF(Listedesmatchs!$J505=0,\"\",Listedesmatchs!$K505&\" \"&TEXT(Listedesmatchs!$J505,\"jj-mmm-aaaa\")&\", \"&Listedesmatchs!$L505)","v":"lundi 13-janv-2025, 20h00"},"MIXTESD1STRASBOURG"]
["Journée 2 ",null,null,null,null,null,"Journée 7"]
[{"$f":"IF(Listedesmatchs!$J491=0,\"\",Listedesmatchs!$K491&\" \"&TEXT(Listedesmatchs!$J491,\"jj-mmm-aaaa\")&\", \"&Listedesmatchs!$L491)","v":"vendredi 18-oct-2024, 19h00"},{"$f":"Listedesmatchs!$N491","v":""},{"$f":"Listedesmatchs!$O491","v":""},{"$f":"Listedesmatchs!$E491&\" - \"&Listedesmatchs!$G491","v":"AS Electricité Strasbourg 1 - UT AURORA Schilt.-B. 1"},{"$f":"Listedesmatchs!$O506","v":""},{"$f":"Listedesmatchs!$N506","v":""},{"$f":"IF(Listedesmatchs!$J506=0,\"\",Listedesmatchs!$K506&\" \"&TEXT(Listedesmatchs!$J506,\"jj-mmm-aaaa\")&\", \"&Listedesmatchs!$L506)","v":"jeudi 30-janv-2025, 20h00"},"MIXTESD1STRASBOURG"]
[{"$f":"IF(Listedesmatchs!$J492=0,\"\",Listedesmatchs!$K492&\" \"&TEXT(Listedesmatchs!$J492,\"jj-mmm-aaaa\")&\", \"&Listedesmatchs!$L492)","v":"lundi 14-oct-2024, 20h00"},{"$f":"Listedesmatchs!$N492","v":""},{"$f":"Listedesmatchs!$O492","v":""},{"$f":"Listedesmatchs!$E492&\" - \"&Listedesmatchs!$G492","v":"Amitié Lingolsheim 1 - Amitié Lingolsheim 2"},{"$f":"Listedesmatchs!$O507","v":""},{"$f":"Listedesmatchs!$N507","v":""},{"$f":"IF(Listedesmatchs!$J507=0,\"\",Listedesmatchs!$K507&\" \"&TEXT(Listedesmatchs!$J507,\"jj-mmm-aaaa\")&\", \"&Listedesmatchs!$L507)","v":"lundi 27-janv-2025, 20h00"},"MIXTESD1STRASBOURG"]
[{"$f":"IF(Listedesmatchs!$J493=0,\"\",Listedesmatchs!$K493&\" \"&TEXT(Listedesmatchs!$J493,\"jj-mmm-aaaa\")&\", \"&Listedesmatchs!$L493)","v":""},{"$f":"Listedesmatchs!$N493","v":""},{"$f":"Listedesmatchs!$O493","v":""},{"$f":"Listedesmatchs!$E493&\" - \"&Listedesmatchs!$G493","v":" - Amitié Lingolsheim 3"},{"$f":"Listedesmatchs!$O508","v":""},{"$f":"Listedesmatchs!$N508","v":""},{"$f":"IF(Listedesmatchs!$J508=0,\"\",Listedesmatchs!$K508&\" \"&TEXT(Listedesmatchs!$J508,\"jj-mmm-aaaa\")&\", \"&Listedesmatchs!$L508)","v":"lundi 27-janv-2025, 20h00"},"MIXTESD1STRASBOURG"]
["Journée 3 ",null,null,null,null,null,"Journée 8"]
[{"$f":"IF(Listedesmatchs!$J494=0,\"\",Listedesmatchs!$K494&\" \"&TEXT(Listedesmatchs!$J494,\"jj-mmm-aaaa\")&\", \"&Listedesmatchs!$L494)","v":"jeudi 14-nov-2024, 20h00"},{"$f":"Listedesmatchs!$N494","v":""},{"$f":"Listedesmatchs!$O494","v":""},{"$f":"Listedesmatchs!$E494&\" - \"&Listedesmatchs!$G494","v":"UT AURORA Schilt.-B. 1 - Amitié Lingolsheim 1"},{"$f":"Listedesmatchs!$O509","v":""},{"$f":"Listedesmatchs!$N509","v":""},{"$f":"IF(Listedesmatchs!$J509=0,\"\",Listedesmatchs!$K509&\" \"&TEXT(Listedesmatchs!$J509,\"jj-mmm-aaaa\")&\", \"&Listedesmatchs!$L509)","v":"lundi 03-mars-2025, 20h00"},"MIXTESD1STRASBOURG"]
[{"$f":"IF(Listedesmatchs!$J495=0,\"\",Listedesmatchs!$K495&\" \"&TEXT(Listedesmatchs!$J495,\"jj-mmm-aaaa\")&\", \"&Listedesmatchs!$L495)","v":"lundi 18-nov-2024, 20h00"},{"$f":"Listedesmatchs!$N495","v":""},{"$f":"Listedesmatchs!$O495","v":""},{"$f":"Listedesmatchs!$E495&\" - \"&Listedesmatchs!$G495","v":"Amitié Lingolsheim 3 - Amitié Lingolsheim 2"},{"$f":"Listedesmatchs!$O510","v":""},{"$f":"Listedesmatchs!$N510","v":""},{"$f":"IF(Listedesmatchs!$J510=0,\"\",Listedesmatchs!$K510&\" \"&TEXT(Listedesmatchs!$J510,\"jj-mmm-aaaa\")&\", \"&Listedesmatchs!$L510)","v":"lundi 03-mars-2025, 20h00"},"MIXTESD1STRASBOURG"]
[{"$f":"IF(Listedesmatchs!$J496=0,\"\",Listedesmatchs!$K496&\" \"&TEXT(Listedesmatchs!$J496,\"jj-mmm-aaaa\")&\", \"&Listedesmatchs!$L496)","v":"vendredi 15-nov-2024, 19h00"},{"$f":"Listedesmatchs!$N496","v":""},{"$f":"Listedesmatchs!$O496","v":""},{"$f":"Listedesmatchs!$E496&\" - \"&Listedesmatchs!$G496","v":"AS Electricité Strasbourg 1 - "},{"$f":"Listedesmatchs!$O511","v":""},{"$f":"Listedesmatchs!$N511","v":""},{"$f":"IF(Listedesmatchs!$J511=0,\"\",Listedesmatchs!$K511&\" \"&TEXT(Listedesmatchs!$J511,\"jj-mmm-aaaa\")&\", \"&Listedesmatchs!$L511)","v":""},"MIXTESD1STRASBOURG"]
["Journée 4 ",null,null,null,null,null,"Journée 9"]
[{"$f":"IF(Listedesmatchs!$J497=0,\"\",Listedesmatchs!$K497&\" \"&TEXT(Listedesmatchs!$J497,\"jj-mmm-aaaa\")&\", \"&Listedesmatchs!$L497)","v":"lundi 25-nov-2024, 20h00"},{"$f":"Listedesmatchs!$N497","v":""},{"$f":"Listedesmatchs!$O497","v":""},{"$f":"Listedesmatchs!$E497&\" - \"&Listedesmatchs!$G497","v":"Amitié Lingolsheim 3 - UT AURORA Schilt.-B. 1"},{"$f":"Listedesmatchs!$O512","v":""},{"$f":"Listedesmatchs!$N512","v":""},{"$f":"IF(Listedesmatchs!$J512=0,\"\",Listedesmatchs!$K512&\" \"&TEXT(Listedesmatchs!$J512,\"jj-mmm-aaaa\")&\", \"&Listedesmatchs!$L512)","v":"jeudi 03-avr-2025, 20h00"},"MIXTESD1STRASBOURG"]
[{"$f":"IF(Listedesmatchs!$J498=0,\"\",Listedesmatchs!$K498&\" \"&TEXT(Listedesmatchs!$J498,\"jj-mmm-aaaa\")&\", \"&Listedesmatchs!$L498)","v":"lundi 25-nov-2024, 20h00"},{"$f":"Listedesmatchs!$N498","v":""},{"$f":"Listedesmatchs!$O498","v":""},{"$f":"Listedesmatchs!$E498&\" - \"&Listedesmatchs!$G498","v":"Amitié Lingolsheim 2 - "},{"$f":"Listedesmatchs!$O513","v":""},{"$f":"Listedesmatchs!$N513","v":""},{"$f":"IF(Listedesmatchs!$J513=0,\"\",Listedesmatchs!$K513&\" \"&TEXT(Listedesmatchs!$J513,\"jj-mmm-aaaa\")&\", \"&Listedesmatchs!$L513)","v":""},"MIXTESD1STRASBOURG"]
[{"$f":"IF(Listedesmatchs!$J499=0,\"\",Listedesmatchs!$K499&\" \"&TEXT(Listedesmatchs!$J499,\"jj-mmm-aaaa\")&\", \"&Listedesmatchs!$L499)","v":"lundi 25-nov-2024, 20h00"},{"$f":"Listedesmatchs!$N499","v":""},{"$f":"Listedesmatchs!$O499","v":""},{"$f":"Listedesmatchs!$E499&\" - \"&Listedesmatchs!$G499","v":"Amitié Lingolsheim 1 - AS Electricité Strasbourg 1"},{"$f":"Listedesmatchs!$O514","v":""},{"$f":"Listedesmatchs!$N514","v":""},{"$f":"IF(Listedesmatchs!$J514=0,\"\",Listedesmatchs!$K514&\" \"&TEXT(Listedesmatchs!$J514,\"jj-mmm-aaaa\")&\", \"&Listedesmatchs!$L514)","v":"vendredi 04-avr-2025, 19h00"},"MIXTESD1STRASBOURG"]
["Journée 5 ",null,null,null,null,null,"Journée 10"]
[{"$f":"IF(Listedesmatchs!$J500=0,\"\",Listedesmatchs!$K500&\" \"&TEXT(Listedesmatchs!$J500,\"jj-mmm-aaaa\")&\", \"&Listedesmatchs!$L500)","v":"lundi 09-déc-2024, 20h00"},{"$f":"Listedesmatchs!$N500","v":""},{"$f":"Listedesmatchs!$O500","v":""},{"$f":"Listedesmatchs!$E500&\" - \"&Listedesmatchs!$G500","v":"Amitié Lingolsheim 2 - UT AURORA Schilt.-B. 1"},{"$f":"Listedesmatchs!$O515","v":""},{"$f":"Listedesmatchs!$N515","v":""},{"$f":"IF(Listedesmatchs!$J515=0,\"\",Listedesmatchs!$K515&\" \"&TEXT(Listedesmatchs!$J515,\"jj-mmm-aaaa\")&\", \"&Listedesmatchs!$L515)","v":"jeudi 24-avr-2025, 20h00"},"MIXTESD1STRASBOURG"]
[{"$f":"IF(Listedesmatchs!$J501=0,\"\",Listedesmatchs!$K501&\" \"&TEXT(Listedesmatchs!$J501,\"jj-mmm-aaaa\")&\", \"&Listedesmatchs!$L501)","v":"vendredi 13-déc-2024, 19h00"},{"$f":"Listedesmatchs!$N501","v":""},{"$f":"Listedesmatchs!$O501","v":""},{"$f":"Listedesmatchs!$E501&\" - \"&Listedesmatchs!$G501","v":"AS Electricité Strasbourg 1 - Amitié Lingolsheim 3"},{"$f":"Listedesmatchs!$O516","v":""},{"$f":"Listedesmatchs!$N516","v":""},{"$f":"IF(Listedesmatchs!$J516=0,\"\",Listedesmatchs!$K516&\" \"&TEXT(Listedesmatchs!$J516,\"jj-mmm-aaaa\")&\", \"&Listedesmatchs!$L516)","v":"lundi 28-avr-2025, 20h00"},"MIXTESD1STRASBOURG"]
[{"$f":"IF(Listedesmatchs!$J502=0,\"\",Listedesmatchs!$K502&\" \"&TEXT(Listedesmatchs!$J502,\"jj-mmm-aaaa\")&\", \"&Listedesmatchs!$L502)","v":""},{"$f":"Listedesmatchs!$N502","v":""},{"$f":"Listedesmatchs!$O502","v":""},{"$f":"Listedesmatchs!$E502&\" - \"&Listedesmatchs!$G502","v":" - Amitié Lingolsheim 1"},{"$f":"Listedesmatchs!$O517","v":""},{"$f":"Listedesmatchs!$N517","v":""},{"$f":"IF(Listedesmatchs!$J517=0,\"\",Listedesmatchs!$K517&\" \"&TEXT(Listedesmatchs!$J517,\"jj-mmm-aaaa\")&\", \"&Listedesmatchs!$L517)","v":"lundi 28-avr-2025, 20h00"},"MIXTESD1STRASBOURG"]
[]
[]
[]
[]
["CHAMPIONNAT PAR EQUIPES TENNIS DE TABLE"]
["F.S.G.T. 67 SAISON 2024 - 2025"]
["NORD",null,null,"MIXTES D1 NORD"]
["ALLER ",null,null,"Rencontres ","RETOUR"]
["Dates ","Scores ",null,"MIXTESD1NORD","Scores ",null,"Dates"]
["Journée 1 ",null,null,null,null,null,"Journée 4"]
[{"$f":"IF(Listedesmatchs!$J518=0,\"\",Listedesmatchs!$K518&\" \"&TEXT(Listedesmatchs!$J518,\"jj-mmm-aaaa\")&\", \"&Listedesmatchs!$L518)","v":"vendredi 29-nov-2024, 20h00"},{"$f":"Listedesmatchs!$N518","v":""},{"$f":"Listedesmatchs!$O518","v":""},{"$f":"Listedesmatchs!$E518&\" - \"&Listedesmatchs!$G518","v":"CLTT Menchhoffen 1 - CLTT Menchhoffen 2"},{"$f":"Listedesmatchs!$O524","v":""},{"$f":"Listedesmatchs!$N524","v":""},{"$f":"IF(Listedesmatchs!$J524=0,\"\",Listedesmatchs!$K524&\" \"&TEXT(Listedesmatchs!$J524,\"jj-mmm-aaaa\")&\", \"&Listedesmatchs!$L524)","v":"vendredi 28-mars-2025, 20h00"},"MIXTESD1NORD"]
[{"$f":"IF(Listedesmatchs!$J519=0,\"\",Listedesmatchs!$K519&\" \"&TEXT(Listedesmatchs!$J519,\"jj-mmm-aaaa\")&\", \"&Listedesmatchs!$L519)","v":""},{"$f":"Listedesmatchs!$N519","v":""},{"$f":"Listedesmatchs!$O519","v":""},{"$f":"Listedesmatchs!$E519&\" - \"&Listedesmatchs!$G519","v":" - "},{"$f":"Listedesmatchs!$O525","v":""},{"$f":"Listedesmatchs!$N525","v":""},{"$f":"IF(Listedesmatchs!$J525=0,\"\",Listedesmatchs!$K525&\" \"&TEXT(Listedesmatchs!$J525,\"jj-mmm-aaaa\")&\", \"&Listedesmatchs!$L525)","v":""},"MIXTESD1NORD"]
["Journée 2 ",null,null,null,null,null,"Journée 5"]
[{"$f":"IF(Listedesmatchs!$J520=0,\"\",Listedesmatchs!$K520&\" \"&TEXT(Listedesmatchs!$J520,\"jj-mmm-aaaa\")&\", \"&Listedesmatchs!$L520)","v":""},{"$f":"Listedesmatchs!$N520","v":""},{"$f":"Listedesmatchs!$O520","v":""},{"$f":"Listedesmatchs!$E520&\" - \"&Listedesmatchs!$G520","v":" - CLTT Menchhoffen 1"},{"$f":"Listedesmatchs!$O526","v":""},{"$f":"Listedesmatchs!$N526","v":""},{"$f":"IF(Listedesmatchs!$J526=0,\"\",Listedesmatchs!$K526&\" \"&TEXT(Listedesmatchs!$J526,\"jj-mmm-aaaa\")&\", \"&Listedesmatchs!$L526)","v":""},"MIXTESD1NORD"]
[{"$f":"IF(Listedesmatchs!$J521=0,\"\",Listedesmatchs!$K521&\" \"&TEXT(Listedesmatchs!$J521,\"jj-mmm-aaaa\")&\", \"&Listedesmatchs!$L521)","v":""},{"$f":"Listedesmatchs!$N521","v":""},{"$f":"Listedesmatchs!$O521","v":""},{"$f":"Listedesmatchs!$E521&\" - \"&Listedesmatchs!$G521","v":"CLTT Menchhoffen 2 - "},{"$f":"Listedesmatchs!$O527","v":""},{"$f":"Listedesmatchs!$N527","v":""},{"$f":"IF(Listedesmatchs!$J527=0,\"\",Listedesmatchs!$K527&\" \"&TEXT(Listedesmatchs!$J527,\"jj-mmm-aaaa\")&\", \"&Listedesmatchs!$L527)","v":""},"MIXTESD1NORD"]
["Journée 3 ",null,null,null,null,null,"Journée 6"]
[{"$f":"IF(Listedesmatchs!$J522=0,\"\",Listedesmatchs!$K522&\" \"&TEXT(Listedesmatchs!$J522,\"jj-mmm-aaaa\")&\", \"&Listedesmatchs!$L522)","v":""},{"$f":"Listedesmatchs!$N522","v":""},{"$f":"Listedesmatchs!$O522","v":""},{"$f":"Listedesmatchs!$E522&\" - \"&Listedesmatchs!$G522","v":"CLTT Menchhoffen 1 - "},{"$f":"Listedesmatchs!$O528","v":""},{"$f":"Listedesmatchs!$N528","v":""},{"$f":"IF(Listedesmatchs!$J528=0,\"\",Listedesmatchs!$K528&\" \"&TEXT(Listedesmatchs!$J528,\"jj-mmm-aaaa\")&\", \"&Listedesmatchs!$L528)","v":""},"MIXTESD1NORD"]
[{"$f":"IF(Listedesmatchs!$J523=0,\"\",Listedesmatchs!$K523&\" \"&TEXT(Listedesmatchs!$J523,\"jj-mmm-aaaa\")&\", \"&Listedesmatchs!$L523)","v":""},{"$f":"Listedesmatchs!$N523","v":""},{"$f":"Listedesmatchs!$O523","v":""},{"$f":"Listedesmatchs!$E523&\" - \"&Listedesmatchs!$G523","v":" - CLTT Menchhoffen 2"},{"$f":"Listedesmatchs!$O529","v":""},{"$f":"Listedesmatchs!$N529","v":""},{"$f":"IF(Listedesmatchs!$J529=0,\"\",Listedesmatchs!$K529&\" \"&TEXT(Listedesmatchs!$J529,\"jj-mmm-aaaa\")&\", \"&Listedesmatchs!$L529)","v":""},"MIXTESD1NORD"]
[]
[]
[]
[]
["CHAMPIONNAT PAR EQUIPES TENNIS DE TABLE"]
["F.S.G.T. 67 SAISON 2024 - 2025"]
["JEUNES",null,null,"JUNIORS D1 NORD"]
["ALLER ",null,null,"Rencontres ","RETOUR"]
["Dates ","Scores ",null,"JUNIORS","Scores ",null,"Dates"]
["Journée 1 ",null,null,null,null,null,"Journée 4"]
[{"$f":"IF(Listedesmatchs!$J530=0,\"\",Listedesmatchs!$K530&\" \"&TEXT(Listedesmatchs!$J530,\"jj-mmm-aaaa\")&\", \"&Listedesmatchs!$L530)","v":"samedi 07-déc-2024, 13h30"},{"$f":"Listedesmatchs!$N530","v":""},{"$f":"Listedesmatchs!$O530","v":""},{"$f":"Listedesmatchs!$E530&\" - \"&Listedesmatchs!$G530","v":" - "},{"$f":"Listedesmatchs!$O536","v":""},{"$f":"Listedesmatchs!$N536","v":""},{"$f":"IF(Listedesmatchs!$J536=0,\"\",Listedesmatchs!$K536&\" \"&TEXT(Listedesmatchs!$J536,\"jj-mmm-aaaa\")&\", \"&Listedesmatchs!$L536)","v":"dimanche 27-avr-2025, 8h30"},"JUNIORS"]
[{"$f":"IF(Listedesmatchs!$J531=0,\"\",Listedesmatchs!$K531&\" \"&TEXT(Listedesmatchs!$J531,\"jj-mmm-aaaa\")&\", \"&Listedesmatchs!$L531)","v":"samedi 07-déc-2024, 13h30"},{"$f":"Listedesmatchs!$N531","v":""},{"$f":"Listedesmatchs!$O531","v":""},{"$f":"Listedesmatchs!$E531&\" - \"&Listedesmatchs!$G531","v":" - "},{"$f":"Listedesmatchs!$O537","v":""},{"$f":"Listedesmatchs!$N537","v":""},{"$f":"IF(Listedesmatchs!$J537=0,\"\",Listedesmatchs!$K537&\" \"&TEXT(Listedesmatchs!$J537,\"jj-mmm-aaaa\")&\", \"&Listedesmatchs!$L537)","v":"dimanche 27-avr-2025, 8h30"},"JUNIORS"]
["Journée 2 ",null,null,null,null,null,"Journée 5"]
[{"$f":"IF(Listedesmatchs!$J532=0,\"\",Listedesmatchs!$K532&\" \"&TEXT(Listedesmatchs!$J532,\"jj-mmm-aaaa\")&\", \"&Listedesmatchs!$L532)","v":"samedi 07-déc-2024, 13h30"},{"$f":"Listedesmatchs!$N532","v":""},{"$f":"Listedesmatchs!$O532","v":""},{"$f":"Listedesmatchs!$E532&\" - \"&Listedesmatchs!$G532","v":" - "},{"$f":"Listedesmatchs!$O538","v":""},{"$f":"Listedesmatchs!$N538","v":""},{"$f":"IF(Listedesmatchs!$J538=0,\"\",Listedesmatchs!$K538&\" \"&TEXT(Listedesmatchs!$J538,\"jj-mmm-aaaa\")&\", \"&Listedesmatchs!$L538)","v":"dimanche 27-avr-2025, 8h30"},"JUNIORS"]
[{"$f":"IF(Listedesmatchs!$J533=0,\"\",Listedesmatchs!$K533&\" \"&TEXT(Listedesmatchs!$J533,\"jj-mmm-aaaa\")&\", \"&Listedesmatchs!$L533)","v":"samedi 07-déc-2024, 13h30"},{"$f":"Listedesmatchs!$N533","v":""},{"$f":"Listedesmatchs!$O533","v":""},{"$f":"Listedesmatchs!$E533&\" - \"&Listedesmatchs!$G533","v":" - "},{"$f":"Listedesmatchs!$O539","v":""},{"$f":"Listedesmatchs!$N539","v":""},{"$f":"IF(Listedesmatchs!$J539=0,\"\",Listedesmatchs!$K539&\" \"&TEXT(Listedesmatchs!$J539,\"jj-mmm-aaaa\")&\", \"&Listedesmatchs!$L539)","v":"dimanche 27-avr-2025, 8h30"},"JUNIORS"]
["Journée 3 ",null,null,null,null,null,"Journée 6"]
[{"$f":"IF(Listedesmatchs!$J534=0,\"\",Listedesmatchs!$K534&\" \"&TEXT(Listedesmatchs!$J534,\"jj-mmm-aaaa\")&\", \"&Listedesmatchs!$L534)","v":"samedi 07-déc-2024, 13h30"},{"$f":"Listedesmatchs!$N534","v":""},{"$f":"Listedesmatchs!$O534","v":""},{"$f":"Listedesmatchs!$E534&\" - \"&Listedesmatchs!$G534","v":" - "},{"$f":"Listedesmatchs!$O540","v":""},{"$f":"Listedesmatchs!$N540","v":""},{"$f":"IF(Listedesmatchs!$J540=0,\"\",Listedesmatchs!$K540&\" \"&TEXT(Listedesmatchs!$J540,\"jj-mmm-aaaa\")&\", \"&Listedesmatchs!$L540)","v":"dimanche 27-avr-2025, 8h30"},"JUNIORS"]
[{"$f":"IF(Listedesmatchs!$J535=0,\"\",Listedesmatchs!$K535&\" \"&TEXT(Listedesmatchs!$J535,\"jj-mmm-aaaa\")&\", \"&Listedesmatchs!$L535)","v":"samedi 07-déc-2024, 13h30"},{"$f":"Listedesmatchs!$N535","v":""},{"$f":"Listedesmatchs!$O535","v":""},{"$f":"Listedesmatchs!$E535&\" - \"&Listedesmatchs!$G535","v":" - "},{"$f":"Listedesmatchs!$O541","v":""},{"$f":"Listedesmatchs!$N541","v":""},{"$f":"IF(Listedesmatchs!$J541=0,\"\",Listedesmatchs!$K541&\" \"&TEXT(Listedesmatchs!$J541,\"jj-mmm-aaaa\")&\", \"&Listedesmatchs!$L541)","v":"dimanche 27-avr-2025, 8h30"},"JUNIORS"]
[]
[]
[]
[]
["CHAMPIONNAT PAR EQUIPES TENNIS DE TABLE"]
["F.S.G.T. 67 SAISON 2024 - 2025"]
["JEUNES",null,null,"CADETS D1 NORD"]
["ALLER ",null,null,"Rencontres ","RETOUR"]
["Dates ","Scores ",null,"CADETS","Scores ",null,"Dates"]
["Journée 1 ",null,null,null,null,null,"Journée 4"]
[{"$f":"IF(Listedesmatchs!$J542=0,\"\",Listedesmatchs!$K542&\" \"&TEXT(Listedesmatchs!$J542,\"jj-mmm-aaaa\")&\", \"&Listedesmatchs!$L542)","v":"samedi 07-déc-2024, 13h30"},{"$f":"Listedesmatchs!$N542","v":""},{"$f":"Listedesmatchs!$O542","v":""},{"$f":"Listedesmatchs!$E542&\" - \"&Listedesmatchs!$G542","v":" - "},{"$f":"Listedesmatchs!$O548","v":""},{"$f":"Listedesmatchs!$N548","v":""},{"$f":"IF(Listedesmatchs!$J548=0,\"\",Listedesmatchs!$K548&\" \"&TEXT(Listedesmatchs!$J548,\"jj-mmm-aaaa\")&\", \"&Listedesmatchs!$L548)","v":"dimanche 27-avr-2025, 8h30"},"CADETS"]
[{"$f":"IF(Listedesmatchs!$J543=0,\"\",Listedesmatchs!$K543&\" \"&TEXT(Listedesmatchs!$J543,\"jj-mmm-aaaa\")&\", \"&Listedesmatchs!$L543)","v":"samedi 07-déc-2024, 13h30"},{"$f":"Listedesmatchs!$N543","v":""},{"$f":"Listedesmatchs!$O543","v":""},{"$f":"Listedesmatchs!$E543&\" - \"&Listedesmatchs!$G543","v":" - "},{"$f":"Listedesmatchs!$O549","v":""},{"$f":"Listedesmatchs!$N549","v":""},{"$f":"IF(Listedesmatchs!$J549=0,\"\",Listedesmatchs!$K549&\" \"&TEXT(Listedesmatchs!$J549,\"jj-mmm-aaaa\")&\", \"&Listedesmatchs!$L549)","v":"dimanche 27-avr-2025, 8h30"},"CADETS"]
["Journée 2 ",null,null,null,null,null,"Journée 5"]
[{"$f":"IF(Listedesmatchs!$J544=0,\"\",Listedesmatchs!$K544&\" \"&TEXT(Listedesmatchs!$J544,\"jj-mmm-aaaa\")&\", \"&Listedesmatchs!$L544)","v":"samedi 07-déc-2024, 13h30"},{"$f":"Listedesmatchs!$N544","v":""},{"$f":"Listedesmatchs!$O544","v":""},{"$f":"Listedesmatchs!$E544&\" - \"&Listedesmatchs!$G544","v":" - "},{"$f":"Listedesmatchs!$O550","v":""},{"$f":"Listedesmatchs!$N550","v":""},{"$f":"IF(Listedesmatchs!$J550=0,\"\",Listedesmatchs!$K550&\" \"&TEXT(Listedesmatchs!$J550,\"jj-mmm-aaaa\")&\", \"&Listedesmatchs!$L550)","v":"dimanche 27-avr-2025, 8h30"},"CADETS"]
[{"$f":"IF(Listedesmatchs!$J545=0,\"\",Listedesmatchs!$K545&\" \"&TEXT(Listedesmatchs!$J545,\"jj-mmm-aaaa\")&\", \"&Listedesmatchs!$L545)","v":"samedi 07-déc-2024, 13h30"},{"$f":"Listedesmatchs!$N545","v":""},{"$f":"Listedesmatchs!$O545","v":""},{"$f":"Listedesmatchs!$E545&\" - \"&Listedesmatchs!$G545","v":" - "},{"$f":"Listedesmatchs!$O551","v":""},{"$f":"Listedesmatchs!$N551","v":""},{"$f":"IF(Listedesmatchs!$J551=0,\"\",Listedesmatchs!$K551&\" \"&TEXT(Listedesmatchs!$J551,\"jj-mmm-aaaa\")&\", \"&Listedesmatchs!$L551)","v":"dimanche 27-avr-2025, 8h30"},"CADETS"]
["Journée 3 ",null,null,null,null,null,"Journée 6"]
[{"$f":"IF(Listedesmatchs!$J546=0,\"\",Listedesmatchs!$K546&\" \"&TEXT(Listedesmatchs!$J546,\"jj-mmm-aaaa\")&\", \"&Listedesmatchs!$L546)","v":"samedi 07-déc-2024, 13h30"},{"$f":"Listedesmatchs!$N546","v":""},{"$f":"Listedesmatchs!$O546","v":""},{"$f":"Listedesmatchs!$E546&\" - \"&Listedesmatchs!$G546","v":" - "},{"$f":"Listedesmatchs!$O552","v":""},{"$f":"Listedesmatchs!$N552","v":""},{"$f":"IF(Listedesmatchs!$J552=0,\"\",Listedesmatchs!$K552&\" \"&TEXT(Listedesmatchs!$J552,\"jj-mmm-aaaa\")&\", \"&Listedesmatchs!$L552)","v":"dimanche 27-avr-2025, 8h30"},"CADETS"]
[{"$f":"IF(Listedesmatchs!$J547=0,\"\",Listedesmatchs!$K547&\" \"&TEXT(Listedesmatchs!$J547,\"jj-mmm-aaaa\")&\", \"&Listedesmatchs!$L547)","v":"samedi 07-déc-2024, 13h30"},{"$f":"Listedesmatchs!$N547","v":""},{"$f":"Listedesmatchs!$O547","v":""},{"$f":"Listedesmatchs!$E547&\" - \"&Listedesmatchs!$G547","v":" - "},{"$f":"Listedesmatchs!$O553","v":""},{"$f":"Listedesmatchs!$N553","v":""},{"$f":"IF(Listedesmatchs!$J553=0,\"\",Listedesmatchs!$K553&\" \"&TEXT(Listedesmatchs!$J553,\"jj-mmm-aaaa\")&\", \"&Listedesmatchs!$L553)","v":"dimanche 27-avr-2025, 8h30"},"CADETS"]
[]
[]
[]
[]
["CHAMPIONNAT PAR EQUIPES TENNIS DE TABLE"]
["F.S.G.T. 67 SAISON 2024 - 2025"]
["JEUNES",null,null,"MINIMES BENJAMINS ET POUSSINS D1 NORD"]
["ALLER ",null,null,"Rencontres ","RETOUR"]
["Dates ","Scores ",null,"MINIMESBENJAMINSPOUSSINS","Scores ",null,"Dates"]
["Journée 1 ",null,null,null,null,null,"Journée 4"]
[{"$f":"IF(Listedesmatchs!$J554=0,\"\",Listedesmatchs!$K554&\" \"&TEXT(Listedesmatchs!$J554,\"jj-mmm-aaaa\")&\", \"&Listedesmatchs!$L554)","v":"samedi 07-déc-2024, 13h30"},{"$f":"Listedesmatchs!$N554","v":""},{"$f":"Listedesmatchs!$O554","v":""},{"$f":"Listedesmatchs!$E554&\" - \"&Listedesmatchs!$G554","v":" - "},{"$f":"Listedesmatchs!$O560","v":""},{"$f":"Listedesmatchs!$N560","v":""},{"$f":"IF(Listedesmatchs!$J560=0,\"\",Listedesmatchs!$K560&\" \"&TEXT(Listedesmatchs!$J560,\"jj-mmm-aaaa\")&\", \"&Listedesmatchs!$L560)","v":"dimanche 27-avr-2025, 8h30"},"MINIMESBENJAMINSPOUSSINS"]
[{"$f":"IF(Listedesmatchs!$J555=0,\"\",Listedesmatchs!$K555&\" \"&TEXT(Listedesmatchs!$J555,\"jj-mmm-aaaa\")&\", \"&Listedesmatchs!$L555)","v":"samedi 07-déc-2024, 13h30"},{"$f":"Listedesmatchs!$N555","v":""},{"$f":"Listedesmatchs!$O555","v":""},{"$f":"Listedesmatchs!$E555&\" - \"&Listedesmatchs!$G555","v":" - "},{"$f":"Listedesmatchs!$O561","v":""},{"$f":"Listedesmatchs!$N561","v":""},{"$f":"IF(Listedesmatchs!$J561=0,\"\",Listedesmatchs!$K561&\" \"&TEXT(Listedesmatchs!$J561,\"jj-mmm-aaaa\")&\", \"&Listedesmatchs!$L561)","v":"dimanche 27-avr-2025, 8h30"},"MINIMESBENJAMINSPOUSSINS"]
["Journée 2 ",null,null,null,null,null,"Journée 5"]
[{"$f":"IF(Listedesmatchs!$J556=0,\"\",Listedesmatchs!$K556&\" \"&TEXT(Listedesmatchs!$J556,\"jj-mmm-aaaa\")&\", \"&Listedesmatchs!$L556)","v":"samedi 07-déc-2024, 13h30"},{"$f":"Listedesmatchs!$N556","v":""},{"$f":"Listedesmatchs!$O556","v":""},{"$f":"Listedesmatchs!$E556&\" - \"&Listedesmatchs!$G556","v":" - "},{"$f":"Listedesmatchs!$O562","v":""},{"$f":"Listedesmatchs!$N562","v":""},{"$f":"IF(Listedesmatchs!$J562=0,\"\",Listedesmatchs!$K562&\" \"&TEXT(Listedesmatchs!$J562,\"jj-mmm-aaaa\")&\", \"&Listedesmatchs!$L562)","v":"dimanche 27-avr-2025, 8h30"},"MINIMESBENJAMINSPOUSSINS"]
[{"$f":"IF(Listedesmatchs!$J557=0,\"\",Listedesmatchs!$K557&\" \"&TEXT(Listedesmatchs!$J557,\"jj-mmm-aaaa\")&\", \"&Listedesmatchs!$L557)","v":"samedi 07-déc-2024, 13h30"},{"$f":"Listedesmatchs!$N557","v":""},{"$f":"Listedesmatchs!$O557","v":""},{"$f":"Listedesmatchs!$E557&\" - \"&Listedesmatchs!$G557","v":" - "},{"$f":"Listedesmatchs!$O563","v":""},{"$f":"Listedesmatchs!$N563","v":""},{"$f":"IF(Listedesmatchs!$J563=0,\"\",Listedesmatchs!$K563&\" \"&TEXT(Listedesmatchs!$J563,\"jj-mmm-aaaa\")&\", \"&Listedesmatchs!$L563)","v":"dimanche 27-avr-2025, 8h30"},"MINIMESBENJAMINSPOUSSINS"]
["Journée 3 ",null,null,null,null,null,"Journée 6"]
[{"$f":"IF(Listedesmatchs!$J558=0,\"\",Listedesmatchs!$K558&\" \"&TEXT(Listedesmatchs!$J558,\"jj-mmm-aaaa\")&\", \"&Listedesmatchs!$L558)","v":"samedi 07-déc-2024, 13h30"},{"$f":"Listedesmatchs!$N558","v":""},{"$f":"Listedesmatchs!$O558","v":""},{"$f":"Listedesmatchs!$E558&\" - \"&Listedesmatchs!$G558","v":" - "},{"$f":"Listedesmatchs!$O564","v":""},{"$f":"Listedesmatchs!$N564","v":""},{"$f":"IF(Listedesmatchs!$J564=0,\"\",Listedesmatchs!$K564&\" \"&TEXT(Listedesmatchs!$J564,\"jj-mmm-aaaa\")&\", \"&Listedesmatchs!$L564)","v":"dimanche 27-avr-2025, 8h30"},"MINIMESBENJAMINSPOUSSINS"]
[{"$f":"IF(Listedesmatchs!$J559=0,\"\",Listedesmatchs!$K559&\" \"&TEXT(Listedesmatchs!$J559,\"jj-mmm-aaaa\")&\", \"&Listedesmatchs!$L559)","v":"samedi 07-déc-2024, 13h30"},{"$f":"Listedesmatchs!$N559","v":""},{"$f":"Listedesmatchs!$O559","v":""},{"$f":"Listedesmatchs!$E559&\" - \"&Listedesmatchs!$G559","v":" - "},{"$f":"Listedesmatchs!$O565","v":""},{"$f":"Listedesmatchs!$N565","v":""},{"$f":"IF(Listedesmatchs!$J565=0,\"\",Listedesmatchs!$K565&\" \"&TEXT(Listedesmatchs!$J565,\"jj-mmm-aaaa\")&\", \"&Listedesmatchs!$L565)","v":"dimanche 27-avr-2025, 8h30"},"MINIMESBENJAMINSPOUSSINS"]
[]
["Les feuilles de rencontres sont à envoyer par mail dans les 24 h à : fanatan.nicu@gmail.com"]
[" En fin de saison toutes les rencontres jouées après la dernière journée de la division respective sont nulles."]
[]
["CHAMPIONNAT PAR EQUIPES TENNIS DE TABLE"]
["F.S.G.T. 67 SAISON 2024 - 2025"]
["FINALE DEPARTEMENTALE PROMOTION VETERANS MIXTES ET JEUNES"]
[null,null,null,"Rencontres "]
["Dates ","Scores ",null,null,"DIVISION",null,"CHAMPION DEPARTEMENTAL"]
[{"$f":"Listedesmatchs!$K566&\" \"&TEXT(Listedesmatchs!$J566,\"jj-mmm-aaaa\")&\", \"&Listedesmatchs!$L566","v":"jeudi 22-mai-2025, 20h00"},{"$f":"Listedesmatchs!$N566","v":""},{"$f":"Listedesmatchs!$O566","v":""},{"$f":"Listedesmatchs!$E566&\" - \"&Listedesmatchs!$G566","v":"Equipe1NordPromotion - Equipe1StrasbourgPromotion"},"PROMOTIONFINALE",null,{"$f":"IF(B492>C492,Listedesmatchs!$E566,IF(B492<C492,Listedesmatchs!$G566,\"\"))","v":""},"PROMOTIONFINALE"]
[{"$f":"Listedesmatchs!$K567&\" \"&TEXT(Listedesmatchs!$J567,\"jj-mmm-aaaa\")&\", \"&Listedesmatchs!$L567","v":"jeudi 22-mai-2025, 20h00"},{"$f":"Listedesmatchs!$N567","v":""},{"$f":"Listedesmatchs!$O567","v":""},{"$f":"Listedesmatchs!$E567&\" - \"&Listedesmatchs!$G567","v":"Equipe1NordMixtes - Equipe1StrasbourgMixtes"},"MIXTESD1FINALE",null,{"$f":"IF(B493>C493,Listedesmatchs!$E567,IF(B493<C493,Listedesmatchs!$G567,\"\"))","v":""},"MIXTESD1FINALE"]
[{"$f":"Listedesmatchs!$K568&\" \"&TEXT(Listedesmatchs!$J568,\"jj-mmm-aaaa\")&\", \"&Listedesmatchs!$L568","v":"jeudi 22-mai-2025, 20h00"},{"$f":"Listedesmatchs!$N568","v":""},{"$f":"Listedesmatchs!$O568","v":""},{"$f":"Listedesmatchs!$E568&\" - \"&Listedesmatchs!$G568","v":"Equipe1NordVétéransD1 - Equipe1StrasbourgVétéransD1"},"VETERANSD1FINALE",null,{"$f":"IF(B494>C494,Listedesmatchs!$E568,IF(B494<C494,Listedesmatchs!$G568,\"\"))","v":""},"VETERANSD1FINALE"]
[{"$f":"Listedesmatchs!$K569&\" \"&TEXT(Listedesmatchs!$J569,\"jj-mmm-aaaa\")&\", \"&Listedesmatchs!$L569","v":"jeudi 22-mai-2025, 20h00"},{"$f":"Listedesmatchs!$N569","v":""},{"$f":"Listedesmatchs!$O569","v":""},{"$f":"Listedesmatchs!$E569&\" - \"&Listedesmatchs!$G569","v":"Equipe1NordVétéransD2 - Equipe1StrasbourgVétéransD2"},"VETERANSD2FINALE",null,{"$f":"IF(B495>C495,Listedesmatchs!$E569,IF(B495<C495,Listedesmatchs!$G569,\"\"))","v":""},"VETERANSD2FINALE"]
[{"$f":"Listedesmatchs!$K570&\" \"&TEXT(Listedesmatchs!$J570,\"jj-mmm-aaaa\")&\", \"&Listedesmatchs!$L570","v":"jeudi 22-mai-2025, 18h00"},{"$f":"Listedesmatchs!$N570","v":""},{"$f":"Listedesmatchs!$O570","v":""},{"$f":"Listedesmatchs!$E570&\" - \"&Listedesmatchs!$G570","v":"Equipe1NordJuniors - Equipe1StrasbourgJuniors"},"JUNIORSFINALE",null,{"$f":"IF(B496>C496,Listedesmatchs!$E570,IF(B496<C496,Listedesmatchs!$G570,\"\"))","v":""},"JUNIORSFINALE"]
[{"$f":"Listedesmatchs!$K571&\" \"&TEXT(Listedesmatchs!$J571,\"jj-mmm-aaaa\")&\", \"&Listedesmatchs!$L571","v":"jeudi 22-mai-2025, 18h00"},{"$f":"Listedesmatchs!$N571","v":""},{"$f":"Listedesmatchs!$O571","v":""},{"$f":"Listedesmatchs!$E571&\" - \"&Listedesmatchs!$G571","v":"Equipe1NordCadets - Equipe1StrasbourgCadets"},"CADETSFINALE",null,{"$f":"IF(B497>C497,Listedesmatchs!$E571,IF(B497<C497,Listedesmatchs!$G571,\"\"))","v":""},"CADETSFINALE"]
[{"$f":"Listedesmatchs!$K572&\" \"&TEXT(Listedesmatchs!$J572,\"jj-mmm-aaaa\")&\", \"&Listedesmatchs!$L572","v":"jeudi 22-mai-2025, 18h00"},{"$f":"Listedesmatchs!$N572","v":""},{"$f":"Listedesmatchs!$O572","v":""},{"$f":"Listedesmatchs!$E572&\" - \"&Listedesmatchs!$G572","v":"Equipe1NordMinimesBenjaminsPoussins - Equipe1StrasbourgMinimesBenjaminsPoussins"},"MINIMESBENJAMINSPOUSSINS",null,{"$f":"IF(B498>C498,Listedesmatchs!$E572,IF(B498<C498,Listedesmatchs!$G572,\"\"))","v":""},"MINIMESBENJAMINSPOUSSINS"]

{"sheet":"ReserveReclamation","index":6,"n_rows":85,"n_cols":8,"rows_kept":85,"cut":false,"hidden":false,"merged":[[80,2,80,3],[80,6,80,7],[81,2,81,3],[81,6,81,7],[85,2,85,3],[85,6,85,7],[82,2,82,3],[82,6,82,7],[83,2,83,3],[83,6,83,7],[84,2,84,3],[84,6,84,7],[67,2,67,3],[67,6,67,7],[68,2,68,3],[68,6,68,7],[79,2,79,3],[79,6,79,7],[64,2,64,3],[64,6,64,7],[65,2,65,3],[65,6,65,7],[66,2,66,3],[66,6,66,7],[61,2,61,3],[61,6,61,7],[62,2,62,3],[62,6,62,7],[63,2,63,3],[63,6,63,7],[58,2,58,3],[58,6,58,7],[59,2,59,3],[59,6,59,7],[60,2,60,3],[60,6,60,7],[55,2,55,3],[55,6,55,7],[56,2,56,3],[56,6,56,7],[57,2,57,3],[57,6,57,7],[41,2,41,3],[41,6,41,7],[39,6,39,7],[40,6,40,7],[54,2,54,3],[54,6,54,7],[52,2,52,3],[52,6,52,7],[53,2,53,3],[53,6,53,7],[42,2,42,3],[42,6,42,7],[35,2,35,3],[36,2,36,3],[37,2,37,3],[39,2,39,3],[40,2,40,3],[21,6,21,7],[22,6,22,7],[23,6,23,7],[24,6,24,7],[11,2,11,3],[12,2,12,3],[13,2,13,3],[14,2,14,3],[15,2,15,3],[18,2,18,3],[19,2,19,3],[20,2,20,3],[21,2,21,3],[22,2,22,3],[23,2,23,3],[24,2,24,3],[35,6,35,7],[36,6,36,7],[38,2,38,3],[17,2,17,3],[12,6,12,7],[13,6,13,7],[14,6,14,7],[37,6,37,7],[38,6,38,7],[17,6,17,7],[18,6,18,7],[19,6,19,7],[20,6,20,7],[15,6,15,7],[16,6,16,7],[16,2,16,3],[9,2,9,3],[10,2,10,3],[9,6,9,7],[10,6,10,7],[11,6,11,7]]}
[]
[]
[]
[]
[null,null,"EQUIPE RECEVANTE","DATE",null,null,"EQUIPE VISITEUSE","DATE"]
[]
[null,null,"NOM DU CAPITAINE",null,null,null,"NOM DU CAPITAINE"]
[]
[null,null,"RESERVE",null,null,null,"RESERVE"]
[]
[]
[]
[]
[]
[]
[]
[]
[]
[]
[]
[]
[]
[]
[]
[]
[]
[]
[]
[]
[]
[]
[]
[]
[]
[]
[]
[]
[]
[]
[]
[]
[null,null,"SIGNATURE",null,null,null,"SIGNATURE"]
[]
[]
[]
[]
[]
[null,null,"EQUIPE RECEVANTE","DATE",null,null,"EQUIPE VISITEUSE","DATE"]
[]
[null,null,"NOM DU CAPITAINE",null,null,null,"NOM DU CAPITAINE"]
[]
[null,null,"RECLAMATION",null,null,null,"RECLAMATION"]
[]
[]
[]
[]
[]
[]
[]
[]
[]
[]
[]
[]
[]
[]
[]
[]
[]
[]
[]
[]
[]
[]
[]
[]
[]
[]
[]
[]
[]
[]
[]
[]
[null,null,"SIGNATURE",null,null,null,"SIGNATURE"]